Workbook
Name Excel_BuiltIn__FilterDatabase: '99年'!$A$4:$U$74

Sheet 114年
C1: 收養人數按性別、年齡分（2.4.2）
C2: 中華民國114年底 | U2: 單位：人
A3: 區域別 | B3: 性別 | C3: 總 計 | D3: 0歲 | E3: 1歲 | F3: 2歲 | G3: 3歲 | H3: 4歲 | I3: 5歲 | J3: 6歲 | K3: 7歲 | L3: 8歲 | M3: 9歲 | N3: 10歲 | O3: 11歲 | P3: 12歲 | Q3: 13歲 | R3: 14歲 | S3: 15歲 | T3: 16歲 | U3: 17歲
B5: 計 | C5: =SUM(D5:U5) -> 962 | D5: 132 | E5: 61 | F5: 40 | G5: 49 | H5: 45 | I5: 70 | J5: 64 | K5: 45 | L5: 51 | M5: 51 | N5: 52 | O5: 54 | P5: 53 | Q5: 44 | R5: 50 | S5: 48 | T5: 29 | U5: 24
A6: 總 計 | B6: 男 | C6: =SUM(D6:U6) -> 446 | D6: 62 | E6: 34 | F6: 19 | G6: 25 | H6: 24 | I6: 35 | J6: 34 | K6: 18 | L6: 20 | M6: 22 | N6: 25 | O6: 24 | P6: 25 | Q6: 25 | R6: 16 | S6: 22 | T6: 10 | U6: 6
B7: 女 | C7: =SUM(D7:U7) -> 516 | D7: 70 | E7: 27 | F7: 21 | G7: 24 | H7: 21 | I7: 35 | J7: 30 | K7: 27 | L7: 31 | M7: 29 | N7: 27 | O7: 30 | P7: 28 | Q7: 19 | R7: 34 | S7: 26 | T7: 19 | U7: 18
B8: 計 | C8: =SUM(D8:U8) -> 180 | D8: 22 | E8: 15 | F8: 1 | G8: 8 | H8: 14 | I8: 11 | J8: 17 | K8: 12 | L8: 9 | M8: 11 | N8: 10 | O8: 6 | P8: 9 | Q8: 6 | R8: 8 | S8: 9 | T8: 10 | U8: 2
A9: 新 北 市 | B9: 男 | C9: =SUM(D9:U9) -> 77 | D9: 10 | E9: 6 | F9: 0 | G9: 3 | H9: 8 | I9: 1 | J9: 7 | K9: 6 | L9: 2 | M9: 5 | N9: 5 | O9: 5 | P9: 6 | Q9: 3 | R9: 2 | S9: 5 | T9: 2 | U9: 1
B10: 女 | C10: =SUM(D10:U10) -> 103 | D10: 12 | E10: 9 | F10: 1 | G10: 5 | H10: 6 | I10: 10 | J10: 10 | K10: 6 | L10: 7 | M10: 6 | N10: 5 | O10: 1 | P10: 3 | Q10: 3 | R10: 6 | S10: 4 | T10: 8 | U10: 1
B11: 計 | C11: =SUM(D11:U11) -> 96 | D11: 28 | E11: 17 | F11: 4 | G11: 7 | H11: 1 | I11: 5 | J11: 2 | K11: 3 | L11: 4 | M11: 1 | N11: 4 | O11: 3 | P11: 2 | Q11: 5 | R11: 4 | S11: 5 | T11: 1 | U11: 0
A12: 臺 北 市 | B12: 男 | C12: =SUM(D12:U12) -> 48 | D12: 12 | E12: 11 | F12: 3 | G12: 2 | H12: 1 | I12: 2 | J12: 1 | K12: 1 | L12: 1 | M12: 0 | N12: 3 | O12: 2 | P12: 1 | Q12: 4 | R12: 1 | S12: 2 | T12: 1 | U12: 0
B13: 女 | C13: =SUM(D13:U13) -> 48 | D13: 16 | E13: 6 | F13: 1 | G13: 5 | H13: 0 | I13: 3 | J13: 1 | K13: 2 | L13: 3 | M13: 1 | N13: 1 | O13: 1 | P13: 1 | Q13: 1 | R13: 3 | S13: 3 | T13: 0 | U13: 0
B14: 計 | C14: =SUM(D14:U14) -> 113 | D14: 13 | E14: 3 | F14: 2 | G14: 4 | H14: 6 | I14: 7 | J14: 7 | K14: 3 | L14: 7 | M14: 7 | N14: 9 | O14: 5 | P14: 7 | Q14: 3 | R14: 10 | S14: 11 | T14: 3 | U14: 6
A15: 桃 園 市 | B15: 男 | C15: =SUM(D15:U15) -> 58 | D15: 7 | E15: 2 | F15: 2 | G15: 3 | H15: 4 | I15: 4 | J15: 4 | K15: 0 | L15: 3 | M15: 3 | N15: 5 | O15: 2 | P15: 2 | Q15: 2 | R15: 7 | S15: 5 | T15: 2 | U15: 1
B16: 女 | C16: =SUM(D16:U16) -> 55 | D16: 6 | E16: 1 | F16: 0 | G16: 1 | H16: 2 | I16: 3 | J16: 3 | K16: 3 | L16: 4 | M16: 4 | N16: 4 | O16: 3 | P16: 5 | Q16: 1 | R16: 3 | S16: 6 | T16: 1 | U16: 5
B17: 計 | C17: =SUM(D17:U17) -> 124 | D17: 14 | E17: 3 | F17: 9 | G17: 4 | H17: 5 | I17: 10 | J17: 11 | K17: 6 | L17: 7 | M17: 8 | N17: 6 | O17: 9 | P17: 5 | Q17: 10 | R17: 5 | S17: 4 | T17: 4 | U17: 4
A18: 臺 中 市 | B18: 男 | C18: =SUM(D18:U18) -> 55 | D18: 6 | E18: 2 | F18: 4 | G18: 2 | H18: 2 | I18: 8 | J18: 5 | K18: 1 | L18: 3 | M18: 3 | N18: 4 | O18: 5 | P18: 3 | Q18: 4 | R18: 0 | S18: 2 | T18: 1 | U18: 0
B19: 女 | C19: =SUM(D19:U19) -> 69 | D19: 8 | E19: 1 | F19: 5 | G19: 2 | H19: 3 | I19: 2 | J19: 6 | K19: 5 | L19: 4 | M19: 5 | N19: 2 | O19: 4 | P19: 2 | Q19: 6 | R19: 5 | S19: 2 | T19: 3 | U19: 4
B20: 計 | C20: =SUM(D20:U20) -> 97 | D20: 11 | E20: 5 | F20: 8 | G20: 7 | H20: 8 | I20: 8 | J20: 6 | K20: 3 | L20: 7 | M20: 6 | N20: 2 | O20: 5 | P20: 6 | Q20: 3 | R20: 6 | S20: 3 | T20: 1 | U20: 2
A21: 臺 南 市 | B21: 男 | C21: =SUM(D21:U21) -> 55 | D21: 6 | E21: 3 | F21: 2 | G21: 5 | H21: 5 | I21: 3 | J21: 5 | K21: 3 | L21: 5 | M21: 3 | N21: 1 | O21: 3 | P21: 3 | Q21: 2 | R21: 2 | S21: 2 | T21: 0 | U21: 2
B22: 女 | C22: =SUM(D22:U22) -> 42 | D22: 5 | E22: 2 | F22: 6 | G22: 2 | H22: 3 | I22: 5 | J22: 1 | K22: 0 | L22: 2 | M22: 3 | N22: 1 | O22: 2 | P22: 3 | Q22: 1 | R22: 4 | S22: 1 | T22: 1 | U22: 0
B23: 計 | C23: =SUM(D23:U23) -> 82 | D23: 6 | E23: 5 | F23: 4 | G23: 5 | H23: 1 | I23: 6 | J23: 7 | K23: 4 | L23: 2 | M23: 5 | N23: 6 | O23: 11 | P23: 7 | Q23: 2 | R23: 3 | S23: 2 | T23: 4 | U23: 2
A24: 高 雄 市 | B24: 男 | C24: =SUM(D24:U24) -> 40 | D24: 3 | E24: 5 | F24: 3 | G24: 3 | H24: 0 | I24: 4 | J24: 5 | K24: 2 | L24: 0 | M24: 3 | N24: 2 | O24: 3 | P24: 2 | Q24: 1 | R24: 1 | S24: 1 | T24: 2 | U24: 0
B25: 女 | C25: =SUM(D25:U25) -> 42 | D25: 3 | E25: 0 | F25: 1 | G25: 2 | H25: 1 | I25: 2 | J25: 2 | K25: 2 | L25: 2 | M25: 2 | N25: 4 | O25: 8 | P25: 5 | Q25: 1 | R25: 2 | S25: 1 | T25: 2 | U25: 2
B26: 計 | C26: =SUM(D26:U26) -> 12 | D26: 3 | E26: 1 | F26: 0 | G26: 0 | H26: 0 | I26: 1 | J26: 1 | K26: 1 | L26: 0 | M26: 0 | N26: 0 | O26: 1 | P26: 2 | Q26: 0 | R26: 0 | S26: 2 | T26: 0 | U26: 0
A27: 宜 蘭 縣 | B27: 男 | C27: =SUM(D27:U27) -> 4 | D27: 0 | E27: 0 | F27: 0 | G27: 0 | H27: 0 | I27: 1 | J27: 1 | K27: 1 | L27: 0 | M27: 0 | N27: 0 | O27: 0 | P27: 0 | Q27: 0 | R27: 0 | S27: 1 | T27: 0 | U27: 0
B28: 女 | C28: =SUM(D28:U28) -> 8 | D28: 3 | E28: 1 | F28: 0 | G28: 0 | H28: 0 | I28: 0 | J28: 0 | K28: 0 | L28: 0 | M28: 0 | N28: 0 | O28: 1 | P28: 2 | Q28: 0 | R28: 0 | S28: 1 | T28: 0 | U28: 0
B29: 計 | C29: =SUM(D29:U29) -> 30 | D29: 7 | E29: 1 | F29: 0 | G29: 0 | H29: 1 | I29: 3 | J29: 2 | K29: 0 | L29: 1 | M29: 1 | N29: 1 | O29: 1 | P29: 2 | Q29: 1 | R29: 3 | S29: 2 | T29: 1 | U29: 3
A30: 新 竹 縣 | B30: 男 | C30: =SUM(D30:U30) -> 15 | D30: 5 | E30: 0 | F30: 0 | G30: 0 | H30: 0 | I30: 1 | J30: 1 | K30: 0 | L30: 1 | M30: 0 | N30: 1 | O30: 0 | P30: 2 | Q30: 0 | R30: 1 | S30: 1 | T30: 0 | U30: 2
B31: 女 | C31: =SUM(D31:U31) -> 15 | D31: 2 | E31: 1 | F31: 0 | G31: 0 | H31: 1 | I31: 2 | J31: 1 | K31: 0 | L31: 0 | M31: 1 | N31: 0 | O31: 1 | P31: 0 | Q31: 1 | R31: 2 | S31: 1 | T31: 1 | U31: 1
B32: 計 | C32: =SUM(D32:U32) -> 24 | D32: 0 | E32: 2 | F32: 2 | G32: 3 | H32: 2 | I32: 1 | J32: 1 | K32: 0 | L32: 1 | M32: 2 | N32: 2 | O32: 2 | P32: 1 | Q32: 1 | R32: 1 | S32: 2 | T32: 0 | U32: 1
A33: 苗 栗 縣 | B33: 男 | C33: =SUM(D33:U33) -> 10 | D33: 0 | E33: 0 | F33: 1 | G33: 0 | H33: 2 | I33: 1 | J33: 1 | K33: 0 | L33: 1 | M33: 0 | N33: 1 | O33: 0 | P33: 0 | Q33: 1 | R33: 1 | S33: 1 | T33: 0 | U33: 0
B34: 女 | C34: =SUM(D34:U34) -> 14 | D34: 0 | E34: 2 | F34: 1 | G34: 3 | H34: 0 | I34: 0 | J34: 0 | K34: 0 | L34: 0 | M34: 2 | N34: 1 | O34: 2 | P34: 1 | Q34: 0 | R34: 0 | S34: 1 | T34: 0 | U34: 1
B35: 計 | C35: =SUM(D35:U35) -> 35 | D35: 6 | E35: 1 | F35: 1 | G35: 1 | H35: 2 | I35: 5 | J35: 3 | K35: 2 | L35: 1 | M35: 4 | N35: 3 | O35: 0 | P35: 2 | Q35: 2 | R35: 1 | S35: 0 | T35: 0 | U35: 1
A36: 彰 化 縣 | B36: 男 | C36: =SUM(D36:U36) -> 15 | D36: 2 | E36: 0 | F36: 0 | G36: 1 | H36: 1 | I36: 2 | J36: 1 | K36: 2 | L36: 1 | M36: 2 | N36: 1 | O36: 0 | P36: 1 | Q36: 1 | R36: 0 | S36: 0 | T36: 0 | U36: 0
B37: 女 | C37: =SUM(D37:U37) -> 20 | D37: 4 | E37: 1 | F37: 1 | G37: 0 | H37: 1 | I37: 3 | J37: 2 | K37: 0 | L37: 0 | M37: 2 | N37: 2 | O37: 0 | P37: 1 | Q37: 1 | R37: 1 | S37: 0 | T37: 0 | U37: 1
B38: 計 | C38: =SUM(D38:U38) -> 17 | D38: 2 | E38: 2 | F38: 2 | G38: 1 | H38: 3 | I38: 0 | J38: 0 | K38: 1 | L38: 1 | M38: 1 | N38: 0 | O38: 2 | P38: 1 | Q38: 0 | R38: 1 | S38: 0 | T38: 0 | U38: 0
A39: 南 投 縣 | B39: 男 | C39: =SUM(D39:U39) -> 6 | D39: 1 | E39: 2 | F39: 2 | G39: 0 | H39: 0 | I39: 0 | J39: 0 | K39: 0 | L39: 0 | M39: 1 | N39: 0 | O39: 0 | P39: 0 | Q39: 0 | R39: 0 | S39: 0 | T39: 0 | U39: 0
B40: 女 | C40: =SUM(D40:U40) -> 11 | D40: 1 | E40: 0 | F40: 0 | G40: 1 | H40: 3 | I40: 0 | J40: 0 | K40: 1 | L40: 1 | M40: 0 | N40: 0 | O40: 2 | P40: 1 | Q40: 0 | R40: 1 | S40: 0 | T40: 0 | U40: 0
B41: 計 | C41: =SUM(D41:U41) -> 30 | D41: 3 | E41: 0 | F41: 1 | G41: 1 | H41: 0 | I41: 4 | J41: 1 | K41: 1 | L41: 4 | M41: 1 | N41: 1 | O41: 3 | P41: 2 | Q41: 3 | R41: 2 | S41: 1 | T41: 2 | U41: 0
...

Sheet 113年
C1: 收養人數按性別、年齡分
C2: 中華民國113年底 | U2: 單位：人
A3: 區域別 | B3: 性別 | C3: 總 計 | D3: 0歲 | E3: 1歲 | F3: 2歲 | G3: 3歲 | H3: 4歲 | I3: 5歲 | J3: 6歲 | K3: 7歲 | L3: 8歲 | M3: 9歲 | N3: 10歲 | O3: 11歲 | P3: 12歲 | Q3: 13歲 | R3: 14歲 | S3: 15歲 | T3: 16歲 | U3: 17歲
B5: 計 | C5: =SUM(D5:U5) -> 989 | D5: 99 | E5: 55 | F5: 65 | G5: 51 | H5: 48 | I5: 64 | J5: 74 | K5: 51 | L5: 59 | M5: 69 | N5: 46 | O5: 63 | P5: 55 | Q5: 40 | R5: 35 | S5: 48 | T5: 41 | U5: 26
A6: 總 計 | B6: 男 | C6: =SUM(D6:U6) -> 472 | D6: 50 | E6: 29 | F6: 40 | G6: 25 | H6: 22 | I6: 34 | J6: 33 | K6: 27 | L6: 23 | M6: 35 | N6: 20 | O6: 19 | P6: 31 | Q6: 24 | R6: 17 | S6: 14 | T6: 13 | U6: 16
B7: 女 | C7: =SUM(D7:U7) -> 517 | D7: 49 | E7: 26 | F7: 25 | G7: 26 | H7: 26 | I7: 30 | J7: 41 | K7: 24 | L7: 36 | M7: 34 | N7: 26 | O7: 44 | P7: 24 | Q7: 16 | R7: 18 | S7: 34 | T7: 28 | U7: 10
B8: 計 | C8: =SUM(D8:U8) -> 175 | D8: 18 | E8: 6 | F8: 6 | G8: 11 | H8: 15 | I8: 15 | J8: 12 | K8: 10 | L8: 13 | M8: 12 | N8: 7 | O8: 13 | P8: 5 | Q8: 8 | R8: 7 | S8: 6 | T8: 8 | U8: 3
A9: 新 北 市 | B9: 男 | C9: =SUM(D9:U9) -> 84 | D9: 9 | E9: 5 | F9: 4 | G9: 4 | H9: 5 | I9: 8 | J9: 6 | K9: 6 | L9: 6 | M9: 11 | N9: 2 | O9: 5 | P9: 2 | Q9: 4 | R9: 3 | S9: 1 | T9: 3 | U9: 0
B10: 女 | C10: =SUM(D10:U10) -> 91 | D10: 9 | E10: 1 | F10: 2 | G10: 7 | H10: 10 | I10: 7 | J10: 6 | K10: 4 | L10: 7 | M10: 1 | N10: 5 | O10: 8 | P10: 3 | Q10: 4 | R10: 4 | S10: 5 | T10: 5 | U10: 3
B11: 計 | C11: =SUM(D11:U11) -> 93 | D11: 14 | E11: 23 | F11: 15 | G11: 4 | H11: 4 | I11: 5 | J11: 3 | K11: 4 | L11: 1 | M11: 4 | N11: 0 | O11: 3 | P11: 4 | Q11: 3 | R11: 2 | S11: 1 | T11: 2 | U11: 1
A12: 臺 北 市 | B12: 男 | C12: =SUM(D12:U12) -> 49 | D12: 5 | E12: 13 | F12: 10 | G12: 4 | H12: 3 | I12: 2 | J12: 1 | K12: 3 | L12: 0 | M12: 0 | N12: 0 | O12: 1 | P12: 1 | Q12: 2 | R12: 1 | S12: 0 | T12: 2 | U12: 1
B13: 女 | C13: =SUM(D13:U13) -> 44 | D13: 9 | E13: 10 | F13: 5 | G13: 0 | H13: 1 | I13: 3 | J13: 2 | K13: 1 | L13: 1 | M13: 4 | N13: 0 | O13: 2 | P13: 3 | Q13: 1 | R13: 1 | S13: 1 | T13: 0 | U13: 0
B14: 計 | C14: =SUM(D14:U14) -> 141 | D14: 15 | E14: 4 | F14: 7 | G14: 3 | H14: 4 | I14: 10 | J14: 8 | K14: 8 | L14: 5 | M14: 10 | N14: 8 | O14: 11 | P14: 17 | Q14: 4 | R14: 6 | S14: 11 | T14: 8 | U14: 2
A15: 桃 園 市 | B15: 男 | C15: =SUM(D15:U15) -> 67 | D15: 8 | E15: 2 | F15: 5 | G15: 1 | H15: 2 | I15: 5 | J15: 2 | K15: 3 | L15: 2 | M15: 4 | N15: 2 | O15: 3 | P15: 12 | Q15: 3 | R15: 2 | S15: 6 | T15: 3 | U15: 2
B16: 女 | C16: =SUM(D16:U16) -> 74 | D16: 7 | E16: 2 | F16: 2 | G16: 2 | H16: 2 | I16: 5 | J16: 6 | K16: 5 | L16: 3 | M16: 6 | N16: 6 | O16: 8 | P16: 5 | Q16: 1 | R16: 4 | S16: 5 | T16: 5 | U16: 0
B17: 計 | C17: =SUM(D17:U17) -> 140 | D17: 16 | E17: 4 | F17: 5 | G17: 10 | H17: 4 | I17: 8 | J17: 10 | K17: 13 | L17: 12 | M17: 6 | N17: 6 | O17: 10 | P17: 6 | Q17: 7 | R17: 5 | S17: 5 | T17: 6 | U17: 7
A18: 臺 中 市 | B18: 男 | C18: =SUM(D18:U18) -> 64 | D18: 7 | E18: 1 | F18: 4 | G18: 5 | H18: 2 | I18: 4 | J18: 5 | K18: 7 | L18: 4 | M18: 3 | N18: 4 | O18: 3 | P18: 3 | Q18: 3 | R18: 2 | S18: 1 | T18: 2 | U18: 4
B19: 女 | C19: =SUM(D19:U19) -> 76 | D19: 9 | E19: 3 | F19: 1 | G19: 5 | H19: 2 | I19: 4 | J19: 5 | K19: 6 | L19: 8 | M19: 3 | N19: 2 | O19: 7 | P19: 3 | Q19: 4 | R19: 3 | S19: 4 | T19: 4 | U19: 3
B20: 計 | C20: =SUM(D20:U20) -> 85 | D20: 10 | E20: 2 | F20: 8 | G20: 6 | H20: 7 | I20: 6 | J20: 7 | K20: 2 | L20: 6 | M20: 6 | N20: 4 | O20: 2 | P20: 3 | Q20: 1 | R20: 3 | S20: 5 | T20: 5 | U20: 2
A21: 臺 南 市 | B21: 男 | C21: =SUM(D21:U21) -> 50 | D21: 9 | E21: 1 | F21: 2 | G21: 4 | H21: 5 | I21: 6 | J21: 5 | K21: 1 | L21: 3 | M21: 4 | N21: 3 | O21: 0 | P21: 2 | Q21: 1 | R21: 1 | S21: 1 | T21: 1 | U21: 1
B22: 女 | C22: =SUM(D22:U22) -> 35 | D22: 1 | E22: 1 | F22: 6 | G22: 2 | H22: 2 | I22: 0 | J22: 2 | K22: 1 | L22: 3 | M22: 2 | N22: 1 | O22: 2 | P22: 1 | Q22: 0 | R22: 2 | S22: 4 | T22: 4 | U22: 1
B23: 計 | C23: =SUM(D23:U23) -> 77 | D23: 7 | E23: 2 | F23: 4 | G23: 5 | H23: 3 | I23: 2 | J23: 6 | K23: 4 | L23: 3 | M23: 7 | N23: 3 | O23: 6 | P23: 6 | Q23: 4 | R23: 5 | S23: 3 | T23: 4 | U23: 3
A24: 高 雄 市 | B24: 男 | C24: =SUM(D24:U24) -> 42 | D24: 5 | E24: 1 | F24: 2 | G24: 2 | H24: 2 | I24: 0 | J24: 2 | K24: 2 | L24: 3 | M24: 3 | N24: 1 | O24: 3 | P24: 3 | Q24: 4 | R24: 3 | S24: 2 | T24: 1 | U24: 3
B25: 女 | C25: =SUM(D25:U25) -> 35 | D25: 2 | E25: 1 | F25: 2 | G25: 3 | H25: 1 | I25: 2 | J25: 4 | K25: 2 | L25: 0 | M25: 4 | N25: 2 | O25: 3 | P25: 3 | Q25: 0 | R25: 2 | S25: 1 | T25: 3 | U25: 0
B26: 計 | C26: =SUM(D26:U26) -> 12 | D26: 2 | E26: 0 | F26: 5 | G26: 1 | H26: 0 | I26: 1 | J26: 0 | K26: 0 | L26: 0 | M26: 1 | N26: 0 | O26: 1 | P26: 1 | Q26: 0 | R26: 0 | S26: 0 | T26: 0 | U26: 0
A27: 宜 蘭 縣 | B27: 男 | C27: =SUM(D27:U27) -> 5 | D27: 2 | E27: 0 | F27: 2 | G27: 0 | H27: 0 | I27: 1 | J27: 0 | K27: 0 | L27: 0 | M27: 0 | N27: 0 | O27: 0 | P27: 0 | Q27: 0 | R27: 0 | S27: 0 | T27: 0 | U27: 0
B28: 女 | C28: =SUM(D28:U28) -> 7 | D28: 0 | E28: 0 | F28: 3 | G28: 1 | H28: 0 | I28: 0 | J28: 0 | K28: 0 | L28: 0 | M28: 1 | N28: 0 | O28: 1 | P28: 1 | Q28: 0 | R28: 0 | S28: 0 | T28: 0 | U28: 0
B29: 計 | C29: =SUM(D29:U29) -> 36 | D29: 3 | E29: 4 | F29: 3 | G29: 1 | H29: 2 | I29: 0 | J29: 5 | K29: 1 | L29: 5 | M29: 2 | N29: 2 | O29: 2 | P29: 2 | Q29: 0 | R29: 1 | S29: 2 | T29: 1 | U29: 0
A30: 新 竹 縣 | B30: 男 | C30: =SUM(D30:U30) -> 13 | D30: 1 | E30: 2 | F30: 2 | G30: 0 | H30: 0 | I30: 0 | J30: 1 | K30: 0 | L30: 1 | M30: 1 | N30: 1 | O30: 0 | P30: 2 | Q30: 0 | R30: 0 | S30: 1 | T30: 1 | U30: 0
B31: 女 | C31: =SUM(D31:U31) -> 23 | D31: 2 | E31: 2 | F31: 1 | G31: 1 | H31: 2 | I31: 0 | J31: 4 | K31: 1 | L31: 4 | M31: 1 | N31: 1 | O31: 2 | P31: 0 | Q31: 0 | R31: 1 | S31: 1 | T31: 0 | U31: 0
B32: 計 | C32: =SUM(D32:U32) -> 28 | D32: 1 | E32: 4 | F32: 1 | G32: 1 | H32: 0 | I32: 0 | J32: 2 | K32: 2 | L32: 5 | M32: 3 | N32: 0 | O32: 1 | P32: 1 | Q32: 3 | R32: 2 | S32: 1 | T32: 1 | U32: 0
A33: 苗 栗 縣 | B33: 男 | C33: =SUM(D33:U33) -> 13 | D33: 1 | E33: 1 | F33: 1 | G33: 0 | H33: 0 | I33: 0 | J33: 1 | K33: 2 | L33: 1 | M33: 2 | N33: 0 | O33: 0 | P33: 0 | Q33: 2 | R33: 2 | S33: 0 | T33: 0 | U33: 0
B34: 女 | C34: =SUM(D34:U34) -> 15 | D34: 0 | E34: 3 | F34: 0 | G34: 1 | H34: 0 | I34: 0 | J34: 1 | K34: 0 | L34: 4 | M34: 1 | N34: 0 | O34: 1 | P34: 1 | Q34: 1 | R34: 0 | S34: 1 | T34: 1 | U34: 0
B35: 計 | C35: =SUM(D35:U35) -> 36 | D35: 0 | E35: 0 | F35: 0 | G35: 3 | H35: 2 | I35: 2 | J35: 6 | K35: 2 | L35: 1 | M35: 0 | N35: 5 | O35: 2 | P35: 4 | Q35: 3 | R35: 2 | S35: 4 | T35: 0 | U35: 0
A36: 彰 化 縣 | B36: 男 | C36: =SUM(D36:U36) -> 17 | D36: 0 | E36: 0 | F36: 0 | G36: 1 | H36: 1 | I36: 1 | J36: 2 | K36: 2 | L36: 0 | M36: 0 | N36: 3 | O36: 1 | P36: 2 | Q36: 1 | R36: 2 | S36: 1 | T36: 0 | U36: 0
B37: 女 | C37: =SUM(D37:U37) -> 19 | D37: 0 | E37: 0 | F37: 0 | G37: 2 | H37: 1 | I37: 1 | J37: 4 | K37: 0 | L37: 1 | M37: 0 | N37: 2 | O37: 1 | P37: 2 | Q37: 2 | R37: 0 | S37: 3 | T37: 0 | U37: 0
B38: 計 | C38: =SUM(D38:U38) -> 13 | D38: 1 | E38: 1 | F38: 2 | G38: 0 | H38: 2 | I38: 2 | J38: 2 | K38: 0 | L38: 0 | M38: 0 | N38: 0 | O38: 1 | P38: 1 | Q38: 0 | R38: 0 | S38: 0 | T38: 0 | U38: 1
A39: 南 投 縣 | B39: 男 | C39: =SUM(D39:U39) -> 5 | D39: 0 | E39: 0 | F39: 1 | G39: 0 | H39: 1 | I39: 2 | J39: 0 | K39: 0 | L39: 0 | M39: 0 | N39: 0 | O39: 0 | P39: 0 | Q39: 0 | R39: 0 | S39: 0 | T39: 0 | U39: 1
B40: 女 | C40: =SUM(D40:U40) -> 8 | D40: 1 | E40: 1 | F40: 1 | G40: 0 | H40: 1 | I40: 0 | J40: 2 | K40: 0 | L40: 0 | M40: 0 | N40: 0 | O40: 1 | P40: 1 | Q40: 0 | R40: 0 | S40: 0 | T40: 0 | U40: 0
B41: 計 | C41: =SUM(D41:U41) -> 21 | D41: 2 | E41: 0 | F41: 0 | G41: 0 | H41: 0 | I41: 2 | J41: 1 | K41: 1 | L41: 0 | M41: 4 | N41: 1 | O41: 2 | P41: 1 | Q41: 0 | R41: 1 | S41: 2 | T41: 3 | U41: 1
...

Sheet 112年
C1: 收養人數按性別、年齡分
C2: 中華民國112年底 | U2: 單位：人
A3: 區域別 | B3: 性別 | C3: 總 計 | D3: 0歲 | E3: 1歲 | F3: 2歲 | G3: 3歲 | H3: 4歲 | I3: 5歲 | J3: 6歲 | K3: 7歲 | L3: 8歲 | M3: 9歲 | N3: 10歲 | O3: 11歲 | P3: 12歲 | Q3: 13歲 | R3: 14歲 | S3: 15歲 | T3: 16歲 | U3: 17歲
B5: 計 | C5: =SUM(D5:U5) -> 770 | D5: 56 | E5: 67 | F5: 58 | G5: 62 | H5: 60 | I5: 49 | J5: 62 | K5: 42 | L5: 31 | M5: 28 | N5: 32 | O5: 35 | P5: 35 | Q5: 34 | R5: 40 | S5: 33 | T5: 25 | U5: 21
A6: 總 計 | B6: 男 | C6: =SUM(D6:U6) -> 349 | D6: 27 | E6: 32 | F6: 31 | G6: 26 | H6: 40 | I6: 21 | J6: 30 | K6: 21 | L6: 12 | M6: 12 | N6: 10 | O6: 13 | P6: 8 | Q6: 13 | R6: 20 | S6: 13 | T6: 14 | U6: 6
B7: 女 | C7: =SUM(D7:U7) -> 421 | D7: 29 | E7: 35 | F7: 27 | G7: 36 | H7: 20 | I7: 28 | J7: 32 | K7: 21 | L7: 19 | M7: 16 | N7: 22 | O7: 22 | P7: 27 | Q7: 21 | R7: 20 | S7: 20 | T7: 11 | U7: 15
B8: 計 | C8: =SUM(D8:U8) -> 154 | D8: 11 | E8: 9 | F8: 11 | G8: 9 | H8: 12 | I8: 8 | J8: 18 | K8: 10 | L8: 7 | M8: 10 | N8: 4 | O8: 7 | P8: 6 | Q8: 6 | R8: 4 | S8: 12 | T8: 7 | U8: 3
A9: 新 北 市 | B9: 男 | C9: =SUM(D9:U9) -> 69 | D9: 5 | E9: 6 | F9: 5 | G9: 2 | H9: 6 | I9: 2 | J9: 10 | K9: 4 | L9: 4 | M9: 5 | N9: 2 | O9: 5 | P9: 4 | Q9: 2 | R9: 1 | S9: 4 | T9: 1 | U9: 1
B10: 女 | C10: =SUM(D10:U10) -> 85 | D10: 6 | E10: 3 | F10: 6 | G10: 7 | H10: 6 | I10: 6 | J10: 8 | K10: 6 | L10: 3 | M10: 5 | N10: 2 | O10: 2 | P10: 2 | Q10: 4 | R10: 3 | S10: 8 | T10: 6 | U10: 2
B11: 計 | C11: =SUM(D11:U11) -> 100 | D11: 22 | E11: 12 | F11: 8 | G11: 16 | H11: 3 | I11: 7 | J11: 3 | K11: 4 | L11: 2 | M11: 2 | N11: 7 | O11: 5 | P11: 3 | Q11: 2 | R11: 1 | S11: 1 | T11: 2 | U11: 0
A12: 臺 北 市 | B12: 男 | C12: =SUM(D12:U12) -> 45 | D12: 7 | E12: 4 | F12: 3 | G12: 9 | H12: 2 | I12: 1 | J12: 2 | K12: 2 | L12: 2 | M12: 1 | N12: 5 | O12: 2 | P12: 1 | Q12: 1 | R12: 0 | S12: 1 | T12: 2 | U12: 0
B13: 女 | C13: =SUM(D13:U13) -> 55 | D13: 15 | E13: 8 | F13: 5 | G13: 7 | H13: 1 | I13: 6 | J13: 1 | K13: 2 | L13: 0 | M13: 1 | N13: 2 | O13: 3 | P13: 2 | Q13: 1 | R13: 1 | S13: 0 | T13: 0 | U13: 0
B14: 計 | C14: =SUM(D14:U14) -> 112 | D14: 11 | E14: 2 | F14: 2 | G14: 6 | H14: 8 | I14: 9 | J14: 12 | K14: 7 | L14: 7 | M14: 5 | N14: 4 | O14: 3 | P14: 6 | Q14: 5 | R14: 9 | S14: 6 | T14: 7 | U14: 3
A15: 桃 園 市 | B15: 男 | C15: =SUM(D15:U15) -> 53 | D15: 4 | E15: 1 | F15: 2 | G15: 3 | H15: 3 | I15: 4 | J15: 11 | K15: 5 | L15: 2 | M15: 1 | N15: 0 | O15: 2 | P15: 1 | Q15: 4 | R15: 1 | S15: 3 | T15: 4 | U15: 2
B16: 女 | C16: =SUM(D16:U16) -> 59 | D16: 7 | E16: 1 | F16: 0 | G16: 3 | H16: 5 | I16: 5 | J16: 1 | K16: 2 | L16: 5 | M16: 4 | N16: 4 | O16: 1 | P16: 5 | Q16: 1 | R16: 8 | S16: 3 | T16: 3 | U16: 1
B17: 計 | C17: =SUM(D17:U17) -> 78 | D17: 10 | E17: 3 | F17: 5 | G17: 4 | H17: 3 | I17: 3 | J17: 4 | K17: 2 | L17: 5 | M17: 7 | N17: 3 | O17: 6 | P17: 4 | Q17: 3 | R17: 6 | S17: 5 | T17: 4 | U17: 1
A18: 臺 中 市 | B18: 男 | C18: =SUM(D18:U18) -> 36 | D18: 8 | E18: 1 | F18: 2 | G18: 2 | H18: 3 | I18: 1 | J18: 1 | K18: 1 | L18: 0 | M18: 3 | N18: 0 | O18: 2 | P18: 3 | Q18: 2 | R18: 3 | S18: 3 | T18: 1 | U18: 0
B19: 女 | C19: =SUM(D19:U19) -> 42 | D19: 2 | E19: 2 | F19: 3 | G19: 2 | H19: 0 | I19: 2 | J19: 3 | K19: 1 | L19: 5 | M19: 4 | N19: 3 | O19: 4 | P19: 1 | Q19: 1 | R19: 3 | S19: 2 | T19: 3 | U19: 1
B20: 計 | C20: =SUM(D20:U20) -> 106 | D20: 8 | E20: 8 | F20: 9 | G20: 7 | H20: 7 | I20: 12 | J20: 9 | K20: 10 | L20: 2 | M20: 6 | N20: 3 | O20: 2 | P20: 7 | Q20: 2 | R20: 3 | S20: 5 | T20: 5 | U20: 1
A21: 臺 南 市 | B21: 男 | C21: =SUM(D21:U21) -> 38 | D21: 3 | E21: 4 | F21: 3 | G21: 3 | H21: 2 | I21: 4 | J21: 5 | K21: 1 | L21: 2 | M21: 3 | N21: 1 | O21: 0 | P21: 2 | Q21: 1 | R21: 1 | S21: 2 | T21: 1 | U21: 0
B22: 女 | C22: =SUM(D22:U22) -> 68 | D22: 5 | E22: 4 | F22: 6 | G22: 4 | H22: 5 | I22: 8 | J22: 4 | K22: 9 | L22: 0 | M22: 3 | N22: 2 | O22: 2 | P22: 5 | Q22: 1 | R22: 2 | S22: 3 | T22: 4 | U22: 1
B23: 計 | C23: =SUM(D23:U23) -> 90 | D23: 5 | E23: 5 | F23: 6 | G23: 2 | H23: 5 | I23: 3 | J23: 4 | K23: 5 | L23: 5 | M23: 5 | N23: 3 | O23: 9 | P23: 7 | Q23: 6 | R23: 8 | S23: 6 | T23: 2 | U23: 4
A24: 高 雄 市 | B24: 男 | C24: =SUM(D24:U24) -> 50 | D24: 2 | E24: 4 | F24: 5 | G24: 0 | H24: 4 | I24: 2 | J24: 2 | K24: 1 | L24: 4 | M24: 4 | N24: 1 | O24: 4 | P24: 4 | Q24: 4 | R24: 2 | S24: 5 | T24: 0 | U24: 2
B25: 女 | C25: =SUM(D25:U25) -> 40 | D25: 3 | E25: 1 | F25: 1 | G25: 2 | H25: 1 | I25: 1 | J25: 2 | K25: 4 | L25: 1 | M25: 1 | N25: 2 | O25: 5 | P25: 3 | Q25: 2 | R25: 6 | S25: 1 | T25: 2 | U25: 2
B26: 計 | C26: =SUM(D26:U26) -> 13 | D26: 4 | E26: 0 | F26: 0 | G26: 2 | H26: 2 | I26: 0 | J26: 1 | K26: 0 | L26: 1 | M26: 0 | N26: 0 | O26: 0 | P26: 1 | Q26: 0 | R26: 0 | S26: 0 | T26: 0 | U26: 2
A27: 宜 蘭 縣 | B27: 男 | C27: =SUM(D27:U27) -> 6 | D27: 2 | E27: 0 | F27: 0 | G27: 1 | H27: 2 | I27: 0 | J27: 0 | K27: 0 | L27: 0 | M27: 0 | N27: 0 | O27: 0 | P27: 1 | Q27: 0 | R27: 0 | S27: 0 | T27: 0 | U27: 0
B28: 女 | C28: =SUM(D28:U28) -> 7 | D28: 2 | E28: 0 | F28: 0 | G28: 1 | H28: 0 | I28: 0 | J28: 1 | K28: 0 | L28: 1 | M28: 0 | N28: 0 | O28: 0 | P28: 0 | Q28: 0 | R28: 0 | S28: 0 | T28: 0 | U28: 2
B29: 計 | C29: =SUM(D29:U29) -> 25 | D29: 2 | E29: 3 | F29: 0 | G29: 1 | H29: 3 | I29: 3 | J29: 4 | K29: 0 | L29: 1 | M29: 0 | N29: 0 | O29: 3 | P29: 1 | Q29: 0 | R29: 1 | S29: 1 | T29: 2 | U29: 0
A30: 新 竹 縣 | B30: 男 | C30: =SUM(D30:U30) -> 10 | D30: 1 | E30: 1 | F30: 0 | G30: 1 | H30: 2 | I30: 1 | J30: 1 | K30: 0 | L30: 1 | M30: 0 | N30: 0 | O30: 0 | P30: 0 | Q30: 0 | R30: 0 | S30: 0 | T30: 2 | U30: 0
B31: 女 | C31: =SUM(D31:U31) -> 15 | D31: 1 | E31: 2 | F31: 0 | G31: 0 | H31: 1 | I31: 2 | J31: 3 | K31: 0 | L31: 0 | M31: 0 | N31: 0 | O31: 3 | P31: 1 | Q31: 0 | R31: 1 | S31: 1 | T31: 0 | U31: 0
B32: 計 | C32: =SUM(D32:U32) -> 27 | D32: 2 | E32: 0 | F32: 1 | G32: 1 | H32: 1 | I32: 2 | J32: 2 | K32: 1 | L32: 1 | M32: 1 | N32: 2 | O32: 3 | P32: 1 | Q32: 2 | R32: 4 | S32: 1 | T32: 0 | U32: 2
A33: 苗 栗 縣 | B33: 男 | C33: =SUM(D33:U33) -> 15 | D33: 0 | E33: 0 | F33: 0 | G33: 1 | H33: 1 | I33: 2 | J33: 1 | K33: 0 | L33: 1 | M33: 1 | N33: 0 | O33: 2 | P33: 1 | Q33: 2 | R33: 2 | S33: 1 | T33: 0 | U33: 0
B34: 女 | C34: =SUM(D34:U34) -> 12 | D34: 2 | E34: 0 | F34: 1 | G34: 0 | H34: 0 | I34: 0 | J34: 1 | K34: 1 | L34: 0 | M34: 0 | N34: 2 | O34: 1 | P34: 0 | Q34: 0 | R34: 2 | S34: 0 | T34: 0 | U34: 2
B35: 計 | C35: =SUM(D35:U35) -> 28 | D35: 1 | E35: 2 | F35: 0 | G35: 1 | H35: 0 | I35: 2 | J35: 2 | K35: 4 | L35: 1 | M35: 0 | N35: 3 | O35: 2 | P35: 1 | Q35: 0 | R35: 5 | S35: 3 | T35: 1 | U35: 0
A36: 彰 化 縣 | B36: 男 | C36: =SUM(D36:U36) -> 8 | D36: 1 | E36: 0 | F36: 0 | G36: 0 | H36: 0 | I36: 1 | J36: 0 | K36: 3 | L36: 1 | M36: 0 | N36: 0 | O36: 1 | P36: 0 | Q36: 0 | R36: 0 | S36: 1 | T36: 0 | U36: 0
B37: 女 | C37: =SUM(D37:U37) -> 20 | D37: 0 | E37: 2 | F37: 0 | G37: 1 | H37: 0 | I37: 1 | J37: 2 | K37: 1 | L37: 0 | M37: 0 | N37: 3 | O37: 1 | P37: 1 | Q37: 0 | R37: 5 | S37: 2 | T37: 1 | U37: 0
B38: 計 | C38: =SUM(D38:U38) -> 9 | D38: 2 | E38: 0 | F38: 0 | G38: 0 | H38: 0 | I38: 0 | J38: 0 | K38: 1 | L38: 1 | M38: 2 | N38: 0 | O38: 0 | P38: 1 | Q38: 0 | R38: 2 | S38: 0 | T38: 0 | U38: 0
A39: 南 投 縣 | B39: 男 | C39: =SUM(D39:U39) -> 4 | D39: 1 | E39: 0 | F39: 0 | G39: 0 | H39: 0 | I39: 0 | J39: 0 | K39: 0 | L39: 1 | M39: 0 | N39: 0 | O39: 0 | P39: 1 | Q39: 0 | R39: 1 | S39: 0 | T39: 0 | U39: 0
B40: 女 | C40: =SUM(D40:U40) -> 5 | D40: 1 | E40: 0 | F40: 0 | G40: 0 | H40: 0 | I40: 0 | J40: 0 | K40: 1 | L40: 0 | M40: 2 | N40: 0 | O40: 0 | P40: 0 | Q40: 0 | R40: 1 | S40: 0 | T40: 0 | U40: 0
B41: 計 | C41: =SUM(D41:U41) -> 18 | D41: 3 | E41: 0 | F41: 5 | G41: 0 | H41: 1 | I41: 1 | J41: 1 | K41: 0 | L41: 2 | M41: 0 | N41: 1 | O41: 1 | P41: 1 | Q41: 0 | R41: 1 | S41: 0 | T41: 0 | U41: 1
...

Sheet 111年
C1: 收養人數按性別、年齡分
C2: 中華民國111年底 | U2: 單位：人
A3: 區域別 | B3: 性別 | C3: 總 計 | D3: 0歲 | E3: 1歲 | F3: 2歲 | G3: 3歲 | H3: 4歲 | I3: 5歲 | J3: 6歲 | K3: 7歲 | L3: 8歲 | M3: 9歲 | N3: 10歲 | O3: 11歲 | P3: 12歲 | Q3: 13歲 | R3: 14歲 | S3: 15歲 | T3: 16歲 | U3: 17歲
B5: 計 | C5: =SUM(D5:U5) -> 770 | D5: 56 | E5: 67 | F5: 58 | G5: 62 | H5: 60 | I5: 49 | J5: 62 | K5: 42 | L5: 31 | M5: 28 | N5: 32 | O5: 35 | P5: 35 | Q5: 34 | R5: 40 | S5: 33 | T5: 25 | U5: 21
A6: 總 計 | B6: 男 | C6: =SUM(D6:U6) -> 349 | D6: 27 | E6: 32 | F6: 31 | G6: 26 | H6: 40 | I6: 21 | J6: 30 | K6: 21 | L6: 12 | M6: 12 | N6: 10 | O6: 13 | P6: 8 | Q6: 13 | R6: 20 | S6: 13 | T6: 14 | U6: 6
B7: 女 | C7: =SUM(D7:U7) -> 421 | D7: 29 | E7: 35 | F7: 27 | G7: 36 | H7: 20 | I7: 28 | J7: 32 | K7: 21 | L7: 19 | M7: 16 | N7: 22 | O7: 22 | P7: 27 | Q7: 21 | R7: 20 | S7: 20 | T7: 11 | U7: 15
B8: 計 | C8: =SUM(D8:U8) -> 152 | D8: 8 | E8: 10 | F8: 10 | G8: 14 | H8: 14 | I8: 14 | J8: 15 | K8: 6 | L8: 7 | M8: 4 | N8: 7 | O8: 9 | P8: 7 | Q8: 7 | R8: 3 | S8: 7 | T8: 4 | U8: 6
A9: 新 北 市 | B9: 男 | C9: =SUM(D9:U9) -> 70 | D9: 0 | E9: 7 | F9: 5 | G9: 3 | H9: 10 | I9: 7 | J9: 6 | K9: 1 | L9: 6 | M9: 4 | N9: 2 | O9: 3 | P9: 4 | Q9: 4 | R9: 2 | S9: 3 | T9: 2 | U9: 1
B10: 女 | C10: =SUM(D10:U10) -> 82 | D10: 8 | E10: 3 | F10: 5 | G10: 11 | H10: 4 | I10: 7 | J10: 9 | K10: 5 | L10: 1 | M10: 0 | N10: 5 | O10: 6 | P10: 3 | Q10: 3 | R10: 1 | S10: 4 | T10: 2 | U10: 5
B11: 計 | C11: =SUM(D11:U11) -> 122 | D11: 16 | E11: 24 | F11: 11 | G11: 16 | H11: 9 | I11: 4 | J11: 8 | K11: 4 | L11: 7 | M11: 1 | N11: 2 | O11: 2 | P11: 1 | Q11: 3 | R11: 5 | S11: 3 | T11: 4 | U11: 2
A12: 臺 北 市 | B12: 男 | C12: =SUM(D12:U12) -> 62 | D12: 10 | E12: 9 | F12: 5 | G12: 8 | H12: 8 | I12: 2 | J12: 4 | K12: 3 | L12: 2 | M12: 1 | N12: 1 | O12: 1 | P12: 0 | Q12: 0 | R12: 4 | S12: 1 | T12: 2 | U12: 1
B13: 女 | C13: =SUM(D13:U13) -> 60 | D13: 6 | E13: 15 | F13: 6 | G13: 8 | H13: 1 | I13: 2 | J13: 4 | K13: 1 | L13: 5 | M13: 0 | N13: 1 | O13: 1 | P13: 1 | Q13: 3 | R13: 1 | S13: 2 | T13: 2 | U13: 1
B14: 計 | C14: =SUM(D14:U14) -> 49 | D14: 4 | E14: 2 | F14: 5 | G14: 3 | H14: 1 | I14: 2 | J14: 4 | K14: 3 | L14: 2 | M14: 2 | N14: 5 | O14: 1 | P14: 2 | Q14: 6 | R14: 3 | S14: 0 | T14: 2 | U14: 2
A15: 桃 園 市 | B15: 男 | C15: =SUM(D15:U15) -> 22 | D15: 3 | E15: 1 | F15: 4 | G15: 2 | H15: 0 | I15: 1 | J15: 3 | K15: 0 | L15: 1 | M15: 0 | N15: 0 | O15: 0 | P15: 1 | Q15: 2 | R15: 2 | S15: 0 | T15: 1 | U15: 1
B16: 女 | C16: =SUM(D16:U16) -> 27 | D16: 1 | E16: 1 | F16: 1 | G16: 1 | H16: 1 | I16: 1 | J16: 1 | K16: 3 | L16: 1 | M16: 2 | N16: 5 | O16: 1 | P16: 1 | Q16: 4 | R16: 1 | S16: 0 | T16: 1 | U16: 1
B17: 計 | C17: =SUM(D17:U17) -> 85 | D17: 3 | E17: 5 | F17: 2 | G17: 5 | H17: 6 | I17: 1 | J17: 6 | K17: 5 | L17: 4 | M17: 8 | N17: 2 | O17: 6 | P17: 6 | Q17: 8 | R17: 7 | S17: 4 | T17: 4 | U17: 3
A18: 臺 中 市 | B18: 男 | C18: =SUM(D18:U18) -> 35 | D18: 2 | E18: 1 | F18: 1 | G18: 3 | H18: 4 | I18: 0 | J18: 2 | K18: 5 | L18: 1 | M18: 3 | N18: 0 | O18: 2 | P18: 1 | Q18: 2 | R18: 3 | S18: 0 | T18: 3 | U18: 2
B19: 女 | C19: =SUM(D19:U19) -> 50 | D19: 1 | E19: 4 | F19: 1 | G19: 2 | H19: 2 | I19: 1 | J19: 4 | K19: 0 | L19: 3 | M19: 5 | N19: 2 | O19: 4 | P19: 5 | Q19: 6 | R19: 4 | S19: 4 | T19: 1 | U19: 1
B20: 計 | C20: =SUM(D20:U20) -> 100 | D20: 6 | E20: 10 | F20: 8 | G20: 7 | H20: 13 | I20: 8 | J20: 10 | K20: 6 | L20: 4 | M20: 2 | N20: 3 | O20: 1 | P20: 4 | Q20: 2 | R20: 5 | S20: 6 | T20: 2 | U20: 3
A21: 臺 南 市 | B21: 男 | C21: =SUM(D21:U21) -> 49 | D21: 3 | E21: 8 | F21: 3 | G21: 2 | H21: 9 | I21: 4 | J21: 5 | K21: 5 | L21: 1 | M21: 1 | N21: 2 | O21: 1 | P21: 0 | Q21: 1 | R21: 1 | S21: 2 | T21: 1 | U21: 0
B22: 女 | C22: =SUM(D22:U22) -> 51 | D22: 3 | E22: 2 | F22: 5 | G22: 5 | H22: 4 | I22: 4 | J22: 5 | K22: 1 | L22: 3 | M22: 1 | N22: 1 | O22: 0 | P22: 4 | Q22: 1 | R22: 4 | S22: 4 | T22: 1 | U22: 3
B23: 計 | C23: =SUM(D23:U23) -> 74 | D23: 2 | E23: 8 | F23: 6 | G23: 3 | H23: 8 | I23: 9 | J23: 4 | K23: 3 | L23: 2 | M23: 4 | N23: 2 | O23: 6 | P23: 3 | Q23: 1 | R23: 3 | S23: 5 | T23: 2 | U23: 3
A24: 高 雄 市 | B24: 男 | C24: =SUM(D24:U24) -> 35 | D24: 1 | E24: 2 | F24: 6 | G24: 2 | H24: 4 | I24: 4 | J24: 2 | K24: 1 | L24: 1 | M24: 2 | N24: 1 | O24: 2 | P24: 1 | Q24: 1 | R24: 1 | S24: 2 | T24: 2 | U24: 0
B25: 女 | C25: =SUM(D25:U25) -> 39 | D25: 1 | E25: 6 | F25: 0 | G25: 1 | H25: 4 | I25: 5 | J25: 2 | K25: 2 | L25: 1 | M25: 2 | N25: 1 | O25: 4 | P25: 2 | Q25: 0 | R25: 2 | S25: 3 | T25: 0 | U25: 3
B26: 計 | C26: =SUM(D26:U26) -> 18 | D26: 1 | E26: 1 | F26: 4 | G26: 3 | H26: 0 | I26: 0 | J26: 2 | K26: 0 | L26: 0 | M26: 2 | N26: 0 | O26: 0 | P26: 2 | Q26: 1 | R26: 1 | S26: 1 | T26: 0 | U26: 0
A27: 宜 蘭 縣 | B27: 男 | C27: =SUM(D27:U27) -> 9 | D27: 1 | E27: 1 | F27: 3 | G27: 1 | H27: 0 | I27: 0 | J27: 2 | K27: 0 | L27: 0 | M27: 0 | N27: 0 | O27: 0 | P27: 0 | Q27: 0 | R27: 0 | S27: 1 | T27: 0 | U27: 0
B28: 女 | C28: =SUM(D28:U28) -> 9 | D28: 0 | E28: 0 | F28: 1 | G28: 2 | H28: 0 | I28: 0 | J28: 0 | K28: 0 | L28: 0 | M28: 2 | N28: 0 | O28: 0 | P28: 2 | Q28: 1 | R28: 1 | S28: 0 | T28: 0 | U28: 0
B29: 計 | C29: =SUM(D29:U29) -> 14 | D29: 2 | E29: 2 | F29: 0 | G29: 0 | H29: 1 | I29: 0 | J29: 1 | K29: 0 | L29: 0 | M29: 1 | N29: 2 | O29: 1 | P29: 1 | Q29: 1 | R29: 1 | S29: 0 | T29: 1 | U29: 0
A30: 新 竹 縣 | B30: 男 | C30: =SUM(D30:U30) -> 6 | D30: 1 | E30: 1 | F30: 0 | G30: 0 | H30: 1 | I30: 0 | J30: 0 | K30: 0 | L30: 0 | M30: 0 | N30: 0 | O30: 1 | P30: 1 | Q30: 0 | R30: 1 | S30: 0 | T30: 0 | U30: 0
B31: 女 | C31: =SUM(D31:U31) -> 8 | D31: 1 | E31: 1 | F31: 0 | G31: 0 | H31: 0 | I31: 0 | J31: 1 | K31: 0 | L31: 0 | M31: 1 | N31: 2 | O31: 0 | P31: 0 | Q31: 1 | R31: 0 | S31: 0 | T31: 1 | U31: 0
B32: 計 | C32: =SUM(D32:U32) -> 28 | D32: 3 | E32: 0 | F32: 2 | G32: 2 | H32: 1 | I32: 2 | J32: 3 | K32: 3 | L32: 1 | M32: 2 | N32: 2 | O32: 2 | P32: 1 | Q32: 1 | R32: 0 | S32: 1 | T32: 2 | U32: 0
A33: 苗 栗 縣 | B33: 男 | C33: =SUM(D33:U33) -> 10 | D33: 1 | E33: 0 | F33: 0 | G33: 1 | H33: 1 | I33: 1 | J33: 1 | K33: 1 | L33: 0 | M33: 1 | N33: 1 | O33: 0 | P33: 0 | Q33: 1 | R33: 0 | S33: 0 | T33: 1 | U33: 0
B34: 女 | C34: =SUM(D34:U34) -> 18 | D34: 2 | E34: 0 | F34: 2 | G34: 1 | H34: 0 | I34: 1 | J34: 2 | K34: 2 | L34: 1 | M34: 1 | N34: 1 | O34: 2 | P34: 1 | Q34: 0 | R34: 0 | S34: 1 | T34: 1 | U34: 0
B35: 計 | C35: =SUM(D35:U35) -> 12 | D35: 1 | E35: 0 | F35: 0 | G35: 1 | H35: 1 | I35: 1 | J35: 1 | K35: 0 | L35: 1 | M35: 0 | N35: 2 | O35: 2 | P35: 1 | Q35: 0 | R35: 1 | S35: 0 | T35: 0 | U35: 0
A36: 彰 化 縣 | B36: 男 | C36: =SUM(D36:U36) -> 5 | D36: 1 | E36: 0 | F36: 0 | G36: 1 | H36: 1 | I36: 0 | J36: 0 | K36: 0 | L36: 0 | M36: 0 | N36: 1 | O36: 1 | P36: 0 | Q36: 0 | R36: 0 | S36: 0 | T36: 0 | U36: 0
B37: 女 | C37: =SUM(D37:U37) -> 7 | D37: 0 | E37: 0 | F37: 0 | G37: 0 | H37: 0 | I37: 1 | J37: 1 | K37: 0 | L37: 1 | M37: 0 | N37: 1 | O37: 1 | P37: 1 | Q37: 0 | R37: 1 | S37: 0 | T37: 0 | U37: 0
B38: 計 | C38: =SUM(D38:U38) -> 12 | D38: 1 | E38: 0 | F38: 0 | G38: 1 | H38: 1 | I38: 0 | J38: 1 | K38: 1 | L38: 0 | M38: 1 | N38: 0 | O38: 2 | P38: 0 | Q38: 0 | R38: 2 | S38: 2 | T38: 0 | U38: 0
A39: 南 投 縣 | B39: 男 | C39: =SUM(D39:U39) -> 6 | D39: 0 | E39: 0 | F39: 0 | G39: 1 | H39: 0 | I39: 0 | J39: 0 | K39: 0 | L39: 0 | M39: 0 | N39: 0 | O39: 1 | P39: 0 | Q39: 0 | R39: 2 | S39: 2 | T39: 0 | U39: 0
B40: 女 | C40: =SUM(D40:U40) -> 6 | D40: 1 | E40: 0 | F40: 0 | G40: 0 | H40: 1 | I40: 0 | J40: 1 | K40: 1 | L40: 0 | M40: 1 | N40: 0 | O40: 1 | P40: 0 | Q40: 0 | R40: 0 | S40: 0 | T40: 0 | U40: 0
B41: 計 | C41: =SUM(D41:U41) -> 13 | D41: 3 | E41: 0 | F41: 0 | G41: 1 | H41: 1 | I41: 1 | J41: 0 | K41: 0 | L41: 0 | M41: 0 | N41: 1 | O41: 0 | P41: 0 | Q41: 0 | R41: 2 | S41: 2 | T41: 1 | U41: 1
...

Sheet 110年
C1: 收養人數按性別、年齡分
C2: 中華民國110年底 | U2: 單位：人
A3: 區域別 | B3: 性別 | C3: 總 計 | D3: 0歲 | E3: 1歲 | F3: 2歲 | G3: 3歲 | H3: 4歲 | I3: 5歲 | J3: 6歲 | K3: 7歲 | L3: 8歲 | M3: 9歲 | N3: 10歲 | O3: 11歲 | P3: 12歲 | Q3: 13歲 | R3: 14歲 | S3: 15歲 | T3: 16歲 | U3: 17歲
B5: 計 | C5: =SUM(D5:U5) -> 755 | D5: 84 | E5: 65 | F5: 52 | G5: 55 | H5: 62 | I5: 51 | J5: 54 | K5: 27 | L5: 34 | M5: 34 | N5: 26 | O5: 39 | P5: 31 | Q5: 28 | R5: 38 | S5: 34 | T5: 26 | U5: 15
A6: 總 計 | B6: 男 | C6: =SUM(D6:U6) -> 367 | D6: 47 | E6: 38 | F6: 31 | G6: 26 | H6: 27 | I6: 29 | J6: 26 | K6: 18 | L6: 12 | M6: 12 | N6: 12 | O6: 18 | P6: 13 | Q6: 12 | R6: 17 | S6: 8 | T6: 12 | U6: 9
B7: 女 | C7: =SUM(D7:U7) -> 388 | D7: 37 | E7: 27 | F7: 21 | G7: 29 | H7: 35 | I7: 22 | J7: 28 | K7: 9 | L7: 22 | M7: 22 | N7: 14 | O7: 21 | P7: 18 | Q7: 16 | R7: 21 | S7: 26 | T7: 14 | U7: 6
B8: 計 | C8: =SUM(D8:U8) -> 155 | D8: 15 | E8: 9 | F8: 9 | G8: 10 | H8: 19 | I8: 15 | J8: 7 | K8: 2 | L8: 8 | M8: 6 | N8: 8 | O8: 10 | P8: 3 | Q8: 4 | R8: 10 | S8: 10 | T8: 5 | U8: 5
A9: 新 北 市 | B9: 男 | C9: =SUM(D9:U9) -> 80 | D9: 10 | E9: 7 | F9: 7 | G9: 5 | H9: 8 | I9: 8 | J9: 4 | K9: 1 | L9: 2 | M9: 4 | N9: 5 | O9: 2 | P9: 2 | Q9: 2 | R9: 6 | S9: 2 | T9: 2 | U9: 3
B10: 女 | C10: =SUM(D10:U10) -> 75 | D10: 5 | E10: 2 | F10: 2 | G10: 5 | H10: 11 | I10: 7 | J10: 3 | K10: 1 | L10: 6 | M10: 2 | N10: 3 | O10: 8 | P10: 1 | Q10: 2 | R10: 4 | S10: 8 | T10: 3 | U10: 2
B11: 計 | C11: =SUM(D11:U11) -> 116 | D11: 24 | E11: 29 | F11: 8 | G11: 14 | H11: 11 | I11: 5 | J11: 3 | K11: 1 | L11: 4 | M11: 3 | N11: 1 | O11: 2 | P11: 2 | Q11: 3 | R11: 2 | S11: 2 | T11: 1 | U11: 1
A12: 臺 北 市 | B12: 男 | C12: =SUM(D12:U12) -> 55 | D12: 13 | E12: 14 | F12: 4 | G12: 4 | H12: 5 | I12: 4 | J12: 2 | K12: 1 | L12: 1 | M12: 0 | N12: 1 | O12: 1 | P12: 1 | Q12: 2 | R12: 2 | S12: 0 | T12: 0 | U12: 0
B13: 女 | C13: =SUM(D13:U13) -> 61 | D13: 11 | E13: 15 | F13: 4 | G13: 10 | H13: 6 | I13: 1 | J13: 1 | K13: 0 | L13: 3 | M13: 3 | N13: 0 | O13: 1 | P13: 1 | Q13: 1 | R13: 0 | S13: 2 | T13: 1 | U13: 1
B14: 計 | C14: =SUM(D14:U14) -> 78 | D14: 5 | E14: 3 | F14: 4 | G14: 3 | H14: 9 | I14: 8 | J14: 10 | K14: 3 | L14: 4 | M14: 7 | N14: 3 | O14: 5 | P14: 2 | Q14: 3 | R14: 3 | S14: 2 | T14: 2 | U14: 2
A15: 桃 園 市 | B15: 男 | C15: =SUM(D15:U15) -> 33 | D15: 3 | E15: 2 | F15: 2 | G15: 1 | H15: 4 | I15: 4 | J15: 2 | K15: 2 | L15: 0 | M15: 3 | N15: 1 | O15: 4 | P15: 0 | Q15: 2 | R15: 0 | S15: 1 | T15: 1 | U15: 1
B16: 女 | C16: =SUM(D16:U16) -> 45 | D16: 2 | E16: 1 | F16: 2 | G16: 2 | H16: 5 | I16: 4 | J16: 8 | K16: 1 | L16: 4 | M16: 4 | N16: 2 | O16: 1 | P16: 2 | Q16: 1 | R16: 3 | S16: 1 | T16: 1 | U16: 1
B17: 計 | C17: =SUM(D17:U17) -> 67 | D17: 9 | E17: 0 | F17: 4 | G17: 6 | H17: 3 | I17: 6 | J17: 7 | K17: 5 | L17: 1 | M17: 2 | N17: 2 | O17: 3 | P17: 4 | Q17: 3 | R17: 5 | S17: 2 | T17: 4 | U17: 1
A18: 臺 中 市 | B18: 男 | C18: =SUM(D18:U18) -> 31 | D18: 4 | E18: 0 | F18: 3 | G18: 3 | H18: 1 | I18: 4 | J18: 5 | K18: 4 | L18: 0 | M18: 0 | N18: 0 | O18: 1 | P18: 2 | Q18: 0 | R18: 0 | S18: 1 | T18: 2 | U18: 1
B19: 女 | C19: =SUM(D19:U19) -> 36 | D19: 5 | E19: 0 | F19: 1 | G19: 3 | H19: 2 | I19: 2 | J19: 2 | K19: 1 | L19: 1 | M19: 2 | N19: 2 | O19: 2 | P19: 2 | Q19: 3 | R19: 5 | S19: 1 | T19: 2 | U19: 0
B20: 計 | C20: =SUM(D20:U20) -> 95 | D20: 14 | E20: 6 | F20: 9 | G20: 9 | H20: 8 | I20: 6 | J20: 6 | K20: 8 | L20: 4 | M20: 2 | N20: 1 | O20: 4 | P20: 5 | Q20: 4 | R20: 3 | S20: 3 | T20: 2 | U20: 1
A21: 臺 南 市 | B21: 男 | C21: =SUM(D21:U21) -> 43 | D21: 6 | E21: 3 | F21: 8 | G21: 5 | H21: 3 | I21: 1 | J21: 2 | K21: 4 | L21: 2 | M21: 0 | N21: 1 | O21: 1 | P21: 3 | Q21: 0 | R21: 1 | S21: 1 | T21: 2 | U21: 0
B22: 女 | C22: =SUM(D22:U22) -> 52 | D22: 8 | E22: 3 | F22: 1 | G22: 4 | H22: 5 | I22: 5 | J22: 4 | K22: 4 | L22: 2 | M22: 2 | N22: 0 | O22: 3 | P22: 2 | Q22: 4 | R22: 2 | S22: 2 | T22: 0 | U22: 1
B23: 計 | C23: =SUM(D23:U23) -> 50 | D23: 2 | E23: 6 | F23: 6 | G23: 2 | H23: 6 | I23: 3 | J23: 3 | K23: 2 | L23: 4 | M23: 0 | N23: 0 | O23: 4 | P23: 0 | Q23: 3 | R23: 3 | S23: 3 | T23: 2 | U23: 1
A24: 高 雄 市 | B24: 男 | C24: =SUM(D24:U24) -> 29 | D24: 1 | E24: 4 | F24: 3 | G24: 1 | H24: 3 | I24: 3 | J24: 1 | K24: 1 | L24: 4 | M24: 0 | N24: 0 | O24: 3 | P24: 0 | Q24: 1 | R24: 1 | S24: 0 | T24: 2 | U24: 1
B25: 女 | C25: =SUM(D25:U25) -> 21 | D25: 1 | E25: 2 | F25: 3 | G25: 1 | H25: 3 | I25: 0 | J25: 2 | K25: 1 | L25: 0 | M25: 0 | N25: 0 | O25: 1 | P25: 0 | Q25: 2 | R25: 2 | S25: 3 | T25: 0 | U25: 0
B26: 計 | C26: =SUM(D26:U26) -> 7 | D26: 0 | E26: 1 | F26: 1 | G26: 0 | H26: 1 | I26: 0 | J26: 0 | K26: 0 | L26: 1 | M26: 0 | N26: 1 | O26: 0 | P26: 0 | Q26: 1 | R26: 0 | S26: 1 | T26: 0 | U26: 0
A27: 宜 蘭 縣 | B27: 男 | C27: =SUM(D27:U27) -> 5 | D27: 0 | E27: 1 | F27: 1 | G27: 0 | H27: 1 | I27: 0 | J27: 0 | K27: 0 | L27: 0 | M27: 0 | N27: 0 | O27: 0 | P27: 0 | Q27: 1 | R27: 0 | S27: 1 | T27: 0 | U27: 0
B28: 女 | C28: =SUM(D28:U28) -> 2 | D28: 0 | E28: 0 | F28: 0 | G28: 0 | H28: 0 | I28: 0 | J28: 0 | K28: 0 | L28: 1 | M28: 0 | N28: 1 | O28: 0 | P28: 0 | Q28: 0 | R28: 0 | S28: 0 | T28: 0 | U28: 0
B29: 計 | C29: =SUM(D29:U29) -> 11 | D29: 2 | E29: 0 | F29: 0 | G29: 0 | H29: 0 | I29: 0 | J29: 1 | K29: 0 | L29: 1 | M29: 1 | N29: 1 | O29: 1 | P29: 0 | Q29: 0 | R29: 1 | S29: 2 | T29: 0 | U29: 1
A30: 新 竹 縣 | B30: 男 | C30: =SUM(D30:U30) -> 4 | D30: 2 | E30: 0 | F30: 0 | G30: 0 | H30: 0 | I30: 0 | J30: 0 | K30: 0 | L30: 0 | M30: 0 | N30: 0 | O30: 0 | P30: 0 | Q30: 0 | R30: 0 | S30: 1 | T30: 0 | U30: 1
B31: 女 | C31: =SUM(D31:U31) -> 7 | D31: 0 | E31: 0 | F31: 0 | G31: 0 | H31: 0 | I31: 0 | J31: 1 | K31: 0 | L31: 1 | M31: 1 | N31: 1 | O31: 1 | P31: 0 | Q31: 0 | R31: 1 | S31: 1 | T31: 0 | U31: 0
B32: 計 | C32: =SUM(D32:U32) -> 21 | D32: 4 | E32: 0 | F32: 1 | G32: 1 | H32: 1 | I32: 2 | J32: 1 | K32: 0 | L32: 2 | M32: 0 | N32: 1 | O32: 1 | P32: 3 | Q32: 1 | R32: 0 | S32: 2 | T32: 1 | U32: 0
A33: 苗 栗 縣 | B33: 男 | C33: =SUM(D33:U33) -> 11 | D33: 3 | E33: 0 | F33: 0 | G33: 1 | H33: 1 | I33: 2 | J33: 0 | K33: 0 | L33: 1 | M33: 0 | N33: 0 | O33: 1 | P33: 2 | Q33: 0 | R33: 0 | S33: 0 | T33: 0 | U33: 0
B34: 女 | C34: =SUM(D34:U34) -> 10 | D34: 1 | E34: 0 | F34: 1 | G34: 0 | H34: 0 | I34: 0 | J34: 1 | K34: 0 | L34: 1 | M34: 0 | N34: 1 | O34: 0 | P34: 1 | Q34: 1 | R34: 0 | S34: 2 | T34: 1 | U34: 0
B35: 計 | C35: =SUM(D35:U35) -> 17 | D35: 3 | E35: 0 | F35: 2 | G35: 1 | H35: 0 | I35: 1 | J35: 1 | K35: 2 | L35: 0 | M35: 0 | N35: 1 | O35: 0 | P35: 1 | Q35: 0 | R35: 4 | S35: 1 | T35: 0 | U35: 0
A36: 彰 化 縣 | B36: 男 | C36: =SUM(D36:U36) -> 11 | D36: 3 | E36: 0 | F36: 1 | G36: 1 | H36: 0 | I36: 0 | J36: 1 | K36: 1 | L36: 0 | M36: 0 | N36: 1 | O36: 0 | P36: 0 | Q36: 0 | R36: 3 | S36: 0 | T36: 0 | U36: 0
B37: 女 | C37: =SUM(D37:U37) -> 6 | D37: 0 | E37: 0 | F37: 1 | G37: 0 | H37: 0 | I37: 1 | J37: 0 | K37: 1 | L37: 0 | M37: 0 | N37: 0 | O37: 0 | P37: 1 | Q37: 0 | R37: 1 | S37: 1 | T37: 0 | U37: 0
B38: 計 | C38: =SUM(D38:U38) -> 10 | D38: 3 | E38: 0 | F38: 1 | G38: 0 | H38: 0 | I38: 1 | J38: 0 | K38: 1 | L38: 0 | M38: 0 | N38: 1 | O38: 1 | P38: 1 | Q38: 1 | R38: 0 | S38: 0 | T38: 0 | U38: 0
A39: 南 投 縣 | B39: 男 | C39: =SUM(D39:U39) -> 4 | D39: 1 | E39: 0 | F39: 0 | G39: 0 | H39: 0 | I39: 0 | J39: 0 | K39: 1 | L39: 0 | M39: 0 | N39: 0 | O39: 1 | P39: 0 | Q39: 1 | R39: 0 | S39: 0 | T39: 0 | U39: 0
B40: 女 | C40: =SUM(D40:U40) -> 6 | D40: 2 | E40: 0 | F40: 1 | G40: 0 | H40: 0 | I40: 1 | J40: 0 | K40: 0 | L40: 0 | M40: 0 | N40: 1 | O40: 0 | P40: 1 | Q40: 0 | R40: 0 | S40: 0 | T40: 0 | U40: 0
B41: 計 | C41: =SUM(D41:U41) -> 22 | D41: 0 | E41: 2 | F41: 0 | G41: 2 | H41: 1 | I41: 2 | J41: 3 | K41: 0 | L41: 0 | M41: 3 | N41: 0 | O41: 3 | P41: 0 | Q41: 0 | R41: 3 | S41: 0 | T41: 3 | U41: 0
...

Sheet 109年
C1: 收養人數按性別、年齡分
C2: 中華民國109年底 | U2: 單位：人
A3: 區域別 | B3: 性別 | C3: 總 計 | D3: 0歲 | E3: 1歲 | F3: 2歲 | G3: 3歲 | H3: 4歲 | I3: 5歲 | J3: 6歲 | K3: 7歲 | L3: 8歲 | M3: 9歲 | N3: 10歲 | O3: 11歲 | P3: 12歲 | Q3: 13歲 | R3: 14歲 | S3: 15歲 | T3: 16歲 | U3: 17歲
B5: 計 | C5: =SUM(D5:U5) -> 891 | D5: 91 | E5: 92 | F5: 69 | G5: 72 | H5: 56 | I5: 63 | J5: 52 | K5: 37 | L5: 29 | M5: 33 | N5: 34 | O5: 42 | P5: 48 | Q5: 29 | R5: 41 | S5: 43 | T5: 31 | U5: 29
A6: 總 計 | B6: 男 | C6: =SUM(D6:U6) -> 447 | D6: 47 | E6: 42 | F6: 37 | G6: 33 | H6: 27 | I6: 34 | J6: 29 | K6: 21 | L6: 17 | M6: 19 | N6: 12 | O6: 19 | P6: 29 | Q6: 13 | R6: 19 | S6: 19 | T6: 16 | U6: 14
B7: 女 | C7: =SUM(D7:U7) -> 444 | D7: 44 | E7: 50 | F7: 32 | G7: 39 | H7: 29 | I7: 29 | J7: 23 | K7: 16 | L7: 12 | M7: 14 | N7: 22 | O7: 23 | P7: 19 | Q7: 16 | R7: 22 | S7: 24 | T7: 15 | U7: 15
B8: 計 | C8: =SUM(D8:U8) -> 171 | D8: 14 | E8: 15 | F8: 9 | G8: 11 | H8: 16 | I8: 14 | J8: 11 | K8: 12 | L8: 6 | M8: 7 | N8: 8 | O8: 10 | P8: 10 | Q8: 5 | R8: 5 | S8: 8 | T8: 5 | U8: 5
A9: 新 北 市 | B9: 男 | C9: =SUM(D9:U9) -> 80 | D9: 7 | E9: 5 | F9: 6 | G9: 6 | H9: 8 | I9: 8 | J9: 6 | K9: 10 | L9: 1 | M9: 2 | N9: 2 | O9: 3 | P9: 5 | Q9: 1 | R9: 1 | S9: 3 | T9: 5 | U9: 1
B10: 女 | C10: =SUM(D10:U10) -> 91 | D10: 7 | E10: 10 | F10: 3 | G10: 5 | H10: 8 | I10: 6 | J10: 5 | K10: 2 | L10: 5 | M10: 5 | N10: 6 | O10: 7 | P10: 5 | Q10: 4 | R10: 4 | S10: 5 | T10: 0 | U10: 4
B11: 計 | C11: =SUM(D11:U11) -> 178 | D11: 37 | E11: 39 | F11: 23 | G11: 28 | H11: 5 | I11: 7 | J11: 6 | K11: 1 | L11: 2 | M11: 1 | N11: 3 | O11: 5 | P11: 9 | Q11: 0 | R11: 6 | S11: 3 | T11: 2 | U11: 1
A12: 臺 北 市 | B12: 男 | C12: =SUM(D12:U12) -> 86 | D12: 19 | E12: 19 | F12: 12 | G12: 10 | H12: 1 | I12: 3 | J12: 2 | K12: 1 | L12: 2 | M12: 0 | N12: 0 | O12: 3 | P12: 6 | Q12: 0 | R12: 4 | S12: 3 | T12: 1 | U12: 0
B13: 女 | C13: =SUM(D13:U13) -> 92 | D13: 18 | E13: 20 | F13: 11 | G13: 18 | H13: 4 | I13: 4 | J13: 4 | K13: 0 | L13: 0 | M13: 1 | N13: 3 | O13: 2 | P13: 3 | Q13: 0 | R13: 2 | S13: 0 | T13: 1 | U13: 1
B14: 計 | C14: =SUM(D14:U14) -> 79 | D14: 6 | E14: 2 | F14: 1 | G14: 4 | H14: 5 | I14: 6 | J14: 6 | K14: 4 | L14: 2 | M14: 4 | N14: 6 | O14: 3 | P14: 8 | Q14: 1 | R14: 3 | S14: 7 | T14: 4 | U14: 7
A15: 桃 園 市 | B15: 男 | C15: =SUM(D15:U15) -> 42 | D15: 4 | E15: 1 | F15: 1 | G15: 1 | H15: 3 | I15: 2 | J15: 4 | K15: 2 | L15: 2 | M15: 4 | N15: 1 | O15: 2 | P15: 3 | Q15: 0 | R15: 1 | S15: 4 | T15: 2 | U15: 5
B16: 女 | C16: =SUM(D16:U16) -> 37 | D16: 2 | E16: 1 | F16: 0 | G16: 3 | H16: 2 | I16: 4 | J16: 2 | K16: 2 | L16: 0 | M16: 0 | N16: 5 | O16: 1 | P16: 5 | Q16: 1 | R16: 2 | S16: 3 | T16: 2 | U16: 2
B17: 計 | C17: =SUM(D17:U17) -> 73 | D17: 6 | E17: 2 | F17: 4 | G17: 5 | H17: 2 | I17: 3 | J17: 6 | K17: 6 | L17: 5 | M17: 6 | N17: 4 | O17: 8 | P17: 3 | Q17: 2 | R17: 3 | S17: 6 | T17: 1 | U17: 1
A18: 臺 中 市 | B18: 男 | C18: =SUM(D18:U18) -> 31 | D18: 2 | E18: 1 | F18: 2 | G18: 3 | H18: 1 | I18: 0 | J18: 2 | K18: 2 | L18: 4 | M18: 4 | N18: 0 | O18: 2 | P18: 2 | Q18: 1 | R18: 2 | S18: 3 | T18: 0 | U18: 0
B19: 女 | C19: =SUM(D19:U19) -> 42 | D19: 4 | E19: 1 | F19: 2 | G19: 2 | H19: 1 | I19: 3 | J19: 4 | K19: 4 | L19: 1 | M19: 2 | N19: 4 | O19: 6 | P19: 1 | Q19: 1 | R19: 1 | S19: 3 | T19: 1 | U19: 1
B20: 計 | C20: =SUM(D20:U20) -> 100 | D20: 10 | E20: 12 | F20: 12 | G20: 10 | H20: 8 | I20: 7 | J20: 4 | K20: 4 | L20: 5 | M20: 2 | N20: 2 | O20: 1 | P20: 4 | Q20: 4 | R20: 5 | S20: 5 | T20: 5 | U20: 0
A21: 臺 南 市 | B21: 男 | C21: =SUM(D21:U21) -> 47 | D21: 5 | E21: 6 | F21: 7 | G21: 5 | H21: 4 | I21: 3 | J21: 4 | K21: 0 | L21: 2 | M21: 1 | N21: 0 | O21: 1 | P21: 2 | Q21: 3 | R21: 3 | S21: 0 | T21: 1 | U21: 0
B22: 女 | C22: =SUM(D22:U22) -> 53 | D22: 5 | E22: 6 | F22: 5 | G22: 5 | H22: 4 | I22: 4 | J22: 0 | K22: 4 | L22: 3 | M22: 1 | N22: 2 | O22: 0 | P22: 2 | Q22: 1 | R22: 2 | S22: 5 | T22: 4 | U22: 0
B23: 計 | C23: =SUM(D23:U23) -> 67 | D23: 4 | E23: 9 | F23: 3 | G23: 3 | H23: 3 | I23: 6 | J23: 0 | K23: 1 | L23: 3 | M23: 3 | N23: 3 | O23: 5 | P23: 2 | Q23: 6 | R23: 6 | S23: 4 | T23: 3 | U23: 3
A24: 高 雄 市 | B24: 男 | C24: =SUM(D24:U24) -> 32 | D24: 3 | E24: 3 | F24: 1 | G24: 0 | H24: 2 | I24: 2 | J24: 0 | K24: 0 | L24: 3 | M24: 1 | N24: 3 | O24: 3 | P24: 2 | Q24: 4 | R24: 3 | S24: 2 | T24: 0 | U24: 0
B25: 女 | C25: =SUM(D25:U25) -> 35 | D25: 1 | E25: 6 | F25: 2 | G25: 3 | H25: 1 | I25: 4 | J25: 0 | K25: 1 | L25: 0 | M25: 2 | N25: 0 | O25: 2 | P25: 0 | Q25: 2 | R25: 3 | S25: 2 | T25: 3 | U25: 3
B26: 計 | C26: =SUM(D26:U26) -> 10 | D26: 0 | E26: 3 | F26: 0 | G26: 0 | H26: 1 | I26: 2 | J26: 1 | K26: 1 | L26: 0 | M26: 1 | N26: 0 | O26: 1 | P26: 0 | Q26: 0 | R26: 0 | S26: 0 | T26: 0 | U26: 0
A27: 宜 蘭 縣 | B27: 男 | C27: =SUM(D27:U27) -> 4 | D27: 0 | E27: 1 | F27: 0 | G27: 0 | H27: 0 | I27: 1 | J27: 0 | K27: 1 | L27: 0 | M27: 0 | N27: 0 | O27: 1 | P27: 0 | Q27: 0 | R27: 0 | S27: 0 | T27: 0 | U27: 0
B28: 女 | C28: =SUM(D28:U28) -> 6 | D28: 0 | E28: 2 | F28: 0 | G28: 0 | H28: 1 | I28: 1 | J28: 1 | K28: 0 | L28: 0 | M28: 1 | N28: 0 | O28: 0 | P28: 0 | Q28: 0 | R28: 0 | S28: 0 | T28: 0 | U28: 0
B29: 計 | C29: =SUM(D29:U29) -> 6 | D29: 1 | E29: 0 | F29: 0 | G29: 0 | H29: 1 | I29: 1 | J29: 0 | K29: 1 | L29: 0 | M29: 0 | N29: 0 | O29: 0 | P29: 1 | Q29: 0 | R29: 0 | S29: 0 | T29: 0 | U29: 1
A30: 新 竹 縣 | B30: 男 | C30: =SUM(D30:U30) -> 4 | D30: 1 | E30: 0 | F30: 0 | G30: 0 | H30: 1 | I30: 1 | J30: 0 | K30: 0 | L30: 0 | M30: 0 | N30: 0 | O30: 0 | P30: 1 | Q30: 0 | R30: 0 | S30: 0 | T30: 0 | U30: 0
B31: 女 | C31: =SUM(D31:U31) -> 2 | D31: 0 | E31: 0 | F31: 0 | G31: 0 | H31: 0 | I31: 0 | J31: 0 | K31: 1 | L31: 0 | M31: 0 | N31: 0 | O31: 0 | P31: 0 | Q31: 0 | R31: 0 | S31: 0 | T31: 0 | U31: 1
B32: 計 | C32: =SUM(D32:U32) -> 31 | D32: 2 | E32: 1 | F32: 4 | G32: 2 | H32: 1 | I32: 5 | J32: 1 | K32: 1 | L32: 0 | M32: 2 | N32: 2 | O32: 3 | P32: 0 | Q32: 3 | R32: 0 | S32: 1 | T32: 2 | U32: 1
A33: 苗 栗 縣 | B33: 男 | C33: =SUM(D33:U33) -> 21 | D33: 1 | E33: 1 | F33: 2 | G33: 2 | H33: 0 | I33: 5 | J33: 1 | K33: 1 | L33: 0 | M33: 0 | N33: 2 | O33: 2 | P33: 0 | Q33: 1 | R33: 0 | S33: 0 | T33: 2 | U33: 1
B34: 女 | C34: =SUM(D34:U34) -> 10 | D34: 1 | E34: 0 | F34: 2 | G34: 0 | H34: 1 | I34: 0 | J34: 0 | K34: 0 | L34: 0 | M34: 2 | N34: 0 | O34: 1 | P34: 0 | Q34: 2 | R34: 0 | S34: 1 | T34: 0 | U34: 0
B35: 計 | C35: =SUM(D35:U35) -> 24 | D35: 3 | E35: 2 | F35: 2 | G35: 1 | H35: 3 | I35: 1 | J35: 1 | K35: 0 | L35: 0 | M35: 1 | N35: 0 | O35: 1 | P35: 1 | Q35: 2 | R35: 2 | S35: 1 | T35: 2 | U35: 1
A36: 彰 化 縣 | B36: 男 | C36: =SUM(D36:U36) -> 17 | D36: 2 | E36: 2 | F36: 0 | G36: 1 | H36: 2 | I36: 1 | J36: 1 | K36: 0 | L36: 0 | M36: 1 | N36: 0 | O36: 0 | P36: 0 | Q36: 1 | R36: 2 | S36: 1 | T36: 2 | U36: 1
B37: 女 | C37: =SUM(D37:U37) -> 7 | D37: 1 | E37: 0 | F37: 2 | G37: 0 | H37: 1 | I37: 0 | J37: 0 | K37: 0 | L37: 0 | M37: 0 | N37: 0 | O37: 1 | P37: 1 | Q37: 1 | R37: 0 | S37: 0 | T37: 0 | U37: 0
B38: 計 | C38: =SUM(D38:U38) -> 18 | D38: 1 | E38: 0 | F38: 0 | G38: 1 | H38: 1 | I38: 3 | J38: 2 | K38: 0 | L38: 0 | M38: 0 | N38: 2 | O38: 0 | P38: 2 | Q38: 1 | R38: 0 | S38: 1 | T38: 2 | U38: 2
A39: 南 投 縣 | B39: 男 | C39: =SUM(D39:U39) -> 10 | D39: 1 | E39: 0 | F39: 0 | G39: 0 | H39: 0 | I39: 1 | J39: 2 | K39: 0 | L39: 0 | M39: 0 | N39: 2 | O39: 0 | P39: 2 | Q39: 1 | R39: 0 | S39: 0 | T39: 1 | U39: 0
B40: 女 | C40: =SUM(D40:U40) -> 8 | D40: 0 | E40: 0 | F40: 0 | G40: 1 | H40: 1 | I40: 2 | J40: 0 | K40: 0 | L40: 0 | M40: 0 | N40: 0 | O40: 0 | P40: 0 | Q40: 0 | R40: 0 | S40: 1 | T40: 1 | U40: 2
B41: 計 | C41: =SUM(D41:U41) -> 24 | D41: 0 | E41: 4 | F41: 0 | G41: 1 | H41: 2 | I41: 1 | J41: 4 | K41: 1 | L41: 2 | M41: 1 | N41: 0 | O41: 2 | P41: 0 | Q41: 0 | R41: 3 | S41: 1 | T41: 1 | U41: 1
...

Sheet 108年
C1: 收養人數按性別、年齡分
C2: 中華民國108年底 | U2: 單位：人
A3: 區域別 | B3: 性別 | C3: 總 計 | D3: 0歲 | E3: 1歲 | F3: 2歲 | G3: 3歲 | H3: 4歲 | I3: 5歲 | J3: 6歲 | K3: 7歲 | L3: 8歲 | M3: 9歲 | N3: 10歲 | O3: 11歲 | P3: 12歲 | Q3: 13歲 | R3: 14歲 | S3: 15歲 | T3: 16歲 | U3: 17歲
B5: 計 | C5: 918 | D5: 70 | E5: 99 | F5: 69 | G5: 72 | H5: 54 | I5: 72 | J5: 70 | K5: 42 | L5: 38 | M5: 33 | N5: 21 | O5: 35 | P5: 41 | Q5: 40 | R5: 50 | S5: 38 | T5: 55 | U5: 19
A6: 總 計 | B6: 男 | C6: 425 | D6: 33 | E6: 43 | F6: 34 | G6: 34 | H6: 23 | I6: 33 | J6: 27 | K6: 21 | L6: 17 | M6: 21 | N6: 13 | O6: 12 | P6: 21 | Q6: 20 | R6: 30 | S6: 18 | T6: 19 | U6: 6
B7: 女 | C7: 493 | D7: 37 | E7: 56 | F7: 35 | G7: 38 | H7: 31 | I7: 39 | J7: 43 | K7: 21 | L7: 21 | M7: 12 | N7: 8 | O7: 23 | P7: 20 | Q7: 20 | R7: 20 | S7: 20 | T7: 36 | U7: 13
B8: 計 | C8: 130 | D8: 5 | E8: 12 | F8: 15 | G8: 9 | H8: 4 | I8: 15 | J8: 11 | K8: 7 | L8: 2 | M8: 6 | N8: 3 | O8: 3 | P8: 8 | Q8: 8 | R8: 8 | S8: 8 | T8: 5 | U8: 1
A9: 新 北 市 | B9: 男 | C9: 71 | D9: 3 | E9: 9 | F9: 10 | G9: 6 | H9: 2 | I9: 4 | J9: 4 | K9: 4 | L9: 1 | M9: 4 | N9: 1 | O9: 1 | P9: 6 | Q9: 5 | R9: 6 | S9: 4 | T9: 1 | U9: 0
B10: 女 | C10: 59 | D10: 2 | E10: 3 | F10: 5 | G10: 3 | H10: 2 | I10: 11 | J10: 7 | K10: 3 | L10: 1 | M10: 2 | N10: 2 | O10: 2 | P10: 2 | Q10: 3 | R10: 2 | S10: 4 | T10: 4 | U10: 1
B11: 計 | C11: 184 | D11: 30 | E11: 40 | F11: 23 | G11: 15 | H11: 17 | I11: 12 | J11: 9 | K11: 6 | L11: 5 | M11: 4 | N11: 1 | O11: 5 | P11: 2 | Q11: 3 | R11: 4 | S11: 3 | T11: 3 | U11: 2
A12: 臺 北 市 | B12: 男 | C12: 77 | D12: 12 | E12: 13 | F12: 12 | G12: 3 | H12: 6 | I12: 8 | J12: 4 | K12: 2 | L12: 3 | M12: 3 | N12: 0 | O12: 3 | P12: 1 | Q12: 0 | R12: 2 | S12: 1 | T12: 2 | U12: 2
B13: 女 | C13: 107 | D13: 18 | E13: 27 | F13: 11 | G13: 12 | H13: 11 | I13: 4 | J13: 5 | K13: 4 | L13: 2 | M13: 1 | N13: 1 | O13: 2 | P13: 1 | Q13: 3 | R13: 2 | S13: 2 | T13: 1 | U13: 0
B14: 計 | C14: 52 | D14: 2 | E14: 1 | F14: 3 | G14: 4 | H14: 0 | I14: 3 | J14: 5 | K14: 2 | L14: 3 | M14: 3 | N14: 1 | O14: 2 | P14: 6 | Q14: 5 | R14: 3 | S14: 3 | T14: 3 | U14: 3
A15: 桃 園 市 | B15: 男 | C15: 27 | D15: 2 | E15: 1 | F15: 2 | G15: 3 | H15: 0 | I15: 1 | J15: 1 | K15: 2 | L15: 2 | M15: 1 | N15: 1 | O15: 1 | P15: 3 | Q15: 3 | R15: 2 | S15: 1 | T15: 1 | U15: 0
B16: 女 | C16: 25 | D16: 0 | E16: 0 | F16: 1 | G16: 1 | H16: 0 | I16: 2 | J16: 4 | K16: 0 | L16: 1 | M16: 2 | N16: 0 | O16: 1 | P16: 3 | Q16: 2 | R16: 1 | S16: 2 | T16: 2 | U16: 3
B17: 計 | C17: 85 | D17: 3 | E17: 4 | F17: 3 | G17: 9 | H17: 8 | I17: 6 | J17: 10 | K17: 3 | L17: 4 | M17: 4 | N17: 3 | O17: 5 | P17: 1 | Q17: 1 | R17: 6 | S17: 5 | T17: 8 | U17: 2
A18: 臺 中 市 | B18: 男 | C18: 43 | D18: 1 | E18: 4 | F18: 2 | G18: 5 | H18: 4 | I18: 3 | J18: 5 | K18: 1 | L18: 3 | M18: 2 | N18: 0 | O18: 3 | P18: 1 | Q18: 0 | R18: 4 | S18: 2 | T18: 2 | U18: 1
B19: 女 | C19: 42 | D19: 2 | E19: 0 | F19: 1 | G19: 4 | H19: 4 | I19: 3 | J19: 5 | K19: 2 | L19: 1 | M19: 2 | N19: 3 | O19: 2 | P19: 0 | Q19: 1 | R19: 2 | S19: 3 | T19: 6 | U19: 1
B20: 計 | C20: 120 | D20: 9 | E20: 22 | F20: 7 | G20: 9 | H20: 10 | I20: 17 | J20: 9 | K20: 9 | L20: 5 | M20: 2 | N20: 1 | O20: 1 | P20: 4 | Q20: 3 | R20: 6 | S20: 1 | T20: 3 | U20: 2
A21: 臺 南 市 | B21: 男 | C21: 56 | D21: 5 | E21: 10 | F21: 3 | G21: 5 | H21: 5 | I21: 8 | J21: 4 | K21: 5 | L21: 1 | M21: 0 | N21: 1 | O21: 0 | P21: 1 | Q21: 0 | R21: 5 | S21: 1 | T21: 1 | U21: 1
B22: 女 | C22: 64 | D22: 4 | E22: 12 | F22: 4 | G22: 4 | H22: 5 | I22: 9 | J22: 5 | K22: 4 | L22: 4 | M22: 2 | N22: 0 | O22: 1 | P22: 3 | Q22: 3 | R22: 1 | S22: 0 | T22: 2 | U22: 1
B23: 計 | C23: 70 | D23: 2 | E23: 7 | F23: 4 | G23: 2 | H23: 3 | I23: 7 | J23: 2 | K23: 5 | L23: 6 | M23: 3 | N23: 0 | O23: 6 | P23: 8 | Q23: 4 | R23: 2 | S23: 3 | T23: 5 | U23: 1
A24: 高 雄 市 | B24: 男 | C24: 25 | D24: 0 | E24: 2 | F24: 0 | G24: 1 | H24: 1 | I24: 2 | J24: 1 | K24: 3 | L24: 3 | M24: 3 | N24: 0 | O24: 2 | P24: 2 | Q24: 1 | R24: 1 | S24: 1 | T24: 2 | U24: 0
B25: 女 | C25: 45 | D25: 2 | E25: 5 | F25: 4 | G25: 1 | H25: 2 | I25: 5 | J25: 1 | K25: 2 | L25: 3 | M25: 0 | N25: 0 | O25: 4 | P25: 6 | Q25: 3 | R25: 1 | S25: 2 | T25: 3 | U25: 1
B26: 計 | C26: 26 | D26: 2 | E26: 3 | F26: 1 | G26: 5 | H26: 1 | I26: 3 | J26: 1 | K26: 1 | L26: 0 | M26: 1 | N26: 1 | O26: 1 | P26: 0 | Q26: 3 | R26: 1 | S26: 1 | T26: 0 | U26: 1
A27: 宜 蘭 縣 | B27: 男 | C27: 14 | D27: 1 | E27: 1 | F27: 1 | G27: 3 | H27: 0 | I27: 2 | J27: 1 | K27: 1 | L27: 0 | M27: 1 | N27: 0 | O27: 0 | P27: 0 | Q27: 2 | R27: 0 | S27: 0 | T27: 0 | U27: 1
B28: 女 | C28: 12 | D28: 1 | E28: 2 | F28: 0 | G28: 2 | H28: 1 | I28: 1 | J28: 0 | K28: 0 | L28: 0 | M28: 0 | N28: 1 | O28: 1 | P28: 0 | Q28: 1 | R28: 1 | S28: 1 | T28: 0 | U28: 0
B29: 計 | C29: 11 | D29: 2 | E29: 1 | F29: 0 | G29: 0 | H29: 1 | I29: 1 | J29: 2 | K29: 0 | L29: 1 | M29: 0 | N29: 0 | O29: 0 | P29: 0 | Q29: 1 | R29: 0 | S29: 1 | T29: 1 | U29: 0
A30: 新 竹 縣 | B30: 男 | C30: 6 | D30: 2 | E30: 0 | F30: 0 | G30: 0 | H30: 0 | I30: 1 | J30: 1 | K30: 0 | L30: 0 | M30: 0 | N30: 0 | O30: 0 | P30: 0 | Q30: 1 | R30: 0 | S30: 1 | T30: 0 | U30: 0
B31: 女 | C31: 5 | D31: 0 | E31: 1 | F31: 0 | G31: 0 | H31: 1 | I31: 0 | J31: 1 | K31: 0 | L31: 1 | M31: 0 | N31: 0 | O31: 0 | P31: 0 | Q31: 0 | R31: 0 | S31: 0 | T31: 1 | U31: 0
B32: 計 | C32: 31 | D32: 2 | E32: 1 | F32: 2 | G32: 2 | H32: 2 | I32: 1 | J32: 3 | K32: 0 | L32: 3 | M32: 2 | N32: 3 | O32: 0 | P32: 1 | Q32: 1 | R32: 2 | S32: 0 | T32: 4 | U32: 2
A33: 苗 栗 縣 | B33: 男 | C33: 13 | D33: 1 | E33: 1 | F33: 0 | G33: 1 | H33: 2 | I33: 0 | J33: 0 | K33: 0 | L33: 2 | M33: 1 | N33: 2 | O33: 0 | P33: 1 | Q33: 0 | R33: 1 | S33: 0 | T33: 1 | U33: 0
B34: 女 | C34: 18 | D34: 1 | E34: 0 | F34: 2 | G34: 1 | H34: 0 | I34: 1 | J34: 3 | K34: 0 | L34: 1 | M34: 1 | N34: 1 | O34: 0 | P34: 0 | Q34: 1 | R34: 1 | S34: 0 | T34: 3 | U34: 2
B35: 計 | C35: 18 | D35: 1 | E35: 0 | F35: 0 | G35: 2 | H35: 3 | I35: 0 | J35: 1 | K35: 1 | L35: 0 | M35: 0 | N35: 1 | O35: 0 | P35: 2 | Q35: 0 | R35: 0 | S35: 1 | T35: 6 | U35: 0
A36: 彰 化 縣 | B36: 男 | C36: 6 | D36: 0 | E36: 0 | F36: 0 | G36: 1 | H36: 1 | I36: 0 | J36: 0 | K36: 0 | L36: 0 | M36: 0 | N36: 1 | O36: 0 | P36: 1 | Q36: 0 | R36: 0 | S36: 1 | T36: 1 | U36: 0
B37: 女 | C37: 12 | D37: 1 | E37: 0 | F37: 0 | G37: 1 | H37: 2 | I37: 0 | J37: 1 | K37: 1 | L37: 0 | M37: 0 | N37: 0 | O37: 0 | P37: 1 | Q37: 0 | R37: 0 | S37: 0 | T37: 5 | U37: 0
B38: 計 | C38: 18 | D38: 2 | E38: 1 | F38: 0 | G38: 2 | H38: 2 | I38: 1 | J38: 0 | K38: 1 | L38: 1 | M38: 1 | N38: 0 | O38: 0 | P38: 2 | Q38: 1 | R38: 1 | S38: 0 | T38: 2 | U38: 1
A39: 南 投 縣 | B39: 男 | C39: 7 | D39: 1 | E39: 1 | F39: 0 | G39: 1 | H39: 1 | I39: 0 | J39: 0 | K39: 0 | L39: 0 | M39: 0 | N39: 0 | O39: 0 | P39: 1 | Q39: 0 | R39: 0 | S39: 0 | T39: 2 | U39: 0
B40: 女 | C40: 11 | D40: 1 | E40: 0 | F40: 0 | G40: 1 | H40: 1 | I40: 1 | J40: 0 | K40: 1 | L40: 1 | M40: 1 | N40: 0 | O40: 0 | P40: 1 | Q40: 1 | R40: 1 | S40: 0 | T40: 0 | U40: 1
B41: 計 | C41: 31 | D41: 0 | E41: 3 | F41: 1 | G41: 3 | H41: 0 | I41: 2 | J41: 3 | K41: 1 | L41: 2 | M41: 1 | N41: 0 | O41: 1 | P41: 3 | Q41: 3 | R41: 4 | S41: 4 | T41: 0 | U41: 0
...

Sheet 107年
C1: ='108年'!C1:S1 -> 收養人數按性別、年齡分
C2: 中華民國107年底 | U2: ='108年'!U2 -> 單位：人
A3: 區域別 | B3: 性別 | C3: 總 計 | D3: 0歲 | E3: 1歲 | F3: 2歲 | G3: 3歲 | H3: 4歲 | I3: 5歲 | J3: 6歲 | K3: 7歲 | L3: 8歲 | M3: 9歲 | N3: 10歲 | O3: 11歲 | P3: 12歲 | Q3: 13歲 | R3: 14歲 | S3: 15歲 | T3: 16歲 | U3: 17歲
B5: 計 | C5: 883 | D5: 31 | E5: 119 | F5: 70 | G5: 50 | H5: 67 | I5: 49 | J5: 62 | K5: 40 | L5: 25 | M5: 29 | N5: 38 | O5: 35 | P5: 44 | Q5: 43 | R5: 30 | S5: 51 | T5: 50 | U5: 50
A6: 總 計 | B6: 男 | C6: 408 | D6: 17 | E6: 51 | F6: 37 | G6: 26 | H6: 36 | I6: 30 | J6: 26 | K6: 13 | L6: 13 | M6: 10 | N6: 12 | O6: 16 | P6: 18 | Q6: 19 | R6: 10 | S6: 24 | T6: 26 | U6: 24
B7: 女 | C7: 475 | D7: 14 | E7: 68 | F7: 33 | G7: 24 | H7: 31 | I7: 19 | J7: 36 | K7: 27 | L7: 12 | M7: 19 | N7: 26 | O7: 19 | P7: 26 | Q7: 24 | R7: 20 | S7: 27 | T7: 24 | U7: 26
B8: 計 | C8: 144 | D8: 1 | E8: 14 | F8: 10 | G8: 7 | H8: 8 | I8: 12 | J8: 13 | K8: 11 | L8: 5 | M8: 4 | N8: 6 | O8: 7 | P8: 10 | Q8: 6 | R8: 5 | S8: 9 | T8: 10 | U8: 6
A9: 新 北 市 | B9: 男 | C9: 70 | D9: 1 | E9: 5 | F9: 5 | G9: 6 | H9: 5 | I9: 6 | J9: 7 | K9: 3 | L9: 2 | M9: 2 | N9: 2 | O9: 3 | P9: 7 | Q9: 2 | R9: 1 | S9: 5 | T9: 6 | U9: 2
B10: 女 | C10: 74 | D10: 0 | E10: 9 | F10: 5 | G10: 1 | H10: 3 | I10: 6 | J10: 6 | K10: 8 | L10: 3 | M10: 2 | N10: 4 | O10: 4 | P10: 3 | Q10: 4 | R10: 4 | S10: 4 | T10: 4 | U10: 4
B11: 計 | C11: 153 | D11: 12 | E11: 34 | F11: 22 | G11: 15 | H11: 16 | I11: 9 | J11: 6 | K11: 3 | L11: 1 | M11: 3 | N11: 1 | O11: 5 | P11: 3 | Q11: 8 | R11: 3 | S11: 2 | T11: 5 | U11: 5
A12: 臺 北 市 | B12: 男 | C12: 83 | D12: 5 | E12: 18 | F12: 12 | G12: 7 | H12: 10 | I12: 8 | J12: 1 | K12: 2 | L12: 0 | M12: 2 | N12: 1 | O12: 3 | P12: 2 | Q12: 3 | R12: 2 | S12: 1 | T12: 2 | U12: 4
B13: 女 | C13: 70 | D13: 7 | E13: 16 | F13: 10 | G13: 8 | H13: 6 | I13: 1 | J13: 5 | K13: 1 | L13: 1 | M13: 1 | N13: 0 | O13: 2 | P13: 1 | Q13: 5 | R13: 1 | S13: 1 | T13: 3 | U13: 1
B14: 計 | C14: 65 | D14: 1 | E14: 7 | F14: 1 | G14: 3 | H14: 5 | I14: 0 | J14: 2 | K14: 2 | L14: 3 | M14: 5 | N14: 10 | O14: 7 | P14: 2 | Q14: 5 | R14: 4 | S14: 2 | T14: 0 | U14: 6
A15: 桃 園 市 | B15: 男 | C15: 23 | D15: 0 | E15: 3 | F15: 0 | G15: 2 | H15: 2 | I15: 0 | J15: 1 | K15: 0 | L15: 2 | M15: 1 | N15: 5 | O15: 2 | P15: 0 | Q15: 3 | R15: 1 | S15: 0 | T15: 0 | U15: 1
B16: 女 | C16: 42 | D16: 1 | E16: 4 | F16: 1 | G16: 1 | H16: 3 | I16: 0 | J16: 1 | K16: 2 | L16: 1 | M16: 4 | N16: 5 | O16: 5 | P16: 2 | Q16: 2 | R16: 3 | S16: 2 | T16: 0 | U16: 5
B17: 計 | C17: 111 | D17: 2 | E17: 10 | F17: 4 | G17: 8 | H17: 6 | I17: 9 | J17: 7 | K17: 7 | L17: 5 | M17: 7 | N17: 5 | O17: 3 | P17: 7 | Q17: 5 | R17: 3 | S17: 5 | T17: 10 | U17: 8
A18: 臺 中 市 | B18: 男 | C18: 55 | D18: 2 | E18: 1 | F18: 1 | G18: 6 | H18: 3 | I18: 7 | J18: 3 | K18: 3 | L18: 3 | M18: 2 | N18: 2 | O18: 3 | P18: 2 | Q18: 4 | R18: 2 | S18: 1 | T18: 4 | U18: 6
B19: 女 | C19: 56 | D19: 0 | E19: 9 | F19: 3 | G19: 2 | H19: 3 | I19: 2 | J19: 4 | K19: 4 | L19: 2 | M19: 5 | N19: 3 | O19: 0 | P19: 5 | Q19: 1 | R19: 1 | S19: 4 | T19: 6 | U19: 2
B20: 計 | C20: 107 | D20: 1 | E20: 33 | F20: 10 | G20: 4 | H20: 5 | I20: 3 | J20: 3 | K20: 5 | L20: 5 | M20: 1 | N20: 6 | O20: 3 | P20: 4 | Q20: 3 | R20: 2 | S20: 6 | T20: 6 | U20: 7
A21: 臺 南 市 | B21: 男 | C21: 51 | D21: 0 | E21: 14 | F21: 8 | G21: 2 | H21: 4 | I21: 0 | J21: 0 | K21: 0 | L21: 3 | M21: 1 | N21: 0 | O21: 1 | P21: 0 | Q21: 3 | R21: 2 | S21: 5 | T21: 5 | U21: 3
B22: 女 | C22: 56 | D22: 1 | E22: 19 | F22: 2 | G22: 2 | H22: 1 | I22: 3 | J22: 3 | K22: 5 | L22: 2 | M22: 0 | N22: 6 | O22: 2 | P22: 4 | Q22: 0 | R22: 0 | S22: 1 | T22: 1 | U22: 4
B23: 計 | C23: 82 | D23: 2 | E23: 6 | F23: 12 | G23: 2 | H23: 7 | I23: 2 | J23: 13 | K23: 4 | L23: 0 | M23: 3 | N23: 5 | O23: 3 | P23: 1 | Q23: 3 | R23: 4 | S23: 3 | T23: 4 | U23: 8
A24: 高 雄 市 | B24: 男 | C24: 40 | D24: 2 | E24: 1 | F24: 6 | G24: 1 | H24: 4 | I24: 1 | J24: 7 | K24: 1 | L24: 0 | M24: 1 | N24: 2 | O24: 1 | P24: 0 | Q24: 2 | R24: 2 | S24: 3 | T24: 2 | U24: 4
B25: 女 | C25: 42 | D25: 0 | E25: 5 | F25: 6 | G25: 1 | H25: 3 | I25: 1 | J25: 6 | K25: 3 | L25: 0 | M25: 2 | N25: 3 | O25: 2 | P25: 1 | Q25: 1 | R25: 2 | S25: 0 | T25: 2 | U25: 4
B26: 計 | C26: 21 | D26: 2 | E26: 0 | F26: 1 | G26: 3 | H26: 3 | I26: 3 | J26: 3 | K26: 1 | L26: 0 | M26: 0 | N26: 0 | O26: 1 | P26: 0 | Q26: 0 | R26: 0 | S26: 2 | T26: 1 | U26: 1
A27: 宜 蘭 縣 | B27: 男 | C27: 8 | D27: 1 | E27: 0 | F27: 0 | G27: 0 | H27: 1 | I27: 2 | J27: 2 | K27: 0 | L27: 0 | M27: 0 | N27: 0 | O27: 0 | P27: 0 | Q27: 0 | R27: 0 | S27: 1 | T27: 1 | U27: 0
B28: 女 | C28: 13 | D28: 1 | E28: 0 | F28: 1 | G28: 3 | H28: 2 | I28: 1 | J28: 1 | K28: 1 | L28: 0 | M28: 0 | N28: 0 | O28: 1 | P28: 0 | Q28: 0 | R28: 0 | S28: 1 | T28: 0 | U28: 1
B29: 計 | C29: 9 | D29: 2 | E29: 0 | F29: 1 | G29: 0 | H29: 0 | I29: 0 | J29: 1 | K29: 0 | L29: 1 | M29: 0 | N29: 0 | O29: 0 | P29: 1 | Q29: 2 | R29: 0 | S29: 1 | T29: 0 | U29: 0
A30: 新 竹 縣 | B30: 男 | C30: 1 | D30: 1 | E30: 0 | F30: 0 | G30: 0 | H30: 0 | I30: 0 | J30: 0 | K30: 0 | L30: 0 | M30: 0 | N30: 0 | O30: 0 | P30: 0 | Q30: 0 | R30: 0 | S30: 0 | T30: 0 | U30: 0
B31: 女 | C31: 8 | D31: 1 | E31: 0 | F31: 1 | G31: 0 | H31: 0 | I31: 0 | J31: 1 | K31: 0 | L31: 1 | M31: 0 | N31: 0 | O31: 0 | P31: 1 | Q31: 2 | R31: 0 | S31: 1 | T31: 0 | U31: 0
B32: 計 | C32: 14 | D32: 0 | E32: 2 | F32: 0 | G32: 0 | H32: 3 | I32: 1 | J32: 0 | K32: 0 | L32: 1 | M32: 0 | N32: 1 | O32: 0 | P32: 1 | Q32: 2 | R32: 0 | S32: 1 | T32: 2 | U32: 0
A33: 苗 栗 縣 | B33: 男 | C33: 4 | D33: 0 | E33: 0 | F33: 0 | G33: 0 | H33: 0 | I33: 0 | J33: 0 | K33: 0 | L33: 1 | M33: 0 | N33: 0 | O33: 0 | P33: 1 | Q33: 0 | R33: 0 | S33: 0 | T33: 2 | U33: 0
B34: 女 | C34: 10 | D34: 0 | E34: 2 | F34: 0 | G34: 0 | H34: 3 | I34: 1 | J34: 0 | K34: 0 | L34: 0 | M34: 0 | N34: 1 | O34: 0 | P34: 0 | Q34: 2 | R34: 0 | S34: 1 | T34: 0 | U34: 0
B35: 計 | C35: 30 | D35: 1 | E35: 4 | F35: 0 | G35: 2 | H35: 5 | I35: 3 | J35: 0 | K35: 1 | L35: 0 | M35: 1 | N35: 0 | O35: 0 | P35: 2 | Q35: 1 | R35: 0 | S35: 6 | T35: 2 | U35: 2
A36: 彰 化 縣 | B36: 男 | C36: 9 | D36: 0 | E36: 3 | F36: 0 | G36: 0 | H36: 1 | I36: 1 | J36: 0 | K36: 1 | L36: 0 | M36: 0 | N36: 0 | O36: 0 | P36: 0 | Q36: 0 | R36: 0 | S36: 1 | T36: 1 | U36: 1
B37: 女 | C37: 21 | D37: 1 | E37: 1 | F37: 0 | G37: 2 | H37: 4 | I37: 2 | J37: 0 | K37: 0 | L37: 0 | M37: 1 | N37: 0 | O37: 0 | P37: 2 | Q37: 1 | R37: 0 | S37: 5 | T37: 1 | U37: 1
B38: 計 | C38: 9 | D38: 0 | E38: 1 | F38: 1 | G38: 0 | H38: 0 | I38: 0 | J38: 1 | K38: 0 | L38: 0 | M38: 2 | N38: 1 | O38: 0 | P38: 0 | Q38: 0 | R38: 0 | S38: 2 | T38: 0 | U38: 1
A39: 南 投 縣 | B39: 男 | C39: 4 | D39: 0 | E39: 1 | F39: 1 | G39: 0 | H39: 0 | I39: 0 | J39: 0 | K39: 0 | L39: 0 | M39: 0 | N39: 0 | O39: 0 | P39: 0 | Q39: 0 | R39: 0 | S39: 1 | T39: 0 | U39: 1
B40: 女 | C40: 5 | D40: 0 | E40: 0 | F40: 0 | G40: 0 | H40: 0 | I40: 0 | J40: 1 | K40: 0 | L40: 0 | M40: 2 | N40: 1 | O40: 0 | P40: 0 | Q40: 0 | R40: 0 | S40: 1 | T40: 0 | U40: 0
B41: 計 | C41: 27 | D41: 1 | E41: 2 | F41: 3 | G41: 2 | H41: 3 | I41: 1 | J41: 0 | K41: 0 | L41: 0 | M41: 1 | N41: 0 | O41: 0 | P41: 0 | Q41: 4 | R41: 2 | S41: 5 | T41: 1 | U41: 2
...

Sheet 106年
C1: ='108年'!C1:S1 -> 收養人數按性別、年齡分
C2: 中華民國106年底 | U2: ='108年'!U2 -> 單位：人
