Workbook
Name Excel_BuiltIn__FilterDatabase: '99年'!$A$4:$U$74

Sheet 114年
C1: 收養人數按性別、年齡分（2.4.2）
C2: 中華民國114年底 | U2: 單位：人
A3: 區域別 | B3: 性別 | C3: 總 計 | D3: 0歲 | E3: 1歲 | F3: 2歲 | G3: 3歲 | H3: 4歲 | I3: 5歲 | J3: 6歲 | K3: 7歲 | L3: 8歲 | M3: 9歲 | N3: 10歲 | O3: 11歲 | P3: 12歲 | Q3: 13歲 | R3: 14歲 | S3: 15歲 | T3: 16歲 | U3: 17歲
B5: 計 | C5: =SUM(D5:U5) -> 962 | D5: 132 | E5: 61 | F5: 40 | G5: 49 | H5: 45 | I5: 70 | J5: 64 | K5: 45 | L5: 51 | M5: 51 | N5: 52 | O5: 54 | P5: 53 | Q5: 44 | R5: 50 | S5: 48 | T5: 29 | U5: 24
A6: 總 計 | B6: 男 | C6: =SUM(D6:U6) -> 446 | D6: 62 | E6: 34 | F6: 19 | G6: 25 | H6: 24 | I6: 35 | J6: 34 | K6: 18 | L6: 20 | M6: 22 | N6: 25 | O6: 24 | P6: 25 | Q6: 25 | R6: 16 | S6: 22 | T6: 10 | U6: 6
B7: 女 | C7: =SUM(D7:U7) -> 516 | D7: 70 | E7: 27 | F7: 21 | G7: 24 | H7: 21 | I7: 35 | J7: 30 | K7: 27 | L7: 31 | M7: 29 | N7: 27 | O7: 30 | P7: 28 | Q7: 19 | R7: 34 | S7: 26 | T7: 19 | U7: 18
B8: 計 | C8: =SUM(D8:U8) -> 180 | D8: 22 | E8: 15 | F8: 1 | G8: 8 | H8: 14 | I8: 11 | J8: 17 | K8: 12 | L8: 9 | M8: 11 | N8: 10 | O8: 6 | P8: 9 | Q8: 6 | R8: 8 | S8: 9 | T8: 10 | U8: 2
A9: 新 北 市 | B9: 男 | C9: =SUM(D9:U9) -> 77 | D9: 10 | E9: 6 | F9: 0 | G9: 3 | H9: 8 | I9: 1 | J9: 7 | K9: 6 | L9: 2 | M9: 5 | N9: 5 | O9: 5 | P9: 6 | Q9: 3 | R9: 2 | S9: 5 | T9: 2 | U9: 1
B10: 女 | C10: =SUM(D10:U10) -> 103 | D10: 12 | E10: 9 | F10: 1 | G10: 5 | H10: 6 | I10: 10 | J10: 10 | K10: 6 | L10: 7 | M10: 6 | N10: 5 | O10: 1 | P10: 3 | Q10: 3 | R10: 6 | S10: 4 | T10: 8 | U10: 1
B11: 計 | C11: =SUM(D11:U11) -> 96 | D11: 28 | E11: 17 | F11: 4 | G11: 7 | H11: 1 | I11: 5 | J11: 2 | K11: 3 | L11: 4 | M11: 1 | N11: 4 | O11: 3 | P11: 2 | Q11: 5 | R11: 4 | S11: 5 | T11: 1 | U11: 0
A12: 臺 北 市 | B12: 男 | C12: =SUM(D12:U12) -> 48 | D12: 12 | E12: 11 | F12: 3 | G12: 2 | H12: 1 | I12: 2 | J12: 1 | K12: 1 | L12: 1 | M12: 0 | N12: 3 | O12: 2 | P12: 1 | Q12: 4 | R12: 1 | S12: 2 | T12: 1 | U12: 0
B13: 女 | C13: =SUM(D13:U13) -> 48 | D13: 16 | E13: 6 | F13: 1 | G13: 5 | H13: 0 | I13: 3 | J13: 1 | K13: 2 | L13: 3 | M13: 1 | N13: 1 | O13: 1 | P13: 1 | Q13: 1 | R13: 3 | S13: 3 | T13: 0 | U13: 0
B14: 計 | C14: =SUM(D14:U14) -> 113 | D14: 13 | E14: 3 | F14: 2 | G14: 4 | H14: 6 | I14: 7 | J14: 7 | K14: 3 | L14: 7 | M14: 7 | N14: 9 | O14: 5 | P14: 7 | Q14: 3 | R14: 10 | S14: 11 | T14: 3 | U14: 6
A15: 桃 園 市 | B15: 男 | C15: =SUM(D15:U15) -> 58 | D15: 7 | E15: 2 | F15: 2 | G15: 3 | H15: 4 | I15: 4 | J15: 4 | K15: 0 | L15: 3 | M15: 3 | N15: 5 | O15: 2 | P15: 2 | Q15: 2 | R15: 7 | S15: 5 | T15: 2 | U15: 1
B16: 女 | C16: =SUM(D16:U16) -> 55 | D16: 6 | E16: 1 | F16: 0 | G16: 1 | H16: 2 | I16: 3 | J16: 3 | K16: 3 | L16: 4 | M16: 4 | N16: 4 | O16: 3 | P16: 5 | Q16: 1 | R16: 3 | S16: 6 | T16: 1 | U16: 5
B17: 計 | C17: =SUM(D17:U17) -> 124 | D17: 14 | E17: 3 | F17: 9 | G17: 4 | H17: 5 | I17: 10 | J17: 11 | K17: 6 | L17: 7 | M17: 8 | N17: 6 | O17: 9 | P17: 5 | Q17: 10 | R17: 5 | S17: 4 | T17: 4 | U17: 4
A18: 臺 中 市 | B18: 男 | C18: =SUM(D18:U18) -> 55 | D18: 6 | E18: 2 | F18: 4 | G18: 2 | H18: 2 | I18: 8 | J18: 5 | K18: 1 | L18: 3 | M18: 3 | N18: 4 | O18: 5 | P18: 3 | Q18: 4 | R18: 0 | S18: 2 | T18: 1 | U18: 0
B19: 女 | C19: =SUM(D19:U19) -> 69 | D19: 8 | E19: 1 | F19: 5 | G19: 2 | H19: 3 | I19: 2 | J19: 6 | K19: 5 | L19: 4 | M19: 5 | N19: 2 | O19: 4 | P19: 2 | Q19: 6 | R19: 5 | S19: 2 | T19: 3 | U19: 4
B20: 計 | C20: =SUM(D20:U20) -> 97 | D20: 11 | E20: 5 | F20: 8 | G20: 7 | H20: 8 | I20: 8 | J20: 6 | K20: 3 | L20: 7 | M20: 6 | N20: 2 | O20: 5 | P20: 6 | Q20: 3 | R20: 6 | S20: 3 | T20: 1 | U20: 2
A21: 臺 南 市 | B21: 男 | C21: =SUM(D21:U21) -> 55 | D21: 6 | E21: 3 | F21: 2 | G21: 5 | H21: 5 | I21: 3 | J21: 5 | K21: 3 | L21: 5 | M21: 3 | N21: 1 | O21: 3 | P21: 3 | Q21: 2 | R21: 2 | S21: 2 | T21: 0 | U21: 2
B22: 女 | C22: =SUM(D22:U22) -> 42 | D22: 5 | E22: 2 | F22: 6 | G22: 2 | H22: 3 | I22: 5 | J22: 1 | K22: 0 | L22: 2 | M22: 3 | N22: 1 | O22: 2 | P22: 3 | Q22: 1 | R22: 4 | S22: 1 | T22: 1 | U22: 0
B23: 計 | C23: =SUM(D23:U23) -> 82 | D23: 6 | E23: 5 | F23: 4 | G23: 5 | H23: 1 | I23: 6 | J23: 7 | K23: 4 | L23: 2 | M23: 5 | N23: 6 | O23: 11 | P23: 7 | Q23: 2 | R23: 3 | S23: 2 | T23: 4 | U23: 2
A24: 高 雄 市 | B24: 男 | C24: =SUM(D24:U24) -> 40 | D24: 3 | E24: 5 | F24: 3 | G24: 3 | H24: 0 | I24: 4 | J24: 5 | K24: 2 | L24: 0 | M24: 3 | N24: 2 | O24: 3 | P24: 2 | Q24: 1 | R24: 1 | S24: 1 | T24: 2 | U24: 0
B25: 女 | C25: =SUM(D25:U25) -> 42 | D25: 3 | E25: 0 | F25: 1 | G25: 2 | H25: 1 | I25: 2 | J25: 2 | K25: 2 | L25: 2 | M25: 2 | N25: 4 | O25: 8 | P25: 5 | Q25: 1 | R25: 2 | S25: 1 | T25: 2 | U25: 2
B26: 計 | C26: =SUM(D26:U26) -> 12 | D26: 3 | E26: 1 | F26: 0 | G26: 0 | H26: 0 | I26: 1 | J26: 1 | K26: 1 | L26: 0 | M26: 0 | N26: 0 | O26: 1 | P26: 2 | Q26: 0 | R26: 0 | S26: 2 | T26: 0 | U26: 0
A27: 宜 蘭 縣 | B27: 男 | C27: =SUM(D27:U27) -> 4 | D27: 0 | E27: 0 | F27: 0 | G27: 0 | H27: 0 | I27: 1 | J27: 1 | K27: 1 | L27: 0 | M27: 0 | N27: 0 | O27: 0 | P27: 0 | Q27: 0 | R27: 0 | S27: 1 | T27: 0 | U27: 0
B28: 女 | C28: =SUM(D28:U28) -> 8 | D28: 3 | E28: 1 | F28: 0 | G28: 0 | H28: 0 | I28: 0 | J28: 0 | K28: 0 | L28: 0 | M28: 0 | N28: 0 | O28: 1 | P28: 2 | Q28: 0 | R28: 0 | S28: 1 | T28: 0 | U28: 0
B29: 計 | C29: =SUM(D29:U29) -> 30 | D29: 7 | E29: 1 | F29: 0 | G29: 0 | H29: 1 | I29: 3 | J29: 2 | K29: 0 | L29: 1 | M29: 1 | N29: 1 | O29: 1 | P29: 2 | Q29: 1 | R29: 3 | S29: 2 | T29: 1 | U29: 3
A30: 新 竹 縣 | B30: 男 | C30: =SUM(D30:U30) -> 15 | D30: 5 | E30: 0 | F30: 0 | G30: 0 | H30: 0 | I30: 1 | J30: 1 | K30: 0 | L30: 1 | M30: 0 | N30: 1 | O30: 0 | P30: 2 | Q30: 0 | R30: 1 | S30: 1 | T30: 0 | U30: 2
B31: 女 | C31: =SUM(D31:U31) -> 15 | D31: 2 | E31: 1 | F31: 0 | G31: 0 | H31: 1 | I31: 2 | J31: 1 | K31: 0 | L31: 0 | M31: 1 | N31: 0 | O31: 1 | P31: 0 | Q31: 1 | R31: 2 | S31: 1 | T31: 1 | U31: 1
B32: 計 | C32: =SUM(D32:U32) -> 24 | D32: 0 | E32: 2 | F32: 2 | G32: 3 | H32: 2 | I32: 1 | J32: 1 | K32: 0 | L32: 1 | M32: 2 | N32: 2 | O32: 2 | P32: 1 | Q32: 1 | R32: 1 | S32: 2 | T32: 0 | U32: 1
A33: 苗 栗 縣 | B33: 男 | C33: =SUM(D33:U33) -> 10 | D33: 0 | E33: 0 | F33: 1 | G33: 0 | H33: 2 | I33: 1 | J33: 1 | K33: 0 | L33: 1 | M33: 0 | N33: 1 | O33: 0 | P33: 0 | Q33: 1 | R33: 1 | S33: 1 | T33: 0 | U33: 0
B34: 女 | C34: =SUM(D34:U34) -> 14 | D34: 0 | E34: 2 | F34: 1 | G34: 3 | H34: 0 | I34: 0 | J34: 0 | K34: 0 | L34: 0 | M34: 2 | N34: 1 | O34: 2 | P34: 1 | Q34: 0 | R34: 0 | S34: 1 | T34: 0 | U34: 1
B35: 計 | C35: =SUM(D35:U35) -> 35 | D35: 6 | E35: 1 | F35: 1 | G35: 1 | H35: 2 | I35: 5 | J35: 3 | K35: 2 | L35: 1 | M35: 4 | N35: 3 | O35: 0 | P35: 2 | Q35: 2 | R35: 1 | S35: 0 | T35: 0 | U35: 1
A36: 彰 化 縣 | B36: 男 | C36: =SUM(D36:U36) -> 15 | D36: 2 | E36: 0 | F36: 0 | G36: 1 | H36: 1 | I36: 2 | J36: 1 | K36: 2 | L36: 1 | M36: 2 | N36: 1 | O36: 0 | P36: 1 | Q36: 1 | R36: 0 | S36: 0 | T36: 0 | U36: 0
B37: 女 | C37: =SUM(D37:U37) -> 20 | D37: 4 | E37: 1 | F37: 1 | G37: 0 | H37: 1 | I37: 3 | J37: 2 | K37: 0 | L37: 0 | M37: 2 | N37: 2 | O37: 0 | P37: 1 | Q37: 1 | R37: 1 | S37: 0 | T37: 0 | U37: 1
B38: 計 | C38: =SUM(D38:U38) -> 17 | D38: 2 | E38: 2 | F38: 2 | G38: 1 | H38: 3 | I38: 0 | J38: 0 | K38: 1 | L38: 1 | M38: 1 | N38: 0 | O38: 2 | P38: 1 | Q38: 0 | R38: 1 | S38: 0 | T38: 0 | U38: 0
A39: 南 投 縣 | B39: 男 | C39: =SUM(D39:U39) -> 6 | D39: 1 | E39: 2 | F39: 2 | G39: 0 | H39: 0 | I39: 0 | J39: 0 | K39: 0 | L39: 0 | M39: 1 | N39: 0 | O39: 0 | P39: 0 | Q39: 0 | R39: 0 | S39: 0 | T39: 0 | U39: 0
B40: 女 | C40: =SUM(D40:U40) -> 11 | D40: 1 | E40: 0 | F40: 0 | G40: 1 | H40: 3 | I40: 0 | J40: 0 | K40: 1 | L40: 1 | M40: 0 | N40: 0 | O40: 2 | P40: 1 | Q40: 0 | R40: 1 | S40: 0 | T40: 0 | U40: 0
B41: 計 | C41: =SUM(D41:U41) -> 30 | D41: 3 | E41: 0 | F41: 1 | G41: 1 | H41: 0 | I41: 4 | J41: 1 | K41: 1 | L41: 4 | M41: 1 | N41: 1 | O41: 3 | P41: 2 | Q41: 3 | R41: 2 | S41: 1 | T41: 2 | U41: 0
A42: 雲 林 縣 | B42: 男 | C42: =SUM(D42:U42) -> 15 | D42: 3 | E42: 0 | F42: 0 | G42: 1 | H42: 0 | I42: 3 | J42: 1 | K42: 0 | L42: 1 | M42: 1 | N42: 0 | O42: 2 | P42: 1 | Q42: 2 | R42: 0 | S42: 0 | T42: 0 | U42: 0
B43: 女 | C43: =SUM(D43:U43) -> 15 | D43: 0 | E43: 0 | F43: 1 | G43: 0 | H43: 0 | I43: 1 | J43: 0 | K43: 1 | L43: 3 | M43: 0 | N43: 1 | O43: 1 | P43: 1 | Q43: 1 | R43: 2 | S43: 1 | T43: 2 | U43: 0
B44: 計 | C44: =SUM(D44:U44) -> 13 | D44: 0 | E44: 0 | F44: 2 | G44: 1 | H44: 0 | I44: 2 | J44: 1 | K44: 0 | L44: 0 | M44: 0 | N44: 1 | O44: 2 | P44: 1 | Q44: 2 | R44: 0 | S44: 1 | T44: 0 | U44: 0
A45: 嘉 義 縣 | B45: 男 | C45: =SUM(D45:U45) -> 5 | D45: 0 | E45: 0 | F45: 0 | G45: 1 | H45: 0 | I45: 1 | J45: 0 | K45: 0 | L45: 0 | M45: 0 | N45: 0 | O45: 1 | P45: 0 | Q45: 1 | R45: 0 | S45: 1 | T45: 0 | U45: 0
B46: 女 | C46: =SUM(D46:U46) -> 8 | D46: 0 | E46: 0 | F46: 2 | G46: 0 | H46: 0 | I46: 1 | J46: 1 | K46: 0 | L46: 0 | M46: 0 | N46: 1 | O46: 1 | P46: 1 | Q46: 1 | R46: 0 | S46: 0 | T46: 0 | U46: 0
B47: 計 | C47: =SUM(D47:U47) -> 22 | D47: 3 | E47: 0 | F47: 2 | G47: 0 | H47: 0 | I47: 2 | J47: 3 | K47: 1 | L47: 0 | M47: 2 | N47: 1 | O47: 0 | P47: 1 | Q47: 3 | R47: 2 | S47: 1 | T47: 0 | U47: 1
A48: 屏 東 縣 | B48: 男 | C48: =SUM(D48:U48) -> 9 | D48: 2 | E48: 0 | F48: 1 | G48: 0 | H48: 0 | I48: 1 | J48: 1 | K48: 0 | L48: 0 | M48: 1 | N48: 1 | O48: 0 | P48: 0 | Q48: 2 | R48: 0 | S48: 0 | T48: 0 | U48: 0
B49: 女 | C49: =SUM(D49:U49) -> 13 | D49: 1 | E49: 0 | F49: 1 | G49: 0 | H49: 0 | I49: 1 | J49: 2 | K49: 1 | L49: 0 | M49: 1 | N49: 0 | O49: 0 | P49: 1 | Q49: 1 | R49: 2 | S49: 1 | T49: 0 | U49: 1
B50: 計 | C50: =SUM(D50:U50) -> 17 | D50: 4 | E50: 1 | F50: 1 | G50: 1 | H50: 1 | I50: 1 | J50: 0 | K50: 2 | L50: 2 | M50: 0 | N50: 0 | O50: 1 | P50: 0 | Q50: 0 | R50: 1 | S50: 0 | T50: 1 | U50: 1
A51: 臺 東 縣 | B51: 男 | C51: =SUM(D51:U51) -> 6 | D51: 1 | E51: 0 | F51: 0 | G51: 1 | H51: 1 | I51: 0 | J51: 0 | K51: 1 | L51: 0 | M51: 0 | N51: 0 | O51: 1 | P51: 0 | Q51: 0 | R51: 0 | S51: 0 | T51: 1 | U51: 0
B52: 女 | C52: =SUM(D52:U52) -> 11 | D52: 3 | E52: 1 | F52: 1 | G52: 0 | H52: 0 | I52: 1 | J52: 0 | K52: 1 | L52: 2 | M52: 0 | N52: 0 | O52: 0 | P52: 0 | Q52: 0 | R52: 1 | S52: 0 | T52: 0 | U52: 1
B53: 計 | C53: =SUM(D53:U53) -> 10 | D53: 2 | E53: 0 | F53: 1 | G53: 0 | H53: 0 | I53: 1 | J53: 0 | K53: 2 | L53: 1 | M53: 1 | N53: 0 | O53: 0 | P53: 0 | Q53: 0 | R53: 2 | S53: 0 | T53: 0 | U53: 0
A54: 花 蓮 縣 | B54: 男 | C54: =SUM(D54:U54) -> 3 | D54: 1 | E54: 0 | F54: 1 | G54: 0 | H54: 0 | I54: 1 | J54: 0 | K54: 0 | L54: 0 | M54: 0 | N54: 0 | O54: 0 | P54: 0 | Q54: 0 | R54: 0 | S54: 0 | T54: 0 | U54: 0
B55: 女 | C55: =SUM(D55:U55) -> 7 | D55: 1 | E55: 0 | F55: 0 | G55: 0 | H55: 0 | I55: 0 | J55: 0 | K55: 2 | L55: 1 | M55: 1 | N55: 0 | O55: 0 | P55: 0 | Q55: 0 | R55: 2 | S55: 0 | T55: 0 | U55: 0
B56: 計 | C56: =SUM(D56:U56) -> 5 | D56: 0 | E56: 0 | F56: 0 | G56: 1 | H56: 0 | I56: 0 | J56: 2 | K56: 1 | L56: 0 | M56: 0 | N56: 1 | O56: 0 | P56: 0 | Q56: 0 | R56: 0 | S56: 0 | T56: 0 | U56: 0
A57: 澎 湖 縣 | B57: 男 | C57: =SUM(D57:U57) -> 2 | D57: 0 | E57: 0 | F57: 0 | G57: 0 | H57: 0 | I57: 0 | J57: 1 | K57: 1 | L57: 0 | M57: 0 | N57: 0 | O57: 0 | P57: 0 | Q57: 0 | R57: 0 | S57: 0 | T57: 0 | U57: 0
B58: 女 | C58: =SUM(D58:U58) -> 3 | D58: 0 | E58: 0 | F58: 0 | G58: 1 | H58: 0 | I58: 0 | J58: 1 | K58: 0 | L58: 0 | M58: 0 | N58: 1 | O58: 0 | P58: 0 | Q58: 0 | R58: 0 | S58: 0 | T58: 0 | U58: 0
B59: 計 | C59: =SUM(D59:U59) -> 14 | D59: 1 | E59: 1 | F59: 0 | G59: 1 | H59: 0 | I59: 3 | J59: 0 | K59: 1 | L59: 1 | M59: 0 | N59: 1 | O59: 0 | P59: 1 | Q59: 1 | R59: 0 | S59: 3 | T59: 0 | U59: 0
A60: 基 隆 市 | B60: 男 | C60: =SUM(D60:U60) -> 6 | D60: 0 | E60: 1 | F60: 0 | G60: 0 | H60: 0 | I60: 2 | J60: 0 | K60: 0 | L60: 1 | M60: 0 | N60: 0 | O60: 0 | P60: 1 | Q60: 1 | R60: 0 | S60: 0 | T60: 0 | U60: 0
B61: 女 | C61: =SUM(D61:U61) -> 8 | D61: 1 | E61: 0 | F61: 0 | G61: 1 | H61: 0 | I61: 1 | J61: 0 | K61: 1 | L61: 0 | M61: 0 | N61: 1 | O61: 0 | P61: 0 | Q61: 0 | R61: 0 | S61: 3 | T61: 0 | U61: 0
B62: 計 | C62: =SUM(D62:U62) -> 22 | D62: 2 | E62: 3 | F62: 0 | G62: 3 | H62: 1 | I62: 0 | J62: 0 | K62: 1 | L62: 1 | M62: 0 | N62: 2 | O62: 2 | P62: 1 | Q62: 2 | R62: 0 | S62: 2 | T62: 1 | U62: 1
A63: 新 竹 市 | B63: 男 | C63: =SUM(D63:U63) -> 9 | D63: 1 | E63: 1 | F63: 0 | G63: 2 | H63: 0 | I63: 0 | J63: 0 | K63: 0 | L63: 0 | M63: 0 | N63: 1 | O63: 0 | P63: 1 | Q63: 1 | R63: 0 | S63: 1 | T63: 1 | U63: 0
B64: 女 | C64: =SUM(D64:U64) -> 13 | D64: 1 | E64: 2 | F64: 0 | G64: 1 | H64: 1 | I64: 0 | J64: 0 | K64: 1 | L64: 1 | M64: 0 | N64: 1 | O64: 2 | P64: 0 | Q64: 1 | R64: 0 | S64: 1 | T64: 0 | U64: 1
B65: 計 | C65: =SUM(D65:U65) -> 9 | D65: 0 | E65: 0 | F65: 0 | G65: 0 | H65: 0 | I65: 0 | J65: 0 | K65: 1 | L65: 1 | M65: 1 | N65: 1 | O65: 1 | P65: 3 | Q65: 0 | R65: 0 | S65: 0 | T65: 1 | U65: 0
A66: 嘉 義 市 | B66: 男 | C66: =SUM(D66:U66) -> 2 | D66: 0 | E66: 0 | F66: 0 | G66: 0 | H66: 0 | I66: 0 | J66: 0 | K66: 0 | L66: 0 | M66: 0 | N66: 0 | O66: 0 | P66: 2 | Q66: 0 | R66: 0 | S66: 0 | T66: 0 | U66: 0
B67: 女 | C67: =SUM(D67:U67) -> 7 | D67: 0 | E67: 0 | F67: 0 | G67: 0 | H67: 0 | I67: 0 | J67: 0 | K67: 1 | L67: 1 | M67: 1 | N67: 1 | O67: 1 | P67: 1 | Q67: 0 | R67: 0 | S67: 0 | T67: 1 | U67: 0
B68: 計 | C68: =SUM(D68:U68) -> 10 | D68: 5 | E68: 1 | F68: 0 | G68: 1 | H68: 0 | I68: 0 | J68: 0 | K68: 0 | L68: 1 | M68: 0 | N68: 1 | O68: 0 | P68: 0 | Q68: 0 | R68: 1 | S68: 0 | T68: 0 | U68: 0
A69: 金 門 縣 | B69: 男 | C69: =SUM(D69:U69) -> 6 | D69: 2 | E69: 1 | F69: 0 | G69: 1 | H69: 0 | I69: 0 | J69: 0 | K69: 0 | L69: 1 | M69: 0 | N69: 0 | O69: 0 | P69: 0 | Q69: 0 | R69: 1 | S69: 0 | T69: 0 | U69: 0
B70: 女 | C70: =SUM(D70:U70) -> 4 | D70: 3 | E70: 0 | F70: 0 | G70: 0 | H70: 0 | I70: 0 | J70: 0 | K70: 0 | L70: 0 | M70: 0 | N70: 1 | O70: 0 | P70: 0 | Q70: 0 | R70: 0 | S70: 0 | T70: 0 | U70: 0
B71: 計 | C71: =SUM(D71:U71) -> 0 | D71: 0 | E71: 0 | F71: 0 | G71: 0 | H71: 0 | I71: 0 | J71: 0 | K71: 0 | L71: 0 | M71: 0 | N71: 0 | O71: 0 | P71: 0 | Q71: 0 | R71: 0 | S71: 0 | T71: 0 | U71: 0
A72: 連 江 縣 | B72: 男 | C72: =SUM(D72:U72) -> 0 | D72: 0 | E72: 0 | F72: 0 | G72: 0 | H72: 0 | I72: 0 | J72: 0 | K72: 0 | L72: 0 | M72: 0 | N72: 0 | O72: 0 | P72: 0 | Q72: 0 | R72: 0 | S72: 0 | T72: 0 | U72: 0
B73: 女 | C73: =SUM(D73:U73) -> 0 | D73: 0 | E73: 0 | F73: 0 | G73: 0 | H73: 0 | I73: 0 | J73: 0 | K73: 0 | L73: 0 | M73: 0 | N73: 0 | O73: 0 | P73: 0 | Q73: 0 | R73: 0 | S73: 0 | T73: 0 | U73: 0
U74: 內政部戶政司 編製

Sheet 113年
C1: 收養人數按性別、年齡分
C2: 中華民國113年底 | U2: 單位：人
A3: 區域別 | B3: 性別 | C3: 總 計 | D3: 0歲 | E3: 1歲 | F3: 2歲 | G3: 3歲 | H3: 4歲 | I3: 5歲 | J3: 6歲 | K3: 7歲 | L3: 8歲 | M3: 9歲 | N3: 10歲 | O3: 11歲 | P3: 12歲 | Q3: 13歲 | R3: 14歲 | S3: 15歲 | T3: 16歲 | U3: 17歲
B5: 計 | C5: =SUM(D5:U5) -> 989 | D5: 99 | E5: 55 | F5: 65 | G5: 51 | H5: 48 | I5: 64 | J5: 74 | K5: 51 | L5: 59 | M5: 69 | N5: 46 | O5: 63 | P5: 55 | Q5: 40 | R5: 35 | S5: 48 | T5: 41 | U5: 26
A6: 總 計 | B6: 男 | C6: =SUM(D6:U6) -> 472 | D6: 50 | E6: 29 | F6: 40 | G6: 25 | H6: 22 | I6: 34 | J6: 33 | K6: 27 | L6: 23 | M6: 35 | N6: 20 | O6: 19 | P6: 31 | Q6: 24 | R6: 17 | S6: 14 | T6: 13 | U6: 16
B7: 女 | C7: =SUM(D7:U7) -> 517 | D7: 49 | E7: 26 | F7: 25 | G7: 26 | H7: 26 | I7: 30 | J7: 41 | K7: 24 | L7: 36 | M7: 34 | N7: 26 | O7: 44 | P7: 24 | Q7: 16 | R7: 18 | S7: 34 | T7: 28 | U7: 10
B8: 計 | C8: =SUM(D8:U8) -> 175 | D8: 18 | E8: 6 | F8: 6 | G8: 11 | H8: 15 | I8: 15 | J8: 12 | K8: 10 | L8: 13 | M8: 12 | N8: 7 | O8: 13 | P8: 5 | Q8: 8 | R8: 7 | S8: 6 | T8: 8 | U8: 3
A9: 新 北 市 | B9: 男 | C9: =SUM(D9:U9) -> 84 | D9: 9 | E9: 5 | F9: 4 | G9: 4 | H9: 5 | I9: 8 | J9: 6 | K9: 6 | L9: 6 | M9: 11 | N9: 2 | O9: 5 | P9: 2 | Q9: 4 | R9: 3 | S9: 1 | T9: 3 | U9: 0
B10: 女 | C10: =SUM(D10:U10) -> 91 | D10: 9 | E10: 1 | F10: 2 | G10: 7 | H10: 10 | I10: 7 | J10: 6 | K10: 4 | L10: 7 | M10: 1 | N10: 5 | O10: 8 | P10: 3 | Q10: 4 | R10: 4 | S10: 5 | T10: 5 | U10: 3
B11: 計 | C11: =SUM(D11:U11) -> 93 | D11: 14 | E11: 23 | F11: 15 | G11: 4 | H11: 4 | I11: 5 | J11: 3 | K11: 4 | L11: 1 | M11: 4 | N11: 0 | O11: 3 | P11: 4 | Q11: 3 | R11: 2 | S11: 1 | T11: 2 | U11: 1
A12: 臺 北 市 | B12: 男 | C12: =SUM(D12:U12) -> 49 | D12: 5 | E12: 13 | F12: 10 | G12: 4 | H12: 3 | I12: 2 | J12: 1 | K12: 3 | L12: 0 | M12: 0 | N12: 0 | O12: 1 | P12: 1 | Q12: 2 | R12: 1 | S12: 0 | T12: 2 | U12: 1
B13: 女 | C13: =SUM(D13:U13) -> 44 | D13: 9 | E13: 10 | F13: 5 | G13: 0 | H13: 1 | I13: 3 | J13: 2 | K13: 1 | L13: 1 | M13: 4 | N13: 0 | O13: 2 | P13: 3 | Q13: 1 | R13: 1 | S13: 1 | T13: 0 | U13: 0
B14: 計 | C14: =SUM(D14:U14) -> 141 | D14: 15 | E14: 4 | F14: 7 | G14: 3 | H14: 4 | I14: 10 | J14: 8 | K14: 8 | L14: 5 | M14: 10 | N14: 8 | O14: 11 | P14: 17 | Q14: 4 | R14: 6 | S14: 11 | T14: 8 | U14: 2
A15: 桃 園 市 | B15: 男 | C15: =SUM(D15:U15) -> 67 | D15: 8 | E15: 2 | F15: 5 | G15: 1 | H15: 2 | I15: 5 | J15: 2 | K15: 3 | L15: 2 | M15: 4 | N15: 2 | O15: 3 | P15: 12 | Q15: 3 | R15: 2 | S15: 6 | T15: 3 | U15: 2
B16: 女 | C16: =SUM(D16:U16) -> 74 | D16: 7 | E16: 2 | F16: 2 | G16: 2 | H16: 2 | I16: 5 | J16: 6 | K16: 5 | L16: 3 | M16: 6 | N16: 6 | O16: 8 | P16: 5 | Q16: 1 | R16: 4 | S16: 5 | T16: 5 | U16: 0
B17: 計 | C17: =SUM(D17:U17) -> 140 | D17: 16 | E17: 4 | F17: 5 | G17: 10 | H17: 4 | I17: 8 | J17: 10 | K17: 13 | L17: 12 | M17: 6 | N17: 6 | O17: 10 | P17: 6 | Q17: 7 | R17: 5 | S17: 5 | T17: 6 | U17: 7
A18: 臺 中 市 | B18: 男 | C18: =SUM(D18:U18) -> 64 | D18: 7 | E18: 1 | F18: 4 | G18: 5 | H18: 2 | I18: 4 | J18: 5 | K18: 7 | L18: 4 | M18: 3 | N18: 4 | O18: 3 | P18: 3 | Q18: 3 | R18: 2 | S18: 1 | T18: 2 | U18: 4
B19: 女 | C19: =SUM(D19:U19) -> 76 | D19: 9 | E19: 3 | F19: 1 | G19: 5 | H19: 2 | I19: 4 | J19: 5 | K19: 6 | L19: 8 | M19: 3 | N19: 2 | O19: 7 | P19: 3 | Q19: 4 | R19: 3 | S19: 4 | T19: 4 | U19: 3
B20: 計 | C20: =SUM(D20:U20) -> 85 | D20: 10 | E20: 2 | F20: 8 | G20: 6 | H20: 7 | I20: 6 | J20: 7 | K20: 2 | L20: 6 | M20: 6 | N20: 4 | O20: 2 | P20: 3 | Q20: 1 | R20: 3 | S20: 5 | T20: 5 | U20: 2
A21: 臺 南 市 | B21: 男 | C21: =SUM(D21:U21) -> 50 | D21: 9 | E21: 1 | F21: 2 | G21: 4 | H21: 5 | I21: 6 | J21: 5 | K21: 1 | L21: 3 | M21: 4 | N21: 3 | O21: 0 | P21: 2 | Q21: 1 | R21: 1 | S21: 1 | T21: 1 | U21: 1
B22: 女 | C22: =SUM(D22:U22) -> 35 | D22: 1 | E22: 1 | F22: 6 | G22: 2 | H22: 2 | I22: 0 | J22: 2 | K22: 1 | L22: 3 | M22: 2 | N22: 1 | O22: 2 | P22: 1 | Q22: 0 | R22: 2 | S22: 4 | T22: 4 | U22: 1
B23: 計 | C23: =SUM(D23:U23) -> 77 | D23: 7 | E23: 2 | F23: 4 | G23: 5 | H23: 3 | I23: 2 | J23: 6 | K23: 4 | L23: 3 | M23: 7 | N23: 3 | O23: 6 | P23: 6 | Q23: 4 | R23: 5 | S23: 3 | T23: 4 | U23: 3
A24: 高 雄 市 | B24: 男 | C24: =SUM(D24:U24) -> 42 | D24: 5 | E24: 1 | F24: 2 | G24: 2 | H24: 2 | I24: 0 | J24: 2 | K24: 2 | L24: 3 | M24: 3 | N24: 1 | O24: 3 | P24: 3 | Q24: 4 | R24: 3 | S24: 2 | T24: 1 | U24: 3
B25: 女 | C25: =SUM(D25:U25) -> 35 | D25: 2 | E25: 1 | F25: 2 | G25: 3 | H25: 1 | I25: 2 | J25: 4 | K25: 2 | L25: 0 | M25: 4 | N25: 2 | O25: 3 | P25: 3 | Q25: 0 | R25: 2 | S25: 1 | T25: 3 | U25: 0
B26: 計 | C26: =SUM(D26:U26) -> 12 | D26: 2 | E26: 0 | F26: 5 | G26: 1 | H26: 0 | I26: 1 | J26: 0 | K26: 0 | L26: 0 | M26: 1 | N26: 0 | O26: 1 | P26: 1 | Q26: 0 | R26: 0 | S26: 0 | T26: 0 | U26: 0
A27: 宜 蘭 縣 | B27: 男 | C27: =SUM(D27:U27) -> 5 | D27: 2 | E27: 0 | F27: 2 | G27: 0 | H27: 0 | I27: 1 | J27: 0 | K27: 0 | L27: 0 | M27: 0 | N27: 0 | O27: 0 | P27: 0 | Q27: 0 | R27: 0 | S27: 0 | T27: 0 | U27: 0
B28: 女 | C28: =SUM(D28:U28) -> 7 | D28: 0 | E28: 0 | F28: 3 | G28: 1 | H28: 0 | I28: 0 | J28: 0 | K28: 0 | L28: 0 | M28: 1 | N28: 0 | O28: 1 | P28: 1 | Q28: 0 | R28: 0 | S28: 0 | T28: 0 | U28: 0
B29: 計 | C29: =SUM(D29:U29) -> 36 | D29: 3 | E29: 4 | F29: 3 | G29: 1 | H29: 2 | I29: 0 | J29: 5 | K29: 1 | L29: 5 | M29: 2 | N29: 2 | O29: 2 | P29: 2 | Q29: 0 | R29: 1 | S29: 2 | T29: 1 | U29: 0
A30: 新 竹 縣 | B30: 男 | C30: =SUM(D30:U30) -> 13 | D30: 1 | E30: 2 | F30: 2 | G30: 0 | H30: 0 | I30: 0 | J30: 1 | K30: 0 | L30: 1 | M30: 1 | N30: 1 | O30: 0 | P30: 2 | Q30: 0 | R30: 0 | S30: 1 | T30: 1 | U30: 0
B31: 女 | C31: =SUM(D31:U31) -> 23 | D31: 2 | E31: 2 | F31: 1 | G31: 1 | H31: 2 | I31: 0 | J31: 4 | K31: 1 | L31: 4 | M31: 1 | N31: 1 | O31: 2 | P31: 0 | Q31: 0 | R31: 1 | S31: 1 | T31: 0 | U31: 0
B32: 計 | C32: =SUM(D32:U32) -> 28 | D32: 1 | E32: 4 | F32: 1 | G32: 1 | H32: 0 | I32: 0 | J32: 2 | K32: 2 | L32: 5 | M32: 3 | N32: 0 | O32: 1 | P32: 1 | Q32: 3 | R32: 2 | S32: 1 | T32: 1 | U32: 0
A33: 苗 栗 縣 | B33: 男 | C33: =SUM(D33:U33) -> 13 | D33: 1 | E33: 1 | F33: 1 | G33: 0 | H33: 0 | I33: 0 | J33: 1 | K33: 2 | L33: 1 | M33: 2 | N33: 0 | O33: 0 | P33: 0 | Q33: 2 | R33: 2 | S33: 0 | T33: 0 | U33: 0
B34: 女 | C34: =SUM(D34:U34) -> 15 | D34: 0 | E34: 3 | F34: 0 | G34: 1 | H34: 0 | I34: 0 | J34: 1 | K34: 0 | L34: 4 | M34: 1 | N34: 0 | O34: 1 | P34: 1 | Q34: 1 | R34: 0 | S34: 1 | T34: 1 | U34: 0
B35: 計 | C35: =SUM(D35:U35) -> 36 | D35: 0 | E35: 0 | F35: 0 | G35: 3 | H35: 2 | I35: 2 | J35: 6 | K35: 2 | L35: 1 | M35: 0 | N35: 5 | O35: 2 | P35: 4 | Q35: 3 | R35: 2 | S35: 4 | T35: 0 | U35: 0
A36: 彰 化 縣 | B36: 男 | C36: =SUM(D36:U36) -> 17 | D36: 0 | E36: 0 | F36: 0 | G36: 1 | H36: 1 | I36: 1 | J36: 2 | K36: 2 | L36: 0 | M36: 0 | N36: 3 | O36: 1 | P36: 2 | Q36: 1 | R36: 2 | S36: 1 | T36: 0 | U36: 0
B37: 女 | C37: =SUM(D37:U37) -> 19 | D37: 0 | E37: 0 | F37: 0 | G37: 2 | H37: 1 | I37: 1 | J37: 4 | K37: 0 | L37: 1 | M37: 0 | N37: 2 | O37: 1 | P37: 2 | Q37: 2 | R37: 0 | S37: 3 | T37: 0 | U37: 0
B38: 計 | C38: =SUM(D38:U38) -> 13 | D38: 1 | E38: 1 | F38: 2 | G38: 0 | H38: 2 | I38: 2 | J38: 2 | K38: 0 | L38: 0 | M38: 0 | N38: 0 | O38: 1 | P38: 1 | Q38: 0 | R38: 0 | S38: 0 | T38: 0 | U38: 1
A39: 南 投 縣 | B39: 男 | C39: =SUM(D39:U39) -> 5 | D39: 0 | E39: 0 | F39: 1 | G39: 0 | H39: 1 | I39: 2 | J39: 0 | K39: 0 | L39: 0 | M39: 0 | N39: 0 | O39: 0 | P39: 0 | Q39: 0 | R39: 0 | S39: 0 | T39: 0 | U39: 1
B40: 女 | C40: =SUM(D40:U40) -> 8 | D40: 1 | E40: 1 | F40: 1 | G40: 0 | H40: 1 | I40: 0 | J40: 2 | K40: 0 | L40: 0 | M40: 0 | N40: 0 | O40: 1 | P40: 1 | Q40: 0 | R40: 0 | S40: 0 | T40: 0 | U40: 0
B41: 計 | C41: =SUM(D41:U41) -> 21 | D41: 2 | E41: 0 | F41: 0 | G41: 0 | H41: 0 | I41: 2 | J41: 1 | K41: 1 | L41: 0 | M41: 4 | N41: 1 | O41: 2 | P41: 1 | Q41: 0 | R41: 1 | S41: 2 | T41: 3 | U41: 1
A42: 雲 林 縣 | B42: 男 | C42: =SUM(D42:U42) -> 6 | D42: 1 | E42: 0 | F42: 0 | G42: 0 | H42: 0 | I42: 0 | J42: 1 | K42: 1 | L42: 0 | M42: 1 | N42: 0 | O42: 0 | P42: 1 | Q42: 0 | R42: 0 | S42: 0 | T42: 0 | U42: 1
B43: 女 | C43: =SUM(D43:U43) -> 15 | D43: 1 | E43: 0 | F43: 0 | G43: 0 | H43: 0 | I43: 2 | J43: 0 | K43: 0 | L43: 0 | M43: 3 | N43: 1 | O43: 2 | P43: 0 | Q43: 0 | R43: 1 | S43: 2 | T43: 3 | U43: 0
B44: 計 | C44: =SUM(D44:U44) -> 13 | D44: 2 | E44: 1 | F44: 3 | G44: 1 | H44: 0 | I44: 0 | J44: 0 | K44: 0 | L44: 1 | M44: 1 | N44: 0 | O44: 2 | P44: 0 | Q44: 0 | R44: 0 | S44: 0 | T44: 0 | U44: 2
A45: 嘉 義 縣 | B45: 男 | C45: =SUM(D45:U45) -> 9 | D45: 0 | E45: 1 | F45: 3 | G45: 1 | H45: 0 | I45: 0 | J45: 0 | K45: 0 | L45: 1 | M45: 0 | N45: 0 | O45: 1 | P45: 0 | Q45: 0 | R45: 0 | S45: 0 | T45: 0 | U45: 2
B46: 女 | C46: =SUM(D46:U46) -> 4 | D46: 2 | E46: 0 | F46: 0 | G46: 0 | H46: 0 | I46: 0 | J46: 0 | K46: 0 | L46: 0 | M46: 1 | N46: 0 | O46: 1 | P46: 0 | Q46: 0 | R46: 0 | S46: 0 | T46: 0 | U46: 0
B47: 計 | C47: =SUM(D47:U47) -> 42 | D47: 3 | E47: 0 | F47: 4 | G47: 2 | H47: 0 | I47: 3 | J47: 4 | K47: 1 | L47: 4 | M47: 2 | N47: 4 | O47: 3 | P47: 1 | Q47: 4 | R47: 1 | S47: 2 | T47: 2 | U47: 2
A48: 屏 東 縣 | B48: 男 | C48: =SUM(D48:U48) -> 20 | D48: 1 | E48: 0 | F48: 3 | G48: 1 | H48: 0 | I48: 2 | J48: 3 | K48: 0 | L48: 2 | M48: 1 | N48: 2 | O48: 2 | P48: 0 | Q48: 2 | R48: 1 | S48: 0 | T48: 0 | U48: 0
B49: 女 | C49: =SUM(D49:U49) -> 22 | D49: 2 | E49: 0 | F49: 1 | G49: 1 | H49: 0 | I49: 1 | J49: 1 | K49: 1 | L49: 2 | M49: 1 | N49: 2 | O49: 1 | P49: 1 | Q49: 2 | R49: 0 | S49: 2 | T49: 2 | U49: 2
B50: 計 | C50: =SUM(D50:U50) -> 14 | D50: 0 | E50: 1 | F50: 0 | G50: 0 | H50: 0 | I50: 2 | J50: 1 | K50: 0 | L50: 0 | M50: 4 | N50: 2 | O50: 0 | P50: 0 | Q50: 1 | R50: 0 | S50: 3 | T50: 0 | U50: 0
A51: 臺 東 縣 | B51: 男 | C51: =SUM(D51:U51) -> 7 | D51: 0 | E51: 1 | F51: 0 | G51: 0 | H51: 0 | I51: 0 | J51: 1 | K51: 0 | L51: 0 | M51: 3 | N51: 1 | O51: 0 | P51: 0 | Q51: 1 | R51: 0 | S51: 0 | T51: 0 | U51: 0
B52: 女 | C52: =SUM(D52:U52) -> 7 | D52: 0 | E52: 0 | F52: 0 | G52: 0 | H52: 0 | I52: 2 | J52: 0 | K52: 0 | L52: 0 | M52: 1 | N52: 1 | O52: 0 | P52: 0 | Q52: 0 | R52: 0 | S52: 3 | T52: 0 | U52: 0
B53: 計 | C53: =SUM(D53:U53) -> 10 | D53: 2 | E53: 1 | F53: 0 | G53: 1 | H53: 2 | I53: 0 | J53: 1 | K53: 0 | L53: 0 | M53: 0 | N53: 1 | O53: 1 | P53: 0 | Q53: 0 | R53: 0 | S53: 0 | T53: 1 | U53: 0
A54: 花 蓮 縣 | B54: 男 | C54: =SUM(D54:U54) -> 3 | D54: 0 | E54: 1 | F54: 0 | G54: 0 | H54: 1 | I54: 0 | J54: 1 | K54: 0 | L54: 0 | M54: 0 | N54: 0 | O54: 0 | P54: 0 | Q54: 0 | R54: 0 | S54: 0 | T54: 0 | U54: 0
B55: 女 | C55: =SUM(D55:U55) -> 7 | D55: 2 | E55: 0 | F55: 0 | G55: 1 | H55: 1 | I55: 0 | J55: 0 | K55: 0 | L55: 0 | M55: 0 | N55: 1 | O55: 1 | P55: 0 | Q55: 0 | R55: 0 | S55: 0 | T55: 1 | U55: 0
B56: 計 | C56: =SUM(D56:U56) -> 3 | D56: 0 | E56: 0 | F56: 0 | G56: 0 | H56: 0 | I56: 1 | J56: 0 | K56: 0 | L56: 0 | M56: 2 | N56: 0 | O56: 0 | P56: 0 | Q56: 0 | R56: 0 | S56: 0 | T56: 0 | U56: 0
A57: 澎 湖 縣 | B57: 男 | C57: =SUM(D57:U57) -> 2 | D57: 0 | E57: 0 | F57: 0 | G57: 0 | H57: 0 | I57: 1 | J57: 0 | K57: 0 | L57: 0 | M57: 1 | N57: 0 | O57: 0 | P57: 0 | Q57: 0 | R57: 0 | S57: 0 | T57: 0 | U57: 0
B58: 女 | C58: =SUM(D58:U58) -> 1 | D58: 0 | E58: 0 | F58: 0 | G58: 0 | H58: 0 | I58: 0 | J58: 0 | K58: 0 | L58: 0 | M58: 1 | N58: 0 | O58: 0 | P58: 0 | Q58: 0 | R58: 0 | S58: 0 | T58: 0 | U58: 0
B59: 計 | C59: =SUM(D59:U59) -> 23 | D59: 1 | E59: 0 | F59: 2 | G59: 1 | H59: 1 | I59: 1 | J59: 0 | K59: 1 | L59: 1 | M59: 3 | N59: 3 | O59: 3 | P59: 3 | Q59: 0 | R59: 0 | S59: 2 | T59: 0 | U59: 1
A60: 基 隆 市 | B60: 男 | C60: =SUM(D60:U60) -> 8 | D60: 1 | E60: 0 | F60: 1 | G60: 1 | H60: 0 | I60: 0 | J60: 0 | K60: 0 | L60: 0 | M60: 0 | N60: 1 | O60: 0 | P60: 3 | Q60: 0 | R60: 0 | S60: 0 | T60: 0 | U60: 1
B61: 女 | C61: =SUM(D61:U61) -> 15 | D61: 0 | E61: 0 | F61: 1 | G61: 0 | H61: 1 | I61: 1 | J61: 0 | K61: 1 | L61: 1 | M61: 3 | N61: 2 | O61: 3 | P61: 0 | Q61: 0 | R61: 0 | S61: 2 | T61: 0 | U61: 0
B62: 計 | C62: =SUM(D62:U62) -> 16 | D62: 2 | E62: 2 | F62: 0 | G62: 1 | H62: 2 | I62: 3 | J62: 3 | K62: 1 | L62: 0 | M62: 1 | N62: 0 | O62: 0 | P62: 0 | Q62: 1 | R62: 0 | S62: 0 | T62: 0 | U62: 0
A63: 新 竹 市 | B63: 男 | C63: =SUM(D63:U63) -> 5 | D63: 0 | E63: 0 | F63: 0 | G63: 1 | H63: 0 | I63: 2 | J63: 1 | K63: 0 | L63: 0 | M63: 0 | N63: 0 | O63: 0 | P63: 0 | Q63: 1 | R63: 0 | S63: 0 | T63: 0 | U63: 0
B64: 女 | C64: =SUM(D64:U64) -> 11 | D64: 2 | E64: 2 | F64: 0 | G64: 0 | H64: 2 | I64: 1 | J64: 2 | K64: 1 | L64: 0 | M64: 1 | N64: 0 | O64: 0 | P64: 0 | Q64: 0 | R64: 0 | S64: 0 | T64: 0 | U64: 0
B65: 計 | C65: =SUM(D65:U65) -> 9 | D65: 0 | E65: 0 | F65: 0 | G65: 0 | H65: 0 | I65: 1 | J65: 2 | K65: 1 | L65: 2 | M65: 1 | N65: 0 | O65: 0 | P65: 0 | Q65: 1 | R65: 0 | S65: 1 | T65: 0 | U65: 0
A66: 嘉 義 市 | B66: 男 | C66: =SUM(D66:U66) -> 3 | D66: 0 | E66: 0 | F66: 0 | G66: 0 | H66: 0 | I66: 0 | J66: 1 | K66: 0 | L66: 0 | M66: 1 | N66: 0 | O66: 0 | P66: 0 | Q66: 0 | R66: 0 | S66: 1 | T66: 0 | U66: 0
B67: 女 | C67: =SUM(D67:U67) -> 6 | D67: 0 | E67: 0 | F67: 0 | G67: 0 | H67: 0 | I67: 1 | J67: 1 | K67: 1 | L67: 2 | M67: 0 | N67: 0 | O67: 0 | P67: 0 | Q67: 1 | R67: 0 | S67: 0 | T67: 0 | U67: 0
B68: 計 | C68: =SUM(D68:U68) -> 2 | D68: 0 | E68: 0 | F68: 0 | G68: 0 | H68: 0 | I68: 0 | J68: 1 | K68: 0 | L68: 0 | M68: 0 | N68: 0 | O68: 0 | P68: 0 | Q68: 0 | R68: 0 | S68: 0 | T68: 0 | U68: 1
A69: 金 門 縣 | B69: 男 | C69: =SUM(D69:U69) -> 0 | D69: 0 | E69: 0 | F69: 0 | G69: 0 | H69: 0 | I69: 0 | J69: 0 | K69: 0 | L69: 0 | M69: 0 | N69: 0 | O69: 0 | P69: 0 | Q69: 0 | R69: 0 | S69: 0 | T69: 0 | U69: 0
B70: 女 | C70: =SUM(D70:U70) -> 2 | D70: 0 | E70: 0 | F70: 0 | G70: 0 | H70: 0 | I70: 0 | J70: 1 | K70: 0 | L70: 0 | M70: 0 | N70: 0 | O70: 0 | P70: 0 | Q70: 0 | R70: 0 | S70: 0 | T70: 0 | U70: 1
B71: 計 | C71: =SUM(D71:U71) -> 0 | D71: 0 | E71: 0 | F71: 0 | G71: 0 | H71: 0 | I71: 0 | J71: 0 | K71: 0 | L71: 0 | M71: 0 | N71: 0 | O71: 0 | P71: 0 | Q71: 0 | R71: 0 | S71: 0 | T71: 0 | U71: 0
A72: 連 江 縣 | B72: 男 | C72: =SUM(D72:U72) -> 0 | D72: 0 | E72: 0 | F72: 0 | G72: 0 | H72: 0 | I72: 0 | J72: 0 | K72: 0 | L72: 0 | M72: 0 | N72: 0 | O72: 0 | P72: 0 | Q72: 0 | R72: 0 | S72: 0 | T72: 0 | U72: 0
B73: 女 | C73: =SUM(D73:U73) -> 0 | D73: 0 | E73: 0 | F73: 0 | G73: 0 | H73: 0 | I73: 0 | J73: 0 | K73: 0 | L73: 0 | M73: 0 | N73: 0 | O73: 0 | P73: 0 | Q73: 0 | R73: 0 | S73: 0 | T73: 0 | U73: 0
U74: 內政部戶政司 編製

Sheet 112年
C1: 收養人數按性別、年齡分
C2: 中華民國112年底 | U2: 單位：人
A3: 區域別 | B3: 性別 | C3: 總 計 | D3: 0歲 | E3: 1歲 | F3: 2歲 | G3: 3歲 | H3: 4歲 | I3: 5歲 | J3: 6歲 | K3: 7歲 | L3: 8歲 | M3: 9歲 | N3: 10歲 | O3: 11歲 | P3: 12歲 | Q3: 13歲 | R3: 14歲 | S3: 15歲 | T3: 16歲 | U3: 17歲
B5: 計 | C5: =SUM(D5:U5) -> 770 | D5: 56 | E5: 67 | F5: 58 | G5: 62 | H5: 60 | I5: 49 | J5: 62 | K5: 42 | L5: 31 | M5: 28 | N5: 32 | O5: 35 | P5: 35 | Q5: 34 | R5: 40 | S5: 33 | T5: 25 | U5: 21
A6: 總 計 | B6: 男 | C6: =SUM(D6:U6) -> 349 | D6: 27 | E6: 32 | F6: 31 | G6: 26 | H6: 40 | I6: 21 | J6: 30 | K6: 21 | L6: 12 | M6: 12 | N6: 10 | O6: 13 | P6: 8 | Q6: 13 | R6: 20 | S6: 13 | T6: 14 | U6: 6
B7: 女 | C7: =SUM(D7:U7) -> 421 | D7: 29 | E7: 35 | F7: 27 | G7: 36 | H7: 20 | I7: 28 | J7: 32 | K7: 21 | L7: 19 | M7: 16 | N7: 22 | O7: 22 | P7: 27 | Q7: 21 | R7: 20 | S7: 20 | T7: 11 | U7: 15
B8: 計 | C8: =SUM(D8:U8) -> 154 | D8: 11 | E8: 9 | F8: 11 | G8: 9 | H8: 12 | I8: 8 | J8: 18 | K8: 10 | L8: 7 | M8: 10 | N8: 4 | O8: 7 | P8: 6 | Q8: 6 | R8: 4 | S8: 12 | T8: 7 | U8: 3
A9: 新 北 市 | B9: 男 | C9: =SUM(D9:U9) -> 69 | D9: 5 | E9: 6 | F9: 5 | G9: 2 | H9: 6 | I9: 2 | J9: 10 | K9: 4 | L9: 4 | M9: 5 | N9: 2 | O9: 5 | P9: 4 | Q9: 2 | R9: 1 | S9: 4 | T9: 1 | U9: 1
B10: 女 | C10: =SUM(D10:U10) -> 85 | D10: 6 | E10: 3 | F10: 6 | G10: 7 | H10: 6 | I10: 6 | J10: 8 | K10: 6 | L10: 3 | M10: 5 | N10: 2 | O10: 2 | P10: 2 | Q10: 4 | R10: 3 | S10: 8 | T10: 6 | U10: 2
B11: 計 | C11: =SUM(D11:U11) -> 100 | D11: 22 | E11: 12 | F11: 8 | G11: 16 | H11: 3 | I11: 7 | J11: 3 | K11: 4 | L11: 2 | M11: 2 | N11: 7 | O11: 5 | P11: 3 | Q11: 2 | R11: 1 | S11: 1 | T11: 2 | U11: 0
A12: 臺 北 市 | B12: 男 | C12: =SUM(D12:U12) -> 45 | D12: 7 | E12: 4 | F12: 3 | G12: 9 | H12: 2 | I12: 1 | J12: 2 | K12: 2 | L12: 2 | M12: 1 | N12: 5 | O12: 2 | P12: 1 | Q12: 1 | R12: 0 | S12: 1 | T12: 2 | U12: 0
B13: 女 | C13: =SUM(D13:U13) -> 55 | D13: 15 | E13: 8 | F13: 5 | G13: 7 | H13: 1 | I13: 6 | J13: 1 | K13: 2 | L13: 0 | M13: 1 | N13: 2 | O13: 3 | P13: 2 | Q13: 1 | R13: 1 | S13: 0 | T13: 0 | U13: 0
B14: 計 | C14: =SUM(D14:U14) -> 112 | D14: 11 | E14: 2 | F14: 2 | G14: 6 | H14: 8 | I14: 9 | J14: 12 | K14: 7 | L14: 7 | M14: 5 | N14: 4 | O14: 3 | P14: 6 | Q14: 5 | R14: 9 | S14: 6 | T14: 7 | U14: 3
A15: 桃 園 市 | B15: 男 | C15: =SUM(D15:U15) -> 53 | D15: 4 | E15: 1 | F15: 2 | G15: 3 | H15: 3 | I15: 4 | J15: 11 | K15: 5 | L15: 2 | M15: 1 | N15: 0 | O15: 2 | P15: 1 | Q15: 4 | R15: 1 | S15: 3 | T15: 4 | U15: 2
B16: 女 | C16: =SUM(D16:U16) -> 59 | D16: 7 | E16: 1 | F16: 0 | G16: 3 | H16: 5 | I16: 5 | J16: 1 | K16: 2 | L16: 5 | M16: 4 | N16: 4 | O16: 1 | P16: 5 | Q16: 1 | R16: 8 | S16: 3 | T16: 3 | U16: 1
B17: 計 | C17: =SUM(D17:U17) -> 78 | D17: 10 | E17: 3 | F17: 5 | G17: 4 | H17: 3 | I17: 3 | J17: 4 | K17: 2 | L17: 5 | M17: 7 | N17: 3 | O17: 6 | P17: 4 | Q17: 3 | R17: 6 | S17: 5 | T17: 4 | U17: 1
A18: 臺 中 市 | B18: 男 | C18: =SUM(D18:U18) -> 36 | D18: 8 | E18: 1 | F18: 2 | G18: 2 | H18: 3 | I18: 1 | J18: 1 | K18: 1 | L18: 0 | M18: 3 | N18: 0 | O18: 2 | P18: 3 | Q18: 2 | R18: 3 | S18: 3 | T18: 1 | U18: 0
B19: 女 | C19: =SUM(D19:U19) -> 42 | D19: 2 | E19: 2 | F19: 3 | G19: 2 | H19: 0 | I19: 2 | J19: 3 | K19: 1 | L19: 5 | M19: 4 | N19: 3 | O19: 4 | P19: 1 | Q19: 1 | R19: 3 | S19: 2 | T19: 3 | U19: 1
B20: 計 | C20: =SUM(D20:U20) -> 106 | D20: 8 | E20: 8 | F20: 9 | G20: 7 | H20: 7 | I20: 12 | J20: 9 | K20: 10 | L20: 2 | M20: 6 | N20: 3 | O20: 2 | P20: 7 | Q20: 2 | R20: 3 | S20: 5 | T20: 5 | U20: 1
A21: 臺 南 市 | B21: 男 | C21: =SUM(D21:U21) -> 38 | D21: 3 | E21: 4 | F21: 3 | G21: 3 | H21: 2 | I21: 4 | J21: 5 | K21: 1 | L21: 2 | M21: 3 | N21: 1 | O21: 0 | P21: 2 | Q21: 1 | R21: 1 | S21: 2 | T21: 1 | U21: 0
B22: 女 | C22: =SUM(D22:U22) -> 68 | D22: 5 | E22: 4 | F22: 6 | G22: 4 | H22: 5 | I22: 8 | J22: 4 | K22: 9 | L22: 0 | M22: 3 | N22: 2 | O22: 2 | P22: 5 | Q22: 1 | R22: 2 | S22: 3 | T22: 4 | U22: 1
B23: 計 | C23: =SUM(D23:U23) -> 90 | D23: 5 | E23: 5 | F23: 6 | G23: 2 | H23: 5 | I23: 3 | J23: 4 | K23: 5 | L23: 5 | M23: 5 | N23: 3 | O23: 9 | P23: 7 | Q23: 6 | R23: 8 | S23: 6 | T23: 2 | U23: 4
A24: 高 雄 市 | B24: 男 | C24: =SUM(D24:U24) -> 50 | D24: 2 | E24: 4 | F24: 5 | G24: 0 | H24: 4 | I24: 2 | J24: 2 | K24: 1 | L24: 4 | M24: 4 | N24: 1 | O24: 4 | P24: 4 | Q24: 4 | R24: 2 | S24: 5 | T24: 0 | U24: 2
B25: 女 | C25: =SUM(D25:U25) -> 40 | D25: 3 | E25: 1 | F25: 1 | G25: 2 | H25: 1 | I25: 1 | J25: 2 | K25: 4 | L25: 1 | M25: 1 | N25: 2 | O25: 5 | P25: 3 | Q25: 2 | R25: 6 | S25: 1 | T25: 2 | U25: 2
B26: 計 | C26: =SUM(D26:U26) -> 13 | D26: 4 | E26: 0 | F26: 0 | G26: 2 | H26: 2 | I26: 0 | J26: 1 | K26: 0 | L26: 1 | M26: 0 | N26: 0 | O26: 0 | P26: 1 | Q26: 0 | R26: 0 | S26: 0 | T26: 0 | U26: 2
A27: 宜 蘭 縣 | B27: 男 | C27: =SUM(D27:U27) -> 6 | D27: 2 | E27: 0 | F27: 0 | G27: 1 | H27: 2 | I27: 0 | J27: 0 | K27: 0 | L27: 0 | M27: 0 | N27: 0 | O27: 0 | P27: 1 | Q27: 0 | R27: 0 | S27: 0 | T27: 0 | U27: 0
B28: 女 | C28: =SUM(D28:U28) -> 7 | D28: 2 | E28: 0 | F28: 0 | G28: 1 | H28: 0 | I28: 0 | J28: 1 | K28: 0 | L28: 1 | M28: 0 | N28: 0 | O28: 0 | P28: 0 | Q28: 0 | R28: 0 | S28: 0 | T28: 0 | U28: 2
B29: 計 | C29: =SUM(D29:U29) -> 25 | D29: 2 | E29: 3 | F29: 0 | G29: 1 | H29: 3 | I29: 3 | J29: 4 | K29: 0 | L29: 1 | M29: 0 | N29: 0 | O29: 3 | P29: 1 | Q29: 0 | R29: 1 | S29: 1 | T29: 2 | U29: 0
A30: 新 竹 縣 | B30: 男 | C30: =SUM(D30:U30) -> 10 | D30: 1 | E30: 1 | F30: 0 | G30: 1 | H30: 2 | I30: 1 | J30: 1 | K30: 0 | L30: 1 | M30: 0 | N30: 0 | O30: 0 | P30: 0 | Q30: 0 | R30: 0 | S30: 0 | T30: 2 | U30: 0
B31: 女 | C31: =SUM(D31:U31) -> 15 | D31: 1 | E31: 2 | F31: 0 | G31: 0 | H31: 1 | I31: 2 | J31: 3 | K31: 0 | L31: 0 | M31: 0 | N31: 0 | O31: 3 | P31: 1 | Q31: 0 | R31: 1 | S31: 1 | T31: 0 | U31: 0
B32: 計 | C32: =SUM(D32:U32) -> 27 | D32: 2 | E32: 0 | F32: 1 | G32: 1 | H32: 1 | I32: 2 | J32: 2 | K32: 1 | L32: 1 | M32: 1 | N32: 2 | O32: 3 | P32: 1 | Q32: 2 | R32: 4 | S32: 1 | T32: 0 | U32: 2
A33: 苗 栗 縣 | B33: 男 | C33: =SUM(D33:U33) -> 15 | D33: 0 | E33: 0 | F33: 0 | G33: 1 | H33: 1 | I33: 2 | J33: 1 | K33: 0 | L33: 1 | M33: 1 | N33: 0 | O33: 2 | P33: 1 | Q33: 2 | R33: 2 | S33: 1 | T33: 0 | U33: 0
B34: 女 | C34: =SUM(D34:U34) -> 12 | D34: 2 | E34: 0 | F34: 1 | G34: 0 | H34: 0 | I34: 0 | J34: 1 | K34: 1 | L34: 0 | M34: 0 | N34: 2 | O34: 1 | P34: 0 | Q34: 0 | R34: 2 | S34: 0 | T34: 0 | U34: 2
B35: 計 | C35: =SUM(D35:U35) -> 28 | D35: 1 | E35: 2 | F35: 0 | G35: 1 | H35: 0 | I35: 2 | J35: 2 | K35: 4 | L35: 1 | M35: 0 | N35: 3 | O35: 2 | P35: 1 | Q35: 0 | R35: 5 | S35: 3 | T35: 1 | U35: 0
A36: 彰 化 縣 | B36: 男 | C36: =SUM(D36:U36) -> 8 | D36: 1 | E36: 0 | F36: 0 | G36: 0 | H36: 0 | I36: 1 | J36: 0 | K36: 3 | L36: 1 | M36: 0 | N36: 0 | O36: 1 | P36: 0 | Q36: 0 | R36: 0 | S36: 1 | T36: 0 | U36: 0
B37: 女 | C37: =SUM(D37:U37) -> 20 | D37: 0 | E37: 2 | F37: 0 | G37: 1 | H37: 0 | I37: 1 | J37: 2 | K37: 1 | L37: 0 | M37: 0 | N37: 3 | O37: 1 | P37: 1 | Q37: 0 | R37: 5 | S37: 2 | T37: 1 | U37: 0
B38: 計 | C38: =SUM(D38:U38) -> 9 | D38: 2 | E38: 0 | F38: 0 | G38: 0 | H38: 0 | I38: 0 | J38: 0 | K38: 1 | L38: 1 | M38: 2 | N38: 0 | O38: 0 | P38: 1 | Q38: 0 | R38: 2 | S38: 0 | T38: 0 | U38: 0
A39: 南 投 縣 | B39: 男 | C39: =SUM(D39:U39) -> 4 | D39: 1 | E39: 0 | F39: 0 | G39: 0 | H39: 0 | I39: 0 | J39: 0 | K39: 0 | L39: 1 | M39: 0 | N39: 0 | O39: 0 | P39: 1 | Q39: 0 | R39: 1 | S39: 0 | T39: 0 | U39: 0
B40: 女 | C40: =SUM(D40:U40) -> 5 | D40: 1 | E40: 0 | F40: 0 | G40: 0 | H40: 0 | I40: 0 | J40: 0 | K40: 1 | L40: 0 | M40: 2 | N40: 0 | O40: 0 | P40: 0 | Q40: 0 | R40: 1 | S40: 0 | T40: 0 | U40: 0
B41: 計 | C41: =SUM(D41:U41) -> 18 | D41: 3 | E41: 0 | F41: 5 | G41: 0 | H41: 1 | I41: 1 | J41: 1 | K41: 0 | L41: 2 | M41: 0 | N41: 1 | O41: 1 | P41: 1 | Q41: 0 | R41: 1 | S41: 0 | T41: 0 | U41: 1
A42: 雲 林 縣 | B42: 男 | C42: =SUM(D42:U42) -> 7 | D42: 1 | E42: 0 | F42: 2 | G42: 0 | H42: 0 | I42: 1 | J42: 1 | K42: 0 | L42: 1 | M42: 0 | N42: 1 | O42: 0 | P42: 0 | Q42: 0 | R42: 0 | S42: 0 | T42: 0 | U42: 0
B43: 女 | C43: =SUM(D43:U43) -> 11 | D43: 2 | E43: 0 | F43: 3 | G43: 0 | H43: 1 | I43: 0 | J43: 0 | K43: 0 | L43: 1 | M43: 0 | N43: 0 | O43: 1 | P43: 1 | Q43: 0 | R43: 1 | S43: 0 | T43: 0 | U43: 1
B44: 計 | C44: =SUM(D44:U44) -> 9 | D44: 0 | E44: 2 | F44: 1 | G44: 0 | H44: 1 | I44: 1 | J44: 1 | K44: 0 | L44: 0 | M44: 0 | N44: 0 | O44: 3 | P44: 0 | Q44: 0 | R44: 0 | S44: 0 | T44: 0 | U44: 0
A45: 嘉 義 縣 | B45: 男 | C45: =SUM(D45:U45) -> 3 | D45: 0 | E45: 0 | F45: 1 | G45: 0 | H45: 1 | I45: 1 | J45: 0 | K45: 0 | L45: 0 | M45: 0 | N45: 0 | O45: 0 | P45: 0 | Q45: 0 | R45: 0 | S45: 0 | T45: 0 | U45: 0
B46: 女 | C46: =SUM(D46:U46) -> 6 | D46: 0 | E46: 2 | F46: 0 | G46: 0 | H46: 0 | I46: 0 | J46: 1 | K46: 0 | L46: 0 | M46: 0 | N46: 0 | O46: 3 | P46: 0 | Q46: 0 | R46: 0 | S46: 0 | T46: 0 | U46: 0
B47: 計 | C47: =SUM(D47:U47) -> 34 | D47: 2 | E47: 0 | F47: 0 | G47: 1 | H47: 3 | I47: 2 | J47: 3 | K47: 2 | L47: 2 | M47: 1 | N47: 4 | O47: 2 | P47: 0 | Q47: 1 | R47: 3 | S47: 4 | T47: 2 | U47: 2
A48: 屏 東 縣 | B48: 男 | C48: =SUM(D48:U48) -> 14 | D48: 2 | E48: 0 | F48: 0 | G48: 1 | H48: 1 | I48: 0 | J48: 0 | K48: 1 | L48: 1 | M48: 1 | N48: 2 | O48: 1 | P48: 0 | Q48: 1 | R48: 1 | S48: 1 | T48: 1 | U48: 0
B49: 女 | C49: =SUM(D49:U49) -> 20 | D49: 0 | E49: 0 | F49: 0 | G49: 0 | H49: 2 | I49: 2 | J49: 3 | K49: 1 | L49: 1 | M49: 0 | N49: 2 | O49: 1 | P49: 0 | Q49: 0 | R49: 2 | S49: 3 | T49: 1 | U49: 2
B50: 計 | C50: =SUM(D50:U50) -> 9 | D50: 1 | E50: 2 | F50: 1 | G50: 0 | H50: 0 | I50: 0 | J50: 2 | K50: 0 | L50: 0 | M50: 0 | N50: 0 | O50: 0 | P50: 2 | Q50: 0 | R50: 0 | S50: 0 | T50: 1 | U50: 0
A51: 臺 東 縣 | B51: 男 | C51: =SUM(D51:U51) -> 5 | D51: 1 | E51: 2 | F51: 1 | G51: 0 | H51: 0 | I51: 0 | J51: 1 | K51: 0 | L51: 0 | M51: 0 | N51: 0 | O51: 0 | P51: 0 | Q51: 0 | R51: 0 | S51: 0 | T51: 0 | U51: 0
B52: 女 | C52: =SUM(D52:U52) -> 4 | D52: 0 | E52: 0 | F52: 0 | G52: 0 | H52: 0 | I52: 0 | J52: 1 | K52: 0 | L52: 0 | M52: 0 | N52: 0 | O52: 0 | P52: 2 | Q52: 0 | R52: 0 | S52: 0 | T52: 1 | U52: 0
B53: 計 | C53: =SUM(D53:U53) -> 18 | D53: 3 | E53: 2 | F53: 0 | G53: 0 | H53: 1 | I53: 2 | J53: 0 | K53: 0 | L53: 0 | M53: 1 | N53: 1 | O53: 2 | P53: 1 | Q53: 0 | R53: 2 | S53: 1 | T53: 1 | U53: 1
A54: 花 蓮 縣 | B54: 男 | C54: =SUM(D54:U54) -> 9 | D54: 3 | E54: 1 | F54: 0 | G54: 0 | H54: 0 | I54: 2 | J54: 0 | K54: 0 | L54: 0 | M54: 0 | N54: 0 | O54: 0 | P54: 1 | Q54: 0 | R54: 0 | S54: 1 | T54: 0 | U54: 1
B55: 女 | C55: =SUM(D55:U55) -> 9 | D55: 0 | E55: 1 | F55: 0 | G55: 0 | H55: 1 | I55: 0 | J55: 0 | K55: 0 | L55: 0 | M55: 1 | N55: 1 | O55: 2 | P55: 0 | Q55: 0 | R55: 2 | S55: 0 | T55: 1 | U55: 0
B56: 計 | C56: =SUM(D56:U56) -> 5 | D56: 0 | E56: 0 | F56: 2 | G56: 1 | H56: 0 | I56: 0 | J56: 0 | K56: 0 | L56: 1 | M56: 0 | N56: 0 | O56: 0 | P56: 0 | Q56: 0 | R56: 1 | S56: 0 | T56: 0 | U56: 0
A57: 澎 湖 縣 | B57: 男 | C57: =SUM(D57:U57) -> 2 | D57: 0 | E57: 0 | F57: 0 | G57: 1 | H57: 0 | I57: 0 | J57: 0 | K57: 0 | L57: 1 | M57: 0 | N57: 0 | O57: 0 | P57: 0 | Q57: 0 | R57: 0 | S57: 0 | T57: 0 | U57: 0
B58: 女 | C58: =SUM(D58:U58) -> 3 | D58: 0 | E58: 0 | F58: 2 | G58: 0 | H58: 0 | I58: 0 | J58: 0 | K58: 0 | L58: 0 | M58: 0 | N58: 0 | O58: 0 | P58: 0 | Q58: 0 | R58: 1 | S58: 0 | T58: 0 | U58: 0
B59: 計 | C59: =SUM(D59:U59) -> 17 | D59: 0 | E59: 1 | F59: 0 | G59: 0 | H59: 2 | I59: 2 | J59: 2 | K59: 1 | L59: 2 | M59: 0 | N59: 1 | O59: 0 | P59: 1 | Q59: 1 | R59: 2 | S59: 0 | T59: 2 | U59: 0
A60: 基 隆 市 | B60: 男 | C60: =SUM(D60:U60) -> 8 | D60: 0 | E60: 0 | F60: 0 | G60: 0 | H60: 2 | I60: 2 | J60: 0 | K60: 0 | L60: 0 | M60: 0 | N60: 1 | O60: 0 | P60: 1 | Q60: 0 | R60: 1 | S60: 0 | T60: 1 | U60: 0
B61: 女 | C61: =SUM(D61:U61) -> 9 | D61: 0 | E61: 1 | F61: 0 | G61: 0 | H61: 0 | I61: 0 | J61: 2 | K61: 1 | L61: 2 | M61: 0 | N61: 0 | O61: 0 | P61: 0 | Q61: 1 | R61: 1 | S61: 0 | T61: 1 | U61: 0
B62: 計 | C62: =SUM(D62:U62) -> 15 | D62: 2 | E62: 1 | F62: 2 | G62: 0 | H62: 2 | I62: 1 | J62: 0 | K62: 0 | L62: 0 | M62: 0 | N62: 1 | O62: 0 | P62: 1 | Q62: 0 | R62: 1 | S62: 2 | T62: 1 | U62: 1
A63: 新 竹 市 | B63: 男 | C63: =SUM(D63:U63) -> 8 | D63: 0 | E63: 0 | F63: 1 | G63: 0 | H63: 2 | I63: 1 | J63: 0 | K63: 0 | L63: 0 | M63: 0 | N63: 1 | O63: 0 | P63: 1 | Q63: 0 | R63: 0 | S63: 1 | T63: 0 | U63: 1
B64: 女 | C64: =SUM(D64:U64) -> 7 | D64: 2 | E64: 1 | F64: 1 | G64: 0 | H64: 0 | I64: 0 | J64: 0 | K64: 0 | L64: 0 | M64: 0 | N64: 0 | O64: 0 | P64: 0 | Q64: 0 | R64: 1 | S64: 1 | T64: 1 | U64: 0
B65: 計 | C65: =SUM(D65:U65) -> 10 | D65: 1 | E65: 1 | F65: 0 | G65: 1 | H65: 0 | I65: 1 | J65: 1 | K65: 1 | L65: 3 | M65: 0 | N65: 1 | O65: 0 | P65: 0 | Q65: 0 | R65: 0 | S65: 0 | T65: 0 | U65: 0
A66: 嘉 義 市 | B66: 男 | C66: =SUM(D66:U66) -> 6 | D66: 0 | E66: 0 | F66: 0 | G66: 0 | H66: 0 | I66: 0 | J66: 1 | K66: 1 | L66: 3 | M66: 0 | N66: 1 | O66: 0 | P66: 0 | Q66: 0 | R66: 0 | S66: 0 | T66: 0 | U66: 0
B67: 女 | C67: =SUM(D67:U67) -> 4 | D67: 1 | E67: 1 | F67: 0 | G67: 1 | H67: 0 | I67: 1 | J67: 0 | K67: 0 | L67: 0 | M67: 0 | N67: 0 | O67: 0 | P67: 0 | Q67: 0 | R67: 0 | S67: 0 | T67: 0 | U67: 0
B68: 計 | C68: =SUM(D68:U68) -> 3 | D68: 1 | E68: 0 | F68: 0 | G68: 0 | H68: 1 | I68: 0 | J68: 0 | K68: 0 | L68: 0 | M68: 0 | N68: 0 | O68: 1 | P68: 0 | Q68: 0 | R68: 0 | S68: 0 | T68: 0 | U68: 0
A69: 金 門 縣 | B69: 男 | C69: =SUM(D69:U69) -> 0 | D69: 0 | E69: 0 | F69: 0 | G69: 0 | H69: 0 | I69: 0 | J69: 0 | K69: 0 | L69: 0 | M69: 0 | N69: 0 | O69: 0 | P69: 0 | Q69: 0 | R69: 0 | S69: 0 | T69: 0 | U69: 0
B70: 女 | C70: =SUM(D70:U70) -> 3 | D70: 1 | E70: 0 | F70: 0 | G70: 0 | H70: 1 | I70: 0 | J70: 0 | K70: 0 | L70: 0 | M70: 0 | N70: 0 | O70: 1 | P70: 0 | Q70: 0 | R70: 0 | S70: 0 | T70: 0 | U70: 0
B71: 計 | C71: =SUM(D71:U71) -> 0 | D71: 0 | E71: 0 | F71: 0 | G71: 0 | H71: 0 | I71: 0 | J71: 0 | K71: 0 | L71: 0 | M71: 0 | N71: 0 | O71: 0 | P71: 0 | Q71: 0 | R71: 0 | S71: 0 | T71: 0 | U71: 0
A72: 連 江 縣 | B72: 男 | C72: =SUM(D72:U72) -> 0 | D72: 0 | E72: 0 | F72: 0 | G72: 0 | H72: 0 | I72: 0 | J72: 0 | K72: 0 | L72: 0 | M72: 0 | N72: 0 | O72: 0 | P72: 0 | Q72: 0 | R72: 0 | S72: 0 | T72: 0 | U72: 0
B73: 女 | C73: =SUM(D73:U73) -> 0 | D73: 0 | E73: 0 | F73: 0 | G73: 0 | H73: 0 | I73: 0 | J73: 0 | K73: 0 | L73: 0 | M73: 0 | N73: 0 | O73: 0 | P73: 0 | Q73: 0 | R73: 0 | S73: 0 | T73: 0 | U73: 0
U74: 內政部戶政司 編製

Sheet 111年
C1: 收養人數按性別、年齡分
C2: 中華民國111年底 | U2: 單位：人
A3: 區域別 | B3: 性別 | C3: 總 計 | D3: 0歲 | E3: 1歲 | F3: 2歲 | G3: 3歲 | H3: 4歲 | I3: 5歲 | J3: 6歲 | K3: 7歲 | L3: 8歲 | M3: 9歲 | N3: 10歲 | O3: 11歲 | P3: 12歲 | Q3: 13歲 | R3: 14歲 | S3: 15歲 | T3: 16歲 | U3: 17歲
B5: 計 | C5: =SUM(D5:U5) -> 770 | D5: 56 | E5: 67 | F5: 58 | G5: 62 | H5: 60 | I5: 49 | J5: 62 | K5: 42 | L5: 31 | M5: 28 | N5: 32 | O5: 35 | P5: 35 | Q5: 34 | R5: 40 | S5: 33 | T5: 25 | U5: 21
A6: 總 計 | B6: 男 | C6: =SUM(D6:U6) -> 349 | D6: 27 | E6: 32 | F6: 31 | G6: 26 | H6: 40 | I6: 21 | J6: 30 | K6: 21 | L6: 12 | M6: 12 | N6: 10 | O6: 13 | P6: 8 | Q6: 13 | R6: 20 | S6: 13 | T6: 14 | U6: 6
B7: 女 | C7: =SUM(D7:U7) -> 421 | D7: 29 | E7: 35 | F7: 27 | G7: 36 | H7: 20 | I7: 28 | J7: 32 | K7: 21 | L7: 19 | M7: 16 | N7: 22 | O7: 22 | P7: 27 | Q7: 21 | R7: 20 | S7: 20 | T7: 11 | U7: 15
B8: 計 | C8: =SUM(D8:U8) -> 152 | D8: 8 | E8: 10 | F8: 10 | G8: 14 | H8: 14 | I8: 14 | J8: 15 | K8: 6 | L8: 7 | M8: 4 | N8: 7 | O8: 9 | P8: 7 | Q8: 7 | R8: 3 | S8: 7 | T8: 4 | U8: 6
A9: 新 北 市 | B9: 男 | C9: =SUM(D9:U9) -> 70 | D9: 0 | E9: 7 | F9: 5 | G9: 3 | H9: 10 | I9: 7 | J9: 6 | K9: 1 | L9: 6 | M9: 4 | N9: 2 | O9: 3 | P9: 4 | Q9: 4 | R9: 2 | S9: 3 | T9: 2 | U9: 1
B10: 女 | C10: =SUM(D10:U10) -> 82 | D10: 8 | E10: 3 | F10: 5 | G10: 11 | H10: 4 | I10: 7 | J10: 9 | K10: 5 | L10: 1 | M10: 0 | N10: 5 | O10: 6 | P10: 3 | Q10: 3 | R10: 1 | S10: 4 | T10: 2 | U10: 5
B11: 計 | C11: =SUM(D11:U11) -> 122 | D11: 16 | E11: 24 | F11: 11 | G11: 16 | H11: 9 | I11: 4 | J11: 8 | K11: 4 | L11: 7 | M11: 1 | N11: 2 | O11: 2 | P11: 1 | Q11: 3 | R11: 5 | S11: 3 | T11: 4 | U11: 2
A12: 臺 北 市 | B12: 男 | C12: =SUM(D12:U12) -> 62 | D12: 10 | E12: 9 | F12: 5 | G12: 8 | H12: 8 | I12: 2 | J12: 4 | K12: 3 | L12: 2 | M12: 1 | N12: 1 | O12: 1 | P12: 0 | Q12: 0 | R12: 4 | S12: 1 | T12: 2 | U12: 1
B13: 女 | C13: =SUM(D13:U13) -> 60 | D13: 6 | E13: 15 | F13: 6 | G13: 8 | H13: 1 | I13: 2 | J13: 4 | K13: 1 | L13: 5 | M13: 0 | N13: 1 | O13: 1 | P13: 1 | Q13: 3 | R13: 1 | S13: 2 | T13: 2 | U13: 1
B14: 計 | C14: =SUM(D14:U14) -> 49 | D14: 4 | E14: 2 | F14: 5 | G14: 3 | H14: 1 | I14: 2 | J14: 4 | K14: 3 | L14: 2 | M14: 2 | N14: 5 | O14: 1 | P14: 2 | Q14: 6 | R14: 3 | S14: 0 | T14: 2 | U14: 2
A15: 桃 園 市 | B15: 男 | C15: =SUM(D15:U15) -> 22 | D15: 3 | E15: 1 | F15: 4 | G15: 2 | H15: 0 | I15: 1 | J15: 3 | K15: 0 | L15: 1 | M15: 0 | N15: 0 | O15: 0 | P15: 1 | Q15: 2 | R15: 2 | S15: 0 | T15: 1 | U15: 1
B16: 女 | C16: =SUM(D16:U16) -> 27 | D16: 1 | E16: 1 | F16: 1 | G16: 1 | H16: 1 | I16: 1 | J16: 1 | K16: 3 | L16: 1 | M16: 2 | N16: 5 | O16: 1 | P16: 1 | Q16: 4 | R16: 1 | S16: 0 | T16: 1 | U16: 1
B17: 計 | C17: =SUM(D17:U17) -> 85 | D17: 3 | E17: 5 | F17: 2 | G17: 5 | H17: 6 | I17: 1 | J17: 6 | K17: 5 | L17: 4 | M17: 8 | N17: 2 | O17: 6 | P17: 6 | Q17: 8 | R17: 7 | S17: 4 | T17: 4 | U17: 3
A18: 臺 中 市 | B18: 男 | C18: =SUM(D18:U18) -> 35 | D18: 2 | E18: 1 | F18: 1 | G18: 3 | H18: 4 | I18: 0 | J18: 2 | K18: 5 | L18: 1 | M18: 3 | N18: 0 | O18: 2 | P18: 1 | Q18: 2 | R18: 3 | S18: 0 | T18: 3 | U18: 2
B19: 女 | C19: =SUM(D19:U19) -> 50 | D19: 1 | E19: 4 | F19: 1 | G19: 2 | H19: 2 | I19: 1 | J19: 4 | K19: 0 | L19: 3 | M19: 5 | N19: 2 | O19: 4 | P19: 5 | Q19: 6 | R19: 4 | S19: 4 | T19: 1 | U19: 1
B20: 計 | C20: =SUM(D20:U20) -> 100 | D20: 6 | E20: 10 | F20: 8 | G20: 7 | H20: 13 | I20: 8 | J20: 10 | K20: 6 | L20: 4 | M20: 2 | N20: 3 | O20: 1 | P20: 4 | Q20: 2 | R20: 5 | S20: 6 | T20: 2 | U20: 3
A21: 臺 南 市 | B21: 男 | C21: =SUM(D21:U21) -> 49 | D21: 3 | E21: 8 | F21: 3 | G21: 2 | H21: 9 | I21: 4 | J21: 5 | K21: 5 | L21: 1 | M21: 1 | N21: 2 | O21: 1 | P21: 0 | Q21: 1 | R21: 1 | S21: 2 | T21: 1 | U21: 0
B22: 女 | C22: =SUM(D22:U22) -> 51 | D22: 3 | E22: 2 | F22: 5 | G22: 5 | H22: 4 | I22: 4 | J22: 5 | K22: 1 | L22: 3 | M22: 1 | N22: 1 | O22: 0 | P22: 4 | Q22: 1 | R22: 4 | S22: 4 | T22: 1 | U22: 3
B23: 計 | C23: =SUM(D23:U23) -> 74 | D23: 2 | E23: 8 | F23: 6 | G23: 3 | H23: 8 | I23: 9 | J23: 4 | K23: 3 | L23: 2 | M23: 4 | N23: 2 | O23: 6 | P23: 3 | Q23: 1 | R23: 3 | S23: 5 | T23: 2 | U23: 3
A24: 高 雄 市 | B24: 男 | C24: =SUM(D24:U24) -> 35 | D24: 1 | E24: 2 | F24: 6 | G24: 2 | H24: 4 | I24: 4 | J24: 2 | K24: 1 | L24: 1 | M24: 2 | N24: 1 | O24: 2 | P24: 1 | Q24: 1 | R24: 1 | S24: 2 | T24: 2 | U24: 0
B25: 女 | C25: =SUM(D25:U25) -> 39 | D25: 1 | E25: 6 | F25: 0 | G25: 1 | H25: 4 | I25: 5 | J25: 2 | K25: 2 | L25: 1 | M25: 2 | N25: 1 | O25: 4 | P25: 2 | Q25: 0 | R25: 2 | S25: 3 | T25: 0 | U25: 3
B26: 計 | C26: =SUM(D26:U26) -> 18 | D26: 1 | E26: 1 | F26: 4 | G26: 3 | H26: 0 | I26: 0 | J26: 2 | K26: 0 | L26: 0 | M26: 2 | N26: 0 | O26: 0 | P26: 2 | Q26: 1 | R26: 1 | S26: 1 | T26: 0 | U26: 0
A27: 宜 蘭 縣 | B27: 男 | C27: =SUM(D27:U27) -> 9 | D27: 1 | E27: 1 | F27: 3 | G27: 1 | H27: 0 | I27: 0 | J27: 2 | K27: 0 | L27: 0 | M27: 0 | N27: 0 | O27: 0 | P27: 0 | Q27: 0 | R27: 0 | S27: 1 | T27: 0 | U27: 0
B28: 女 | C28: =SUM(D28:U28) -> 9 | D28: 0 | E28: 0 | F28: 1 | G28: 2 | H28: 0 | I28: 0 | J28: 0 | K28: 0 | L28: 0 | M28: 2 | N28: 0 | O28: 0 | P28: 2 | Q28: 1 | R28: 1 | S28: 0 | T28: 0 | U28: 0
B29: 計 | C29: =SUM(D29:U29) -> 14 | D29: 2 | E29: 2 | F29: 0 | G29: 0 | H29: 1 | I29: 0 | J29: 1 | K29: 0 | L29: 0 | M29: 1 | N29: 2 | O29: 1 | P29: 1 | Q29: 1 | R29: 1 | S29: 0 | T29: 1 | U29: 0
A30: 新 竹 縣 | B30: 男 | C30: =SUM(D30:U30) -> 6 | D30: 1 | E30: 1 | F30: 0 | G30: 0 | H30: 1 | I30: 0 | J30: 0 | K30: 0 | L30: 0 | M30: 0 | N30: 0 | O30: 1 | P30: 1 | Q30: 0 | R30: 1 | S30: 0 | T30: 0 | U30: 0
B31: 女 | C31: =SUM(D31:U31) -> 8 | D31: 1 | E31: 1 | F31: 0 | G31: 0 | H31: 0 | I31: 0 | J31: 1 | K31: 0 | L31: 0 | M31: 1 | N31: 2 | O31: 0 | P31: 0 | Q31: 1 | R31: 0 | S31: 0 | T31: 1 | U31: 0
B32: 計 | C32: =SUM(D32:U32) -> 28 | D32: 3 | E32: 0 | F32: 2 | G32: 2 | H32: 1 | I32: 2 | J32: 3 | K32: 3 | L32: 1 | M32: 2 | N32: 2 | O32: 2 | P32: 1 | Q32: 1 | R32: 0 | S32: 1 | T32: 2 | U32: 0
A33: 苗 栗 縣 | B33: 男 | C33: =SUM(D33:U33) -> 10 | D33: 1 | E33: 0 | F33: 0 | G33: 1 | H33: 1 | I33: 1 | J33: 1 | K33: 1 | L33: 0 | M33: 1 | N33: 1 | O33: 0 | P33: 0 | Q33: 1 | R33: 0 | S33: 0 | T33: 1 | U33: 0
B34: 女 | C34: =SUM(D34:U34) -> 18 | D34: 2 | E34: 0 | F34: 2 | G34: 1 | H34: 0 | I34: 1 | J34: 2 | K34: 2 | L34: 1 | M34: 1 | N34: 1 | O34: 2 | P34: 1 | Q34: 0 | R34: 0 | S34: 1 | T34: 1 | U34: 0
B35: 計 | C35: =SUM(D35:U35) -> 12 | D35: 1 | E35: 0 | F35: 0 | G35: 1 | H35: 1 | I35: 1 | J35: 1 | K35: 0 | L35: 1 | M35: 0 | N35: 2 | O35: 2 | P35: 1 | Q35: 0 | R35: 1 | S35: 0 | T35: 0 | U35: 0
A36: 彰 化 縣 | B36: 男 | C36: =SUM(D36:U36) -> 5 | D36: 1 | E36: 0 | F36: 0 | G36: 1 | H36: 1 | I36: 0 | J36: 0 | K36: 0 | L36: 0 | M36: 0 | N36: 1 | O36: 1 | P36: 0 | Q36: 0 | R36: 0 | S36: 0 | T36: 0 | U36: 0
B37: 女 | C37: =SUM(D37:U37) -> 7 | D37: 0 | E37: 0 | F37: 0 | G37: 0 | H37: 0 | I37: 1 | J37: 1 | K37: 0 | L37: 1 | M37: 0 | N37: 1 | O37: 1 | P37: 1 | Q37: 0 | R37: 1 | S37: 0 | T37: 0 | U37: 0
B38: 計 | C38: =SUM(D38:U38) -> 12 | D38: 1 | E38: 0 | F38: 0 | G38: 1 | H38: 1 | I38: 0 | J38: 1 | K38: 1 | L38: 0 | M38: 1 | N38: 0 | O38: 2 | P38: 0 | Q38: 0 | R38: 2 | S38: 2 | T38: 0 | U38: 0
A39: 南 投 縣 | B39: 男 | C39: =SUM(D39:U39) -> 6 | D39: 0 | E39: 0 | F39: 0 | G39: 1 | H39: 0 | I39: 0 | J39: 0 | K39: 0 | L39: 0 | M39: 0 | N39: 0 | O39: 1 | P39: 0 | Q39: 0 | R39: 2 | S39: 2 | T39: 0 | U39: 0
B40: 女 | C40: =SUM(D40:U40) -> 6 | D40: 1 | E40: 0 | F40: 0 | G40: 0 | H40: 1 | I40: 0 | J40: 1 | K40: 1 | L40: 0 | M40: 1 | N40: 0 | O40: 1 | P40: 0 | Q40: 0 | R40: 0 | S40: 0 | T40: 0 | U40: 0
B41: 計 | C41: =SUM(D41:U41) -> 13 | D41: 3 | E41: 0 | F41: 0 | G41: 1 | H41: 1 | I41: 1 | J41: 0 | K41: 0 | L41: 0 | M41: 0 | N41: 1 | O41: 0 | P41: 0 | Q41: 0 | R41: 2 | S41: 2 | T41: 1 | U41: 1
A42: 雲 林 縣 | B42: 男 | C42: =SUM(D42:U42) -> 5 | D42: 0 | E42: 0 | F42: 0 | G42: 1 | H42: 1 | I42: 0 | J42: 0 | K42: 0 | L42: 0 | M42: 0 | N42: 0 | O42: 0 | P42: 0 | Q42: 0 | R42: 1 | S42: 2 | T42: 0 | U42: 0
B43: 女 | C43: =SUM(D43:U43) -> 8 | D43: 3 | E43: 0 | F43: 0 | G43: 0 | H43: 0 | I43: 1 | J43: 0 | K43: 0 | L43: 0 | M43: 0 | N43: 1 | O43: 0 | P43: 0 | Q43: 0 | R43: 1 | S43: 0 | T43: 1 | U43: 1
B44: 計 | C44: =SUM(D44:U44) -> 10 | D44: 2 | E44: 0 | F44: 1 | G44: 1 | H44: 1 | I44: 0 | J44: 1 | K44: 0 | L44: 0 | M44: 0 | N44: 0 | O44: 1 | P44: 0 | Q44: 1 | R44: 2 | S44: 0 | T44: 0 | U44: 0
A45: 嘉 義 縣 | B45: 男 | C45: =SUM(D45:U45) -> 6 | D45: 2 | E45: 0 | F45: 0 | G45: 0 | H45: 0 | I45: 0 | J45: 1 | K45: 0 | L45: 0 | M45: 0 | N45: 0 | O45: 1 | P45: 0 | Q45: 1 | R45: 1 | S45: 0 | T45: 0 | U45: 0
B46: 女 | C46: =SUM(D46:U46) -> 4 | D46: 0 | E46: 0 | F46: 1 | G46: 1 | H46: 1 | I46: 0 | J46: 0 | K46: 0 | L46: 0 | M46: 0 | N46: 0 | O46: 0 | P46: 0 | Q46: 0 | R46: 1 | S46: 0 | T46: 0 | U46: 0
B47: 計 | C47: =SUM(D47:U47) -> 29 | D47: 1 | E47: 2 | F47: 6 | G47: 2 | H47: 0 | I47: 1 | J47: 1 | K47: 3 | L47: 3 | M47: 0 | N47: 2 | O47: 1 | P47: 3 | Q47: 0 | R47: 2 | S47: 0 | T47: 1 | U47: 1
A48: 屏 東 縣 | B48: 男 | C48: =SUM(D48:U48) -> 13 | D48: 1 | E48: 2 | F48: 3 | G48: 0 | H48: 0 | I48: 1 | J48: 1 | K48: 2 | L48: 0 | M48: 0 | N48: 1 | O48: 0 | P48: 0 | Q48: 0 | R48: 1 | S48: 0 | T48: 0 | U48: 1
B49: 女 | C49: =SUM(D49:U49) -> 16 | D49: 0 | E49: 0 | F49: 3 | G49: 2 | H49: 0 | I49: 0 | J49: 0 | K49: 1 | L49: 3 | M49: 0 | N49: 1 | O49: 1 | P49: 3 | Q49: 0 | R49: 1 | S49: 0 | T49: 1 | U49: 0
B50: 計 | C50: =SUM(D50:U50) -> 6 | D50: 0 | E50: 0 | F50: 0 | G50: 1 | H50: 2 | I50: 1 | J50: 1 | K50: 1 | L50: 0 | M50: 0 | N50: 0 | O50: 0 | P50: 0 | Q50: 0 | R50: 0 | S50: 0 | T50: 0 | U50: 0
A51: 臺 東 縣 | B51: 男 | C51: =SUM(D51:U51) -> 3 | D51: 0 | E51: 0 | F51: 0 | G51: 0 | H51: 1 | I51: 0 | J51: 1 | K51: 1 | L51: 0 | M51: 0 | N51: 0 | O51: 0 | P51: 0 | Q51: 0 | R51: 0 | S51: 0 | T51: 0 | U51: 0
B52: 女 | C52: =SUM(D52:U52) -> 3 | D52: 0 | E52: 0 | F52: 0 | G52: 1 | H52: 1 | I52: 1 | J52: 0 | K52: 0 | L52: 0 | M52: 0 | N52: 0 | O52: 0 | P52: 0 | Q52: 0 | R52: 0 | S52: 0 | T52: 0 | U52: 0
B53: 計 | C53: =SUM(D53:U53) -> 2 | D53: 0 | E53: 0 | F53: 0 | G53: 0 | H53: 0 | I53: 1 | J53: 0 | K53: 0 | L53: 0 | M53: 0 | N53: 0 | O53: 0 | P53: 0 | Q53: 0 | R53: 1 | S53: 0 | T53: 0 | U53: 0
A54: 花 蓮 縣 | B54: 男 | C54: =SUM(D54:U54) -> 1 | D54: 0 | E54: 0 | F54: 0 | G54: 0 | H54: 0 | I54: 0 | J54: 0 | K54: 0 | L54: 0 | M54: 0 | N54: 0 | O54: 0 | P54: 0 | Q54: 0 | R54: 1 | S54: 0 | T54: 0 | U54: 0
B55: 女 | C55: =SUM(D55:U55) -> 1 | D55: 0 | E55: 0 | F55: 0 | G55: 0 | H55: 0 | I55: 1 | J55: 0 | K55: 0 | L55: 0 | M55: 0 | N55: 0 | O55: 0 | P55: 0 | Q55: 0 | R55: 0 | S55: 0 | T55: 0 | U55: 0
B56: 計 | C56: =SUM(D56:U56) -> 0 | D56: 0 | E56: 0 | F56: 0 | G56: 0 | H56: 0 | I56: 0 | J56: 0 | K56: 0 | L56: 0 | M56: 0 | N56: 0 | O56: 0 | P56: 0 | Q56: 0 | R56: 0 | S56: 0 | T56: 0 | U56: 0
A57: 澎 湖 縣 | B57: 男 | C57: =SUM(D57:U57) -> 0 | D57: 0 | E57: 0 | F57: 0 | G57: 0 | H57: 0 | I57: 0 | J57: 0 | K57: 0 | L57: 0 | M57: 0 | N57: 0 | O57: 0 | P57: 0 | Q57: 0 | R57: 0 | S57: 0 | T57: 0 | U57: 0
B58: 女 | C58: =SUM(D58:U58) -> 0 | D58: 0 | E58: 0 | F58: 0 | G58: 0 | H58: 0 | I58: 0 | J58: 0 | K58: 0 | L58: 0 | M58: 0 | N58: 0 | O58: 0 | P58: 0 | Q58: 0 | R58: 0 | S58: 0 | T58: 0 | U58: 0
B59: 計 | C59: =SUM(D59:U59) -> 15 | D59: 1 | E59: 1 | F59: 2 | G59: 1 | H59: 0 | I59: 2 | J59: 3 | K59: 2 | L59: 0 | M59: 0 | N59: 0 | O59: 0 | P59: 0 | Q59: 0 | R59: 2 | S59: 1 | T59: 0 | U59: 0
A60: 基 隆 市 | B60: 男 | C60: =SUM(D60:U60) -> 3 | D60: 0 | E60: 0 | F60: 0 | G60: 0 | H60: 0 | I60: 1 | J60: 2 | K60: 0 | L60: 0 | M60: 0 | N60: 0 | O60: 0 | P60: 0 | Q60: 0 | R60: 0 | S60: 0 | T60: 0 | U60: 0
B61: 女 | C61: =SUM(D61:U61) -> 12 | D61: 1 | E61: 1 | F61: 2 | G61: 1 | H61: 0 | I61: 1 | J61: 1 | K61: 2 | L61: 0 | M61: 0 | N61: 0 | O61: 0 | P61: 0 | Q61: 0 | R61: 2 | S61: 1 | T61: 0 | U61: 0
B62: 計 | C62: =SUM(D62:U62) -> 10 | D62: 0 | E62: 1 | F62: 0 | G62: 0 | H62: 0 | I62: 2 | J62: 0 | K62: 0 | L62: 0 | M62: 0 | N62: 1 | O62: 1 | P62: 3 | Q62: 2 | R62: 0 | S62: 0 | T62: 0 | U62: 0
A63: 新 竹 市 | B63: 男 | C63: =SUM(D63:U63) -> 2 | D63: 0 | E63: 0 | F63: 0 | G63: 0 | H63: 0 | I63: 0 | J63: 0 | K63: 0 | L63: 0 | M63: 0 | N63: 1 | O63: 0 | P63: 0 | Q63: 1 | R63: 0 | S63: 0 | T63: 0 | U63: 0
B64: 女 | C64: =SUM(D64:U64) -> 8 | D64: 0 | E64: 1 | F64: 0 | G64: 0 | H64: 0 | I64: 2 | J64: 0 | K64: 0 | L64: 0 | M64: 0 | N64: 0 | O64: 1 | P64: 3 | Q64: 1 | R64: 0 | S64: 0 | T64: 0 | U64: 0
B65: 計 | C65: =SUM(D65:U65) -> 16 | D65: 2 | E65: 1 | F65: 1 | G65: 1 | H65: 1 | I65: 0 | J65: 1 | K65: 2 | L65: 0 | M65: 1 | N65: 1 | O65: 0 | P65: 1 | Q65: 1 | R65: 0 | S65: 1 | T65: 2 | U65: 0
A66: 嘉 義 市 | B66: 男 | C66: =SUM(D66:U66) -> 5 | D66: 1 | E66: 0 | F66: 1 | G66: 1 | H66: 0 | I66: 0 | J66: 0 | K66: 0 | L66: 0 | M66: 0 | N66: 0 | O66: 0 | P66: 0 | Q66: 0 | R66: 0 | S66: 0 | T66: 2 | U66: 0
B67: 女 | C67: =SUM(D67:U67) -> 11 | D67: 1 | E67: 1 | F67: 0 | G67: 0 | H67: 1 | I67: 0 | J67: 1 | K67: 2 | L67: 0 | M67: 1 | N67: 1 | O67: 0 | P67: 1 | Q67: 1 | R67: 0 | S67: 1 | T67: 0 | U67: 0
B68: 計 | C68: =SUM(D68:U68) -> 3 | D68: 0 | E68: 0 | F68: 0 | G68: 0 | H68: 0 | I68: 0 | J68: 0 | K68: 3 | L68: 0 | M68: 0 | N68: 0 | O68: 0 | P68: 0 | Q68: 0 | R68: 0 | S68: 0 | T68: 0 | U68: 0
A69: 金 門 縣 | B69: 男 | C69: =SUM(D69:U69) -> 2 | D69: 0 | E69: 0 | F69: 0 | G69: 0 | H69: 0 | I69: 0 | J69: 0 | K69: 2 | L69: 0 | M69: 0 | N69: 0 | O69: 0 | P69: 0 | Q69: 0 | R69: 0 | S69: 0 | T69: 0 | U69: 0
B70: 女 | C70: =SUM(D70:U70) -> 1 | D70: 0 | E70: 0 | F70: 0 | G70: 0 | H70: 0 | I70: 0 | J70: 0 | K70: 1 | L70: 0 | M70: 0 | N70: 0 | O70: 0 | P70: 0 | Q70: 0 | R70: 0 | S70: 0 | T70: 0 | U70: 0
B71: 計 | C71: =SUM(D71:U71) -> 0 | D71: 0 | E71: 0 | F71: 0 | G71: 0 | H71: 0 | I71: 0 | J71: 0 | K71: 0 | L71: 0 | M71: 0 | N71: 0 | O71: 0 | P71: 0 | Q71: 0 | R71: 0 | S71: 0 | T71: 0 | U71: 0
A72: 連 江 縣 | B72: 男 | C72: =SUM(D72:U72) -> 0 | D72: 0 | E72: 0 | F72: 0 | G72: 0 | H72: 0 | I72: 0 | J72: 0 | K72: 0 | L72: 0 | M72: 0 | N72: 0 | O72: 0 | P72: 0 | Q72: 0 | R72: 0 | S72: 0 | T72: 0 | U72: 0
B73: 女 | C73: =SUM(D73:U73) -> 0 | D73: 0 | E73: 0 | F73: 0 | G73: 0 | H73: 0 | I73: 0 | J73: 0 | K73: 0 | L73: 0 | M73: 0 | N73: 0 | O73: 0 | P73: 0 | Q73: 0 | R73: 0 | S73: 0 | T73: 0 | U73: 0
U74: 內政部戶政司 編製

Sheet 110年
C1: 收養人數按性別、年齡分
C2: 中華民國110年底 | U2: 單位：人
A3: 區域別 | B3: 性別 | C3: 總 計 | D3: 0歲 | E3: 1歲 | F3: 2歲 | G3: 3歲 | H3: 4歲 | I3: 5歲 | J3: 6歲 | K3: 7歲 | L3: 8歲 | M3: 9歲 | N3: 10歲 | O3: 11歲 | P3: 12歲 | Q3: 13歲 | R3: 14歲 | S3: 15歲 | T3: 16歲 | U3: 17歲
B5: 計 | C5: =SUM(D5:U5) -> 755 | D5: 84 | E5: 65 | F5: 52 | G5: 55 | H5: 62 | I5: 51 | J5: 54 | K5: 27 | L5: 34 | M5: 34 | N5: 26 | O5: 39 | P5: 31 | Q5: 28 | R5: 38 | S5: 34 | T5: 26 | U5: 15
A6: 總 計 | B6: 男 | C6: =SUM(D6:U6) -> 367 | D6: 47 | E6: 38 | F6: 31 | G6: 26 | H6: 27 | I6: 29 | J6: 26 | K6: 18 | L6: 12 | M6: 12 | N6: 12 | O6: 18 | P6: 13 | Q6: 12 | R6: 17 | S6: 8 | T6: 12 | U6: 9
B7: 女 | C7: =SUM(D7:U7) -> 388 | D7: 37 | E7: 27 | F7: 21 | G7: 29 | H7: 35 | I7: 22 | J7: 28 | K7: 9 | L7: 22 | M7: 22 | N7: 14 | O7: 21 | P7: 18 | Q7: 16 | R7: 21 | S7: 26 | T7: 14 | U7: 6
B8: 計 | C8: =SUM(D8:U8) -> 155 | D8: 15 | E8: 9 | F8: 9 | G8: 10 | H8: 19 | I8: 15 | J8: 7 | K8: 2 | L8: 8 | M8: 6 | N8: 8 | O8: 10 | P8: 3 | Q8: 4 | R8: 10 | S8: 10 | T8: 5 | U8: 5
A9: 新 北 市 | B9: 男 | C9: =SUM(D9:U9) -> 80 | D9: 10 | E9: 7 | F9: 7 | G9: 5 | H9: 8 | I9: 8 | J9: 4 | K9: 1 | L9: 2 | M9: 4 | N9: 5 | O9: 2 | P9: 2 | Q9: 2 | R9: 6 | S9: 2 | T9: 2 | U9: 3
B10: 女 | C10: =SUM(D10:U10) -> 75 | D10: 5 | E10: 2 | F10: 2 | G10: 5 | H10: 11 | I10: 7 | J10: 3 | K10: 1 | L10: 6 | M10: 2 | N10: 3 | O10: 8 | P10: 1 | Q10: 2 | R10: 4 | S10: 8 | T10: 3 | U10: 2
B11: 計 | C11: =SUM(D11:U11) -> 116 | D11: 24 | E11: 29 | F11: 8 | G11: 14 | H11: 11 | I11: 5 | J11: 3 | K11: 1 | L11: 4 | M11: 3 | N11: 1 | O11: 2 | P11: 2 | Q11: 3 | R11: 2 | S11: 2 | T11: 1 | U11: 1
A12: 臺 北 市 | B12: 男 | C12: =SUM(D12:U12) -> 55 | D12: 13 | E12: 14 | F12: 4 | G12: 4 | H12: 5 | I12: 4 | J12: 2 | K12: 1 | L12: 1 | M12: 0 | N12: 1 | O12: 1 | P12: 1 | Q12: 2 | R12: 2 | S12: 0 | T12: 0 | U12: 0
B13: 女 | C13: =SUM(D13:U13) -> 61 | D13: 11 | E13: 15 | F13: 4 | G13: 10 | H13: 6 | I13: 1 | J13: 1 | K13: 0 | L13: 3 | M13: 3 | N13: 0 | O13: 1 | P13: 1 | Q13: 1 | R13: 0 | S13: 2 | T13: 1 | U13: 1
B14: 計 | C14: =SUM(D14:U14) -> 78 | D14: 5 | E14: 3 | F14: 4 | G14: 3 | H14: 9 | I14: 8 | J14: 10 | K14: 3 | L14: 4 | M14: 7 | N14: 3 | O14: 5 | P14: 2 | Q14: 3 | R14: 3 | S14: 2 | T14: 2 | U14: 2
A15: 桃 園 市 | B15: 男 | C15: =SUM(D15:U15) -> 33 | D15: 3 | E15: 2 | F15: 2 | G15: 1 | H15: 4 | I15: 4 | J15: 2 | K15: 2 | L15: 0 | M15: 3 | N15: 1 | O15: 4 | P15: 0 | Q15: 2 | R15: 0 | S15: 1 | T15: 1 | U15: 1
B16: 女 | C16: =SUM(D16:U16) -> 45 | D16: 2 | E16: 1 | F16: 2 | G16: 2 | H16: 5 | I16: 4 | J16: 8 | K16: 1 | L16: 4 | M16: 4 | N16: 2 | O16: 1 | P16: 2 | Q16: 1 | R16: 3 | S16: 1 | T16: 1 | U16: 1
B17: 計 | C17: =SUM(D17:U17) -> 67 | D17: 9 | E17: 0 | F17: 4 | G17: 6 | H17: 3 | I17: 6 | J17: 7 | K17: 5 | L17: 1 | M17: 2 | N17: 2 | O17: 3 | P17: 4 | Q17: 3 | R17: 5 | S17: 2 | T17: 4 | U17: 1
A18: 臺 中 市 | B18: 男 | C18: =SUM(D18:U18) -> 31 | D18: 4 | E18: 0 | F18: 3 | G18: 3 | H18: 1 | I18: 4 | J18: 5 | K18: 4 | L18: 0 | M18: 0 | N18: 0 | O18: 1 | P18: 2 | Q18: 0 | R18: 0 | S18: 1 | T18: 2 | U18: 1
B19: 女 | C19: =SUM(D19:U19) -> 36 | D19: 5 | E19: 0 | F19: 1 | G19: 3 | H19: 2 | I19: 2 | J19: 2 | K19: 1 | L19: 1 | M19: 2 | N19: 2 | O19: 2 | P19: 2 | Q19: 3 | R19: 5 | S19: 1 | T19: 2 | U19: 0
B20: 計 | C20: =SUM(D20:U20) -> 95 | D20: 14 | E20: 6 | F20: 9 | G20: 9 | H20: 8 | I20: 6 | J20: 6 | K20: 8 | L20: 4 | M20: 2 | N20: 1 | O20: 4 | P20: 5 | Q20: 4 | R20: 3 | S20: 3 | T20: 2 | U20: 1
A21: 臺 南 市 | B21: 男 | C21: =SUM(D21:U21) -> 43 | D21: 6 | E21: 3 | F21: 8 | G21: 5 | H21: 3 | I21: 1 | J21: 2 | K21: 4 | L21: 2 | M21: 0 | N21: 1 | O21: 1 | P21: 3 | Q21: 0 | R21: 1 | S21: 1 | T21: 2 | U21: 0
B22: 女 | C22: =SUM(D22:U22) -> 52 | D22: 8 | E22: 3 | F22: 1 | G22: 4 | H22: 5 | I22: 5 | J22: 4 | K22: 4 | L22: 2 | M22: 2 | N22: 0 | O22: 3 | P22: 2 | Q22: 4 | R22: 2 | S22: 2 | T22: 0 | U22: 1
B23: 計 | C23: =SUM(D23:U23) -> 50 | D23: 2 | E23: 6 | F23: 6 | G23: 2 | H23: 6 | I23: 3 | J23: 3 | K23: 2 | L23: 4 | M23: 0 | N23: 0 | O23: 4 | P23: 0 | Q23: 3 | R23: 3 | S23: 3 | T23: 2 | U23: 1
A24: 高 雄 市 | B24: 男 | C24: =SUM(D24:U24) -> 29 | D24: 1 | E24: 4 | F24: 3 | G24: 1 | H24: 3 | I24: 3 | J24: 1 | K24: 1 | L24: 4 | M24: 0 | N24: 0 | O24: 3 | P24: 0 | Q24: 1 | R24: 1 | S24: 0 | T24: 2 | U24: 1
B25: 女 | C25: =SUM(D25:U25) -> 21 | D25: 1 | E25: 2 | F25: 3 | G25: 1 | H25: 3 | I25: 0 | J25: 2 | K25: 1 | L25: 0 | M25: 0 | N25: 0 | O25: 1 | P25: 0 | Q25: 2 | R25: 2 | S25: 3 | T25: 0 | U25: 0
B26: 計 | C26: =SUM(D26:U26) -> 7 | D26: 0 | E26: 1 | F26: 1 | G26: 0 | H26: 1 | I26: 0 | J26: 0 | K26: 0 | L26: 1 | M26: 0 | N26: 1 | O26: 0 | P26: 0 | Q26: 1 | R26: 0 | S26: 1 | T26: 0 | U26: 0
A27: 宜 蘭 縣 | B27: 男 | C27: =SUM(D27:U27) -> 5 | D27: 0 | E27: 1 | F27: 1 | G27: 0 | H27: 1 | I27: 0 | J27: 0 | K27: 0 | L27: 0 | M27: 0 | N27: 0 | O27: 0 | P27: 0 | Q27: 1 | R27: 0 | S27: 1 | T27: 0 | U27: 0
B28: 女 | C28: =SUM(D28:U28) -> 2 | D28: 0 | E28: 0 | F28: 0 | G28: 0 | H28: 0 | I28: 0 | J28: 0 | K28: 0 | L28: 1 | M28: 0 | N28: 1 | O28: 0 | P28: 0 | Q28: 0 | R28: 0 | S28: 0 | T28: 0 | U28: 0
B29: 計 | C29: =SUM(D29:U29) -> 11 | D29: 2 | E29: 0 | F29: 0 | G29: 0 | H29: 0 | I29: 0 | J29: 1 | K29: 0 | L29: 1 | M29: 1 | N29: 1 | O29: 1 | P29: 0 | Q29: 0 | R29: 1 | S29: 2 | T29: 0 | U29: 1
A30: 新 竹 縣 | B30: 男 | C30: =SUM(D30:U30) -> 4 | D30: 2 | E30: 0 | F30: 0 | G30: 0 | H30: 0 | I30: 0 | J30: 0 | K30: 0 | L30: 0 | M30: 0 | N30: 0 | O30: 0 | P30: 0 | Q30: 0 | R30: 0 | S30: 1 | T30: 0 | U30: 1
B31: 女 | C31: =SUM(D31:U31) -> 7 | D31: 0 | E31: 0 | F31: 0 | G31: 0 | H31: 0 | I31: 0 | J31: 1 | K31: 0 | L31: 1 | M31: 1 | N31: 1 | O31: 1 | P31: 0 | Q31: 0 | R31: 1 | S31: 1 | T31: 0 | U31: 0
B32: 計 | C32: =SUM(D32:U32) -> 21 | D32: 4 | E32: 0 | F32: 1 | G32: 1 | H32: 1 | I32: 2 | J32: 1 | K32: 0 | L32: 2 | M32: 0 | N32: 1 | O32: 1 | P32: 3 | Q32: 1 | R32: 0 | S32: 2 | T32: 1 | U32: 0
A33: 苗 栗 縣 | B33: 男 | C33: =SUM(D33:U33) -> 11 | D33: 3 | E33: 0 | F33: 0 | G33: 1 | H33: 1 | I33: 2 | J33: 0 | K33: 0 | L33: 1 | M33: 0 | N33: 0 | O33: 1 | P33: 2 | Q33: 0 | R33: 0 | S33: 0 | T33: 0 | U33: 0
B34: 女 | C34: =SUM(D34:U34) -> 10 | D34: 1 | E34: 0 | F34: 1 | G34: 0 | H34: 0 | I34: 0 | J34: 1 | K34: 0 | L34: 1 | M34: 0 | N34: 1 | O34: 0 | P34: 1 | Q34: 1 | R34: 0 | S34: 2 | T34: 1 | U34: 0
B35: 計 | C35: =SUM(D35:U35) -> 17 | D35: 3 | E35: 0 | F35: 2 | G35: 1 | H35: 0 | I35: 1 | J35: 1 | K35: 2 | L35: 0 | M35: 0 | N35: 1 | O35: 0 | P35: 1 | Q35: 0 | R35: 4 | S35: 1 | T35: 0 | U35: 0
A36: 彰 化 縣 | B36: 男 | C36: =SUM(D36:U36) -> 11 | D36: 3 | E36: 0 | F36: 1 | G36: 1 | H36: 0 | I36: 0 | J36: 1 | K36: 1 | L36: 0 | M36: 0 | N36: 1 | O36: 0 | P36: 0 | Q36: 0 | R36: 3 | S36: 0 | T36: 0 | U36: 0
B37: 女 | C37: =SUM(D37:U37) -> 6 | D37: 0 | E37: 0 | F37: 1 | G37: 0 | H37: 0 | I37: 1 | J37: 0 | K37: 1 | L37: 0 | M37: 0 | N37: 0 | O37: 0 | P37: 1 | Q37: 0 | R37: 1 | S37: 1 | T37: 0 | U37: 0
B38: 計 | C38: =SUM(D38:U38) -> 10 | D38: 3 | E38: 0 | F38: 1 | G38: 0 | H38: 0 | I38: 1 | J38: 0 | K38: 1 | L38: 0 | M38: 0 | N38: 1 | O38: 1 | P38: 1 | Q38: 1 | R38: 0 | S38: 0 | T38: 0 | U38: 0
A39: 南 投 縣 | B39: 男 | C39: =SUM(D39:U39) -> 4 | D39: 1 | E39: 0 | F39: 0 | G39: 0 | H39: 0 | I39: 0 | J39: 0 | K39: 1 | L39: 0 | M39: 0 | N39: 0 | O39: 1 | P39: 0 | Q39: 1 | R39: 0 | S39: 0 | T39: 0 | U39: 0
B40: 女 | C40: =SUM(D40:U40) -> 6 | D40: 2 | E40: 0 | F40: 1 | G40: 0 | H40: 0 | I40: 1 | J40: 0 | K40: 0 | L40: 0 | M40: 0 | N40: 1 | O40: 0 | P40: 1 | Q40: 0 | R40: 0 | S40: 0 | T40: 0 | U40: 0
B41: 計 | C41: =SUM(D41:U41) -> 22 | D41: 0 | E41: 2 | F41: 0 | G41: 2 | H41: 1 | I41: 2 | J41: 3 | K41: 0 | L41: 0 | M41: 3 | N41: 0 | O41: 3 | P41: 0 | Q41: 0 | R41: 3 | S41: 0 | T41: 3 | U41: 0
A42: 雲 林 縣 | B42: 男 | C42: =SUM(D42:U42) -> 9 | D42: 0 | E42: 0 | F42: 0 | G42: 1 | H42: 1 | I42: 2 | J42: 1 | K42: 0 | L42: 0 | M42: 1 | N42: 0 | O42: 0 | P42: 0 | Q42: 0 | R42: 2 | S42: 0 | T42: 1 | U42: 0
B43: 女 | C43: =SUM(D43:U43) -> 13 | D43: 0 | E43: 2 | F43: 0 | G43: 1 | H43: 0 | I43: 0 | J43: 2 | K43: 0 | L43: 0 | M43: 2 | N43: 0 | O43: 3 | P43: 0 | Q43: 0 | R43: 1 | S43: 0 | T43: 2 | U43: 0
B44: 計 | C44: =SUM(D44:U44) -> 16 | D44: 0 | E44: 1 | F44: 1 | G44: 2 | H44: 0 | I44: 0 | J44: 4 | K44: 0 | L44: 1 | M44: 2 | N44: 1 | O44: 0 | P44: 2 | Q44: 1 | R44: 0 | S44: 1 | T44: 0 | U44: 0
A45: 嘉 義 縣 | B45: 男 | C45: =SUM(D45:U45) -> 7 | D45: 0 | E45: 1 | F45: 1 | G45: 0 | H45: 0 | I45: 0 | J45: 3 | K45: 0 | L45: 0 | M45: 1 | N45: 1 | O45: 0 | P45: 0 | Q45: 0 | R45: 0 | S45: 0 | T45: 0 | U45: 0
B46: 女 | C46: =SUM(D46:U46) -> 9 | D46: 0 | E46: 0 | F46: 0 | G46: 2 | H46: 0 | I46: 0 | J46: 1 | K46: 0 | L46: 1 | M46: 1 | N46: 0 | O46: 0 | P46: 2 | Q46: 1 | R46: 0 | S46: 1 | T46: 0 | U46: 0
B47: 計 | C47: =SUM(D47:U47) -> 29 | D47: 0 | E47: 2 | F47: 4 | G47: 0 | H47: 0 | I47: 0 | J47: 5 | K47: 1 | L47: 2 | M47: 3 | N47: 2 | O47: 1 | P47: 3 | Q47: 2 | R47: 1 | S47: 1 | T47: 2 | U47: 0
A48: 屏 東 縣 | B48: 男 | C48: =SUM(D48:U48) -> 15 | D48: 0 | E48: 2 | F48: 1 | G48: 0 | H48: 0 | I48: 0 | J48: 3 | K48: 1 | L48: 1 | M48: 1 | N48: 1 | O48: 0 | P48: 1 | Q48: 2 | R48: 1 | S48: 0 | T48: 1 | U48: 0
B49: 女 | C49: =SUM(D49:U49) -> 14 | D49: 0 | E49: 0 | F49: 3 | G49: 0 | H49: 0 | I49: 0 | J49: 2 | K49: 0 | L49: 1 | M49: 2 | N49: 1 | O49: 1 | P49: 2 | Q49: 0 | R49: 0 | S49: 1 | T49: 1 | U49: 0
B50: 計 | C50: =SUM(D50:U50) -> 9 | D50: 1 | E50: 2 | F50: 0 | G50: 2 | H50: 0 | I50: 1 | J50: 0 | K50: 0 | L50: 0 | M50: 0 | N50: 0 | O50: 0 | P50: 0 | Q50: 1 | R50: 1 | S50: 0 | T50: 1 | U50: 0
A51: 臺 東 縣 | B51: 男 | C51: =SUM(D51:U51) -> 4 | D51: 1 | E51: 1 | F51: 0 | G51: 2 | H51: 0 | I51: 0 | J51: 0 | K51: 0 | L51: 0 | M51: 0 | N51: 0 | O51: 0 | P51: 0 | Q51: 0 | R51: 0 | S51: 0 | T51: 0 | U51: 0
B52: 女 | C52: =SUM(D52:U52) -> 5 | D52: 0 | E52: 1 | F52: 0 | G52: 0 | H52: 0 | I52: 1 | J52: 0 | K52: 0 | L52: 0 | M52: 0 | N52: 0 | O52: 0 | P52: 0 | Q52: 1 | R52: 1 | S52: 0 | T52: 1 | U52: 0
B53: 計 | C53: =SUM(D53:U53) -> 24 | D53: 1 | E53: 3 | F53: 1 | G53: 1 | H53: 1 | I53: 0 | J53: 1 | K53: 1 | L53: 1 | M53: 1 | N53: 3 | O53: 1 | P53: 2 | Q53: 0 | R53: 2 | S53: 2 | T53: 2 | U53: 1
A54: 花 蓮 縣 | B54: 男 | C54: =SUM(D54:U54) -> 10 | D54: 0 | E54: 3 | F54: 0 | G54: 0 | H54: 0 | I54: 0 | J54: 1 | K54: 1 | L54: 0 | M54: 1 | N54: 1 | O54: 1 | P54: 1 | Q54: 0 | R54: 1 | S54: 0 | T54: 0 | U54: 0
B55: 女 | C55: =SUM(D55:U55) -> 14 | D55: 1 | E55: 0 | F55: 1 | G55: 1 | H55: 1 | I55: 0 | J55: 0 | K55: 0 | L55: 1 | M55: 0 | N55: 2 | O55: 0 | P55: 1 | Q55: 0 | R55: 1 | S55: 2 | T55: 2 | U55: 1
B56: 計 | C56: =SUM(D56:U56) -> 1 | D56: 1 | E56: 0 | F56: 0 | G56: 0 | H56: 0 | I56: 0 | J56: 0 | K56: 0 | L56: 0 | M56: 0 | N56: 0 | O56: 0 | P56: 0 | Q56: 0 | R56: 0 | S56: 0 | T56: 0 | U56: 0
A57: 澎 湖 縣 | B57: 男 | C57: =SUM(D57:U57) -> 0 | D57: 0 | E57: 0 | F57: 0 | G57: 0 | H57: 0 | I57: 0 | J57: 0 | K57: 0 | L57: 0 | M57: 0 | N57: 0 | O57: 0 | P57: 0 | Q57: 0 | R57: 0 | S57: 0 | T57: 0 | U57: 0
B58: 女 | C58: =SUM(D58:U58) -> 1 | D58: 1 | E58: 0 | F58: 0 | G58: 0 | H58: 0 | I58: 0 | J58: 0 | K58: 0 | L58: 0 | M58: 0 | N58: 0 | O58: 0 | P58: 0 | Q58: 0 | R58: 0 | S58: 0 | T58: 0 | U58: 0
B59: 計 | C59: =SUM(D59:U59) -> 8 | D59: 0 | E59: 0 | F59: 0 | G59: 0 | H59: 0 | I59: 1 | J59: 1 | K59: 0 | L59: 0 | M59: 3 | N59: 0 | O59: 1 | P59: 1 | Q59: 0 | R59: 0 | S59: 0 | T59: 0 | U59: 1
A60: 基 隆 市 | B60: 男 | C60: =SUM(D60:U60) -> 6 | D60: 0 | E60: 0 | F60: 0 | G60: 0 | H60: 0 | I60: 1 | J60: 1 | K60: 0 | L60: 0 | M60: 1 | N60: 0 | O60: 1 | P60: 1 | Q60: 0 | R60: 0 | S60: 0 | T60: 0 | U60: 1
B61: 女 | C61: =SUM(D61:U61) -> 2 | D61: 0 | E61: 0 | F61: 0 | G61: 0 | H61: 0 | I61: 0 | J61: 0 | K61: 0 | L61: 0 | M61: 2 | N61: 0 | O61: 0 | P61: 0 | Q61: 0 | R61: 0 | S61: 0 | T61: 0 | U61: 0
B62: 計 | C62: =SUM(D62:U62) -> 10 | D62: 0 | E62: 1 | F62: 1 | G62: 1 | H62: 2 | I62: 0 | J62: 1 | K62: 0 | L62: 0 | M62: 0 | N62: 0 | O62: 2 | P62: 0 | Q62: 1 | R62: 0 | S62: 1 | T62: 0 | U62: 0
A63: 新 竹 市 | B63: 男 | C63: =SUM(D63:U63) -> 5 | D63: 0 | E63: 0 | F63: 0 | G63: 1 | H63: 0 | I63: 0 | J63: 0 | K63: 0 | L63: 0 | M63: 0 | N63: 0 | O63: 2 | P63: 0 | Q63: 1 | R63: 0 | S63: 1 | T63: 0 | U63: 0
B64: 女 | C64: =SUM(D64:U64) -> 5 | D64: 0 | E64: 1 | F64: 1 | G64: 0 | H64: 2 | I64: 0 | J64: 1 | K64: 0 | L64: 0 | M64: 0 | N64: 0 | O64: 0 | P64: 0 | Q64: 0 | R64: 0 | S64: 0 | T64: 0 | U64: 0
B65: 計 | C65: =SUM(D65:U65) -> 7 | D65: 0 | E65: 0 | F65: 0 | G65: 0 | H65: 0 | I65: 0 | J65: 0 | K65: 1 | L65: 1 | M65: 1 | N65: 0 | O65: 0 | P65: 2 | Q65: 0 | R65: 0 | S65: 1 | T65: 1 | U65: 0
A66: 嘉 義 市 | B66: 男 | C66: =SUM(D66:U66) -> 3 | D66: 0 | E66: 0 | F66: 0 | G66: 0 | H66: 0 | I66: 0 | J66: 0 | K66: 1 | L66: 1 | M66: 0 | N66: 0 | O66: 0 | P66: 0 | Q66: 0 | R66: 0 | S66: 0 | T66: 1 | U66: 0
B67: 女 | C67: =SUM(D67:U67) -> 4 | D67: 0 | E67: 0 | F67: 0 | G67: 0 | H67: 0 | I67: 0 | J67: 0 | K67: 0 | L67: 0 | M67: 1 | N67: 0 | O67: 0 | P67: 2 | Q67: 0 | R67: 0 | S67: 1 | T67: 0 | U67: 0
B68: 計 | C68: =SUM(D68:U68) -> 2 | D68: 0 | E68: 0 | F68: 0 | G68: 1 | H68: 0 | I68: 0 | J68: 0 | K68: 0 | L68: 0 | M68: 0 | N68: 0 | O68: 0 | P68: 0 | Q68: 0 | R68: 0 | S68: 0 | T68: 0 | U68: 1
A69: 金 門 縣 | B69: 男 | C69: =SUM(D69:U69) -> 2 | D69: 0 | E69: 0 | F69: 0 | G69: 1 | H69: 0 | I69: 0 | J69: 0 | K69: 0 | L69: 0 | M69: 0 | N69: 0 | O69: 0 | P69: 0 | Q69: 0 | R69: 0 | S69: 0 | T69: 0 | U69: 1
B70: 女 | C70: =SUM(D70:U70) -> 0 | D70: 0 | E70: 0 | F70: 0 | G70: 0 | H70: 0 | I70: 0 | J70: 0 | K70: 0 | L70: 0 | M70: 0 | N70: 0 | O70: 0 | P70: 0 | Q70: 0 | R70: 0 | S70: 0 | T70: 0 | U70: 0
B71: 計 | C71: =SUM(D71:U71) -> 0 | D71: 0 | E71: 0 | F71: 0 | G71: 0 | H71: 0 | I71: 0 | J71: 0 | K71: 0 | L71: 0 | M71: 0 | N71: 0 | O71: 0 | P71: 0 | Q71: 0 | R71: 0 | S71: 0 | T71: 0 | U71: 0
A72: 連 江 縣 | B72: 男 | C72: =SUM(D72:U72) -> 0 | D72: 0 | E72: 0 | F72: 0 | G72: 0 | H72: 0 | I72: 0 | J72: 0 | K72: 0 | L72: 0 | M72: 0 | N72: 0 | O72: 0 | P72: 0 | Q72: 0 | R72: 0 | S72: 0 | T72: 0 | U72: 0
B73: 女 | C73: =SUM(D73:U73) -> 0 | D73: 0 | E73: 0 | F73: 0 | G73: 0 | H73: 0 | I73: 0 | J73: 0 | K73: 0 | L73: 0 | M73: 0 | N73: 0 | O73: 0 | P73: 0 | Q73: 0 | R73: 0 | S73: 0 | T73: 0 | U73: 0
U74: 內政部戶政司 編製

Sheet 109年
C1: 收養人數按性別、年齡分
C2: 中華民國109年底 | U2: 單位：人
A3: 區域別 | B3: 性別 | C3: 總 計 | D3: 0歲 | E3: 1歲 | F3: 2歲 | G3: 3歲 | H3: 4歲 | I3: 5歲 | J3: 6歲 | K3: 7歲 | L3: 8歲 | M3: 9歲 | N3: 10歲 | O3: 11歲 | P3: 12歲 | Q3: 13歲 | R3: 14歲 | S3: 15歲 | T3: 16歲 | U3: 17歲
B5: 計 | C5: =SUM(D5:U5) -> 891 | D5: 91 | E5: 92 | F5: 69 | G5: 72 | H5: 56 | I5: 63 | J5: 52 | K5: 37 | L5: 29 | M5: 33 | N5: 34 | O5: 42 | P5: 48 | Q5: 29 | R5: 41 | S5: 43 | T5: 31 | U5: 29
A6: 總 計 | B6: 男 | C6: =SUM(D6:U6) -> 447 | D6: 47 | E6: 42 | F6: 37 | G6: 33 | H6: 27 | I6: 34 | J6: 29 | K6: 21 | L6: 17 | M6: 19 | N6: 12 | O6: 19 | P6: 29 | Q6: 13 | R6: 19 | S6: 19 | T6: 16 | U6: 14
B7: 女 | C7: =SUM(D7:U7) -> 444 | D7: 44 | E7: 50 | F7: 32 | G7: 39 | H7: 29 | I7: 29 | J7: 23 | K7: 16 | L7: 12 | M7: 14 | N7: 22 | O7: 23 | P7: 19 | Q7: 16 | R7: 22 | S7: 24 | T7: 15 | U7: 15
B8: 計 | C8: =SUM(D8:U8) -> 171 | D8: 14 | E8: 15 | F8: 9 | G8: 11 | H8: 16 | I8: 14 | J8: 11 | K8: 12 | L8: 6 | M8: 7 | N8: 8 | O8: 10 | P8: 10 | Q8: 5 | R8: 5 | S8: 8 | T8: 5 | U8: 5
A9: 新 北 市 | B9: 男 | C9: =SUM(D9:U9) -> 80 | D9: 7 | E9: 5 | F9: 6 | G9: 6 | H9: 8 | I9: 8 | J9: 6 | K9: 10 | L9: 1 | M9: 2 | N9: 2 | O9: 3 | P9: 5 | Q9: 1 | R9: 1 | S9: 3 | T9: 5 | U9: 1
B10: 女 | C10: =SUM(D10:U10) -> 91 | D10: 7 | E10: 10 | F10: 3 | G10: 5 | H10: 8 | I10: 6 | J10: 5 | K10: 2 | L10: 5 | M10: 5 | N10: 6 | O10: 7 | P10: 5 | Q10: 4 | R10: 4 | S10: 5 | T10: 0 | U10: 4
B11: 計 | C11: =SUM(D11:U11) -> 178 | D11: 37 | E11: 39 | F11: 23 | G11: 28 | H11: 5 | I11: 7 | J11: 6 | K11: 1 | L11: 2 | M11: 1 | N11: 3 | O11: 5 | P11: 9 | Q11: 0 | R11: 6 | S11: 3 | T11: 2 | U11: 1
A12: 臺 北 市 | B12: 男 | C12: =SUM(D12:U12) -> 86 | D12: 19 | E12: 19 | F12: 12 | G12: 10 | H12: 1 | I12: 3 | J12: 2 | K12: 1 | L12: 2 | M12: 0 | N12: 0 | O12: 3 | P12: 6 | Q12: 0 | R12: 4 | S12: 3 | T12: 1 | U12: 0
B13: 女 | C13: =SUM(D13:U13) -> 92 | D13: 18 | E13: 20 | F13: 11 | G13: 18 | H13: 4 | I13: 4 | J13: 4 | K13: 0 | L13: 0 | M13: 1 | N13: 3 | O13: 2 | P13: 3 | Q13: 0 | R13: 2 | S13: 0 | T13: 1 | U13: 1
B14: 計 | C14: =SUM(D14:U14) -> 79 | D14: 6 | E14: 2 | F14: 1 | G14: 4 | H14: 5 | I14: 6 | J14: 6 | K14: 4 | L14: 2 | M14: 4 | N14: 6 | O14: 3 | P14: 8 | Q14: 1 | R14: 3 | S14: 7 | T14: 4 | U14: 7
A15: 桃 園 市 | B15: 男 | C15: =SUM(D15:U15) -> 42 | D15: 4 | E15: 1 | F15: 1 | G15: 1 | H15: 3 | I15: 2 | J15: 4 | K15: 2 | L15: 2 | M15: 4 | N15: 1 | O15: 2 | P15: 3 | Q15: 0 | R15: 1 | S15: 4 | T15: 2 | U15: 5
B16: 女 | C16: =SUM(D16:U16) -> 37 | D16: 2 | E16: 1 | F16: 0 | G16: 3 | H16: 2 | I16: 4 | J16: 2 | K16: 2 | L16: 0 | M16: 0 | N16: 5 | O16: 1 | P16: 5 | Q16: 1 | R16: 2 | S16: 3 | T16: 2 | U16: 2
B17: 計 | C17: =SUM(D17:U17) -> 73 | D17: 6 | E17: 2 | F17: 4 | G17: 5 | H17: 2 | I17: 3 | J17: 6 | K17: 6 | L17: 5 | M17: 6 | N17: 4 | O17: 8 | P17: 3 | Q17: 2 | R17: 3 | S17: 6 | T17: 1 | U17: 1
A18: 臺 中 市 | B18: 男 | C18: =SUM(D18:U18) -> 31 | D18: 2 | E18: 1 | F18: 2 | G18: 3 | H18: 1 | I18: 0 | J18: 2 | K18: 2 | L18: 4 | M18: 4 | N18: 0 | O18: 2 | P18: 2 | Q18: 1 | R18: 2 | S18: 3 | T18: 0 | U18: 0
B19: 女 | C19: =SUM(D19:U19) -> 42 | D19: 4 | E19: 1 | F19: 2 | G19: 2 | H19: 1 | I19: 3 | J19: 4 | K19: 4 | L19: 1 | M19: 2 | N19: 4 | O19: 6 | P19: 1 | Q19: 1 | R19: 1 | S19: 3 | T19: 1 | U19: 1
B20: 計 | C20: =SUM(D20:U20) -> 100 | D20: 10 | E20: 12 | F20: 12 | G20: 10 | H20: 8 | I20: 7 | J20: 4 | K20: 4 | L20: 5 | M20: 2 | N20: 2 | O20: 1 | P20: 4 | Q20: 4 | R20: 5 | S20: 5 | T20: 5 | U20: 0
A21: 臺 南 市 | B21: 男 | C21: =SUM(D21:U21) -> 47 | D21: 5 | E21: 6 | F21: 7 | G21: 5 | H21: 4 | I21: 3 | J21: 4 | K21: 0 | L21: 2 | M21: 1 | N21: 0 | O21: 1 | P21: 2 | Q21: 3 | R21: 3 | S21: 0 | T21: 1 | U21: 0
B22: 女 | C22: =SUM(D22:U22) -> 53 | D22: 5 | E22: 6 | F22: 5 | G22: 5 | H22: 4 | I22: 4 | J22: 0 | K22: 4 | L22: 3 | M22: 1 | N22: 2 | O22: 0 | P22: 2 | Q22: 1 | R22: 2 | S22: 5 | T22: 4 | U22: 0
B23: 計 | C23: =SUM(D23:U23) -> 67 | D23: 4 | E23: 9 | F23: 3 | G23: 3 | H23: 3 | I23: 6 | J23: 0 | K23: 1 | L23: 3 | M23: 3 | N23: 3 | O23: 5 | P23: 2 | Q23: 6 | R23: 6 | S23: 4 | T23: 3 | U23: 3
A24: 高 雄 市 | B24: 男 | C24: =SUM(D24:U24) -> 32 | D24: 3 | E24: 3 | F24: 1 | G24: 0 | H24: 2 | I24: 2 | J24: 0 | K24: 0 | L24: 3 | M24: 1 | N24: 3 | O24: 3 | P24: 2 | Q24: 4 | R24: 3 | S24: 2 | T24: 0 | U24: 0
B25: 女 | C25: =SUM(D25:U25) -> 35 | D25: 1 | E25: 6 | F25: 2 | G25: 3 | H25: 1 | I25: 4 | J25: 0 | K25: 1 | L25: 0 | M25: 2 | N25: 0 | O25: 2 | P25: 0 | Q25: 2 | R25: 3 | S25: 2 | T25: 3 | U25: 3
B26: 計 | C26: =SUM(D26:U26) -> 10 | D26: 0 | E26: 3 | F26: 0 | G26: 0 | H26: 1 | I26: 2 | J26: 1 | K26: 1 | L26: 0 | M26: 1 | N26: 0 | O26: 1 | P26: 0 | Q26: 0 | R26: 0 | S26: 0 | T26: 0 | U26: 0
A27: 宜 蘭 縣 | B27: 男 | C27: =SUM(D27:U27) -> 4 | D27: 0 | E27: 1 | F27: 0 | G27: 0 | H27: 0 | I27: 1 | J27: 0 | K27: 1 | L27: 0 | M27: 0 | N27: 0 | O27: 1 | P27: 0 | Q27: 0 | R27: 0 | S27: 0 | T27: 0 | U27: 0
B28: 女 | C28: =SUM(D28:U28) -> 6 | D28: 0 | E28: 2 | F28: 0 | G28: 0 | H28: 1 | I28: 1 | J28: 1 | K28: 0 | L28: 0 | M28: 1 | N28: 0 | O28: 0 | P28: 0 | Q28: 0 | R28: 0 | S28: 0 | T28: 0 | U28: 0
B29: 計 | C29: =SUM(D29:U29) -> 6 | D29: 1 | E29: 0 | F29: 0 | G29: 0 | H29: 1 | I29: 1 | J29: 0 | K29: 1 | L29: 0 | M29: 0 | N29: 0 | O29: 0 | P29: 1 | Q29: 0 | R29: 0 | S29: 0 | T29: 0 | U29: 1
A30: 新 竹 縣 | B30: 男 | C30: =SUM(D30:U30) -> 4 | D30: 1 | E30: 0 | F30: 0 | G30: 0 | H30: 1 | I30: 1 | J30: 0 | K30: 0 | L30: 0 | M30: 0 | N30: 0 | O30: 0 | P30: 1 | Q30: 0 | R30: 0 | S30: 0 | T30: 0 | U30: 0
B31: 女 | C31: =SUM(D31:U31) -> 2 | D31: 0 | E31: 0 | F31: 0 | G31: 0 | H31: 0 | I31: 0 | J31: 0 | K31: 1 | L31: 0 | M31: 0 | N31: 0 | O31: 0 | P31: 0 | Q31: 0 | R31: 0 | S31: 0 | T31: 0 | U31: 1
B32: 計 | C32: =SUM(D32:U32) -> 31 | D32: 2 | E32: 1 | F32: 4 | G32: 2 | H32: 1 | I32: 5 | J32: 1 | K32: 1 | L32: 0 | M32: 2 | N32: 2 | O32: 3 | P32: 0 | Q32: 3 | R32: 0 | S32: 1 | T32: 2 | U32: 1
A33: 苗 栗 縣 | B33: 男 | C33: =SUM(D33:U33) -> 21 | D33: 1 | E33: 1 | F33: 2 | G33: 2 | H33: 0 | I33: 5 | J33: 1 | K33: 1 | L33: 0 | M33: 0 | N33: 2 | O33: 2 | P33: 0 | Q33: 1 | R33: 0 | S33: 0 | T33: 2 | U33: 1
B34: 女 | C34: =SUM(D34:U34) -> 10 | D34: 1 | E34: 0 | F34: 2 | G34: 0 | H34: 1 | I34: 0 | J34: 0 | K34: 0 | L34: 0 | M34: 2 | N34: 0 | O34: 1 | P34: 0 | Q34: 2 | R34: 0 | S34: 1 | T34: 0 | U34: 0
B35: 計 | C35: =SUM(D35:U35) -> 24 | D35: 3 | E35: 2 | F35: 2 | G35: 1 | H35: 3 | I35: 1 | J35: 1 | K35: 0 | L35: 0 | M35: 1 | N35: 0 | O35: 1 | P35: 1 | Q35: 2 | R35: 2 | S35: 1 | T35: 2 | U35: 1
A36: 彰 化 縣 | B36: 男 | C36: =SUM(D36:U36) -> 17 | D36: 2 | E36: 2 | F36: 0 | G36: 1 | H36: 2 | I36: 1 | J36: 1 | K36: 0 | L36: 0 | M36: 1 | N36: 0 | O36: 0 | P36: 0 | Q36: 1 | R36: 2 | S36: 1 | T36: 2 | U36: 1
B37: 女 | C37: =SUM(D37:U37) -> 7 | D37: 1 | E37: 0 | F37: 2 | G37: 0 | H37: 1 | I37: 0 | J37: 0 | K37: 0 | L37: 0 | M37: 0 | N37: 0 | O37: 1 | P37: 1 | Q37: 1 | R37: 0 | S37: 0 | T37: 0 | U37: 0
B38: 計 | C38: =SUM(D38:U38) -> 18 | D38: 1 | E38: 0 | F38: 0 | G38: 1 | H38: 1 | I38: 3 | J38: 2 | K38: 0 | L38: 0 | M38: 0 | N38: 2 | O38: 0 | P38: 2 | Q38: 1 | R38: 0 | S38: 1 | T38: 2 | U38: 2
A39: 南 投 縣 | B39: 男 | C39: =SUM(D39:U39) -> 10 | D39: 1 | E39: 0 | F39: 0 | G39: 0 | H39: 0 | I39: 1 | J39: 2 | K39: 0 | L39: 0 | M39: 0 | N39: 2 | O39: 0 | P39: 2 | Q39: 1 | R39: 0 | S39: 0 | T39: 1 | U39: 0
B40: 女 | C40: =SUM(D40:U40) -> 8 | D40: 0 | E40: 0 | F40: 0 | G40: 1 | H40: 1 | I40: 2 | J40: 0 | K40: 0 | L40: 0 | M40: 0 | N40: 0 | O40: 0 | P40: 0 | Q40: 0 | R40: 0 | S40: 1 | T40: 1 | U40: 2
B41: 計 | C41: =SUM(D41:U41) -> 24 | D41: 0 | E41: 4 | F41: 0 | G41: 1 | H41: 2 | I41: 1 | J41: 4 | K41: 1 | L41: 2 | M41: 1 | N41: 0 | O41: 2 | P41: 0 | Q41: 0 | R41: 3 | S41: 1 | T41: 1 | U41: 1
A42: 雲 林 縣 | B42: 男 | C42: =SUM(D42:U42) -> 14 | D42: 0 | E42: 1 | F42: 0 | G42: 1 | H42: 1 | I42: 0 | J42: 2 | K42: 1 | L42: 2 | M42: 1 | N42: 0 | O42: 2 | P42: 0 | Q42: 0 | R42: 0 | S42: 1 | T42: 1 | U42: 1
B43: 女 | C43: =SUM(D43:U43) -> 10 | D43: 0 | E43: 3 | F43: 0 | G43: 0 | H43: 1 | I43: 1 | J43: 2 | K43: 0 | L43: 0 | M43: 0 | N43: 0 | O43: 0 | P43: 0 | Q43: 0 | R43: 3 | S43: 0 | T43: 0 | U43: 0
B44: 計 | C44: =SUM(D44:U44) -> 18 | D44: 1 | E44: 0 | F44: 1 | G44: 1 | H44: 2 | I44: 2 | J44: 2 | K44: 1 | L44: 0 | M44: 2 | N44: 1 | O44: 0 | P44: 1 | Q44: 0 | R44: 2 | S44: 0 | T44: 0 | U44: 2
A45: 嘉 義 縣 | B45: 男 | C45: =SUM(D45:U45) -> 11 | D45: 0 | E45: 0 | F45: 0 | G45: 1 | H45: 2 | I45: 2 | J45: 1 | K45: 0 | L45: 0 | M45: 2 | N45: 0 | O45: 0 | P45: 1 | Q45: 0 | R45: 0 | S45: 0 | T45: 0 | U45: 2
B46: 女 | C46: =SUM(D46:U46) -> 7 | D46: 1 | E46: 0 | F46: 1 | G46: 0 | H46: 0 | I46: 0 | J46: 1 | K46: 1 | L46: 0 | M46: 0 | N46: 1 | O46: 0 | P46: 0 | Q46: 0 | R46: 2 | S46: 0 | T46: 0 | U46: 0
B47: 計 | C47: =SUM(D47:U47) -> 22 | D47: 4 | E47: 1 | F47: 3 | G47: 0 | H47: 1 | I47: 2 | J47: 2 | K47: 0 | L47: 2 | M47: 1 | N47: 0 | O47: 3 | P47: 0 | Q47: 1 | R47: 0 | S47: 1 | T47: 1 | U47: 0
A48: 屏 東 縣 | B48: 男 | C48: =SUM(D48:U48) -> 11 | D48: 1 | E48: 0 | F48: 2 | G48: 0 | H48: 0 | I48: 2 | J48: 1 | K48: 0 | L48: 1 | M48: 1 | N48: 0 | O48: 0 | P48: 0 | Q48: 1 | R48: 0 | S48: 1 | T48: 1 | U48: 0
B49: 女 | C49: =SUM(D49:U49) -> 11 | D49: 3 | E49: 1 | F49: 1 | G49: 0 | H49: 1 | I49: 0 | J49: 1 | K49: 0 | L49: 1 | M49: 0 | N49: 0 | O49: 3 | P49: 0 | Q49: 0 | R49: 0 | S49: 0 | T49: 0 | U49: 0
B50: 計 | C50: =SUM(D50:U50) -> 12 | D50: 0 | E50: 1 | F50: 1 | G50: 2 | H50: 1 | I50: 0 | J50: 2 | K50: 0 | L50: 0 | M50: 0 | N50: 2 | O50: 0 | P50: 1 | Q50: 0 | R50: 0 | S50: 1 | T50: 0 | U50: 1
A51: 臺 東 縣 | B51: 男 | C51: =SUM(D51:U51) -> 9 | D51: 0 | E51: 1 | F51: 1 | G51: 2 | H51: 0 | I51: 0 | J51: 2 | K51: 0 | L51: 0 | M51: 0 | N51: 1 | O51: 0 | P51: 1 | Q51: 0 | R51: 0 | S51: 0 | T51: 0 | U51: 1
B52: 女 | C52: =SUM(D52:U52) -> 3 | D52: 0 | E52: 0 | F52: 0 | G52: 0 | H52: 1 | I52: 0 | J52: 0 | K52: 0 | L52: 0 | M52: 0 | N52: 1 | O52: 0 | P52: 0 | Q52: 0 | R52: 0 | S52: 1 | T52: 0 | U52: 0
B53: 計 | C53: =SUM(D53:U53) -> 14 | D53: 0 | E53: 0 | F53: 2 | G53: 0 | H53: 0 | I53: 2 | J53: 0 | K53: 0 | L53: 1 | M53: 0 | N53: 1 | O53: 0 | P53: 4 | Q53: 1 | R53: 1 | S53: 1 | T53: 1 | U53: 0
A54: 花 蓮 縣 | B54: 男 | C54: =SUM(D54:U54) -> 9 | D54: 0 | E54: 0 | F54: 1 | G54: 0 | H54: 0 | I54: 2 | J54: 0 | K54: 0 | L54: 0 | M54: 0 | N54: 1 | O54: 0 | P54: 4 | Q54: 0 | R54: 1 | S54: 0 | T54: 0 | U54: 0
B55: 女 | C55: =SUM(D55:U55) -> 5 | D55: 0 | E55: 0 | F55: 1 | G55: 0 | H55: 0 | I55: 0 | J55: 0 | K55: 0 | L55: 1 | M55: 0 | N55: 0 | O55: 0 | P55: 0 | Q55: 1 | R55: 0 | S55: 1 | T55: 1 | U55: 0
B56: 計 | C56: =SUM(D56:U56) -> 5 | D56: 1 | E56: 0 | F56: 1 | G56: 1 | H56: 0 | I56: 0 | J56: 0 | K56: 0 | L56: 0 | M56: 0 | N56: 0 | O56: 0 | P56: 0 | Q56: 1 | R56: 0 | S56: 0 | T56: 1 | U56: 0
A57: 澎 湖 縣 | B57: 男 | C57: =SUM(D57:U57) -> 1 | D57: 0 | E57: 0 | F57: 1 | G57: 0 | H57: 0 | I57: 0 | J57: 0 | K57: 0 | L57: 0 | M57: 0 | N57: 0 | O57: 0 | P57: 0 | Q57: 0 | R57: 0 | S57: 0 | T57: 0 | U57: 0
B58: 女 | C58: =SUM(D58:U58) -> 4 | D58: 1 | E58: 0 | F58: 0 | G58: 1 | H58: 0 | I58: 0 | J58: 0 | K58: 0 | L58: 0 | M58: 0 | N58: 0 | O58: 0 | P58: 0 | Q58: 1 | R58: 0 | S58: 0 | T58: 1 | U58: 0
B59: 計 | C59: =SUM(D59:U59) -> 12 | D59: 0 | E59: 0 | F59: 0 | G59: 1 | H59: 0 | I59: 0 | J59: 1 | K59: 2 | L59: 1 | M59: 0 | N59: 0 | O59: 0 | P59: 1 | Q59: 2 | R59: 2 | S59: 1 | T59: 0 | U59: 1
A60: 基 隆 市 | B60: 男 | C60: =SUM(D60:U60) -> 3 | D60: 0 | E60: 0 | F60: 0 | G60: 0 | H60: 0 | I60: 0 | J60: 0 | K60: 2 | L60: 0 | M60: 0 | N60: 0 | O60: 0 | P60: 0 | Q60: 0 | R60: 0 | S60: 0 | T60: 0 | U60: 1
B61: 女 | C61: =SUM(D61:U61) -> 9 | D61: 0 | E61: 0 | F61: 0 | G61: 1 | H61: 0 | I61: 0 | J61: 1 | K61: 0 | L61: 1 | M61: 0 | N61: 0 | O61: 0 | P61: 1 | Q61: 2 | R61: 2 | S61: 1 | T61: 0 | U61: 0
B62: 計 | C62: =SUM(D62:U62) -> 16 | D62: 1 | E62: 1 | F62: 0 | G62: 0 | H62: 2 | I62: 1 | J62: 1 | K62: 1 | L62: 0 | M62: 2 | N62: 0 | O62: 0 | P62: 1 | Q62: 0 | R62: 3 | S62: 1 | T62: 0 | U62: 2
A63: 新 竹 市 | B63: 男 | C63: =SUM(D63:U63) -> 10 | D63: 1 | E63: 1 | F63: 0 | G63: 0 | H63: 1 | I63: 1 | J63: 0 | K63: 1 | L63: 0 | M63: 2 | N63: 0 | O63: 0 | P63: 0 | Q63: 0 | R63: 2 | S63: 0 | T63: 0 | U63: 1
B64: 女 | C64: =SUM(D64:U64) -> 6 | D64: 0 | E64: 0 | F64: 0 | G64: 0 | H64: 1 | I64: 0 | J64: 1 | K64: 0 | L64: 0 | M64: 0 | N64: 0 | O64: 0 | P64: 1 | Q64: 0 | R64: 1 | S64: 1 | T64: 0 | U64: 1
B65: 計 | C65: =SUM(D65:U65) -> 9 | D65: 0 | E65: 0 | F65: 2 | G65: 1 | H65: 2 | I65: 0 | J65: 2 | K65: 0 | L65: 0 | M65: 0 | N65: 0 | O65: 0 | P65: 0 | Q65: 0 | R65: 0 | S65: 1 | T65: 1 | U65: 0
A66: 嘉 義 市 | B66: 男 | C66: =SUM(D66:U66) -> 4 | D66: 0 | E66: 0 | F66: 0 | G66: 1 | H66: 1 | I66: 0 | J66: 1 | K66: 0 | L66: 0 | M66: 0 | N66: 0 | O66: 0 | P66: 0 | Q66: 0 | R66: 0 | S66: 1 | T66: 0 | U66: 0
B67: 女 | C67: =SUM(D67:U67) -> 5 | D67: 0 | E67: 0 | F67: 2 | G67: 0 | H67: 1 | I67: 0 | J67: 1 | K67: 0 | L67: 0 | M67: 0 | N67: 0 | O67: 0 | P67: 0 | Q67: 0 | R67: 0 | S67: 0 | T67: 1 | U67: 0
B68: 計 | C68: =SUM(D68:U68) -> 2 | D68: 0 | E68: 0 | F68: 1 | G68: 0 | H68: 0 | I68: 0 | J68: 0 | K68: 1 | L68: 0 | M68: 0 | N68: 0 | O68: 0 | P68: 0 | Q68: 0 | R68: 0 | S68: 0 | T68: 0 | U68: 0
A69: 金 門 縣 | B69: 男 | C69: =SUM(D69:U69) -> 1 | D69: 0 | E69: 0 | F69: 1 | G69: 0 | H69: 0 | I69: 0 | J69: 0 | K69: 0 | L69: 0 | M69: 0 | N69: 0 | O69: 0 | P69: 0 | Q69: 0 | R69: 0 | S69: 0 | T69: 0 | U69: 0
B70: 女 | C70: =SUM(D70:U70) -> 1 | D70: 0 | E70: 0 | F70: 0 | G70: 0 | H70: 0 | I70: 0 | J70: 0 | K70: 1 | L70: 0 | M70: 0 | N70: 0 | O70: 0 | P70: 0 | Q70: 0 | R70: 0 | S70: 0 | T70: 0 | U70: 0
B71: 計 | C71: =SUM(D71:U71) -> 0 | D71: 0 | E71: 0 | F71: 0 | G71: 0 | H71: 0 | I71: 0 | J71: 0 | K71: 0 | L71: 0 | M71: 0 | N71: 0 | O71: 0 | P71: 0 | Q71: 0 | R71: 0 | S71: 0 | T71: 0 | U71: 0
A72: 連 江 縣 | B72: 男 | C72: =SUM(D72:U72) -> 0 | D72: 0 | E72: 0 | F72: 0 | G72: 0 | H72: 0 | I72: 0 | J72: 0 | K72: 0 | L72: 0 | M72: 0 | N72: 0 | O72: 0 | P72: 0 | Q72: 0 | R72: 0 | S72: 0 | T72: 0 | U72: 0
B73: 女 | C73: =SUM(D73:U73) -> 0 | D73: 0 | E73: 0 | F73: 0 | G73: 0 | H73: 0 | I73: 0 | J73: 0 | K73: 0 | L73: 0 | M73: 0 | N73: 0 | O73: 0 | P73: 0 | Q73: 0 | R73: 0 | S73: 0 | T73: 0 | U73: 0
U74: 內政部戶政司 編製

Sheet 108年
C1: 收養人數按性別、年齡分
C2: 中華民國108年底 | U2: 單位：人
A3: 區域別 | B3: 性別 | C3: 總 計 | D3: 0歲 | E3: 1歲 | F3: 2歲 | G3: 3歲 | H3: 4歲 | I3: 5歲 | J3: 6歲 | K3: 7歲 | L3: 8歲 | M3: 9歲 | N3: 10歲 | O3: 11歲 | P3: 12歲 | Q3: 13歲 | R3: 14歲 | S3: 15歲 | T3: 16歲 | U3: 17歲
B5: 計 | C5: 918 | D5: 70 | E5: 99 | F5: 69 | G5: 72 | H5: 54 | I5: 72 | J5: 70 | K5: 42 | L5: 38 | M5: 33 | N5: 21 | O5: 35 | P5: 41 | Q5: 40 | R5: 50 | S5: 38 | T5: 55 | U5: 19
A6: 總 計 | B6: 男 | C6: 425 | D6: 33 | E6: 43 | F6: 34 | G6: 34 | H6: 23 | I6: 33 | J6: 27 | K6: 21 | L6: 17 | M6: 21 | N6: 13 | O6: 12 | P6: 21 | Q6: 20 | R6: 30 | S6: 18 | T6: 19 | U6: 6
B7: 女 | C7: 493 | D7: 37 | E7: 56 | F7: 35 | G7: 38 | H7: 31 | I7: 39 | J7: 43 | K7: 21 | L7: 21 | M7: 12 | N7: 8 | O7: 23 | P7: 20 | Q7: 20 | R7: 20 | S7: 20 | T7: 36 | U7: 13
B8: 計 | C8: 130 | D8: 5 | E8: 12 | F8: 15 | G8: 9 | H8: 4 | I8: 15 | J8: 11 | K8: 7 | L8: 2 | M8: 6 | N8: 3 | O8: 3 | P8: 8 | Q8: 8 | R8: 8 | S8: 8 | T8: 5 | U8: 1
A9: 新 北 市 | B9: 男 | C9: 71 | D9: 3 | E9: 9 | F9: 10 | G9: 6 | H9: 2 | I9: 4 | J9: 4 | K9: 4 | L9: 1 | M9: 4 | N9: 1 | O9: 1 | P9: 6 | Q9: 5 | R9: 6 | S9: 4 | T9: 1 | U9: 0
B10: 女 | C10: 59 | D10: 2 | E10: 3 | F10: 5 | G10: 3 | H10: 2 | I10: 11 | J10: 7 | K10: 3 | L10: 1 | M10: 2 | N10: 2 | O10: 2 | P10: 2 | Q10: 3 | R10: 2 | S10: 4 | T10: 4 | U10: 1
B11: 計 | C11: 184 | D11: 30 | E11: 40 | F11: 23 | G11: 15 | H11: 17 | I11: 12 | J11: 9 | K11: 6 | L11: 5 | M11: 4 | N11: 1 | O11: 5 | P11: 2 | Q11: 3 | R11: 4 | S11: 3 | T11: 3 | U11: 2
A12: 臺 北 市 | B12: 男 | C12: 77 | D12: 12 | E12: 13 | F12: 12 | G12: 3 | H12: 6 | I12: 8 | J12: 4 | K12: 2 | L12: 3 | M12: 3 | N12: 0 | O12: 3 | P12: 1 | Q12: 0 | R12: 2 | S12: 1 | T12: 2 | U12: 2
B13: 女 | C13: 107 | D13: 18 | E13: 27 | F13: 11 | G13: 12 | H13: 11 | I13: 4 | J13: 5 | K13: 4 | L13: 2 | M13: 1 | N13: 1 | O13: 2 | P13: 1 | Q13: 3 | R13: 2 | S13: 2 | T13: 1 | U13: 0
B14: 計 | C14: 52 | D14: 2 | E14: 1 | F14: 3 | G14: 4 | H14: 0 | I14: 3 | J14: 5 | K14: 2 | L14: 3 | M14: 3 | N14: 1 | O14: 2 | P14: 6 | Q14: 5 | R14: 3 | S14: 3 | T14: 3 | U14: 3
A15: 桃 園 市 | B15: 男 | C15: 27 | D15: 2 | E15: 1 | F15: 2 | G15: 3 | H15: 0 | I15: 1 | J15: 1 | K15: 2 | L15: 2 | M15: 1 | N15: 1 | O15: 1 | P15: 3 | Q15: 3 | R15: 2 | S15: 1 | T15: 1 | U15: 0
B16: 女 | C16: 25 | D16: 0 | E16: 0 | F16: 1 | G16: 1 | H16: 0 | I16: 2 | J16: 4 | K16: 0 | L16: 1 | M16: 2 | N16: 0 | O16: 1 | P16: 3 | Q16: 2 | R16: 1 | S16: 2 | T16: 2 | U16: 3
B17: 計 | C17: 85 | D17: 3 | E17: 4 | F17: 3 | G17: 9 | H17: 8 | I17: 6 | J17: 10 | K17: 3 | L17: 4 | M17: 4 | N17: 3 | O17: 5 | P17: 1 | Q17: 1 | R17: 6 | S17: 5 | T17: 8 | U17: 2
A18: 臺 中 市 | B18: 男 | C18: 43 | D18: 1 | E18: 4 | F18: 2 | G18: 5 | H18: 4 | I18: 3 | J18: 5 | K18: 1 | L18: 3 | M18: 2 | N18: 0 | O18: 3 | P18: 1 | Q18: 0 | R18: 4 | S18: 2 | T18: 2 | U18: 1
B19: 女 | C19: 42 | D19: 2 | E19: 0 | F19: 1 | G19: 4 | H19: 4 | I19: 3 | J19: 5 | K19: 2 | L19: 1 | M19: 2 | N19: 3 | O19: 2 | P19: 0 | Q19: 1 | R19: 2 | S19: 3 | T19: 6 | U19: 1
B20: 計 | C20: 120 | D20: 9 | E20: 22 | F20: 7 | G20: 9 | H20: 10 | I20: 17 | J20: 9 | K20: 9 | L20: 5 | M20: 2 | N20: 1 | O20: 1 | P20: 4 | Q20: 3 | R20: 6 | S20: 1 | T20: 3 | U20: 2
A21: 臺 南 市 | B21: 男 | C21: 56 | D21: 5 | E21: 10 | F21: 3 | G21: 5 | H21: 5 | I21: 8 | J21: 4 | K21: 5 | L21: 1 | M21: 0 | N21: 1 | O21: 0 | P21: 1 | Q21: 0 | R21: 5 | S21: 1 | T21: 1 | U21: 1
B22: 女 | C22: 64 | D22: 4 | E22: 12 | F22: 4 | G22: 4 | H22: 5 | I22: 9 | J22: 5 | K22: 4 | L22: 4 | M22: 2 | N22: 0 | O22: 1 | P22: 3 | Q22: 3 | R22: 1 | S22: 0 | T22: 2 | U22: 1
B23: 計 | C23: 70 | D23: 2 | E23: 7 | F23: 4 | G23: 2 | H23: 3 | I23: 7 | J23: 2 | K23: 5 | L23: 6 | M23: 3 | N23: 0 | O23: 6 | P23: 8 | Q23: 4 | R23: 2 | S23: 3 | T23: 5 | U23: 1
A24: 高 雄 市 | B24: 男 | C24: 25 | D24: 0 | E24: 2 | F24: 0 | G24: 1 | H24: 1 | I24: 2 | J24: 1 | K24: 3 | L24: 3 | M24: 3 | N24: 0 | O24: 2 | P24: 2 | Q24: 1 | R24: 1 | S24: 1 | T24: 2 | U24: 0
B25: 女 | C25: 45 | D25: 2 | E25: 5 | F25: 4 | G25: 1 | H25: 2 | I25: 5 | J25: 1 | K25: 2 | L25: 3 | M25: 0 | N25: 0 | O25: 4 | P25: 6 | Q25: 3 | R25: 1 | S25: 2 | T25: 3 | U25: 1
B26: 計 | C26: 26 | D26: 2 | E26: 3 | F26: 1 | G26: 5 | H26: 1 | I26: 3 | J26: 1 | K26: 1 | L26: 0 | M26: 1 | N26: 1 | O26: 1 | P26: 0 | Q26: 3 | R26: 1 | S26: 1 | T26: 0 | U26: 1
A27: 宜 蘭 縣 | B27: 男 | C27: 14 | D27: 1 | E27: 1 | F27: 1 | G27: 3 | H27: 0 | I27: 2 | J27: 1 | K27: 1 | L27: 0 | M27: 1 | N27: 0 | O27: 0 | P27: 0 | Q27: 2 | R27: 0 | S27: 0 | T27: 0 | U27: 1
B28: 女 | C28: 12 | D28: 1 | E28: 2 | F28: 0 | G28: 2 | H28: 1 | I28: 1 | J28: 0 | K28: 0 | L28: 0 | M28: 0 | N28: 1 | O28: 1 | P28: 0 | Q28: 1 | R28: 1 | S28: 1 | T28: 0 | U28: 0
B29: 計 | C29: 11 | D29: 2 | E29: 1 | F29: 0 | G29: 0 | H29: 1 | I29: 1 | J29: 2 | K29: 0 | L29: 1 | M29: 0 | N29: 0 | O29: 0 | P29: 0 | Q29: 1 | R29: 0 | S29: 1 | T29: 1 | U29: 0
A30: 新 竹 縣 | B30: 男 | C30: 6 | D30: 2 | E30: 0 | F30: 0 | G30: 0 | H30: 0 | I30: 1 | J30: 1 | K30: 0 | L30: 0 | M30: 0 | N30: 0 | O30: 0 | P30: 0 | Q30: 1 | R30: 0 | S30: 1 | T30: 0 | U30: 0
B31: 女 | C31: 5 | D31: 0 | E31: 1 | F31: 0 | G31: 0 | H31: 1 | I31: 0 | J31: 1 | K31: 0 | L31: 1 | M31: 0 | N31: 0 | O31: 0 | P31: 0 | Q31: 0 | R31: 0 | S31: 0 | T31: 1 | U31: 0
B32: 計 | C32: 31 | D32: 2 | E32: 1 | F32: 2 | G32: 2 | H32: 2 | I32: 1 | J32: 3 | K32: 0 | L32: 3 | M32: 2 | N32: 3 | O32: 0 | P32: 1 | Q32: 1 | R32: 2 | S32: 0 | T32: 4 | U32: 2
A33: 苗 栗 縣 | B33: 男 | C33: 13 | D33: 1 | E33: 1 | F33: 0 | G33: 1 | H33: 2 | I33: 0 | J33: 0 | K33: 0 | L33: 2 | M33: 1 | N33: 2 | O33: 0 | P33: 1 | Q33: 0 | R33: 1 | S33: 0 | T33: 1 | U33: 0
B34: 女 | C34: 18 | D34: 1 | E34: 0 | F34: 2 | G34: 1 | H34: 0 | I34: 1 | J34: 3 | K34: 0 | L34: 1 | M34: 1 | N34: 1 | O34: 0 | P34: 0 | Q34: 1 | R34: 1 | S34: 0 | T34: 3 | U34: 2
B35: 計 | C35: 18 | D35: 1 | E35: 0 | F35: 0 | G35: 2 | H35: 3 | I35: 0 | J35: 1 | K35: 1 | L35: 0 | M35: 0 | N35: 1 | O35: 0 | P35: 2 | Q35: 0 | R35: 0 | S35: 1 | T35: 6 | U35: 0
A36: 彰 化 縣 | B36: 男 | C36: 6 | D36: 0 | E36: 0 | F36: 0 | G36: 1 | H36: 1 | I36: 0 | J36: 0 | K36: 0 | L36: 0 | M36: 0 | N36: 1 | O36: 0 | P36: 1 | Q36: 0 | R36: 0 | S36: 1 | T36: 1 | U36: 0
B37: 女 | C37: 12 | D37: 1 | E37: 0 | F37: 0 | G37: 1 | H37: 2 | I37: 0 | J37: 1 | K37: 1 | L37: 0 | M37: 0 | N37: 0 | O37: 0 | P37: 1 | Q37: 0 | R37: 0 | S37: 0 | T37: 5 | U37: 0
B38: 計 | C38: 18 | D38: 2 | E38: 1 | F38: 0 | G38: 2 | H38: 2 | I38: 1 | J38: 0 | K38: 1 | L38: 1 | M38: 1 | N38: 0 | O38: 0 | P38: 2 | Q38: 1 | R38: 1 | S38: 0 | T38: 2 | U38: 1
A39: 南 投 縣 | B39: 男 | C39: 7 | D39: 1 | E39: 1 | F39: 0 | G39: 1 | H39: 1 | I39: 0 | J39: 0 | K39: 0 | L39: 0 | M39: 0 | N39: 0 | O39: 0 | P39: 1 | Q39: 0 | R39: 0 | S39: 0 | T39: 2 | U39: 0
B40: 女 | C40: 11 | D40: 1 | E40: 0 | F40: 0 | G40: 1 | H40: 1 | I40: 1 | J40: 0 | K40: 1 | L40: 1 | M40: 1 | N40: 0 | O40: 0 | P40: 1 | Q40: 1 | R40: 1 | S40: 0 | T40: 0 | U40: 1
B41: 計 | C41: 31 | D41: 0 | E41: 3 | F41: 1 | G41: 3 | H41: 0 | I41: 2 | J41: 3 | K41: 1 | L41: 2 | M41: 1 | N41: 0 | O41: 1 | P41: 3 | Q41: 3 | R41: 4 | S41: 4 | T41: 0 | U41: 0
A42: 雲 林 縣 | B42: 男 | C42: 13 | D42: 0 | E42: 0 | F42: 0 | G42: 2 | H42: 0 | I42: 2 | J42: 0 | K42: 0 | L42: 1 | M42: 1 | N42: 0 | O42: 0 | P42: 2 | Q42: 2 | R42: 1 | S42: 2 | T42: 0 | U42: 0
B43: 女 | C43: 18 | D43: 0 | E43: 3 | F43: 1 | G43: 1 | H43: 0 | I43: 0 | J43: 3 | K43: 1 | L43: 1 | M43: 0 | N43: 0 | O43: 1 | P43: 1 | Q43: 1 | R43: 3 | S43: 2 | T43: 0 | U43: 0
B44: 計 | C44: 25 | D44: 2 | E44: 0 | F44: 2 | G44: 3 | H44: 1 | I44: 0 | J44: 2 | K44: 1 | L44: 0 | M44: 1 | N44: 0 | O44: 5 | P44: 0 | Q44: 3 | R44: 2 | S44: 1 | T44: 1 | U44: 1
A45: 嘉 義 縣 | B45: 男 | C45: 13 | D45: 1 | E45: 0 | F45: 1 | G45: 1 | H45: 1 | I45: 0 | J45: 1 | K45: 1 | L45: 0 | M45: 1 | N45: 0 | O45: 1 | P45: 0 | Q45: 3 | R45: 1 | S45: 0 | T45: 0 | U45: 1
B46: 女 | C46: 12 | D46: 1 | E46: 0 | F46: 1 | G46: 2 | H46: 0 | I46: 0 | J46: 1 | K46: 0 | L46: 0 | M46: 0 | N46: 0 | O46: 4 | P46: 0 | Q46: 0 | R46: 1 | S46: 1 | T46: 1 | U46: 0
B47: 計 | C47: 30 | D47: 1 | E47: 0 | F47: 3 | G47: 1 | H47: 0 | I47: 2 | J47: 4 | K47: 1 | L47: 2 | M47: 1 | N47: 1 | O47: 0 | P47: 2 | Q47: 2 | R47: 1 | S47: 3 | T47: 4 | U47: 2
A48: 屏 東 縣 | B48: 男 | C48: 14 | D48: 0 | E48: 0 | F48: 1 | G48: 0 | H48: 0 | I48: 1 | J48: 3 | K48: 0 | L48: 0 | M48: 1 | N48: 1 | O48: 0 | P48: 1 | Q48: 1 | R48: 0 | S48: 2 | T48: 3 | U48: 0
B49: 女 | C49: 16 | D49: 1 | E49: 0 | F49: 2 | G49: 1 | H49: 0 | I49: 1 | J49: 1 | K49: 1 | L49: 2 | M49: 0 | N49: 0 | O49: 0 | P49: 1 | Q49: 1 | R49: 1 | S49: 1 | T49: 1 | U49: 2
B50: 計 | C50: 25 | D50: 1 | E50: 1 | F50: 2 | G50: 4 | H50: 0 | I50: 0 | J50: 0 | K50: 1 | L50: 1 | M50: 2 | N50: 1 | O50: 2 | P50: 1 | Q50: 1 | R50: 5 | S50: 1 | T50: 2 | U50: 0
A51: 臺 東 縣 | B51: 男 | C51: 14 | D51: 1 | E51: 0 | F51: 1 | G51: 1 | H51: 0 | I51: 0 | J51: 0 | K51: 1 | L51: 0 | M51: 2 | N51: 1 | O51: 0 | P51: 1 | Q51: 1 | R51: 3 | S51: 1 | T51: 1 | U51: 0
B52: 女 | C52: 11 | D52: 0 | E52: 1 | F52: 1 | G52: 3 | H52: 0 | I52: 0 | J52: 0 | K52: 0 | L52: 1 | M52: 0 | N52: 0 | O52: 2 | P52: 0 | Q52: 0 | R52: 2 | S52: 0 | T52: 1 | U52: 0
B53: 計 | C53: 14 | D53: 2 | E53: 1 | F53: 0 | G53: 0 | H53: 1 | I53: 0 | J53: 2 | K53: 0 | L53: 1 | M53: 0 | N53: 1 | O53: 1 | P53: 0 | Q53: 0 | R53: 4 | S53: 0 | T53: 1 | U53: 0
A54: 花 蓮 縣 | B54: 男 | C54: 6 | D54: 0 | E54: 1 | F54: 0 | G54: 0 | H54: 0 | I54: 0 | J54: 0 | K54: 0 | L54: 0 | M54: 0 | N54: 1 | O54: 0 | P54: 0 | Q54: 0 | R54: 3 | S54: 0 | T54: 1 | U54: 0
B55: 女 | C55: 8 | D55: 2 | E55: 0 | F55: 0 | G55: 0 | H55: 1 | I55: 0 | J55: 2 | K55: 0 | L55: 1 | M55: 0 | N55: 0 | O55: 1 | P55: 0 | Q55: 0 | R55: 1 | S55: 0 | T55: 0 | U55: 0
B56: 計 | C56: 1 | D56: 0 | E56: 0 | F56: 0 | G56: 0 | H56: 0 | I56: 0 | J56: 1 | K56: 0 | L56: 0 | M56: 0 | N56: 0 | O56: 0 | P56: 0 | Q56: 0 | R56: 0 | S56: 0 | T56: 0 | U56: 0
A57: 澎 湖 縣 | B57: 男 | C57: 0 | D57: 0 | E57: 0 | F57: 0 | G57: 0 | H57: 0 | I57: 0 | J57: 0 | K57: 0 | L57: 0 | M57: 0 | N57: 0 | O57: 0 | P57: 0 | Q57: 0 | R57: 0 | S57: 0 | T57: 0 | U57: 0
B58: 女 | C58: 1 | D58: 0 | E58: 0 | F58: 0 | G58: 0 | H58: 0 | I58: 0 | J58: 1 | K58: 0 | L58: 0 | M58: 0 | N58: 0 | O58: 0 | P58: 0 | Q58: 0 | R58: 0 | S58: 0 | T58: 0 | U58: 0
B59: 計 | C59: 11 | D59: 1 | E59: 1 | F59: 0 | G59: 0 | H59: 1 | I59: 0 | J59: 0 | K59: 0 | L59: 1 | M59: 1 | N59: 1 | O59: 1 | P59: 0 | Q59: 0 | R59: 0 | S59: 1 | T59: 3 | U59: 0
A60: 基 隆 市 | B60: 男 | C60: 2 | D60: 0 | E60: 0 | F60: 0 | G60: 0 | H60: 0 | I60: 0 | J60: 0 | K60: 0 | L60: 0 | M60: 1 | N60: 1 | O60: 0 | P60: 0 | Q60: 0 | R60: 0 | S60: 0 | T60: 0 | U60: 0
B61: 女 | C61: 9 | D61: 1 | E61: 1 | F61: 0 | G61: 0 | H61: 1 | I61: 0 | J61: 0 | K61: 0 | L61: 1 | M61: 0 | N61: 0 | O61: 1 | P61: 0 | Q61: 0 | R61: 0 | S61: 1 | T61: 3 | U61: 0
B62: 計 | C62: 16 | D62: 0 | E62: 0 | F62: 2 | G62: 2 | H62: 0 | I62: 2 | J62: 2 | K62: 3 | L62: 1 | M62: 0 | N62: 1 | O62: 0 | P62: 0 | Q62: 0 | R62: 0 | S62: 1 | T62: 2 | U62: 0
A63: 新 竹 市 | B63: 男 | C63: 9 | D63: 0 | E63: 0 | F63: 1 | G63: 1 | H63: 0 | I63: 1 | J63: 1 | K63: 1 | L63: 1 | M63: 0 | N63: 1 | O63: 0 | P63: 0 | Q63: 0 | R63: 0 | S63: 1 | T63: 1 | U63: 0
B64: 女 | C64: 7 | D64: 0 | E64: 0 | F64: 1 | G64: 1 | H64: 0 | I64: 1 | J64: 1 | K64: 2 | L64: 0 | M64: 0 | N64: 0 | O64: 0 | P64: 0 | Q64: 0 | R64: 0 | S64: 0 | T64: 1 | U64: 0
B65: 計 | C65: 9 | D65: 1 | E65: 1 | F65: 0 | G65: 0 | H65: 0 | I65: 0 | J65: 0 | K65: 0 | L65: 0 | M65: 1 | N65: 2 | O65: 1 | P65: 0 | Q65: 0 | R65: 0 | S65: 1 | T65: 2 | U65: 0
A66: 嘉 義 市 | B66: 男 | C66: 4 | D66: 1 | E66: 0 | F66: 0 | G66: 0 | H66: 0 | I66: 0 | J66: 0 | K66: 0 | L66: 0 | M66: 0 | N66: 2 | O66: 1 | P66: 0 | Q66: 0 | R66: 0 | S66: 0 | T66: 0 | U66: 0
B67: 女 | C67: 5 | D67: 0 | E67: 1 | F67: 0 | G67: 0 | H67: 0 | I67: 0 | J67: 0 | K67: 0 | L67: 0 | M67: 1 | N67: 0 | O67: 0 | P67: 0 | Q67: 0 | R67: 0 | S67: 1 | T67: 2 | U67: 0
B68: 計 | C68: 9 | D68: 2 | E68: 0 | F68: 1 | G68: 0 | H68: 0 | I68: 0 | J68: 1 | K68: 0 | L68: 0 | M68: 0 | N68: 0 | O68: 1 | P68: 1 | Q68: 1 | R68: 1 | S68: 0 | T68: 0 | U68: 1
A69: 金 門 縣 | B69: 男 | C69: 4 | D69: 2 | E69: 0 | F69: 0 | G69: 0 | H69: 0 | I69: 0 | J69: 0 | K69: 0 | L69: 0 | M69: 0 | N69: 0 | O69: 0 | P69: 0 | Q69: 1 | R69: 1 | S69: 0 | T69: 0 | U69: 0
B70: 女 | C70: 5 | D70: 0 | E70: 0 | F70: 1 | G70: 0 | H70: 0 | I70: 0 | J70: 1 | K70: 0 | L70: 0 | M70: 0 | N70: 0 | O70: 1 | P70: 1 | Q70: 0 | R70: 0 | S70: 0 | T70: 0 | U70: 1
B71: 計 | C71: 2 | D71: 0 | E71: 0 | F71: 0 | G71: 0 | H71: 0 | I71: 0 | J71: 2 | K71: 0 | L71: 0 | M71: 0 | N71: 0 | O71: 0 | P71: 0 | Q71: 0 | R71: 0 | S71: 0 | T71: 0 | U71: 0
A72: 連 江 縣 | B72: 男 | C72: 1 | D72: 0 | E72: 0 | F72: 0 | G72: 0 | H72: 0 | I72: 0 | J72: 1 | K72: 0 | L72: 0 | M72: 0 | N72: 0 | O72: 0 | P72: 0 | Q72: 0 | R72: 0 | S72: 0 | T72: 0 | U72: 0
B73: 女 | C73: 1 | D73: 0 | E73: 0 | F73: 0 | G73: 0 | H73: 0 | I73: 0 | J73: 1 | K73: 0 | L73: 0 | M73: 0 | N73: 0 | O73: 0 | P73: 0 | Q73: 0 | R73: 0 | S73: 0 | T73: 0 | U73: 0
U74: 內政部戶政司 編製

Sheet 107年
C1: ='108年'!C1:S1 -> 收養人數按性別、年齡分
C2: 中華民國107年底 | U2: ='108年'!U2 -> 單位：人
A3: 區域別 | B3: 性別 | C3: 總 計 | D3: 0歲 | E3: 1歲 | F3: 2歲 | G3: 3歲 | H3: 4歲 | I3: 5歲 | J3: 6歲 | K3: 7歲 | L3: 8歲 | M3: 9歲 | N3: 10歲 | O3: 11歲 | P3: 12歲 | Q3: 13歲 | R3: 14歲 | S3: 15歲 | T3: 16歲 | U3: 17歲
B5: 計 | C5: 883 | D5: 31 | E5: 119 | F5: 70 | G5: 50 | H5: 67 | I5: 49 | J5: 62 | K5: 40 | L5: 25 | M5: 29 | N5: 38 | O5: 35 | P5: 44 | Q5: 43 | R5: 30 | S5: 51 | T5: 50 | U5: 50
A6: 總 計 | B6: 男 | C6: 408 | D6: 17 | E6: 51 | F6: 37 | G6: 26 | H6: 36 | I6: 30 | J6: 26 | K6: 13 | L6: 13 | M6: 10 | N6: 12 | O6: 16 | P6: 18 | Q6: 19 | R6: 10 | S6: 24 | T6: 26 | U6: 24
B7: 女 | C7: 475 | D7: 14 | E7: 68 | F7: 33 | G7: 24 | H7: 31 | I7: 19 | J7: 36 | K7: 27 | L7: 12 | M7: 19 | N7: 26 | O7: 19 | P7: 26 | Q7: 24 | R7: 20 | S7: 27 | T7: 24 | U7: 26
B8: 計 | C8: 144 | D8: 1 | E8: 14 | F8: 10 | G8: 7 | H8: 8 | I8: 12 | J8: 13 | K8: 11 | L8: 5 | M8: 4 | N8: 6 | O8: 7 | P8: 10 | Q8: 6 | R8: 5 | S8: 9 | T8: 10 | U8: 6
A9: 新 北 市 | B9: 男 | C9: 70 | D9: 1 | E9: 5 | F9: 5 | G9: 6 | H9: 5 | I9: 6 | J9: 7 | K9: 3 | L9: 2 | M9: 2 | N9: 2 | O9: 3 | P9: 7 | Q9: 2 | R9: 1 | S9: 5 | T9: 6 | U9: 2
B10: 女 | C10: 74 | D10: 0 | E10: 9 | F10: 5 | G10: 1 | H10: 3 | I10: 6 | J10: 6 | K10: 8 | L10: 3 | M10: 2 | N10: 4 | O10: 4 | P10: 3 | Q10: 4 | R10: 4 | S10: 4 | T10: 4 | U10: 4
B11: 計 | C11: 153 | D11: 12 | E11: 34 | F11: 22 | G11: 15 | H11: 16 | I11: 9 | J11: 6 | K11: 3 | L11: 1 | M11: 3 | N11: 1 | O11: 5 | P11: 3 | Q11: 8 | R11: 3 | S11: 2 | T11: 5 | U11: 5
A12: 臺 北 市 | B12: 男 | C12: 83 | D12: 5 | E12: 18 | F12: 12 | G12: 7 | H12: 10 | I12: 8 | J12: 1 | K12: 2 | L12: 0 | M12: 2 | N12: 1 | O12: 3 | P12: 2 | Q12: 3 | R12: 2 | S12: 1 | T12: 2 | U12: 4
B13: 女 | C13: 70 | D13: 7 | E13: 16 | F13: 10 | G13: 8 | H13: 6 | I13: 1 | J13: 5 | K13: 1 | L13: 1 | M13: 1 | N13: 0 | O13: 2 | P13: 1 | Q13: 5 | R13: 1 | S13: 1 | T13: 3 | U13: 1
B14: 計 | C14: 65 | D14: 1 | E14: 7 | F14: 1 | G14: 3 | H14: 5 | I14: 0 | J14: 2 | K14: 2 | L14: 3 | M14: 5 | N14: 10 | O14: 7 | P14: 2 | Q14: 5 | R14: 4 | S14: 2 | T14: 0 | U14: 6
A15: 桃 園 市 | B15: 男 | C15: 23 | D15: 0 | E15: 3 | F15: 0 | G15: 2 | H15: 2 | I15: 0 | J15: 1 | K15: 0 | L15: 2 | M15: 1 | N15: 5 | O15: 2 | P15: 0 | Q15: 3 | R15: 1 | S15: 0 | T15: 0 | U15: 1
B16: 女 | C16: 42 | D16: 1 | E16: 4 | F16: 1 | G16: 1 | H16: 3 | I16: 0 | J16: 1 | K16: 2 | L16: 1 | M16: 4 | N16: 5 | O16: 5 | P16: 2 | Q16: 2 | R16: 3 | S16: 2 | T16: 0 | U16: 5
B17: 計 | C17: 111 | D17: 2 | E17: 10 | F17: 4 | G17: 8 | H17: 6 | I17: 9 | J17: 7 | K17: 7 | L17: 5 | M17: 7 | N17: 5 | O17: 3 | P17: 7 | Q17: 5 | R17: 3 | S17: 5 | T17: 10 | U17: 8
A18: 臺 中 市 | B18: 男 | C18: 55 | D18: 2 | E18: 1 | F18: 1 | G18: 6 | H18: 3 | I18: 7 | J18: 3 | K18: 3 | L18: 3 | M18: 2 | N18: 2 | O18: 3 | P18: 2 | Q18: 4 | R18: 2 | S18: 1 | T18: 4 | U18: 6
B19: 女 | C19: 56 | D19: 0 | E19: 9 | F19: 3 | G19: 2 | H19: 3 | I19: 2 | J19: 4 | K19: 4 | L19: 2 | M19: 5 | N19: 3 | O19: 0 | P19: 5 | Q19: 1 | R19: 1 | S19: 4 | T19: 6 | U19: 2
B20: 計 | C20: 107 | D20: 1 | E20: 33 | F20: 10 | G20: 4 | H20: 5 | I20: 3 | J20: 3 | K20: 5 | L20: 5 | M20: 1 | N20: 6 | O20: 3 | P20: 4 | Q20: 3 | R20: 2 | S20: 6 | T20: 6 | U20: 7
A21: 臺 南 市 | B21: 男 | C21: 51 | D21: 0 | E21: 14 | F21: 8 | G21: 2 | H21: 4 | I21: 0 | J21: 0 | K21: 0 | L21: 3 | M21: 1 | N21: 0 | O21: 1 | P21: 0 | Q21: 3 | R21: 2 | S21: 5 | T21: 5 | U21: 3
B22: 女 | C22: 56 | D22: 1 | E22: 19 | F22: 2 | G22: 2 | H22: 1 | I22: 3 | J22: 3 | K22: 5 | L22: 2 | M22: 0 | N22: 6 | O22: 2 | P22: 4 | Q22: 0 | R22: 0 | S22: 1 | T22: 1 | U22: 4
B23: 計 | C23: 82 | D23: 2 | E23: 6 | F23: 12 | G23: 2 | H23: 7 | I23: 2 | J23: 13 | K23: 4 | L23: 0 | M23: 3 | N23: 5 | O23: 3 | P23: 1 | Q23: 3 | R23: 4 | S23: 3 | T23: 4 | U23: 8
A24: 高 雄 市 | B24: 男 | C24: 40 | D24: 2 | E24: 1 | F24: 6 | G24: 1 | H24: 4 | I24: 1 | J24: 7 | K24: 1 | L24: 0 | M24: 1 | N24: 2 | O24: 1 | P24: 0 | Q24: 2 | R24: 2 | S24: 3 | T24: 2 | U24: 4
B25: 女 | C25: 42 | D25: 0 | E25: 5 | F25: 6 | G25: 1 | H25: 3 | I25: 1 | J25: 6 | K25: 3 | L25: 0 | M25: 2 | N25: 3 | O25: 2 | P25: 1 | Q25: 1 | R25: 2 | S25: 0 | T25: 2 | U25: 4
B26: 計 | C26: 21 | D26: 2 | E26: 0 | F26: 1 | G26: 3 | H26: 3 | I26: 3 | J26: 3 | K26: 1 | L26: 0 | M26: 0 | N26: 0 | O26: 1 | P26: 0 | Q26: 0 | R26: 0 | S26: 2 | T26: 1 | U26: 1
A27: 宜 蘭 縣 | B27: 男 | C27: 8 | D27: 1 | E27: 0 | F27: 0 | G27: 0 | H27: 1 | I27: 2 | J27: 2 | K27: 0 | L27: 0 | M27: 0 | N27: 0 | O27: 0 | P27: 0 | Q27: 0 | R27: 0 | S27: 1 | T27: 1 | U27: 0
B28: 女 | C28: 13 | D28: 1 | E28: 0 | F28: 1 | G28: 3 | H28: 2 | I28: 1 | J28: 1 | K28: 1 | L28: 0 | M28: 0 | N28: 0 | O28: 1 | P28: 0 | Q28: 0 | R28: 0 | S28: 1 | T28: 0 | U28: 1
B29: 計 | C29: 9 | D29: 2 | E29: 0 | F29: 1 | G29: 0 | H29: 0 | I29: 0 | J29: 1 | K29: 0 | L29: 1 | M29: 0 | N29: 0 | O29: 0 | P29: 1 | Q29: 2 | R29: 0 | S29: 1 | T29: 0 | U29: 0
A30: 新 竹 縣 | B30: 男 | C30: 1 | D30: 1 | E30: 0 | F30: 0 | G30: 0 | H30: 0 | I30: 0 | J30: 0 | K30: 0 | L30: 0 | M30: 0 | N30: 0 | O30: 0 | P30: 0 | Q30: 0 | R30: 0 | S30: 0 | T30: 0 | U30: 0
B31: 女 | C31: 8 | D31: 1 | E31: 0 | F31: 1 | G31: 0 | H31: 0 | I31: 0 | J31: 1 | K31: 0 | L31: 1 | M31: 0 | N31: 0 | O31: 0 | P31: 1 | Q31: 2 | R31: 0 | S31: 1 | T31: 0 | U31: 0
B32: 計 | C32: 14 | D32: 0 | E32: 2 | F32: 0 | G32: 0 | H32: 3 | I32: 1 | J32: 0 | K32: 0 | L32: 1 | M32: 0 | N32: 1 | O32: 0 | P32: 1 | Q32: 2 | R32: 0 | S32: 1 | T32: 2 | U32: 0
A33: 苗 栗 縣 | B33: 男 | C33: 4 | D33: 0 | E33: 0 | F33: 0 | G33: 0 | H33: 0 | I33: 0 | J33: 0 | K33: 0 | L33: 1 | M33: 0 | N33: 0 | O33: 0 | P33: 1 | Q33: 0 | R33: 0 | S33: 0 | T33: 2 | U33: 0
B34: 女 | C34: 10 | D34: 0 | E34: 2 | F34: 0 | G34: 0 | H34: 3 | I34: 1 | J34: 0 | K34: 0 | L34: 0 | M34: 0 | N34: 1 | O34: 0 | P34: 0 | Q34: 2 | R34: 0 | S34: 1 | T34: 0 | U34: 0
B35: 計 | C35: 30 | D35: 1 | E35: 4 | F35: 0 | G35: 2 | H35: 5 | I35: 3 | J35: 0 | K35: 1 | L35: 0 | M35: 1 | N35: 0 | O35: 0 | P35: 2 | Q35: 1 | R35: 0 | S35: 6 | T35: 2 | U35: 2
A36: 彰 化 縣 | B36: 男 | C36: 9 | D36: 0 | E36: 3 | F36: 0 | G36: 0 | H36: 1 | I36: 1 | J36: 0 | K36: 1 | L36: 0 | M36: 0 | N36: 0 | O36: 0 | P36: 0 | Q36: 0 | R36: 0 | S36: 1 | T36: 1 | U36: 1
B37: 女 | C37: 21 | D37: 1 | E37: 1 | F37: 0 | G37: 2 | H37: 4 | I37: 2 | J37: 0 | K37: 0 | L37: 0 | M37: 1 | N37: 0 | O37: 0 | P37: 2 | Q37: 1 | R37: 0 | S37: 5 | T37: 1 | U37: 1
B38: 計 | C38: 9 | D38: 0 | E38: 1 | F38: 1 | G38: 0 | H38: 0 | I38: 0 | J38: 1 | K38: 0 | L38: 0 | M38: 2 | N38: 1 | O38: 0 | P38: 0 | Q38: 0 | R38: 0 | S38: 2 | T38: 0 | U38: 1
A39: 南 投 縣 | B39: 男 | C39: 4 | D39: 0 | E39: 1 | F39: 1 | G39: 0 | H39: 0 | I39: 0 | J39: 0 | K39: 0 | L39: 0 | M39: 0 | N39: 0 | O39: 0 | P39: 0 | Q39: 0 | R39: 0 | S39: 1 | T39: 0 | U39: 1
B40: 女 | C40: 5 | D40: 0 | E40: 0 | F40: 0 | G40: 0 | H40: 0 | I40: 0 | J40: 1 | K40: 0 | L40: 0 | M40: 2 | N40: 1 | O40: 0 | P40: 0 | Q40: 0 | R40: 0 | S40: 1 | T40: 0 | U40: 0
B41: 計 | C41: 27 | D41: 1 | E41: 2 | F41: 3 | G41: 2 | H41: 3 | I41: 1 | J41: 0 | K41: 0 | L41: 0 | M41: 1 | N41: 0 | O41: 0 | P41: 0 | Q41: 4 | R41: 2 | S41: 5 | T41: 1 | U41: 2
A42: 雲 林 縣 | B42: 男 | C42: 14 | D42: 0 | E42: 2 | F42: 2 | G42: 1 | H42: 2 | I42: 1 | J42: 0 | K42: 0 | L42: 0 | M42: 0 | N42: 0 | O42: 0 | P42: 0 | Q42: 2 | R42: 0 | S42: 3 | T42: 1 | U42: 0
B43: 女 | C43: 13 | D43: 1 | E43: 0 | F43: 1 | G43: 1 | H43: 1 | I43: 0 | J43: 0 | K43: 0 | L43: 0 | M43: 1 | N43: 0 | O43: 0 | P43: 0 | Q43: 2 | R43: 2 | S43: 2 | T43: 0 | U43: 2
B44: 計 | C44: 18 | D44: 0 | E44: 1 | F44: 0 | G44: 2 | H44: 3 | I44: 0 | J44: 1 | K44: 0 | L44: 1 | M44: 0 | N44: 1 | O44: 0 | P44: 2 | Q44: 1 | R44: 2 | S44: 1 | T44: 1 | U44: 2
A45: 嘉 義 縣 | B45: 男 | C45: 4 | D45: 0 | E45: 0 | F45: 0 | G45: 0 | H45: 1 | I45: 0 | J45: 0 | K45: 0 | L45: 1 | M45: 0 | N45: 0 | O45: 0 | P45: 1 | Q45: 0 | R45: 0 | S45: 0 | T45: 1 | U45: 0
B46: 女 | C46: 14 | D46: 0 | E46: 1 | F46: 0 | G46: 2 | H46: 2 | I46: 0 | J46: 1 | K46: 0 | L46: 0 | M46: 0 | N46: 1 | O46: 0 | P46: 1 | Q46: 1 | R46: 2 | S46: 1 | T46: 0 | U46: 2
B47: 計 | C47: 38 | D47: 3 | E47: 3 | F47: 3 | G47: 0 | H47: 1 | I47: 2 | J47: 6 | K47: 2 | L47: 1 | M47: 1 | N47: 2 | O47: 1 | P47: 2 | Q47: 1 | R47: 3 | S47: 2 | T47: 3 | U47: 2
A48: 屏 東 縣 | B48: 男 | C48: 18 | D48: 2 | E48: 2 | F48: 2 | G48: 0 | H48: 1 | I48: 0 | J48: 4 | K48: 0 | L48: 1 | M48: 1 | N48: 0 | O48: 0 | P48: 2 | Q48: 0 | R48: 0 | S48: 1 | T48: 0 | U48: 2
B49: 女 | C49: 20 | D49: 1 | E49: 1 | F49: 1 | G49: 0 | H49: 0 | I49: 2 | J49: 2 | K49: 2 | L49: 0 | M49: 0 | N49: 2 | O49: 1 | P49: 0 | Q49: 1 | R49: 3 | S49: 1 | T49: 3 | U49: 0
B50: 計 | C50: 11 | D50: 0 | E50: 0 | F50: 1 | G50: 1 | H50: 1 | I50: 0 | J50: 0 | K50: 0 | L50: 0 | M50: 1 | N50: 0 | O50: 1 | P50: 3 | Q50: 0 | R50: 0 | S50: 2 | T50: 1 | U50: 0
A51: 臺 東 縣 | B51: 男 | C51: 5 | D51: 0 | E51: 0 | F51: 0 | G51: 1 | H51: 1 | I51: 0 | J51: 0 | K51: 0 | L51: 0 | M51: 0 | N51: 0 | O51: 0 | P51: 1 | Q51: 0 | R51: 0 | S51: 2 | T51: 0 | U51: 0
B52: 女 | C52: 6 | D52: 0 | E52: 0 | F52: 1 | G52: 0 | H52: 0 | I52: 0 | J52: 0 | K52: 0 | L52: 0 | M52: 1 | N52: 0 | O52: 1 | P52: 2 | Q52: 0 | R52: 0 | S52: 0 | T52: 1 | U52: 0
B53: 計 | C53: 7 | D53: 0 | E53: 1 | F53: 0 | G53: 1 | H53: 1 | I53: 0 | J53: 0 | K53: 1 | L53: 0 | M53: 0 | N53: 0 | O53: 1 | P53: 1 | Q53: 1 | R53: 0 | S53: 0 | T53: 0 | U53: 0
A54: 花 蓮 縣 | B54: 男 | C54: 4 | D54: 0 | E54: 1 | F54: 0 | G54: 0 | H54: 1 | I54: 0 | J54: 0 | K54: 1 | L54: 0 | M54: 0 | N54: 0 | O54: 1 | P54: 0 | Q54: 0 | R54: 0 | S54: 0 | T54: 0 | U54: 0
B55: 女 | C55: 3 | D55: 0 | E55: 0 | F55: 0 | G55: 1 | H55: 0 | I55: 0 | J55: 0 | K55: 0 | L55: 0 | M55: 0 | N55: 0 | O55: 0 | P55: 1 | Q55: 1 | R55: 0 | S55: 0 | T55: 0 | U55: 0
B56: 計 | C56: 0 | D56: 0 | E56: 0 | F56: 0 | G56: 0 | H56: 0 | I56: 0 | J56: 0 | K56: 0 | L56: 0 | M56: 0 | N56: 0 | O56: 0 | P56: 0 | Q56: 0 | R56: 0 | S56: 0 | T56: 0 | U56: 0
A57: 澎 湖 縣 | B57: 男 | C57: 0 | D57: 0 | E57: 0 | F57: 0 | G57: 0 | H57: 0 | I57: 0 | J57: 0 | K57: 0 | L57: 0 | M57: 0 | N57: 0 | O57: 0 | P57: 0 | Q57: 0 | R57: 0 | S57: 0 | T57: 0 | U57: 0
B58: 女 | C58: 0 | D58: 0 | E58: 0 | F58: 0 | G58: 0 | H58: 0 | I58: 0 | J58: 0 | K58: 0 | L58: 0 | M58: 0 | N58: 0 | O58: 0 | P58: 0 | Q58: 0 | R58: 0 | S58: 0 | T58: 0 | U58: 0
B59: 計 | C59: 14 | D59: 0 | E59: 0 | F59: 1 | G59: 0 | H59: 0 | I59: 2 | J59: 2 | K59: 1 | L59: 2 | M59: 0 | N59: 0 | O59: 2 | P59: 1 | Q59: 0 | R59: 1 | S59: 1 | T59: 1 | U59: 0
A60: 基 隆 市 | B60: 男 | C60: 4 | D60: 0 | E60: 0 | F60: 0 | G60: 0 | H60: 0 | I60: 2 | J60: 0 | K60: 0 | L60: 0 | M60: 0 | N60: 0 | O60: 2 | P60: 0 | Q60: 0 | R60: 0 | S60: 0 | T60: 0 | U60: 0
B61: 女 | C61: 10 | D61: 0 | E61: 0 | F61: 1 | G61: 0 | H61: 0 | I61: 0 | J61: 2 | K61: 1 | L61: 2 | M61: 0 | N61: 0 | O61: 0 | P61: 1 | Q61: 0 | R61: 1 | S61: 1 | T61: 1 | U61: 0
B62: 計 | C62: 10 | D62: 1 | E62: 1 | F62: 0 | G62: 0 | H62: 0 | I62: 1 | J62: 3 | K62: 1 | L62: 0 | M62: 0 | N62: 0 | O62: 0 | P62: 3 | Q62: 0 | R62: 0 | S62: 0 | T62: 0 | U62: 0
A63: 新 竹 市 | B63: 男 | C63: 6 | D63: 1 | E63: 0 | F63: 0 | G63: 0 | H63: 0 | I63: 1 | J63: 1 | K63: 1 | L63: 0 | M63: 0 | N63: 0 | O63: 0 | P63: 2 | Q63: 0 | R63: 0 | S63: 0 | T63: 0 | U63: 0
B64: 女 | C64: 4 | D64: 0 | E64: 1 | F64: 0 | G64: 0 | H64: 0 | I64: 0 | J64: 2 | K64: 0 | L64: 0 | M64: 0 | N64: 0 | O64: 0 | P64: 1 | Q64: 0 | R64: 0 | S64: 0 | T64: 0 | U64: 0
B65: 計 | C65: 7 | D65: 1 | E65: 0 | F65: 0 | G65: 0 | H65: 0 | I65: 1 | J65: 1 | K65: 0 | L65: 0 | M65: 0 | N65: 0 | O65: 1 | P65: 1 | Q65: 0 | R65: 1 | S65: 0 | T65: 1 | U65: 0
A66: 嘉 義 市 | B66: 男 | C66: 2 | D66: 1 | E66: 0 | F66: 0 | G66: 0 | H66: 0 | I66: 1 | J66: 0 | K66: 0 | L66: 0 | M66: 0 | N66: 0 | O66: 0 | P66: 0 | Q66: 0 | R66: 0 | S66: 0 | T66: 0 | U66: 0
B67: 女 | C67: 5 | D67: 0 | E67: 0 | F67: 0 | G67: 0 | H67: 0 | I67: 0 | J67: 1 | K67: 0 | L67: 0 | M67: 0 | N67: 0 | O67: 1 | P67: 1 | Q67: 0 | R67: 1 | S67: 0 | T67: 1 | U67: 0
B68: 計 | C68: 6 | D68: 1 | E68: 0 | F68: 0 | G68: 0 | H68: 0 | I68: 0 | J68: 0 | K68: 1 | L68: 0 | M68: 0 | N68: 0 | O68: 0 | P68: 0 | Q68: 1 | R68: 0 | S68: 1 | T68: 2 | U68: 0
A69: 金 門 縣 | B69: 男 | C69: 3 | D69: 1 | E69: 0 | F69: 0 | G69: 0 | H69: 0 | I69: 0 | J69: 0 | K69: 1 | L69: 0 | M69: 0 | N69: 0 | O69: 0 | P69: 0 | Q69: 0 | R69: 0 | S69: 0 | T69: 1 | U69: 0
B70: 女 | C70: 3 | D70: 0 | E70: 0 | F70: 0 | G70: 0 | H70: 0 | I70: 0 | J70: 0 | K70: 0 | L70: 0 | M70: 0 | N70: 0 | O70: 0 | P70: 0 | Q70: 1 | R70: 0 | S70: 1 | T70: 1 | U70: 0
B71: 計 | C71: 0 | D71: 0 | E71: 0 | F71: 0 | G71: 0 | H71: 0 | I71: 0 | J71: 0 | K71: 0 | L71: 0 | M71: 0 | N71: 0 | O71: 0 | P71: 0 | Q71: 0 | R71: 0 | S71: 0 | T71: 0 | U71: 0
A72: 連 江 縣 | B72: 男 | C72: 0 | D72: 0 | E72: 0 | F72: 0 | G72: 0 | H72: 0 | I72: 0 | J72: 0 | K72: 0 | L72: 0 | M72: 0 | N72: 0 | O72: 0 | P72: 0 | Q72: 0 | R72: 0 | S72: 0 | T72: 0 | U72: 0
B73: 女 | C73: 0 | D73: 0 | E73: 0 | F73: 0 | G73: 0 | H73: 0 | I73: 0 | J73: 0 | K73: 0 | L73: 0 | M73: 0 | N73: 0 | O73: 0 | P73: 0 | Q73: 0 | R73: 0 | S73: 0 | T73: 0 | U73: 0
U74: ='108年'!U74 -> 內政部戶政司 編製

Sheet 106年
C1: ='108年'!C1:S1 -> 收養人數按性別、年齡分
C2: 中華民國106年底 | U2: ='108年'!U2 -> 單位：人
A3: 區域別 | B3: 性別 | C3: 總 計 | D3: 0歲 | E3: 1歲 | F3: 2歲 | G3: 3歲 | H3: 4歲 | I3: 5歲 | J3: 6歲 | K3: 7歲 | L3: 8歲 | M3: 9歲 | N3: 10歲 | O3: 11歲 | P3: 12歲 | Q3: 13歲 | R3: 14歲 | S3: 15歲 | T3: 16歲 | U3: 17歲
B5: 計 | C5: 1016 | D5: 48 | E5: 126 | F5: 71 | G5: 63 | H5: 54 | I5: 50 | J5: 59 | K5: 48 | L5: 39 | M5: 35 | N5: 47 | O5: 41 | P5: 59 | Q5: 49 | R5: 48 | S5: 66 | T5: 70 | U5: 43
A6: 總 計 | B6: 男 | C6: 477 | D6: 28 | E6: 62 | F6: 40 | G6: 35 | H6: 24 | I6: 24 | J6: 29 | K6: 22 | L6: 14 | M6: 14 | N6: 24 | O6: 21 | P6: 30 | Q6: 20 | R6: 21 | S6: 25 | T6: 24 | U6: 20
B7: 女 | C7: 539 | D7: 20 | E7: 64 | F7: 31 | G7: 28 | H7: 30 | I7: 26 | J7: 30 | K7: 26 | L7: 25 | M7: 21 | N7: 23 | O7: 20 | P7: 29 | Q7: 29 | R7: 27 | S7: 41 | T7: 46 | U7: 23
B8: 計 | C8: 168 | D8: 5 | E8: 20 | F8: 16 | G8: 12 | H8: 12 | I8: 7 | J8: 11 | K8: 8 | L8: 7 | M8: 7 | N8: 6 | O8: 7 | P8: 6 | Q8: 8 | R8: 6 | S8: 13 | T8: 10 | U8: 7
A9: 新 北 市 | B9: 男 | C9: 82 | D9: 2 | E9: 11 | F9: 12 | G9: 9 | H9: 2 | I9: 4 | J9: 6 | K9: 3 | L9: 3 | M9: 3 | N9: 3 | O9: 3 | P9: 3 | Q9: 1 | R9: 3 | S9: 4 | T9: 5 | U9: 5
B10: 女 | C10: 86 | D10: 3 | E10: 9 | F10: 4 | G10: 3 | H10: 10 | I10: 3 | J10: 5 | K10: 5 | L10: 4 | M10: 4 | N10: 3 | O10: 4 | P10: 3 | Q10: 7 | R10: 3 | S10: 9 | T10: 5 | U10: 2
B11: 計 | C11: 169 | D11: 23 | E11: 36 | F11: 18 | G11: 10 | H11: 8 | I11: 6 | J11: 11 | K11: 4 | L11: 4 | M11: 4 | N11: 8 | O11: 3 | P11: 8 | Q11: 7 | R11: 3 | S11: 4 | T11: 7 | U11: 5
A12: 臺 北 市 | B12: 男 | C12: 93 | D12: 12 | E12: 21 | F12: 11 | G12: 6 | H12: 3 | I12: 5 | J12: 7 | K12: 2 | L12: 1 | M12: 2 | N12: 4 | O12: 2 | P12: 4 | Q12: 3 | R12: 3 | S12: 2 | T12: 4 | U12: 1
B13: 女 | C13: 76 | D13: 11 | E13: 15 | F13: 7 | G13: 4 | H13: 5 | I13: 1 | J13: 4 | K13: 2 | L13: 3 | M13: 2 | N13: 4 | O13: 1 | P13: 4 | Q13: 4 | R13: 0 | S13: 2 | T13: 3 | U13: 4
B14: 計 | C14: 97 | D14: 3 | E14: 3 | F14: 2 | G14: 4 | H14: 6 | I14: 5 | J14: 7 | K14: 6 | L14: 4 | M14: 6 | N14: 5 | O14: 3 | P14: 8 | Q14: 5 | R14: 5 | S14: 11 | T14: 10 | U14: 4
A15: 桃 園 市 | B15: 男 | C15: 43 | D15: 1 | E15: 2 | F15: 2 | G15: 3 | H15: 2 | I15: 3 | J15: 3 | K15: 3 | L15: 2 | M15: 2 | N15: 3 | O15: 0 | P15: 5 | Q15: 3 | R15: 2 | S15: 3 | T15: 3 | U15: 1
B16: 女 | C16: 54 | D16: 2 | E16: 1 | F16: 0 | G16: 1 | H16: 4 | I16: 2 | J16: 4 | K16: 3 | L16: 2 | M16: 4 | N16: 2 | O16: 3 | P16: 3 | Q16: 2 | R16: 3 | S16: 8 | T16: 7 | U16: 3
B17: 計 | C17: 82 | D17: 1 | E17: 7 | F17: 6 | G17: 6 | H17: 4 | I17: 5 | J17: 8 | K17: 6 | L17: 3 | M17: 1 | N17: 7 | O17: 4 | P17: 5 | Q17: 5 | R17: 3 | S17: 2 | T17: 6 | U17: 3
A18: 臺 中 市 | B18: 男 | C18: 34 | D18: 1 | E18: 4 | F18: 2 | G18: 1 | H18: 1 | I18: 0 | J18: 5 | K18: 1 | L18: 2 | M18: 0 | N18: 4 | O18: 1 | P18: 3 | Q18: 3 | R18: 1 | S18: 1 | T18: 2 | U18: 2
B19: 女 | C19: 48 | D19: 0 | E19: 3 | F19: 4 | G19: 5 | H19: 3 | I19: 5 | J19: 3 | K19: 5 | L19: 1 | M19: 1 | N19: 3 | O19: 3 | P19: 2 | Q19: 2 | R19: 2 | S19: 1 | T19: 4 | U19: 1
B20: 計 | C20: 128 | D20: 1 | E20: 36 | F20: 5 | G20: 11 | H20: 9 | I20: 10 | J20: 7 | K20: 7 | L20: 3 | M20: 1 | N20: 4 | O20: 4 | P20: 5 | Q20: 4 | R20: 8 | S20: 4 | T20: 5 | U20: 4
A21: 臺 南 市 | B21: 男 | C21: 54 | D21: 1 | E21: 13 | F21: 2 | G21: 6 | H21: 6 | I21: 3 | J21: 1 | K21: 5 | L21: 2 | M21: 0 | N21: 1 | O21: 1 | P21: 3 | Q21: 1 | R21: 4 | S21: 2 | T21: 3 | U21: 0
B22: 女 | C22: 74 | D22: 0 | E22: 23 | F22: 3 | G22: 5 | H22: 3 | I22: 7 | J22: 6 | K22: 2 | L22: 1 | M22: 1 | N22: 3 | O22: 3 | P22: 2 | Q22: 3 | R22: 4 | S22: 2 | T22: 2 | U22: 4
B23: 計 | C23: 88 | D23: 2 | E23: 8 | F23: 2 | G23: 5 | H23: 2 | I23: 5 | J23: 3 | K23: 0 | L23: 5 | M23: 3 | N23: 3 | O23: 4 | P23: 6 | Q23: 6 | R23: 6 | S23: 11 | T23: 14 | U23: 3
A24: 高 雄 市 | B24: 男 | C24: 47 | D24: 2 | E24: 6 | F24: 0 | G24: 3 | H24: 2 | I24: 1 | J24: 1 | K24: 0 | L24: 0 | M24: 2 | N24: 2 | O24: 3 | P24: 4 | Q24: 6 | R24: 3 | S24: 4 | T24: 6 | U24: 2
B25: 女 | C25: 41 | D25: 0 | E25: 2 | F25: 2 | G25: 2 | H25: 0 | I25: 4 | J25: 2 | K25: 0 | L25: 5 | M25: 1 | N25: 1 | O25: 1 | P25: 2 | Q25: 0 | R25: 3 | S25: 7 | T25: 8 | U25: 1
B26: 計 | C26: 21 | D26: 3 | E26: 0 | F26: 7 | G26: 1 | H26: 2 | I26: 0 | J26: 0 | K26: 0 | L26: 0 | M26: 0 | N26: 0 | O26: 2 | P26: 1 | Q26: 0 | R26: 0 | S26: 1 | T26: 0 | U26: 4
A27: 宜 蘭 縣 | B27: 男 | C27: 12 | D27: 2 | E27: 0 | F27: 5 | G27: 0 | H27: 1 | I27: 0 | J27: 0 | K27: 0 | L27: 0 | M27: 0 | N27: 0 | O27: 2 | P27: 1 | Q27: 0 | R27: 0 | S27: 0 | T27: 0 | U27: 1
B28: 女 | C28: 9 | D28: 1 | E28: 0 | F28: 2 | G28: 1 | H28: 1 | I28: 0 | J28: 0 | K28: 0 | L28: 0 | M28: 0 | N28: 0 | O28: 0 | P28: 0 | Q28: 0 | R28: 0 | S28: 1 | T28: 0 | U28: 3
B29: 計 | C29: 32 | D29: 0 | E29: 0 | F29: 0 | G29: 1 | H29: 1 | I29: 2 | J29: 2 | K29: 3 | L29: 1 | M29: 4 | N29: 2 | O29: 4 | P29: 4 | Q29: 2 | R29: 3 | S29: 2 | T29: 1 | U29: 0
A30: 新 竹 縣 | B30: 男 | C30: 11 | D30: 0 | E30: 0 | F30: 0 | G30: 0 | H30: 0 | I30: 1 | J30: 1 | K30: 0 | L30: 1 | M30: 3 | N30: 1 | O30: 3 | P30: 1 | Q30: 0 | R30: 0 | S30: 0 | T30: 0 | U30: 0
B31: 女 | C31: 21 | D31: 0 | E31: 0 | F31: 0 | G31: 1 | H31: 1 | I31: 1 | J31: 1 | K31: 3 | L31: 0 | M31: 1 | N31: 1 | O31: 1 | P31: 3 | Q31: 2 | R31: 3 | S31: 2 | T31: 1 | U31: 0
B32: 計 | C32: 30 | D32: 1 | E32: 3 | F32: 2 | G32: 1 | H32: 0 | I32: 2 | J32: 1 | K32: 1 | L32: 0 | M32: 1 | N32: 0 | O32: 0 | P32: 1 | Q32: 4 | R32: 3 | S32: 2 | T32: 3 | U32: 5
A33: 苗 栗 縣 | B33: 男 | C33: 13 | D33: 0 | E33: 1 | F33: 1 | G33: 1 | H33: 0 | I33: 2 | J33: 1 | K33: 0 | L33: 0 | M33: 0 | N33: 0 | O33: 0 | P33: 0 | Q33: 1 | R33: 1 | S33: 1 | T33: 0 | U33: 4
B34: 女 | C34: 17 | D34: 1 | E34: 2 | F34: 1 | G34: 0 | H34: 0 | I34: 0 | J34: 0 | K34: 1 | L34: 0 | M34: 1 | N34: 0 | O34: 0 | P34: 1 | Q34: 3 | R34: 2 | S34: 1 | T34: 3 | U34: 1
B35: 計 | C35: 40 | D35: 0 | E35: 3 | F35: 2 | G35: 6 | H35: 3 | I35: 3 | J35: 1 | K35: 1 | L35: 2 | M35: 0 | N35: 2 | O35: 5 | P35: 4 | Q35: 0 | R35: 1 | S35: 2 | T35: 4 | U35: 1
A36: 彰 化 縣 | B36: 男 | C36: 18 | D36: 0 | E36: 1 | F36: 1 | G36: 2 | H36: 2 | I36: 2 | J36: 1 | K36: 0 | L36: 0 | M36: 0 | N36: 2 | O36: 4 | P36: 1 | Q36: 0 | R36: 0 | S36: 1 | T36: 1 | U36: 0
B37: 女 | C37: 22 | D37: 0 | E37: 2 | F37: 1 | G37: 4 | H37: 1 | I37: 1 | J37: 0 | K37: 1 | L37: 2 | M37: 0 | N37: 0 | O37: 1 | P37: 3 | Q37: 0 | R37: 1 | S37: 1 | T37: 3 | U37: 1
B38: 計 | C38: 16 | D38: 1 | E38: 0 | F38: 0 | G38: 2 | H38: 0 | I38: 0 | J38: 0 | K38: 2 | L38: 0 | M38: 1 | N38: 0 | O38: 0 | P38: 1 | Q38: 3 | R38: 3 | S38: 1 | T38: 0 | U38: 2
A39: 南 投 縣 | B39: 男 | C39: 6 | D39: 1 | E39: 0 | F39: 0 | G39: 1 | H39: 0 | I39: 0 | J39: 0 | K39: 1 | L39: 0 | M39: 0 | N39: 0 | O39: 0 | P39: 0 | Q39: 0 | R39: 2 | S39: 0 | T39: 0 | U39: 1
B40: 女 | C40: 10 | D40: 0 | E40: 0 | F40: 0 | G40: 1 | H40: 0 | I40: 0 | J40: 0 | K40: 1 | L40: 0 | M40: 1 | N40: 0 | O40: 0 | P40: 1 | Q40: 3 | R40: 1 | S40: 1 | T40: 0 | U40: 1
B41: 計 | C41: 28 | D41: 3 | E41: 2 | F41: 2 | G41: 0 | H41: 2 | I41: 0 | J41: 2 | K41: 0 | L41: 0 | M41: 2 | N41: 1 | O41: 2 | P41: 4 | Q41: 2 | R41: 1 | S41: 4 | T41: 1 | U41: 0
A42: 雲 林 縣 | B42: 男 | C42: 18 | D42: 3 | E42: 1 | F42: 2 | G42: 0 | H42: 1 | I42: 0 | J42: 1 | K42: 0 | L42: 0 | M42: 0 | N42: 0 | O42: 1 | P42: 3 | Q42: 2 | R42: 1 | S42: 3 | T42: 0 | U42: 0
B43: 女 | C43: 10 | D43: 0 | E43: 1 | F43: 0 | G43: 0 | H43: 1 | I43: 0 | J43: 1 | K43: 0 | L43: 0 | M43: 2 | N43: 1 | O43: 1 | P43: 1 | Q43: 0 | R43: 0 | S43: 1 | T43: 1 | U43: 0
B44: 計 | C44: 19 | D44: 1 | E44: 1 | F44: 4 | G44: 1 | H44: 2 | I44: 1 | J44: 0 | K44: 1 | L44: 1 | M44: 0 | N44: 0 | O44: 1 | P44: 1 | Q44: 0 | R44: 1 | S44: 2 | T44: 1 | U44: 1
A45: 嘉 義 縣 | B45: 男 | C45: 7 | D45: 1 | E45: 1 | F45: 0 | G45: 0 | H45: 1 | I45: 1 | J45: 0 | K45: 1 | L45: 0 | M45: 0 | N45: 0 | O45: 0 | P45: 0 | Q45: 0 | R45: 0 | S45: 1 | T45: 0 | U45: 1
B46: 女 | C46: 12 | D46: 0 | E46: 0 | F46: 4 | G46: 1 | H46: 1 | I46: 0 | J46: 0 | K46: 0 | L46: 1 | M46: 0 | N46: 0 | O46: 1 | P46: 1 | Q46: 0 | R46: 1 | S46: 1 | T46: 1 | U46: 0
B47: 計 | C47: 23 | D47: 0 | E47: 3 | F47: 1 | G47: 0 | H47: 2 | I47: 0 | J47: 3 | K47: 1 | L47: 2 | M47: 0 | N47: 3 | O47: 0 | P47: 2 | Q47: 1 | R47: 1 | S47: 0 | T47: 4 | U47: 0
A48: 屏 東 縣 | B48: 男 | C48: 8 | D48: 0 | E48: 1 | F48: 0 | G48: 0 | H48: 2 | I48: 0 | J48: 1 | K48: 0 | L48: 0 | M48: 0 | N48: 2 | O48: 0 | P48: 2 | Q48: 0 | R48: 0 | S48: 0 | T48: 0 | U48: 0
B49: 女 | C49: 15 | D49: 0 | E49: 2 | F49: 1 | G49: 0 | H49: 0 | I49: 0 | J49: 2 | K49: 1 | L49: 2 | M49: 0 | N49: 1 | O49: 0 | P49: 0 | Q49: 1 | R49: 1 | S49: 0 | T49: 4 | U49: 0
B50: 計 | C50: 10 | D50: 0 | E50: 1 | F50: 1 | G50: 0 | H50: 1 | I50: 1 | J50: 1 | K50: 0 | L50: 2 | M50: 1 | N50: 0 | O50: 0 | P50: 0 | Q50: 0 | R50: 0 | S50: 1 | T50: 1 | U50: 0
A51: 臺 東 縣 | B51: 男 | C51: 7 | D51: 0 | E51: 0 | F51: 1 | G51: 0 | H51: 1 | I51: 1 | J51: 1 | K51: 0 | L51: 2 | M51: 0 | N51: 0 | O51: 0 | P51: 0 | Q51: 0 | R51: 0 | S51: 1 | T51: 0 | U51: 0
B52: 女 | C52: 3 | D52: 0 | E52: 1 | F52: 0 | G52: 0 | H52: 0 | I52: 0 | J52: 0 | K52: 0 | L52: 0 | M52: 1 | N52: 0 | O52: 0 | P52: 0 | Q52: 0 | R52: 0 | S52: 0 | T52: 1 | U52: 0
B53: 計 | C53: 14 | D53: 1 | E53: 0 | F53: 0 | G53: 1 | H53: 0 | I53: 1 | J53: 1 | K53: 2 | L53: 0 | M53: 1 | N53: 1 | O53: 0 | P53: 2 | Q53: 0 | R53: 1 | S53: 2 | T53: 0 | U53: 1
A54: 花 蓮 縣 | B54: 男 | C54: 6 | D54: 1 | E54: 0 | F54: 0 | G54: 1 | H54: 0 | I54: 1 | J54: 0 | K54: 2 | L54: 0 | M54: 0 | N54: 0 | O54: 0 | P54: 0 | Q54: 0 | R54: 0 | S54: 1 | T54: 0 | U54: 0
B55: 女 | C55: 8 | D55: 0 | E55: 0 | F55: 0 | G55: 0 | H55: 0 | I55: 0 | J55: 1 | K55: 0 | L55: 0 | M55: 1 | N55: 1 | O55: 0 | P55: 2 | Q55: 0 | R55: 1 | S55: 1 | T55: 0 | U55: 1
B56: 計 | C56: 2 | D56: 0 | E56: 0 | F56: 0 | G56: 0 | H56: 0 | I56: 0 | J56: 0 | K56: 1 | L56: 0 | M56: 0 | N56: 0 | O56: 0 | P56: 0 | Q56: 0 | R56: 0 | S56: 0 | T56: 0 | U56: 1
A57: 澎 湖 縣 | B57: 男 | C57: 1 | D57: 0 | E57: 0 | F57: 0 | G57: 0 | H57: 0 | I57: 0 | J57: 0 | K57: 1 | L57: 0 | M57: 0 | N57: 0 | O57: 0 | P57: 0 | Q57: 0 | R57: 0 | S57: 0 | T57: 0 | U57: 0
B58: 女 | C58: 1 | D58: 0 | E58: 0 | F58: 0 | G58: 0 | H58: 0 | I58: 0 | J58: 0 | K58: 0 | L58: 0 | M58: 0 | N58: 0 | O58: 0 | P58: 0 | Q58: 0 | R58: 0 | S58: 0 | T58: 0 | U58: 1
B59: 計 | C59: 14 | D59: 1 | E59: 0 | F59: 1 | G59: 1 | H59: 0 | I59: 0 | J59: 0 | K59: 2 | L59: 3 | M59: 2 | N59: 2 | O59: 2 | P59: 0 | Q59: 0 | R59: 0 | S59: 0 | T59: 0 | U59: 0
A60: 基 隆 市 | B60: 男 | C60: 7 | D60: 0 | E60: 0 | F60: 0 | G60: 1 | H60: 0 | I60: 0 | J60: 0 | K60: 2 | L60: 1 | M60: 1 | N60: 1 | O60: 1 | P60: 0 | Q60: 0 | R60: 0 | S60: 0 | T60: 0 | U60: 0
B61: 女 | C61: 7 | D61: 1 | E61: 0 | F61: 1 | G61: 0 | H61: 0 | I61: 0 | J61: 0 | K61: 0 | L61: 2 | M61: 1 | N61: 1 | O61: 1 | P61: 0 | Q61: 0 | R61: 0 | S61: 0 | T61: 0 | U61: 0
B62: 計 | C62: 15 | D62: 2 | E62: 1 | F62: 0 | G62: 1 | H62: 0 | I62: 0 | J62: 0 | K62: 1 | L62: 0 | M62: 1 | N62: 2 | O62: 0 | P62: 0 | Q62: 2 | R62: 2 | S62: 1 | T62: 2 | U62: 0
A63: 新 竹 市 | B63: 男 | C63: 3 | D63: 1 | E63: 0 | F63: 0 | G63: 1 | H63: 0 | I63: 0 | J63: 0 | K63: 0 | L63: 0 | M63: 1 | N63: 0 | O63: 0 | P63: 0 | Q63: 0 | R63: 0 | S63: 0 | T63: 0 | U63: 0
B64: 女 | C64: 12 | D64: 1 | E64: 1 | F64: 0 | G64: 0 | H64: 0 | I64: 0 | J64: 0 | K64: 1 | L64: 0 | M64: 0 | N64: 2 | O64: 0 | P64: 0 | Q64: 2 | R64: 2 | S64: 1 | T64: 2 | U64: 0
B65: 計 | C65: 18 | D65: 0 | E65: 2 | F65: 2 | G65: 0 | H65: 0 | I65: 2 | J65: 1 | K65: 2 | L65: 1 | M65: 0 | N65: 1 | O65: 0 | P65: 0 | Q65: 0 | R65: 1 | S65: 3 | T65: 1 | U65: 2
A66: 嘉 義 市 | B66: 男 | C66: 7 | D66: 0 | E66: 0 | F66: 1 | G66: 0 | H66: 0 | I66: 0 | J66: 0 | K66: 1 | L66: 0 | M66: 0 | N66: 1 | O66: 0 | P66: 0 | Q66: 0 | R66: 1 | S66: 1 | T66: 0 | U66: 2
B67: 女 | C67: 11 | D67: 0 | E67: 2 | F67: 1 | G67: 0 | H67: 0 | I67: 2 | J67: 1 | K67: 1 | L67: 1 | M67: 0 | N67: 0 | O67: 0 | P67: 0 | Q67: 0 | R67: 0 | S67: 2 | T67: 1 | U67: 0
B68: 計 | C68: 2 | D68: 0 | E68: 0 | F68: 0 | G68: 0 | H68: 0 | I68: 0 | J68: 0 | K68: 0 | L68: 1 | M68: 0 | N68: 0 | O68: 0 | P68: 1 | Q68: 0 | R68: 0 | S68: 0 | T68: 0 | U68: 0
A69: 金 門 縣 | B69: 男 | C69: 0 | D69: 0 | E69: 0 | F69: 0 | G69: 0 | H69: 0 | I69: 0 | J69: 0 | K69: 0 | L69: 0 | M69: 0 | N69: 0 | O69: 0 | P69: 0 | Q69: 0 | R69: 0 | S69: 0 | T69: 0 | U69: 0
B70: 女 | C70: 2 | D70: 0 | E70: 0 | F70: 0 | G70: 0 | H70: 0 | I70: 0 | J70: 0 | K70: 0 | L70: 1 | M70: 0 | N70: 0 | O70: 0 | P70: 1 | Q70: 0 | R70: 0 | S70: 0 | T70: 0 | U70: 0
B71: 計 | C71: 0 | D71: 0 | E71: 0 | F71: 0 | G71: 0 | H71: 0 | I71: 0 | J71: 0 | K71: 0 | L71: 0 | M71: 0 | N71: 0 | O71: 0 | P71: 0 | Q71: 0 | R71: 0 | S71: 0 | T71: 0 | U71: 0
A72: 連 江 縣 | B72: 男 | C72: 0 | D72: 0 | E72: 0 | F72: 0 | G72: 0 | H72: 0 | I72: 0 | J72: 0 | K72: 0 | L72: 0 | M72: 0 | N72: 0 | O72: 0 | P72: 0 | Q72: 0 | R72: 0 | S72: 0 | T72: 0 | U72: 0
B73: 女 | C73: 0 | D73: 0 | E73: 0 | F73: 0 | G73: 0 | H73: 0 | I73: 0 | J73: 0 | K73: 0 | L73: 0 | M73: 0 | N73: 0 | O73: 0 | P73: 0 | Q73: 0 | R73: 0 | S73: 0 | T73: 0 | U73: 0
U74: ='108年'!U74 -> 內政部戶政司 編製

Sheet 105年
C1: ='108年'!C1:S1 -> 收養人數按性別、年齡分
C2: 中華民國105年底 | U2: ='108年'!U2 -> 單位：人
A3: 區域別 | B3: 性別 | C3: 總 計 | D3: 0歲 | E3: 1歲 | F3: 2歲 | G3: 3歲 | H3: 4歲 | I3: 5歲 | J3: 6歲 | K3: 7歲 | L3: 8歲 | M3: 9歲 | N3: 10歲 | O3: 11歲 | P3: 12歲 | Q3: 13歲 | R3: 14歲 | S3: 15歲 | T3: 16歲 | U3: 17歲
B5: 計 | C5: 1040 | D5: 59 | E5: 136 | F5: 69 | G5: 64 | H5: 63 | I5: 48 | J5: 58 | K5: 51 | L5: 40 | M5: 31 | N5: 48 | O5: 32 | P5: 46 | Q5: 50 | R5: 46 | S5: 77 | T5: 65 | U5: 57
A6: 總 計 | B6: 男 | C6: 495 | D6: 25 | E6: 70 | F6: 41 | G6: 26 | H6: 32 | I6: 29 | J6: 30 | K6: 23 | L6: 18 | M6: 14 | N6: 23 | O6: 13 | P6: 18 | Q6: 20 | R6: 23 | S6: 36 | T6: 28 | U6: 26
B7: 女 | C7: 545 | D7: 34 | E7: 66 | F7: 28 | G7: 38 | H7: 31 | I7: 19 | J7: 28 | K7: 28 | L7: 22 | M7: 17 | N7: 25 | O7: 19 | P7: 28 | Q7: 30 | R7: 23 | S7: 41 | T7: 37 | U7: 31
B8: 計 | C8: 160 | D8: 5 | E8: 13 | F8: 8 | G8: 18 | H8: 11 | I8: 8 | J8: 10 | K8: 13 | L8: 7 | M8: 4 | N8: 7 | O8: 3 | P8: 3 | Q8: 7 | R8: 4 | S8: 19 | T8: 15 | U8: 5
A9: 新 北 市 | B9: 男 | C9: 80 | D9: 0 | E9: 7 | F9: 3 | G9: 11 | H9: 4 | I9: 7 | J9: 7 | K9: 6 | L9: 3 | M9: 2 | N9: 4 | O9: 1 | P9: 2 | Q9: 6 | R9: 0 | S9: 10 | T9: 5 | U9: 2
B10: 女 | C10: 80 | D10: 5 | E10: 6 | F10: 5 | G10: 7 | H10: 7 | I10: 1 | J10: 3 | K10: 7 | L10: 4 | M10: 2 | N10: 3 | O10: 2 | P10: 1 | Q10: 1 | R10: 4 | S10: 9 | T10: 10 | U10: 3
B11: 計 | C11: 184 | D11: 27 | E11: 46 | F11: 28 | G11: 18 | H11: 13 | I11: 6 | J11: 10 | K11: 6 | L11: 1 | M11: 2 | N11: 5 | O11: 0 | P11: 3 | Q11: 6 | R11: 2 | S11: 2 | T11: 3 | U11: 6
A12: 臺 北 市 | B12: 男 | C12: 93 | D12: 13 | E12: 24 | F12: 17 | G12: 3 | H12: 7 | I12: 4 | J12: 3 | K12: 4 | L12: 1 | M12: 1 | N12: 4 | O12: 0 | P12: 2 | Q12: 2 | R12: 2 | S12: 1 | T12: 2 | U12: 3
B13: 女 | C13: 91 | D13: 14 | E13: 22 | F13: 11 | G13: 15 | H13: 6 | I13: 2 | J13: 7 | K13: 2 | L13: 0 | M13: 1 | N13: 1 | O13: 0 | P13: 1 | Q13: 4 | R13: 0 | S13: 1 | T13: 1 | U13: 3
B14: 計 | C14: 122 | D14: 7 | E14: 6 | F14: 1 | G14: 4 | H14: 6 | I14: 3 | J14: 8 | K14: 7 | L14: 0 | M14: 3 | N14: 4 | O14: 5 | P14: 7 | Q14: 10 | R14: 11 | S14: 14 | T14: 12 | U14: 14
A15: 桃 園 市 | B15: 男 | C15: 54 | D15: 2 | E15: 4 | F15: 0 | G15: 0 | H15: 3 | I15: 2 | J15: 7 | K15: 2 | L15: 0 | M15: 0 | N15: 1 | O15: 2 | P15: 4 | Q15: 4 | R15: 5 | S15: 8 | T15: 4 | U15: 6
B16: 女 | C16: 68 | D16: 5 | E16: 2 | F16: 1 | G16: 4 | H16: 3 | I16: 1 | J16: 1 | K16: 5 | L16: 0 | M16: 3 | N16: 3 | O16: 3 | P16: 3 | Q16: 6 | R16: 6 | S16: 6 | T16: 8 | U16: 8
B17: 計 | C17: 91 | D17: 3 | E17: 8 | F17: 5 | G17: 3 | H17: 7 | I17: 5 | J17: 3 | K17: 6 | L17: 4 | M17: 2 | N17: 3 | O17: 3 | P17: 9 | Q17: 6 | R17: 3 | S17: 5 | T17: 8 | U17: 8
A18: 臺 中 市 | B18: 男 | C18: 41 | D18: 2 | E18: 3 | F18: 5 | G18: 1 | H18: 5 | I18: 2 | J18: 2 | K18: 1 | L18: 2 | M18: 1 | N18: 0 | O18: 1 | P18: 4 | Q18: 1 | R18: 2 | S18: 1 | T18: 3 | U18: 5
B19: 女 | C19: 50 | D19: 1 | E19: 5 | F19: 0 | G19: 2 | H19: 2 | I19: 3 | J19: 1 | K19: 5 | L19: 2 | M19: 1 | N19: 3 | O19: 2 | P19: 5 | Q19: 5 | R19: 1 | S19: 4 | T19: 5 | U19: 3
B20: 計 | C20: 116 | D20: 2 | E20: 30 | F20: 7 | G20: 7 | H20: 8 | I20: 9 | J20: 4 | K20: 4 | L20: 8 | M20: 1 | N20: 5 | O20: 1 | P20: 7 | Q20: 3 | R20: 5 | S20: 5 | T20: 4 | U20: 6
A21: 臺 南 市 | B21: 男 | C21: 58 | D21: 0 | E21: 14 | F21: 5 | G21: 4 | H21: 6 | I21: 6 | J21: 2 | K21: 2 | L21: 3 | M21: 0 | N21: 2 | O21: 0 | P21: 2 | Q21: 1 | R21: 2 | S21: 3 | T21: 2 | U21: 4
B22: 女 | C22: 58 | D22: 2 | E22: 16 | F22: 2 | G22: 3 | H22: 2 | I22: 3 | J22: 2 | K22: 2 | L22: 5 | M22: 1 | N22: 3 | O22: 1 | P22: 5 | Q22: 2 | R22: 3 | S22: 2 | T22: 2 | U22: 2
B23: 計 | C23: 76 | D23: 3 | E23: 5 | F23: 5 | G23: 5 | H23: 5 | I23: 1 | J23: 4 | K23: 3 | L23: 4 | M23: 6 | N23: 2 | O23: 5 | P23: 4 | Q23: 5 | R23: 6 | S23: 7 | T23: 4 | U23: 2
A24: 高 雄 市 | B24: 男 | C24: 38 | D24: 2 | E24: 3 | F24: 2 | G24: 3 | H24: 1 | I24: 1 | J24: 1 | K24: 1 | L24: 2 | M24: 5 | N24: 1 | O24: 2 | P24: 2 | Q24: 2 | R24: 4 | S24: 4 | T24: 2 | U24: 0
B25: 女 | C25: 38 | D25: 1 | E25: 2 | F25: 3 | G25: 2 | H25: 4 | I25: 0 | J25: 3 | K25: 2 | L25: 2 | M25: 1 | N25: 1 | O25: 3 | P25: 2 | Q25: 3 | R25: 2 | S25: 3 | T25: 2 | U25: 2
B26: 計 | C26: 36 | D26: 2 | E26: 9 | F26: 2 | G26: 0 | H26: 0 | I26: 3 | J26: 1 | K26: 1 | L26: 0 | M26: 1 | N26: 0 | O26: 3 | P26: 3 | Q26: 1 | R26: 1 | S26: 3 | T26: 4 | U26: 2
A27: 宜 蘭 縣 | B27: 男 | C27: 17 | D27: 1 | E27: 5 | F27: 2 | G27: 0 | H27: 0 | I27: 2 | J27: 1 | K27: 0 | L27: 0 | M27: 1 | N27: 0 | O27: 1 | P27: 0 | Q27: 0 | R27: 1 | S27: 1 | T27: 1 | U27: 1
B28: 女 | C28: 19 | D28: 1 | E28: 4 | F28: 0 | G28: 0 | H28: 0 | I28: 1 | J28: 0 | K28: 1 | L28: 0 | M28: 0 | N28: 0 | O28: 2 | P28: 3 | Q28: 1 | R28: 0 | S28: 2 | T28: 3 | U28: 1
B29: 計 | C29: 39 | D29: 0 | E29: 0 | F29: 0 | G29: 1 | H29: 3 | I29: 2 | J29: 3 | K29: 0 | L29: 5 | M29: 3 | N29: 3 | O29: 2 | P29: 1 | Q29: 5 | R29: 1 | S29: 3 | T29: 3 | U29: 4
A30: 新 竹 縣 | B30: 男 | C30: 19 | D30: 0 | E30: 0 | F30: 0 | G30: 1 | H30: 3 | I30: 0 | J30: 1 | K30: 0 | L30: 1 | M30: 2 | N30: 1 | O30: 1 | P30: 1 | Q30: 3 | R30: 0 | S30: 0 | T30: 2 | U30: 3
B31: 女 | C31: 20 | D31: 0 | E31: 0 | F31: 0 | G31: 0 | H31: 0 | I31: 2 | J31: 2 | K31: 0 | L31: 4 | M31: 1 | N31: 2 | O31: 1 | P31: 0 | Q31: 2 | R31: 1 | S31: 3 | T31: 1 | U31: 1
B32: 計 | C32: 29 | D32: 4 | E32: 2 | F32: 1 | G32: 2 | H32: 0 | I32: 1 | J32: 1 | K32: 0 | L32: 3 | M32: 1 | N32: 2 | O32: 2 | P32: 0 | Q32: 2 | R32: 1 | S32: 4 | T32: 1 | U32: 2
A33: 苗 栗 縣 | B33: 男 | C33: 14 | D33: 3 | E33: 1 | F33: 0 | G33: 2 | H33: 0 | I33: 1 | J33: 1 | K33: 0 | L33: 2 | M33: 0 | N33: 1 | O33: 0 | P33: 0 | Q33: 0 | R33: 1 | S33: 1 | T33: 1 | U33: 0
B34: 女 | C34: 15 | D34: 1 | E34: 1 | F34: 1 | G34: 0 | H34: 0 | I34: 0 | J34: 0 | K34: 0 | L34: 1 | M34: 1 | N34: 1 | O34: 2 | P34: 0 | Q34: 2 | R34: 0 | S34: 3 | T34: 0 | U34: 2
B35: 計 | C35: 33 | D35: 0 | E35: 3 | F35: 0 | G35: 1 | H35: 2 | I35: 4 | J35: 3 | K35: 2 | L35: 1 | M35: 1 | N35: 4 | O35: 1 | P35: 2 | Q35: 1 | R35: 3 | S35: 3 | T35: 2 | U35: 0
A36: 彰 化 縣 | B36: 男 | C36: 17 | D36: 0 | E36: 2 | F36: 0 | G36: 0 | H36: 0 | I36: 1 | J36: 2 | K36: 2 | L36: 1 | M36: 0 | N36: 3 | O36: 0 | P36: 0 | Q36: 0 | R36: 1 | S36: 3 | T36: 2 | U36: 0
B37: 女 | C37: 16 | D37: 0 | E37: 1 | F37: 0 | G37: 1 | H37: 2 | I37: 3 | J37: 1 | K37: 0 | L37: 0 | M37: 1 | N37: 1 | O37: 1 | P37: 2 | Q37: 1 | R37: 2 | S37: 0 | T37: 0 | U37: 0
B38: 計 | C38: 12 | D38: 1 | E38: 0 | F38: 0 | G38: 1 | H38: 0 | I38: 1 | J38: 1 | K38: 1 | L38: 0 | M38: 0 | N38: 3 | O38: 1 | P38: 0 | Q38: 0 | R38: 1 | S38: 0 | T38: 1 | U38: 1
A39: 南 投 縣 | B39: 男 | C39: 6 | D39: 0 | E39: 0 | F39: 0 | G39: 0 | H39: 0 | I39: 1 | J39: 1 | K39: 0 | L39: 0 | M39: 0 | N39: 1 | O39: 1 | P39: 0 | Q39: 0 | R39: 1 | S39: 0 | T39: 1 | U39: 0
B40: 女 | C40: 6 | D40: 1 | E40: 0 | F40: 0 | G40: 1 | H40: 0 | I40: 0 | J40: 0 | K40: 1 | L40: 0 | M40: 0 | N40: 2 | O40: 0 | P40: 0 | Q40: 0 | R40: 0 | S40: 0 | T40: 0 | U40: 1
B41: 計 | C41: 31 | D41: 0 | E41: 2 | F41: 0 | G41: 1 | H41: 2 | I41: 2 | J41: 1 | K41: 3 | L41: 2 | M41: 2 | N41: 2 | O41: 3 | P41: 1 | Q41: 1 | R41: 2 | S41: 0 | T41: 5 | U41: 2
A42: 雲 林 縣 | B42: 男 | C42: 17 | D42: 0 | E42: 1 | F42: 0 | G42: 1 | H42: 1 | I42: 0 | J42: 0 | K42: 2 | L42: 1 | M42: 1 | N42: 2 | O42: 3 | P42: 0 | Q42: 0 | R42: 1 | S42: 0 | T42: 2 | U42: 2
B43: 女 | C43: 14 | D43: 0 | E43: 1 | F43: 0 | G43: 0 | H43: 1 | I43: 2 | J43: 1 | K43: 1 | L43: 1 | M43: 1 | N43: 0 | O43: 0 | P43: 1 | Q43: 1 | R43: 1 | S43: 0 | T43: 3 | U43: 0
B44: 計 | C44: 12 | D44: 0 | E44: 1 | F44: 0 | G44: 0 | H44: 1 | I44: 0 | J44: 1 | K44: 1 | L44: 1 | M44: 0 | N44: 0 | O44: 0 | P44: 0 | Q44: 0 | R44: 0 | S44: 4 | T44: 2 | U44: 1
A45: 嘉 義 縣 | B45: 男 | C45: 3 | D45: 0 | E45: 1 | F45: 0 | G45: 0 | H45: 0 | I45: 0 | J45: 0 | K45: 1 | L45: 0 | M45: 0 | N45: 0 | O45: 0 | P45: 0 | Q45: 0 | R45: 0 | S45: 0 | T45: 1 | U45: 0
B46: 女 | C46: 9 | D46: 0 | E46: 0 | F46: 0 | G46: 0 | H46: 1 | I46: 0 | J46: 1 | K46: 0 | L46: 1 | M46: 0 | N46: 0 | O46: 0 | P46: 0 | Q46: 0 | R46: 0 | S46: 4 | T46: 1 | U46: 1
B47: 計 | C47: 31 | D47: 2 | E47: 5 | F47: 4 | G47: 1 | H47: 2 | I47: 2 | J47: 0 | K47: 2 | L47: 2 | M47: 1 | N47: 3 | O47: 0 | P47: 1 | Q47: 1 | R47: 2 | S47: 1 | T47: 0 | U47: 2
A48: 屏 東 縣 | B48: 男 | C48: 15 | D48: 1 | E48: 2 | F48: 2 | G48: 0 | H48: 2 | I48: 1 | J48: 0 | K48: 1 | L48: 2 | M48: 1 | N48: 2 | O48: 0 | P48: 0 | Q48: 0 | R48: 1 | S48: 0 | T48: 0 | U48: 0
B49: 女 | C49: 16 | D49: 1 | E49: 3 | F49: 2 | G49: 1 | H49: 0 | I49: 1 | J49: 0 | K49: 1 | L49: 0 | M49: 0 | N49: 1 | O49: 0 | P49: 1 | Q49: 1 | R49: 1 | S49: 1 | T49: 0 | U49: 2
B50: 計 | C50: 12 | D50: 0 | E50: 1 | F50: 5 | G50: 0 | H50: 0 | I50: 1 | J50: 1 | K50: 1 | L50: 1 | M50: 0 | N50: 0 | O50: 0 | P50: 1 | Q50: 0 | R50: 0 | S50: 1 | T50: 0 | U50: 0
A51: 臺 東 縣 | B51: 男 | C51: 7 | D51: 0 | E51: 1 | F51: 3 | G51: 0 | H51: 0 | I51: 1 | J51: 0 | K51: 1 | L51: 0 | M51: 0 | N51: 0 | O51: 0 | P51: 0 | Q51: 0 | R51: 0 | S51: 1 | T51: 0 | U51: 0
B52: 女 | C52: 5 | D52: 0 | E52: 0 | F52: 2 | G52: 0 | H52: 0 | I52: 0 | J52: 1 | K52: 0 | L52: 1 | M52: 0 | N52: 0 | O52: 0 | P52: 1 | Q52: 0 | R52: 0 | S52: 0 | T52: 0 | U52: 0
B53: 計 | C53: 14 | D53: 1 | E53: 3 | F53: 0 | G53: 0 | H53: 1 | I53: 0 | J53: 2 | K53: 0 | L53: 0 | M53: 2 | N53: 1 | O53: 0 | P53: 2 | Q53: 1 | R53: 0 | S53: 1 | T53: 0 | U53: 0
A54: 花 蓮 縣 | B54: 男 | C54: 2 | D54: 0 | E54: 1 | F54: 0 | G54: 0 | H54: 0 | I54: 0 | J54: 0 | K54: 0 | L54: 0 | M54: 0 | N54: 0 | O54: 0 | P54: 0 | Q54: 1 | R54: 0 | S54: 0 | T54: 0 | U54: 0
B55: 女 | C55: 12 | D55: 1 | E55: 2 | F55: 0 | G55: 0 | H55: 1 | I55: 0 | J55: 2 | K55: 0 | L55: 0 | M55: 2 | N55: 1 | O55: 0 | P55: 2 | Q55: 0 | R55: 0 | S55: 1 | T55: 0 | U55: 0
B56: 計 | C56: 3 | D56: 0 | E56: 0 | F56: 0 | G56: 0 | H56: 0 | I56: 0 | J56: 1 | K56: 0 | L56: 1 | M56: 0 | N56: 0 | O56: 0 | P56: 0 | Q56: 1 | R56: 0 | S56: 0 | T56: 0 | U56: 0
A57: 澎 湖 縣 | B57: 男 | C57: 0 | D57: 0 | E57: 0 | F57: 0 | G57: 0 | H57: 0 | I57: 0 | J57: 0 | K57: 0 | L57: 0 | M57: 0 | N57: 0 | O57: 0 | P57: 0 | Q57: 0 | R57: 0 | S57: 0 | T57: 0 | U57: 0
B58: 女 | C58: 3 | D58: 0 | E58: 0 | F58: 0 | G58: 0 | H58: 0 | I58: 0 | J58: 1 | K58: 0 | L58: 1 | M58: 0 | N58: 0 | O58: 0 | P58: 0 | Q58: 1 | R58: 0 | S58: 0 | T58: 0 | U58: 0
B59: 計 | C59: 13 | D59: 1 | E59: 1 | F59: 0 | G59: 1 | H59: 0 | I59: 0 | J59: 1 | K59: 1 | L59: 0 | M59: 1 | N59: 2 | O59: 1 | P59: 0 | Q59: 0 | R59: 2 | S59: 0 | T59: 1 | U59: 1
A60: 基 隆 市 | B60: 男 | C60: 2 | D60: 0 | E60: 1 | F60: 0 | G60: 0 | H60: 0 | I60: 0 | J60: 0 | K60: 0 | L60: 0 | M60: 0 | N60: 0 | O60: 0 | P60: 0 | Q60: 0 | R60: 1 | S60: 0 | T60: 0 | U60: 0
B61: 女 | C61: 11 | D61: 1 | E61: 0 | F61: 0 | G61: 1 | H61: 0 | I61: 0 | J61: 1 | K61: 1 | L61: 0 | M61: 1 | N61: 2 | O61: 1 | P61: 0 | Q61: 0 | R61: 1 | S61: 0 | T61: 1 | U61: 1
B62: 計 | C62: 19 | D62: 1 | E62: 1 | F62: 3 | G62: 1 | H62: 1 | I62: 0 | J62: 2 | K62: 0 | L62: 0 | M62: 1 | N62: 1 | O62: 2 | P62: 2 | Q62: 0 | R62: 1 | S62: 2 | T62: 0 | U62: 1
A63: 新 竹 市 | B63: 男 | C63: 10 | D63: 1 | E63: 0 | F63: 2 | G63: 0 | H63: 0 | I63: 0 | J63: 1 | K63: 0 | L63: 0 | M63: 0 | N63: 1 | O63: 1 | P63: 1 | Q63: 0 | R63: 1 | S63: 2 | T63: 0 | U63: 0
B64: 女 | C64: 9 | D64: 0 | E64: 1 | F64: 1 | G64: 1 | H64: 1 | I64: 0 | J64: 1 | K64: 0 | L64: 0 | M64: 1 | N64: 0 | O64: 1 | P64: 1 | Q64: 0 | R64: 0 | S64: 0 | T64: 0 | U64: 1
B65: 計 | C65: 4 | D65: 0 | E65: 0 | F65: 0 | G65: 0 | H65: 0 | I65: 0 | J65: 1 | K65: 0 | L65: 0 | M65: 0 | N65: 1 | O65: 0 | P65: 0 | Q65: 0 | R65: 1 | S65: 1 | T65: 0 | U65: 0
A66: 嘉 義 市 | B66: 男 | C66: 1 | D66: 0 | E66: 0 | F66: 0 | G66: 0 | H66: 0 | I66: 0 | J66: 1 | K66: 0 | L66: 0 | M66: 0 | N66: 0 | O66: 0 | P66: 0 | Q66: 0 | R66: 0 | S66: 0 | T66: 0 | U66: 0
B67: 女 | C67: 3 | D67: 0 | E67: 0 | F67: 0 | G67: 0 | H67: 0 | I67: 0 | J67: 0 | K67: 0 | L67: 0 | M67: 0 | N67: 1 | O67: 0 | P67: 0 | Q67: 0 | R67: 1 | S67: 1 | T67: 0 | U67: 0
B68: 計 | C68: 3 | D68: 0 | E68: 0 | F68: 0 | G68: 0 | H68: 1 | I68: 0 | J68: 0 | K68: 0 | L68: 0 | M68: 0 | N68: 0 | O68: 0 | P68: 0 | Q68: 0 | R68: 0 | S68: 2 | T68: 0 | U68: 0
A69: 金 門 縣 | B69: 男 | C69: 1 | D69: 0 | E69: 0 | F69: 0 | G69: 0 | H69: 0 | I69: 0 | J69: 0 | K69: 0 | L69: 0 | M69: 0 | N69: 0 | O69: 0 | P69: 0 | Q69: 0 | R69: 0 | S69: 1 | T69: 0 | U69: 0
B70: 女 | C70: 2 | D70: 0 | E70: 0 | F70: 0 | G70: 0 | H70: 1 | I70: 0 | J70: 0 | K70: 0 | L70: 0 | M70: 0 | N70: 0 | O70: 0 | P70: 0 | Q70: 0 | R70: 0 | S70: 1 | T70: 0 | U70: 0
B71: 計 | C71: 0 | D71: 0 | E71: 0 | F71: 0 | G71: 0 | H71: 0 | I71: 0 | J71: 0 | K71: 0 | L71: 0 | M71: 0 | N71: 0 | O71: 0 | P71: 0 | Q71: 0 | R71: 0 | S71: 0 | T71: 0 | U71: 0
A72: 連 江 縣 | B72: 男 | C72: 0 | D72: 0 | E72: 0 | F72: 0 | G72: 0 | H72: 0 | I72: 0 | J72: 0 | K72: 0 | L72: 0 | M72: 0 | N72: 0 | O72: 0 | P72: 0 | Q72: 0 | R72: 0 | S72: 0 | T72: 0 | U72: 0
B73: 女 | C73: 0 | D73: 0 | E73: 0 | F73: 0 | G73: 0 | H73: 0 | I73: 0 | J73: 0 | K73: 0 | L73: 0 | M73: 0 | N73: 0 | O73: 0 | P73: 0 | Q73: 0 | R73: 0 | S73: 0 | T73: 0 | U73: 0
U74: ='108年'!U74 -> 內政部戶政司 編製

Sheet 104年
C1: ='108年'!C1:S1 -> 收養人數按性別、年齡分
C2: 中華民國104年底 | U2: ='108年'!U2 -> 單位：人
A3: 區域別 | B3: 性別 | C3: 總 計 | D3: 0歲 | E3: 1歲 | F3: 2歲 | G3: 3歲 | H3: 4歲 | I3: 5歲 | J3: 6歲 | K3: 7歲 | L3: 8歲 | M3: 9歲 | N3: 10歲 | O3: 11歲 | P3: 12歲 | Q3: 13歲 | R3: 14歲 | S3: 15歲 | T3: 16歲 | U3: 17歲
B5: 計 | C5: 1152 | D5: 75 | E5: 157 | F5: 85 | G5: 53 | H5: 77 | I5: 55 | J5: 69 | K5: 52 | L5: 57 | M5: 51 | N5: 41 | O5: 42 | P5: 57 | Q5: 47 | R5: 50 | S5: 70 | T5: 73 | U5: 41
A6: 總 計 | B6: 男 | C6: 562 | D6: 40 | E6: 81 | F6: 45 | G6: 26 | H6: 41 | I6: 32 | J6: 27 | K6: 24 | L6: 27 | M6: 26 | N6: 18 | O6: 19 | P6: 27 | Q6: 21 | R6: 20 | S6: 36 | T6: 33 | U6: 19
B7: 女 | C7: 590 | D7: 35 | E7: 76 | F7: 40 | G7: 27 | H7: 36 | I7: 23 | J7: 42 | K7: 28 | L7: 30 | M7: 25 | N7: 23 | O7: 23 | P7: 30 | Q7: 26 | R7: 30 | S7: 34 | T7: 40 | U7: 22
B8: 計 | C8: 168 | D8: 7 | E8: 19 | F8: 11 | G8: 6 | H8: 17 | I8: 5 | J8: 14 | K8: 7 | L8: 10 | M8: 10 | N8: 5 | O8: 10 | P8: 16 | Q8: 6 | R8: 4 | S8: 8 | T8: 9 | U8: 4
A9: 新 北 市 | B9: 男 | C9: 77 | D9: 3 | E9: 8 | F9: 4 | G9: 3 | H9: 9 | I9: 2 | J9: 5 | K9: 4 | L9: 6 | M9: 5 | N9: 2 | O9: 1 | P9: 8 | Q9: 4 | R9: 1 | S9: 6 | T9: 4 | U9: 2
B10: 女 | C10: 91 | D10: 4 | E10: 11 | F10: 7 | G10: 3 | H10: 8 | I10: 3 | J10: 9 | K10: 3 | L10: 4 | M10: 5 | N10: 3 | O10: 9 | P10: 8 | Q10: 2 | R10: 3 | S10: 2 | T10: 5 | U10: 2
B11: 計 | C11: 205 | D11: 27 | E11: 58 | F11: 19 | G11: 14 | H11: 19 | I11: 6 | J11: 10 | K11: 3 | L11: 5 | M11: 6 | N11: 8 | O11: 1 | P11: 1 | Q11: 5 | R11: 3 | S11: 6 | T11: 9 | U11: 5
A12: 臺 北 市 | B12: 男 | C12: 108 | D12: 16 | E12: 31 | F12: 8 | G12: 6 | H12: 7 | I12: 4 | J12: 5 | K12: 3 | L12: 3 | M12: 4 | N12: 3 | O12: 1 | P12: 1 | Q12: 2 | R12: 2 | S12: 3 | T12: 5 | U12: 4
B13: 女 | C13: 97 | D13: 11 | E13: 27 | F13: 11 | G13: 8 | H13: 12 | I13: 2 | J13: 5 | K13: 0 | L13: 2 | M13: 2 | N13: 5 | O13: 0 | P13: 0 | Q13: 3 | R13: 1 | S13: 3 | T13: 4 | U13: 1
B14: 計 | C14: 96 | D14: 5 | E14: 5 | F14: 3 | G14: 5 | H14: 8 | I14: 7 | J14: 3 | K14: 1 | L14: 6 | M14: 3 | N14: 5 | O14: 2 | P14: 5 | Q14: 8 | R14: 4 | S14: 11 | T14: 9 | U14: 6
A15: 桃 園 市 | B15: 男 | C15: 46 | D15: 2 | E15: 2 | F15: 1 | G15: 4 | H15: 5 | I15: 5 | J15: 1 | K15: 0 | L15: 3 | M15: 0 | N15: 3 | O15: 0 | P15: 2 | Q15: 3 | R15: 1 | S15: 5 | T15: 4 | U15: 5
B16: 女 | C16: 50 | D16: 3 | E16: 3 | F16: 2 | G16: 1 | H16: 3 | I16: 2 | J16: 2 | K16: 1 | L16: 3 | M16: 3 | N16: 2 | O16: 2 | P16: 3 | Q16: 5 | R16: 3 | S16: 6 | T16: 5 | U16: 1
B17: 計 | C17: 114 | D17: 3 | E17: 6 | F17: 9 | G17: 2 | H17: 7 | I17: 10 | J17: 6 | K17: 9 | L17: 5 | M17: 6 | N17: 4 | O17: 2 | P17: 10 | Q17: 6 | R17: 6 | S17: 11 | T17: 10 | U17: 2
A18: 臺 中 市 | B18: 男 | C18: 58 | D18: 2 | E18: 3 | F18: 5 | G18: 1 | H18: 5 | I18: 3 | J18: 2 | K18: 5 | L18: 1 | M18: 4 | N18: 2 | O18: 1 | P18: 4 | Q18: 4 | R18: 3 | S18: 5 | T18: 7 | U18: 1
B19: 女 | C19: 56 | D19: 1 | E19: 3 | F19: 4 | G19: 1 | H19: 2 | I19: 7 | J19: 4 | K19: 4 | L19: 4 | M19: 2 | N19: 2 | O19: 1 | P19: 6 | Q19: 2 | R19: 3 | S19: 6 | T19: 3 | U19: 1
B20: 計 | C20: 123 | D20: 4 | E20: 30 | F20: 12 | G20: 6 | H20: 6 | I20: 6 | J20: 3 | K20: 9 | L20: 8 | M20: 2 | N20: 2 | O20: 6 | P20: 4 | Q20: 6 | R20: 2 | S20: 9 | T20: 3 | U20: 5
A21: 臺 南 市 | B21: 男 | C21: 61 | D21: 3 | E21: 16 | F21: 8 | G21: 4 | H21: 3 | I21: 6 | J21: 0 | K21: 4 | L21: 3 | M21: 1 | N21: 1 | O21: 2 | P21: 2 | Q21: 1 | R21: 1 | S21: 5 | T21: 1 | U21: 0
B22: 女 | C22: 62 | D22: 1 | E22: 14 | F22: 4 | G22: 2 | H22: 3 | I22: 0 | J22: 3 | K22: 5 | L22: 5 | M22: 1 | N22: 1 | O22: 4 | P22: 2 | Q22: 5 | R22: 1 | S22: 4 | T22: 2 | U22: 5
B23: 計 | C23: 110 | D23: 2 | E23: 14 | F23: 7 | G23: 7 | H23: 8 | I23: 5 | J23: 11 | K23: 5 | L23: 7 | M23: 8 | N23: 3 | O23: 7 | P23: 5 | Q23: 5 | R23: 4 | S23: 3 | T23: 6 | U23: 3
A24: 高 雄 市 | B24: 男 | C24: 54 | D24: 1 | E24: 9 | F24: 3 | G24: 3 | H24: 7 | I24: 3 | J24: 1 | K24: 2 | L24: 5 | M24: 3 | N24: 0 | O24: 5 | P24: 2 | Q24: 3 | R24: 0 | S24: 2 | T24: 3 | U24: 2
B25: 女 | C25: 56 | D25: 1 | E25: 5 | F25: 4 | G25: 4 | H25: 1 | I25: 2 | J25: 10 | K25: 3 | L25: 2 | M25: 5 | N25: 3 | O25: 2 | P25: 3 | Q25: 2 | R25: 4 | S25: 1 | T25: 3 | U25: 1
B26: 計 | C26: 34 | D26: 2 | E26: 5 | F26: 1 | G26: 2 | H26: 1 | I26: 3 | J26: 4 | K26: 0 | L26: 1 | M26: 0 | N26: 1 | O26: 0 | P26: 1 | Q26: 4 | R26: 4 | S26: 2 | T26: 1 | U26: 2
A27: 宜 蘭 縣 | B27: 男 | C27: 18 | D27: 1 | E27: 2 | F27: 1 | G27: 0 | H27: 0 | I27: 3 | J27: 3 | K27: 0 | L27: 0 | M27: 0 | N27: 1 | O27: 0 | P27: 0 | Q27: 2 | R27: 2 | S27: 1 | T27: 1 | U27: 1
B28: 女 | C28: 16 | D28: 1 | E28: 3 | F28: 0 | G28: 2 | H28: 1 | I28: 0 | J28: 1 | K28: 0 | L28: 1 | M28: 0 | N28: 0 | O28: 0 | P28: 1 | Q28: 2 | R28: 2 | S28: 1 | T28: 0 | U28: 1
B29: 計 | C29: 36 | D29: 0 | E29: 2 | F29: 3 | G29: 0 | H29: 0 | I29: 0 | J29: 1 | K29: 2 | L29: 3 | M29: 3 | N29: 0 | O29: 1 | P29: 2 | Q29: 2 | R29: 4 | S29: 5 | T29: 7 | U29: 1
A30: 新 竹 縣 | B30: 男 | C30: 17 | D30: 0 | E30: 2 | F30: 2 | G30: 0 | H30: 0 | I30: 0 | J30: 1 | K30: 0 | L30: 1 | M30: 2 | N30: 0 | O30: 0 | P30: 1 | Q30: 0 | R30: 2 | S30: 3 | T30: 3 | U30: 0
B31: 女 | C31: 19 | D31: 0 | E31: 0 | F31: 1 | G31: 0 | H31: 0 | I31: 0 | J31: 0 | K31: 2 | L31: 2 | M31: 1 | N31: 0 | O31: 1 | P31: 1 | Q31: 2 | R31: 2 | S31: 2 | T31: 4 | U31: 1
B32: 計 | C32: 29 | D32: 2 | E32: 1 | F32: 2 | G32: 2 | H32: 2 | I32: 4 | J32: 2 | K32: 1 | L32: 0 | M32: 1 | N32: 3 | O32: 3 | P32: 1 | Q32: 0 | R32: 2 | S32: 0 | T32: 2 | U32: 1
A33: 苗 栗 縣 | B33: 男 | C33: 13 | D33: 0 | E33: 0 | F33: 0 | G33: 1 | H33: 0 | I33: 2 | J33: 2 | K33: 1 | L33: 0 | M33: 1 | N33: 1 | O33: 2 | P33: 1 | Q33: 0 | R33: 1 | S33: 0 | T33: 0 | U33: 1
B34: 女 | C34: 16 | D34: 2 | E34: 1 | F34: 2 | G34: 1 | H34: 2 | I34: 2 | J34: 0 | K34: 0 | L34: 0 | M34: 0 | N34: 2 | O34: 1 | P34: 0 | Q34: 0 | R34: 1 | S34: 0 | T34: 2 | U34: 0
B35: 計 | C35: 52 | D35: 6 | E35: 6 | F35: 1 | G35: 2 | H35: 1 | I35: 2 | J35: 2 | K35: 5 | L35: 4 | M35: 2 | N35: 3 | O35: 4 | P35: 3 | Q35: 2 | R35: 3 | S35: 1 | T35: 4 | U35: 1
A36: 彰 化 縣 | B36: 男 | C36: 29 | D36: 3 | E36: 4 | F36: 1 | G36: 1 | H36: 1 | I36: 1 | J36: 1 | K36: 3 | L36: 2 | M36: 1 | N36: 2 | O36: 3 | P36: 2 | Q36: 1 | R36: 0 | S36: 0 | T36: 2 | U36: 1
B37: 女 | C37: 23 | D37: 3 | E37: 2 | F37: 0 | G37: 1 | H37: 0 | I37: 1 | J37: 1 | K37: 2 | L37: 2 | M37: 1 | N37: 1 | O37: 1 | P37: 1 | Q37: 1 | R37: 3 | S37: 1 | T37: 2 | U37: 0
B38: 計 | C38: 17 | D38: 2 | E38: 1 | F38: 2 | G38: 0 | H38: 2 | I38: 1 | J38: 1 | K38: 2 | L38: 0 | M38: 1 | N38: 0 | O38: 0 | P38: 0 | Q38: 0 | R38: 2 | S38: 1 | T38: 0 | U38: 2
A39: 南 投 縣 | B39: 男 | C39: 7 | D39: 1 | E39: 0 | F39: 2 | G39: 0 | H39: 2 | I39: 0 | J39: 1 | K39: 0 | L39: 0 | M39: 0 | N39: 0 | O39: 0 | P39: 0 | Q39: 0 | R39: 1 | S39: 0 | T39: 0 | U39: 0
B40: 女 | C40: 10 | D40: 1 | E40: 1 | F40: 0 | G40: 0 | H40: 0 | I40: 1 | J40: 0 | K40: 2 | L40: 0 | M40: 1 | N40: 0 | O40: 0 | P40: 0 | Q40: 0 | R40: 1 | S40: 1 | T40: 0 | U40: 2
B41: 計 | C41: 24 | D41: 4 | E41: 1 | F41: 0 | G41: 1 | H41: 0 | I41: 0 | J41: 3 | K41: 2 | L41: 0 | M41: 3 | N41: 2 | O41: 2 | P41: 1 | Q41: 0 | R41: 2 | S41: 3 | T41: 0 | U41: 0
A42: 雲 林 縣 | B42: 男 | C42: 14 | D42: 3 | E42: 1 | F42: 0 | G42: 0 | H42: 0 | I42: 0 | J42: 2 | K42: 1 | L42: 0 | M42: 2 | N42: 0 | O42: 1 | P42: 0 | Q42: 0 | R42: 1 | S42: 3 | T42: 0 | U42: 0
B43: 女 | C43: 10 | D43: 1 | E43: 0 | F43: 0 | G43: 1 | H43: 0 | I43: 0 | J43: 1 | K43: 1 | L43: 0 | M43: 1 | N43: 2 | O43: 1 | P43: 1 | Q43: 0 | R43: 1 | S43: 0 | T43: 0 | U43: 0
B44: 計 | C44: 27 | D44: 2 | E44: 1 | F44: 3 | G44: 1 | H44: 1 | I44: 0 | J44: 2 | K44: 0 | L44: 2 | M44: 1 | N44: 2 | O44: 1 | P44: 1 | Q44: 0 | R44: 0 | S44: 5 | T44: 3 | U44: 2
A45: 嘉 義 縣 | B45: 男 | C45: 10 | D45: 2 | E45: 0 | F45: 2 | G45: 0 | H45: 1 | I45: 0 | J45: 1 | K45: 0 | L45: 0 | M45: 1 | N45: 1 | O45: 1 | P45: 0 | Q45: 0 | R45: 0 | S45: 1 | T45: 0 | U45: 0
B46: 女 | C46: 17 | D46: 0 | E46: 1 | F46: 1 | G46: 1 | H46: 0 | I46: 0 | J46: 1 | K46: 0 | L46: 2 | M46: 0 | N46: 1 | O46: 0 | P46: 1 | Q46: 0 | R46: 0 | S46: 4 | T46: 3 | U46: 2
B47: 計 | C47: 41 | D47: 3 | E47: 5 | F47: 5 | G47: 2 | H47: 3 | I47: 3 | J47: 2 | K47: 3 | L47: 2 | M47: 0 | N47: 1 | O47: 1 | P47: 0 | Q47: 2 | R47: 3 | S47: 0 | T47: 2 | U47: 4
A48: 屏 東 縣 | B48: 男 | C48: 15 | D48: 1 | E48: 2 | F48: 3 | G48: 1 | H48: 0 | I48: 1 | J48: 0 | K48: 0 | L48: 1 | M48: 0 | N48: 1 | O48: 0 | P48: 0 | Q48: 1 | R48: 3 | S48: 0 | T48: 0 | U48: 1
B49: 女 | C49: 26 | D49: 2 | E49: 3 | F49: 2 | G49: 1 | H49: 3 | I49: 2 | J49: 2 | K49: 3 | L49: 1 | M49: 0 | N49: 0 | O49: 1 | P49: 0 | Q49: 1 | R49: 0 | S49: 0 | T49: 2 | U49: 3
B50: 計 | C50: 15 | D50: 1 | E50: 0 | F50: 3 | G50: 2 | H50: 0 | I50: 0 | J50: 0 | K50: 1 | L50: 1 | M50: 2 | N50: 0 | O50: 1 | P50: 1 | Q50: 1 | R50: 2 | S50: 0 | T50: 0 | U50: 0
A51: 臺 東 縣 | B51: 男 | C51: 10 | D51: 1 | E51: 0 | F51: 2 | G51: 1 | H51: 0 | I51: 0 | J51: 0 | K51: 0 | L51: 1 | M51: 1 | N51: 0 | O51: 1 | P51: 1 | Q51: 0 | R51: 2 | S51: 0 | T51: 0 | U51: 0
B52: 女 | C52: 5 | D52: 0 | E52: 0 | F52: 1 | G52: 1 | H52: 0 | I52: 0 | J52: 0 | K52: 1 | L52: 0 | M52: 1 | N52: 0 | O52: 0 | P52: 0 | Q52: 1 | R52: 0 | S52: 0 | T52: 0 | U52: 0
B53: 計 | C53: 23 | D53: 3 | E53: 2 | F53: 3 | G53: 0 | H53: 1 | I53: 1 | J53: 3 | K53: 0 | L53: 1 | M53: 0 | N53: 0 | O53: 0 | P53: 3 | Q53: 0 | R53: 2 | S53: 1 | T53: 2 | U53: 1
A54: 花 蓮 縣 | B54: 男 | C54: 11 | D54: 1 | E54: 0 | F54: 2 | G54: 0 | H54: 1 | I54: 1 | J54: 1 | K54: 0 | L54: 1 | M54: 0 | N54: 0 | O54: 0 | P54: 2 | Q54: 0 | R54: 0 | S54: 1 | T54: 1 | U54: 0
B55: 女 | C55: 12 | D55: 2 | E55: 2 | F55: 1 | G55: 0 | H55: 0 | I55: 0 | J55: 2 | K55: 0 | L55: 0 | M55: 0 | N55: 0 | O55: 0 | P55: 1 | Q55: 0 | R55: 2 | S55: 0 | T55: 1 | U55: 1
B56: 計 | C56: 5 | D56: 0 | E56: 0 | F56: 0 | G56: 0 | H56: 0 | I56: 0 | J56: 2 | K56: 0 | L56: 0 | M56: 0 | N56: 1 | O56: 0 | P56: 0 | Q56: 0 | R56: 0 | S56: 0 | T56: 2 | U56: 0
A57: 澎 湖 縣 | B57: 男 | C57: 3 | D57: 0 | E57: 0 | F57: 0 | G57: 0 | H57: 0 | I57: 0 | J57: 1 | K57: 0 | L57: 0 | M57: 0 | N57: 1 | O57: 0 | P57: 0 | Q57: 0 | R57: 0 | S57: 0 | T57: 1 | U57: 0
B58: 女 | C58: 2 | D58: 0 | E58: 0 | F58: 0 | G58: 0 | H58: 0 | I58: 0 | J58: 1 | K58: 0 | L58: 0 | M58: 0 | N58: 0 | O58: 0 | P58: 0 | Q58: 0 | R58: 0 | S58: 0 | T58: 1 | U58: 0
B59: 計 | C59: 13 | D59: 0 | E59: 1 | F59: 0 | G59: 0 | H59: 1 | I59: 0 | J59: 0 | K59: 1 | L59: 0 | M59: 1 | N59: 0 | O59: 1 | P59: 2 | Q59: 0 | R59: 2 | S59: 1 | T59: 2 | U59: 1
A60: 基 隆 市 | B60: 男 | C60: 4 | D60: 0 | E60: 1 | F60: 0 | G60: 0 | H60: 0 | I60: 0 | J60: 0 | K60: 1 | L60: 0 | M60: 0 | N60: 0 | O60: 1 | P60: 0 | Q60: 0 | R60: 0 | S60: 0 | T60: 0 | U60: 1
B61: 女 | C61: 9 | D61: 0 | E61: 0 | F61: 0 | G61: 0 | H61: 1 | I61: 0 | J61: 0 | K61: 0 | L61: 0 | M61: 1 | N61: 0 | O61: 0 | P61: 2 | Q61: 0 | R61: 2 | S61: 1 | T61: 2 | U61: 0
B62: 計 | C62: 14 | D62: 2 | E62: 0 | F62: 1 | G62: 1 | H62: 0 | I62: 1 | J62: 0 | K62: 1 | L62: 2 | M62: 1 | N62: 0 | O62: 0 | P62: 1 | Q62: 0 | R62: 1 | S62: 2 | T62: 1 | U62: 0
A63: 新 竹 市 | B63: 男 | C63: 4 | D63: 0 | E63: 0 | F63: 1 | G63: 1 | H63: 0 | I63: 0 | J63: 0 | K63: 0 | L63: 0 | M63: 0 | N63: 0 | O63: 0 | P63: 1 | Q63: 0 | R63: 0 | S63: 1 | T63: 0 | U63: 0
B64: 女 | C64: 10 | D64: 2 | E64: 0 | F64: 0 | G64: 0 | H64: 0 | I64: 1 | J64: 0 | K64: 1 | L64: 2 | M64: 1 | N64: 0 | O64: 0 | P64: 0 | Q64: 0 | R64: 1 | S64: 1 | T64: 1 | U64: 0
B65: 計 | C65: 4 | D65: 0 | E65: 0 | F65: 0 | G65: 0 | H65: 0 | I65: 1 | J65: 0 | K65: 0 | L65: 0 | M65: 1 | N65: 1 | O65: 0 | P65: 0 | Q65: 0 | R65: 0 | S65: 1 | T65: 0 | U65: 0
A66: 嘉 義 市 | B66: 男 | C66: 2 | D66: 0 | E66: 0 | F66: 0 | G66: 0 | H66: 0 | I66: 1 | J66: 0 | K66: 0 | L66: 0 | M66: 1 | N66: 0 | O66: 0 | P66: 0 | Q66: 0 | R66: 0 | S66: 0 | T66: 0 | U66: 0
B67: 女 | C67: 2 | D67: 0 | E67: 0 | F67: 0 | G67: 0 | H67: 0 | I67: 0 | J67: 0 | K67: 0 | L67: 0 | M67: 0 | N67: 1 | O67: 0 | P67: 0 | Q67: 0 | R67: 0 | S67: 1 | T67: 0 | U67: 0
B68: 計 | C68: 2 | D68: 0 | E68: 0 | F68: 0 | G68: 0 | H68: 0 | I68: 0 | J68: 0 | K68: 0 | L68: 0 | M68: 0 | N68: 0 | O68: 0 | P68: 0 | Q68: 0 | R68: 0 | S68: 0 | T68: 1 | U68: 1
A69: 金 門 縣 | B69: 男 | C69: 1 | D69: 0 | E69: 0 | F69: 0 | G69: 0 | H69: 0 | I69: 0 | J69: 0 | K69: 0 | L69: 0 | M69: 0 | N69: 0 | O69: 0 | P69: 0 | Q69: 0 | R69: 0 | S69: 0 | T69: 1 | U69: 0
B70: 女 | C70: 1 | D70: 0 | E70: 0 | F70: 0 | G70: 0 | H70: 0 | I70: 0 | J70: 0 | K70: 0 | L70: 0 | M70: 0 | N70: 0 | O70: 0 | P70: 0 | Q70: 0 | R70: 0 | S70: 0 | T70: 0 | U70: 1
B71: 計 | C71: 0 | D71: 0 | E71: 0 | F71: 0 | G71: 0 | H71: 0 | I71: 0 | J71: 0 | K71: 0 | L71: 0 | M71: 0 | N71: 0 | O71: 0 | P71: 0 | Q71: 0 | R71: 0 | S71: 0 | T71: 0 | U71: 0
A72: 連 江 縣 | B72: 男 | C72: 0 | D72: 0 | E72: 0 | F72: 0 | G72: 0 | H72: 0 | I72: 0 | J72: 0 | K72: 0 | L72: 0 | M72: 0 | N72: 0 | O72: 0 | P72: 0 | Q72: 0 | R72: 0 | S72: 0 | T72: 0 | U72: 0
B73: 女 | C73: 0 | D73: 0 | E73: 0 | F73: 0 | G73: 0 | H73: 0 | I73: 0 | J73: 0 | K73: 0 | L73: 0 | M73: 0 | N73: 0 | O73: 0 | P73: 0 | Q73: 0 | R73: 0 | S73: 0 | T73: 0 | U73: 0
U74: ='108年'!U74 -> 內政部戶政司 編製

Sheet 103年
C1: ='108年'!C1:S1 -> 收養人數按性別、年齡分
C2: 中華民國103年底 | U2: ='108年'!U2 -> 單位：人
A3: 區域別 | B3: 性別 | C3: 總 計 | D3: 0歲 | E3: 1歲 | F3: 2歲 | G3: 3歲 | H3: 4歲 | I3: 5歲 | J3: 6歲 | K3: 7歲 | L3: 8歲 | M3: 9歲 | N3: 10歲 | O3: 11歲 | P3: 12歲 | Q3: 13歲 | R3: 14歲 | S3: 15歲 | T3: 16歲 | U3: 17歲
B5: 計 | C5: 1197 | D5: 78 | E5: 166 | F5: 86 | G5: 63 | H5: 64 | I5: 60 | J5: 68 | K5: 60 | L5: 50 | M5: 55 | N5: 40 | O5: 49 | P5: 73 | Q5: 64 | R5: 50 | S5: 57 | T5: 59 | U5: 55
A6: 總 計 | B6: 男 | C6: 567 | D6: 39 | E6: 93 | F6: 40 | G6: 33 | H6: 29 | I6: 31 | J6: 26 | K6: 25 | L6: 21 | M6: 27 | N6: 16 | O6: 25 | P6: 34 | Q6: 28 | R6: 19 | S6: 23 | T6: 34 | U6: 24
B7: 女 | C7: 630 | D7: 39 | E7: 73 | F7: 46 | G7: 30 | H7: 35 | I7: 29 | J7: 42 | K7: 35 | L7: 29 | M7: 28 | N7: 24 | O7: 24 | P7: 39 | Q7: 36 | R7: 31 | S7: 34 | T7: 25 | U7: 31
B8: 計 | C8: 195 | D8: 4 | E8: 21 | F8: 20 | G8: 9 | H8: 6 | I8: 8 | J8: 10 | K8: 9 | L8: 13 | M8: 12 | N8: 6 | O8: 8 | P8: 15 | Q8: 16 | R8: 9 | S8: 10 | T8: 5 | U8: 14
A9: 新 北 市 | B9: 男 | C9: 86 | D9: 1 | E9: 8 | F9: 8 | G9: 5 | H9: 3 | I9: 4 | J9: 5 | K9: 3 | L9: 4 | M9: 8 | N9: 3 | O9: 3 | P9: 8 | Q9: 8 | R9: 4 | S9: 2 | T9: 2 | U9: 7
B10: 女 | C10: 109 | D10: 3 | E10: 13 | F10: 12 | G10: 4 | H10: 3 | I10: 4 | J10: 5 | K10: 6 | L10: 9 | M10: 4 | N10: 3 | O10: 5 | P10: 7 | Q10: 8 | R10: 5 | S10: 8 | T10: 3 | U10: 7
B11: 計 | C11: 226 | D11: 30 | E11: 52 | F11: 23 | G11: 21 | H11: 15 | I11: 15 | J11: 13 | K11: 12 | L11: 7 | M11: 6 | N11: 6 | O11: 6 | P11: 6 | Q11: 4 | R11: 4 | S11: 3 | T11: 1 | U11: 2
A12: 臺 北 市 | B12: 男 | C12: 109 | D12: 14 | E12: 28 | F12: 11 | G12: 10 | H12: 6 | I12: 10 | J12: 5 | K12: 6 | L12: 3 | M12: 2 | N12: 0 | O12: 4 | P12: 1 | Q12: 3 | R12: 2 | S12: 2 | T12: 1 | U12: 1
B13: 女 | C13: 117 | D13: 16 | E13: 24 | F13: 12 | G13: 11 | H13: 9 | I13: 5 | J13: 8 | K13: 6 | L13: 4 | M13: 4 | N13: 6 | O13: 2 | P13: 5 | Q13: 1 | R13: 2 | S13: 1 | T13: 0 | U13: 1
B14: 計 | C14: 112 | D14: 1 | E14: 6 | F14: 4 | G14: 4 | H14: 8 | I14: 8 | J14: 4 | K14: 5 | L14: 4 | M14: 7 | N14: 3 | O14: 4 | P14: 9 | Q14: 8 | R14: 7 | S14: 8 | T14: 10 | U14: 12
A15: 桃 園 市 | B15: 男 | C15: 55 | D15: 0 | E15: 1 | F15: 1 | G15: 4 | H15: 4 | I15: 4 | J15: 2 | K15: 3 | L15: 2 | M15: 4 | N15: 1 | O15: 1 | P15: 4 | Q15: 3 | R15: 3 | S15: 5 | T15: 6 | U15: 7
B16: 女 | C16: 57 | D16: 1 | E16: 5 | F16: 3 | G16: 0 | H16: 4 | I16: 4 | J16: 2 | K16: 2 | L16: 2 | M16: 3 | N16: 2 | O16: 3 | P16: 5 | Q16: 5 | R16: 4 | S16: 3 | T16: 4 | U16: 5
B17: 計 | C17: 101 | D17: 3 | E17: 5 | F17: 4 | G17: 5 | H17: 4 | I17: 3 | J17: 7 | K17: 6 | L17: 5 | M17: 7 | N17: 5 | O17: 1 | P17: 9 | Q17: 9 | R17: 6 | S17: 9 | T17: 12 | U17: 1
A18: 臺 中 市 | B18: 男 | C18: 55 | D18: 1 | E18: 2 | F18: 3 | G18: 3 | H18: 1 | I18: 1 | J18: 3 | K18: 3 | L18: 3 | M18: 4 | N18: 3 | O18: 1 | P18: 8 | Q18: 5 | R18: 3 | S18: 2 | T18: 8 | U18: 1
B19: 女 | C19: 46 | D19: 2 | E19: 3 | F19: 1 | G19: 2 | H19: 3 | I19: 2 | J19: 4 | K19: 3 | L19: 2 | M19: 3 | N19: 2 | O19: 0 | P19: 1 | Q19: 4 | R19: 3 | S19: 7 | T19: 4 | U19: 0
B20: 計 | C20: 114 | D20: 1 | E20: 28 | F20: 5 | G20: 6 | H20: 7 | I20: 3 | J20: 5 | K20: 2 | L20: 7 | M20: 5 | N20: 5 | O20: 7 | P20: 5 | Q20: 3 | R20: 6 | S20: 5 | T20: 11 | U20: 3
A21: 臺 南 市 | B21: 男 | C21: 59 | D21: 0 | E21: 21 | F21: 4 | G21: 3 | H21: 0 | I21: 0 | J21: 2 | K21: 0 | L21: 3 | M21: 2 | N21: 3 | O21: 6 | P21: 1 | Q21: 1 | R21: 0 | S21: 3 | T21: 9 | U21: 1
B22: 女 | C22: 55 | D22: 1 | E22: 7 | F22: 1 | G22: 3 | H22: 7 | I22: 3 | J22: 3 | K22: 2 | L22: 4 | M22: 3 | N22: 2 | O22: 1 | P22: 4 | Q22: 2 | R22: 6 | S22: 2 | T22: 2 | U22: 2
B23: 計 | C23: 115 | D23: 8 | E23: 16 | F23: 5 | G23: 5 | H23: 8 | I23: 4 | J23: 9 | K23: 6 | L23: 4 | M23: 2 | N23: 3 | O23: 4 | P23: 5 | Q23: 7 | R23: 9 | S23: 5 | T23: 6 | U23: 9
A24: 高 雄 市 | B24: 男 | C24: 52 | D24: 5 | E24: 8 | F24: 1 | G24: 2 | H24: 6 | I24: 3 | J24: 3 | K24: 3 | L24: 1 | M24: 0 | N24: 2 | O24: 2 | P24: 3 | Q24: 2 | R24: 4 | S24: 2 | T24: 3 | U24: 2
B25: 女 | C25: 63 | D25: 3 | E25: 8 | F25: 4 | G25: 3 | H25: 2 | I25: 1 | J25: 6 | K25: 3 | L25: 3 | M25: 2 | N25: 1 | O25: 2 | P25: 2 | Q25: 5 | R25: 5 | S25: 3 | T25: 3 | U25: 7
B26: 計 | C26: 41 | D26: 14 | E26: 8 | F26: 2 | G26: 1 | H26: 0 | I26: 2 | J26: 3 | K26: 2 | L26: 1 | M26: 1 | N26: 1 | O26: 1 | P26: 0 | Q26: 0 | R26: 0 | S26: 1 | T26: 2 | U26: 2
A27: 宜 蘭 縣 | B27: 男 | C27: 20 | D27: 9 | E27: 4 | F27: 1 | G27: 0 | H27: 0 | I27: 0 | J27: 1 | K27: 0 | L27: 1 | M27: 1 | N27: 1 | O27: 0 | P27: 0 | Q27: 0 | R27: 0 | S27: 1 | T27: 1 | U27: 0
B28: 女 | C28: 21 | D28: 5 | E28: 4 | F28: 1 | G28: 1 | H28: 0 | I28: 2 | J28: 2 | K28: 2 | L28: 0 | M28: 0 | N28: 0 | O28: 1 | P28: 0 | Q28: 0 | R28: 0 | S28: 0 | T28: 1 | U28: 2
B29: 計 | C29: 36 | D29: 2 | E29: 3 | F29: 0 | G29: 3 | H29: 0 | I29: 5 | J29: 2 | K29: 4 | L29: 0 | M29: 4 | N29: 0 | O29: 1 | P29: 5 | Q29: 4 | R29: 0 | S29: 2 | T29: 0 | U29: 1
A30: 新 竹 縣 | B30: 男 | C30: 17 | D30: 1 | E30: 1 | F30: 0 | G30: 1 | H30: 0 | I30: 3 | J30: 1 | K30: 3 | L30: 0 | M30: 2 | N30: 0 | O30: 0 | P30: 2 | Q30: 1 | R30: 0 | S30: 2 | T30: 0 | U30: 0
B31: 女 | C31: 19 | D31: 1 | E31: 2 | F31: 0 | G31: 2 | H31: 0 | I31: 2 | J31: 1 | K31: 1 | L31: 0 | M31: 2 | N31: 0 | O31: 1 | P31: 3 | Q31: 3 | R31: 0 | S31: 0 | T31: 0 | U31: 1
B32: 計 | C32: 28 | D32: 1 | E32: 2 | F32: 1 | G32: 0 | H32: 2 | I32: 2 | J32: 3 | K32: 2 | L32: 2 | M32: 2 | N32: 1 | O32: 2 | P32: 2 | Q32: 1 | R32: 0 | S32: 3 | T32: 2 | U32: 0
A33: 苗 栗 縣 | B33: 男 | C33: 16 | D33: 1 | E33: 2 | F33: 0 | G33: 0 | H33: 1 | I33: 2 | J33: 1 | K33: 0 | L33: 1 | M33: 2 | N33: 1 | O33: 2 | P33: 1 | Q33: 0 | R33: 0 | S33: 1 | T33: 1 | U33: 0
B34: 女 | C34: 12 | D34: 0 | E34: 0 | F34: 1 | G34: 0 | H34: 1 | I34: 0 | J34: 2 | K34: 2 | L34: 1 | M34: 0 | N34: 0 | O34: 0 | P34: 1 | Q34: 1 | R34: 0 | S34: 2 | T34: 1 | U34: 0
B35: 計 | C35: 41 | D35: 2 | E35: 4 | F35: 4 | G35: 0 | H35: 3 | I35: 3 | J35: 1 | K35: 3 | L35: 1 | M35: 1 | N35: 4 | O35: 2 | P35: 3 | Q35: 3 | R35: 1 | S35: 2 | T35: 2 | U35: 2
A36: 彰 化 縣 | B36: 男 | C36: 17 | D36: 1 | E36: 3 | F36: 2 | G36: 0 | H36: 3 | I36: 1 | J36: 0 | K36: 1 | L36: 0 | M36: 0 | N36: 0 | O36: 1 | P36: 1 | Q36: 2 | R36: 0 | S36: 1 | T36: 0 | U36: 1
B37: 女 | C37: 24 | D37: 1 | E37: 1 | F37: 2 | G37: 0 | H37: 0 | I37: 2 | J37: 1 | K37: 2 | L37: 1 | M37: 1 | N37: 4 | O37: 1 | P37: 2 | Q37: 1 | R37: 1 | S37: 1 | T37: 2 | U37: 1
B38: 計 | C38: 22 | D38: 0 | E38: 2 | F38: 2 | G38: 1 | H38: 1 | I38: 0 | J38: 0 | K38: 0 | L38: 0 | M38: 2 | N38: 1 | O38: 2 | P38: 4 | Q38: 0 | R38: 1 | S38: 1 | T38: 1 | U38: 4
A39: 南 投 縣 | B39: 男 | C39: 8 | D39: 0 | E39: 0 | F39: 1 | G39: 1 | H39: 1 | I39: 0 | J39: 0 | K39: 0 | L39: 0 | M39: 0 | N39: 0 | O39: 1 | P39: 2 | Q39: 0 | R39: 0 | S39: 1 | T39: 0 | U39: 1
B40: 女 | C40: 14 | D40: 0 | E40: 2 | F40: 1 | G40: 0 | H40: 0 | I40: 0 | J40: 0 | K40: 0 | L40: 0 | M40: 2 | N40: 1 | O40: 1 | P40: 2 | Q40: 0 | R40: 1 | S40: 0 | T40: 1 | U40: 3
B41: 計 | C41: 39 | D41: 5 | E41: 4 | F41: 3 | G41: 1 | H41: 2 | I41: 2 | J41: 1 | K41: 1 | L41: 0 | M41: 4 | N41: 1 | O41: 1 | P41: 6 | Q41: 2 | R41: 2 | S41: 3 | T41: 0 | U41: 1
A42: 雲 林 縣 | B42: 男 | C42: 18 | D42: 3 | E42: 3 | F42: 1 | G42: 1 | H42: 1 | I42: 1 | J42: 1 | K42: 0 | L42: 0 | M42: 1 | N42: 0 | O42: 1 | P42: 1 | Q42: 2 | R42: 1 | S42: 1 | T42: 0 | U42: 0
B43: 女 | C43: 21 | D43: 2 | E43: 1 | F43: 2 | G43: 0 | H43: 1 | I43: 1 | J43: 0 | K43: 1 | L43: 0 | M43: 3 | N43: 1 | O43: 0 | P43: 5 | Q43: 0 | R43: 1 | S43: 2 | T43: 0 | U43: 1
B44: 計 | C44: 22 | D44: 0 | E44: 4 | F44: 0 | G44: 0 | H44: 1 | I44: 1 | J44: 2 | K44: 0 | L44: 0 | M44: 0 | N44: 1 | O44: 5 | P44: 1 | Q44: 4 | R44: 1 | S44: 1 | T44: 1 | U44: 0
A45: 嘉 義 縣 | B45: 男 | C45: 10 | D45: 0 | E45: 4 | F45: 0 | G45: 0 | H45: 1 | I45: 1 | J45: 0 | K45: 0 | L45: 0 | M45: 0 | N45: 0 | O45: 2 | P45: 1 | Q45: 1 | R45: 0 | S45: 0 | T45: 0 | U45: 0
B46: 女 | C46: 12 | D46: 0 | E46: 0 | F46: 0 | G46: 0 | H46: 0 | I46: 0 | J46: 2 | K46: 0 | L46: 0 | M46: 0 | N46: 1 | O46: 3 | P46: 0 | Q46: 3 | R46: 1 | S46: 1 | T46: 1 | U46: 0
B47: 計 | C47: 21 | D47: 1 | E47: 4 | F47: 5 | G47: 2 | H47: 2 | I47: 0 | J47: 1 | K47: 1 | L47: 1 | M47: 0 | N47: 1 | O47: 0 | P47: 0 | Q47: 0 | R47: 0 | S47: 1 | T47: 2 | U47: 0
A48: 屏 東 縣 | B48: 男 | C48: 12 | D48: 1 | E48: 3 | F48: 4 | G48: 0 | H48: 1 | I48: 0 | J48: 0 | K48: 0 | L48: 1 | M48: 0 | N48: 1 | O48: 0 | P48: 0 | Q48: 0 | R48: 0 | S48: 0 | T48: 1 | U48: 0
B49: 女 | C49: 9 | D49: 0 | E49: 1 | F49: 1 | G49: 2 | H49: 1 | I49: 0 | J49: 1 | K49: 1 | L49: 0 | M49: 0 | N49: 0 | O49: 0 | P49: 0 | Q49: 0 | R49: 0 | S49: 1 | T49: 1 | U49: 0
B50: 計 | C50: 19 | D50: 2 | E50: 3 | F50: 5 | G50: 1 | H50: 1 | I50: 1 | J50: 3 | K50: 1 | L50: 0 | M50: 0 | N50: 0 | O50: 0 | P50: 0 | Q50: 0 | R50: 1 | S50: 0 | T50: 0 | U50: 1
A51: 臺 東 縣 | B51: 男 | C51: 8 | D51: 0 | E51: 2 | F51: 3 | G51: 1 | H51: 0 | I51: 0 | J51: 0 | K51: 1 | L51: 0 | M51: 0 | N51: 0 | O51: 0 | P51: 0 | Q51: 0 | R51: 1 | S51: 0 | T51: 0 | U51: 0
B52: 女 | C52: 11 | D52: 2 | E52: 1 | F52: 2 | G52: 0 | H52: 1 | I52: 1 | J52: 3 | K52: 0 | L52: 0 | M52: 0 | N52: 0 | O52: 0 | P52: 0 | Q52: 0 | R52: 0 | S52: 0 | T52: 0 | U52: 1
B53: 計 | C53: 21 | D53: 2 | E53: 0 | F53: 2 | G53: 1 | H53: 1 | I53: 1 | J53: 1 | K53: 2 | L53: 2 | M53: 0 | N53: 0 | O53: 2 | P53: 0 | Q53: 1 | R53: 1 | S53: 1 | T53: 3 | U53: 1
A54: 花 蓮 縣 | B54: 男 | C54: 7 | D54: 0 | E54: 0 | F54: 0 | G54: 1 | H54: 0 | I54: 0 | J54: 1 | K54: 1 | L54: 1 | M54: 0 | N54: 0 | O54: 0 | P54: 0 | Q54: 0 | R54: 0 | S54: 0 | T54: 2 | U54: 1
B55: 女 | C55: 14 | D55: 2 | E55: 0 | F55: 2 | G55: 0 | H55: 1 | I55: 1 | J55: 0 | K55: 1 | L55: 1 | M55: 0 | N55: 0 | O55: 2 | P55: 0 | Q55: 1 | R55: 1 | S55: 1 | T55: 1 | U55: 0
B56: 計 | C56: 8 | D56: 0 | E56: 0 | F56: 1 | G56: 0 | H56: 0 | I56: 0 | J56: 0 | K56: 0 | L56: 1 | M56: 0 | N56: 1 | O56: 0 | P56: 1 | Q56: 0 | R56: 1 | S56: 1 | T56: 1 | U56: 1
A57: 澎 湖 縣 | B57: 男 | C57: 4 | D57: 0 | E57: 0 | F57: 0 | G57: 0 | H57: 0 | I57: 0 | J57: 0 | K57: 0 | L57: 1 | M57: 0 | N57: 0 | O57: 0 | P57: 1 | Q57: 0 | R57: 1 | S57: 0 | T57: 0 | U57: 1
B58: 女 | C58: 4 | D58: 0 | E58: 0 | F58: 1 | G58: 0 | H58: 0 | I58: 0 | J58: 0 | K58: 0 | L58: 0 | M58: 0 | N58: 1 | O58: 0 | P58: 0 | Q58: 0 | R58: 0 | S58: 1 | T58: 1 | U58: 0
B59: 計 | C59: 9 | D59: 0 | E59: 1 | F59: 0 | G59: 0 | H59: 1 | I59: 0 | J59: 0 | K59: 2 | L59: 2 | M59: 0 | N59: 0 | O59: 1 | P59: 0 | Q59: 1 | R59: 0 | S59: 1 | T59: 0 | U59: 0
A60: 基 隆 市 | B60: 男 | C60: 2 | D60: 0 | E60: 1 | F60: 0 | G60: 0 | H60: 0 | I60: 0 | J60: 0 | K60: 0 | L60: 0 | M60: 0 | N60: 0 | O60: 1 | P60: 0 | Q60: 0 | R60: 0 | S60: 0 | T60: 0 | U60: 0
B61: 女 | C61: 7 | D61: 0 | E61: 0 | F61: 0 | G61: 0 | H61: 1 | I61: 0 | J61: 0 | K61: 2 | L61: 2 | M61: 0 | N61: 0 | O61: 0 | P61: 0 | Q61: 1 | R61: 0 | S61: 1 | T61: 0 | U61: 0
B62: 計 | C62: 17 | D62: 2 | E62: 1 | F62: 0 | G62: 3 | H62: 1 | I62: 1 | J62: 2 | K62: 1 | L62: 0 | M62: 1 | N62: 0 | O62: 2 | P62: 1 | Q62: 1 | R62: 0 | S62: 0 | T62: 0 | U62: 1
A63: 新 竹 市 | B63: 男 | C63: 8 | D63: 2 | E63: 1 | F63: 0 | G63: 1 | H63: 1 | I63: 0 | J63: 1 | K63: 1 | L63: 0 | M63: 0 | N63: 0 | O63: 0 | P63: 0 | Q63: 0 | R63: 0 | S63: 0 | T63: 0 | U63: 1
B64: 女 | C64: 9 | D64: 0 | E64: 0 | F64: 0 | G64: 2 | H64: 0 | I64: 1 | J64: 1 | K64: 0 | L64: 0 | M64: 1 | N64: 0 | O64: 2 | P64: 1 | Q64: 1 | R64: 0 | S64: 0 | T64: 0 | U64: 0
B65: 計 | C65: 5 | D65: 0 | E65: 2 | F65: 0 | G65: 0 | H65: 0 | I65: 1 | J65: 1 | K65: 0 | L65: 0 | M65: 0 | N65: 0 | O65: 0 | P65: 1 | Q65: 0 | R65: 0 | S65: 0 | T65: 0 | U65: 0
A66: 嘉 義 市 | B66: 男 | C66: 2 | D66: 0 | E66: 1 | F66: 0 | G66: 0 | H66: 0 | I66: 1 | J66: 0 | K66: 0 | L66: 0 | M66: 0 | N66: 0 | O66: 0 | P66: 0 | Q66: 0 | R66: 0 | S66: 0 | T66: 0 | U66: 0
B67: 女 | C67: 3 | D67: 0 | E67: 1 | F67: 0 | G67: 0 | H67: 0 | I67: 0 | J67: 1 | K67: 0 | L67: 0 | M67: 0 | N67: 0 | O67: 0 | P67: 1 | Q67: 0 | R67: 0 | S67: 0 | T67: 0 | U67: 0
B68: 計 | C68: 5 | D68: 0 | E68: 0 | F68: 0 | G68: 0 | H68: 1 | I68: 0 | J68: 0 | K68: 1 | L68: 0 | M68: 1 | N68: 1 | O68: 0 | P68: 0 | Q68: 0 | R68: 1 | S68: 0 | T68: 0 | U68: 0
A69: 金 門 縣 | B69: 男 | C69: 2 | D69: 0 | E69: 0 | F69: 0 | G69: 0 | H69: 0 | I69: 0 | J69: 0 | K69: 0 | L69: 0 | M69: 1 | N69: 1 | O69: 0 | P69: 0 | Q69: 0 | R69: 0 | S69: 0 | T69: 0 | U69: 0
B70: 女 | C70: 3 | D70: 0 | E70: 0 | F70: 0 | G70: 0 | H70: 1 | I70: 0 | J70: 0 | K70: 1 | L70: 0 | M70: 0 | N70: 0 | O70: 0 | P70: 0 | Q70: 0 | R70: 1 | S70: 0 | T70: 0 | U70: 0
B71: 計 | C71: 0 | D71: 0 | E71: 0 | F71: 0 | G71: 0 | H71: 0 | I71: 0 | J71: 0 | K71: 0 | L71: 0 | M71: 0 | N71: 0 | O71: 0 | P71: 0 | Q71: 0 | R71: 0 | S71: 0 | T71: 0 | U71: 0
A72: 連 江 縣 | B72: 男 | C72: 0 | D72: 0 | E72: 0 | F72: 0 | G72: 0 | H72: 0 | I72: 0 | J72: 0 | K72: 0 | L72: 0 | M72: 0 | N72: 0 | O72: 0 | P72: 0 | Q72: 0 | R72: 0 | S72: 0 | T72: 0 | U72: 0
B73: 女 | C73: 0 | D73: 0 | E73: 0 | F73: 0 | G73: 0 | H73: 0 | I73: 0 | J73: 0 | K73: 0 | L73: 0 | M73: 0 | N73: 0 | O73: 0 | P73: 0 | Q73: 0 | R73: 0 | S73: 0 | T73: 0 | U73: 0
U74: ='108年'!U74 -> 內政部戶政司 編製

Sheet 102年
C1: ='108年'!C1:S1 -> 收養人數按性別、年齡分
C2: 中華民國102年底 | U2: ='108年'!U2 -> 單位：人
A3: 區域別 | B3: 性別 | C3: 總 計 | D3: 0歲 | E3: 1歲 | F3: 2歲 | G3: 3歲 | H3: 4歲 | I3: 5歲 | J3: 6歲 | K3: 7歲 | L3: 8歲 | M3: 9歲 | N3: 10歲 | O3: 11歲 | P3: 12歲 | Q3: 13歲 | R3: 14歲 | S3: 15歲 | T3: 16歲 | U3: 17歲
B5: 計 | C5: 1169 | D5: 108 | E5: 136 | F5: 60 | G5: 44 | H5: 67 | I5: 73 | J5: 68 | K5: 50 | L5: 53 | M5: 41 | N5: 61 | O5: 53 | P5: 72 | Q5: 61 | R5: 55 | S5: 69 | T5: 53 | U5: 45
A6: 總 計 | B6: 男 | C6: 562 | D6: 55 | E6: 79 | F6: 27 | G6: 21 | H6: 33 | I6: 40 | J6: 30 | K6: 15 | L6: 28 | M6: 19 | N6: 25 | O6: 32 | P6: 26 | Q6: 26 | R6: 22 | S6: 36 | T6: 25 | U6: 23
B7: 女 | C7: 607 | D7: 53 | E7: 57 | F7: 33 | G7: 23 | H7: 34 | I7: 33 | J7: 38 | K7: 35 | L7: 25 | M7: 22 | N7: 36 | O7: 21 | P7: 46 | Q7: 35 | R7: 33 | S7: 33 | T7: 28 | U7: 22
B8: 計 | C8: 197 | D8: 7 | E8: 24 | F8: 14 | G8: 8 | H8: 10 | I8: 13 | J8: 7 | K8: 11 | L8: 8 | M8: 5 | N8: 5 | O8: 10 | P8: 14 | Q8: 14 | R8: 11 | S8: 15 | T8: 9 | U8: 12
A9: 新 北 市 | B9: 男 | C9: 97 | D9: 3 | E9: 10 | F9: 5 | G9: 4 | H9: 7 | I9: 7 | J9: 1 | K9: 6 | L9: 4 | M9: 5 | N9: 1 | O9: 3 | P9: 6 | Q9: 7 | R9: 8 | S9: 8 | T9: 5 | U9: 7
B10: 女 | C10: 100 | D10: 4 | E10: 14 | F10: 9 | G10: 4 | H10: 3 | I10: 6 | J10: 6 | K10: 5 | L10: 4 | M10: 0 | N10: 4 | O10: 7 | P10: 8 | Q10: 7 | R10: 3 | S10: 7 | T10: 4 | U10: 5
B11: 計 | C11: 171 | D11: 30 | E11: 35 | F11: 13 | G11: 10 | H11: 15 | I11: 13 | J11: 7 | K11: 3 | L11: 4 | M11: 2 | N11: 7 | O11: 5 | P11: 5 | Q11: 3 | R11: 6 | S11: 6 | T11: 3 | U11: 4
A12: 臺 北 市 | B12: 男 | C12: 86 | D12: 17 | E12: 18 | F12: 6 | G12: 4 | H12: 9 | I12: 6 | J12: 4 | K12: 0 | L12: 3 | M12: 1 | N12: 0 | O12: 4 | P12: 3 | Q12: 2 | R12: 3 | S12: 2 | T12: 2 | U12: 2
B13: 女 | C13: 85 | D13: 13 | E13: 17 | F13: 7 | G13: 6 | H13: 6 | I13: 7 | J13: 3 | K13: 3 | L13: 1 | M13: 1 | N13: 7 | O13: 1 | P13: 2 | Q13: 1 | R13: 3 | S13: 4 | T13: 1 | U13: 2
B14: 計 | C14: 126 | D14: 12 | E14: 9 | F14: 7 | G14: 5 | H14: 7 | I14: 9 | J14: 13 | K14: 4 | L14: 4 | M14: 4 | N14: 7 | O14: 4 | P14: 8 | Q14: 4 | R14: 12 | S14: 7 | T14: 5 | U14: 5
A15: 臺 中 市 | B15: 男 | C15: 57 | D15: 4 | E15: 5 | F15: 3 | G15: 4 | H15: 3 | I15: 5 | J15: 6 | K15: 1 | L15: 2 | M15: 0 | N15: 4 | O15: 2 | P15: 3 | Q15: 0 | R15: 3 | S15: 7 | T15: 2 | U15: 3
B16: 女 | C16: 69 | D16: 8 | E16: 4 | F16: 4 | G16: 1 | H16: 4 | I16: 4 | J16: 7 | K16: 3 | L16: 2 | M16: 4 | N16: 3 | O16: 2 | P16: 5 | Q16: 4 | R16: 9 | S16: 0 | T16: 3 | U16: 2
B17: 計 | C17: 112 | D17: 6 | E17: 20 | F17: 8 | G17: 4 | H17: 5 | I17: 5 | J17: 8 | K17: 5 | L17: 7 | M17: 3 | N17: 8 | O17: 7 | P17: 6 | Q17: 5 | R17: 3 | S17: 4 | T17: 6 | U17: 2
A18: 臺 南 市 | B18: 男 | C18: 54 | D18: 3 | E18: 13 | F18: 3 | G18: 2 | H18: 2 | I18: 2 | J18: 4 | K18: 0 | L18: 7 | M18: 1 | N18: 3 | O18: 4 | P18: 2 | Q18: 0 | R18: 1 | S18: 2 | T18: 3 | U18: 2
B19: 女 | C19: 58 | D19: 3 | E19: 7 | F19: 5 | G19: 2 | H19: 3 | I19: 3 | J19: 4 | K19: 5 | L19: 0 | M19: 2 | N19: 5 | O19: 3 | P19: 4 | Q19: 5 | R19: 2 | S19: 2 | T19: 3 | U19: 0
B20: 計 | C20: 114 | D20: 8 | E20: 6 | F20: 4 | G20: 1 | H20: 7 | I20: 6 | J20: 7 | K20: 8 | L20: 9 | M20: 3 | N20: 8 | O20: 5 | P20: 6 | Q20: 10 | R20: 7 | S20: 9 | T20: 6 | U20: 4
A21: 高 雄 市 | B21: 男 | C21: 52 | D21: 2 | E21: 4 | F21: 2 | G21: 0 | H21: 2 | I21: 5 | J21: 3 | K21: 2 | L21: 6 | M21: 0 | N21: 3 | O21: 5 | P21: 1 | Q21: 5 | R21: 3 | S21: 3 | T21: 3 | U21: 3
B22: 女 | C22: 62 | D22: 6 | E22: 2 | F22: 2 | G22: 1 | H22: 5 | I22: 1 | J22: 4 | K22: 6 | L22: 3 | M22: 3 | N22: 5 | O22: 0 | P22: 5 | Q22: 5 | R22: 4 | S22: 6 | T22: 3 | U22: 1
B23: 計 | C23: 45 | D23: 21 | E23: 12 | F23: 1 | G23: 0 | H23: 0 | I23: 1 | J23: 0 | K23: 2 | L23: 0 | M23: 0 | N23: 0 | O23: 2 | P23: 1 | Q23: 2 | R23: 0 | S23: 2 | T23: 0 | U23: 1
A24: 宜 蘭 縣 | B24: 男 | C24: 25 | D24: 12 | E24: 8 | F24: 1 | G24: 0 | H24: 0 | I24: 1 | J24: 0 | K24: 0 | L24: 0 | M24: 0 | N24: 0 | O24: 1 | P24: 0 | Q24: 1 | R24: 0 | S24: 0 | T24: 0 | U24: 1
B25: 女 | C25: 20 | D25: 9 | E25: 4 | F25: 0 | G25: 0 | H25: 0 | I25: 0 | J25: 0 | K25: 2 | L25: 0 | M25: 0 | N25: 0 | O25: 1 | P25: 1 | Q25: 1 | R25: 0 | S25: 2 | T25: 0 | U25: 0
B26: 計 | C26: 109 | D26: 5 | E26: 5 | F26: 0 | G26: 2 | H26: 3 | I26: 9 | J26: 12 | K26: 5 | L26: 3 | M26: 9 | N26: 8 | O26: 5 | P26: 11 | Q26: 6 | R26: 2 | S26: 12 | T26: 9 | U26: 3
A27: 桃 園 縣 | B27: 男 | C27: 58 | D27: 3 | E27: 4 | F27: 0 | G27: 1 | H27: 1 | I27: 6 | J27: 6 | K27: 2 | L27: 0 | M27: 5 | N27: 4 | O27: 5 | P27: 5 | Q27: 3 | R27: 0 | S27: 7 | T27: 4 | U27: 2
B28: 女 | C28: 51 | D28: 2 | E28: 1 | F28: 0 | G28: 1 | H28: 2 | I28: 3 | J28: 6 | K28: 3 | L28: 3 | M28: 4 | N28: 4 | O28: 0 | P28: 6 | Q28: 3 | R28: 2 | S28: 5 | T28: 5 | U28: 1
B29: 計 | C29: 41 | D29: 2 | E29: 2 | F29: 0 | G29: 1 | H29: 2 | I29: 4 | J29: 4 | K29: 3 | L29: 3 | M29: 3 | N29: 3 | O29: 3 | P29: 3 | Q29: 1 | R29: 1 | S29: 1 | T29: 3 | U29: 2
A30: 新 竹 縣 | B30: 男 | C30: 21 | D30: 2 | E30: 2 | F30: 0 | G30: 1 | H30: 2 | I30: 3 | J30: 2 | K30: 1 | L30: 1 | M30: 2 | N30: 1 | O30: 1 | P30: 1 | Q30: 0 | R30: 1 | S30: 0 | T30: 1 | U30: 0
B31: 女 | C31: 20 | D31: 0 | E31: 0 | F31: 0 | G31: 0 | H31: 0 | I31: 1 | J31: 2 | K31: 2 | L31: 2 | M31: 1 | N31: 2 | O31: 2 | P31: 2 | Q31: 1 | R31: 0 | S31: 1 | T31: 2 | U31: 2
B32: 計 | C32: 26 | D32: 0 | E32: 1 | F32: 1 | G32: 2 | H32: 2 | I32: 3 | J32: 3 | K32: 0 | L32: 0 | M32: 0 | N32: 1 | O32: 3 | P32: 3 | Q32: 1 | R32: 3 | S32: 1 | T32: 1 | U32: 1
A33: 苗 栗 縣 | B33: 男 | C33: 12 | D33: 0 | E33: 1 | F33: 1 | G33: 0 | H33: 1 | I33: 0 | J33: 3 | K33: 0 | L33: 0 | M33: 0 | N33: 0 | O33: 2 | P33: 1 | Q33: 0 | R33: 1 | S33: 0 | T33: 1 | U33: 1
B34: 女 | C34: 14 | D34: 0 | E34: 0 | F34: 0 | G34: 2 | H34: 1 | I34: 3 | J34: 0 | K34: 0 | L34: 0 | M34: 0 | N34: 1 | O34: 1 | P34: 2 | Q34: 1 | R34: 2 | S34: 1 | T34: 0 | U34: 0
B35: 計 | C35: 42 | D35: 5 | E35: 8 | F35: 2 | G35: 3 | H35: 3 | I35: 1 | J35: 2 | K35: 1 | L35: 1 | M35: 0 | N35: 1 | O35: 2 | P35: 2 | Q35: 4 | R35: 3 | S35: 2 | T35: 1 | U35: 1
A36: 彰 化 縣 | B36: 男 | C36: 20 | D36: 2 | E36: 4 | F36: 2 | G36: 2 | H36: 2 | I36: 0 | J36: 1 | K36: 0 | L36: 0 | M36: 0 | N36: 1 | O36: 1 | P36: 1 | Q36: 2 | R36: 0 | S36: 2 | T36: 0 | U36: 0
B37: 女 | C37: 22 | D37: 3 | E37: 4 | F37: 0 | G37: 1 | H37: 1 | I37: 1 | J37: 1 | K37: 1 | L37: 1 | M37: 0 | N37: 0 | O37: 1 | P37: 1 | Q37: 2 | R37: 3 | S37: 0 | T37: 1 | U37: 1
B38: 計 | C38: 15 | D38: 3 | E38: 0 | F38: 1 | G38: 0 | H38: 1 | I38: 0 | J38: 0 | K38: 1 | L38: 2 | M38: 2 | N38: 0 | O38: 0 | P38: 1 | Q38: 0 | R38: 1 | S38: 1 | T38: 1 | U38: 1
A39: 南 投 縣 | B39: 男 | C39: 5 | D39: 2 | E39: 0 | F39: 0 | G39: 0 | H39: 0 | I39: 0 | J39: 0 | K39: 0 | L39: 0 | M39: 1 | N39: 0 | O39: 0 | P39: 0 | Q39: 0 | R39: 0 | S39: 1 | T39: 1 | U39: 0
B40: 女 | C40: 10 | D40: 1 | E40: 0 | F40: 1 | G40: 0 | H40: 1 | I40: 0 | J40: 0 | K40: 1 | L40: 2 | M40: 1 | N40: 0 | O40: 0 | P40: 1 | Q40: 0 | R40: 1 | S40: 0 | T40: 0 | U40: 1
B41: 計 | C41: 25 | D41: 2 | E41: 0 | F41: 2 | G41: 0 | H41: 1 | I41: 1 | J41: 0 | K41: 1 | L41: 3 | M41: 2 | N41: 1 | O41: 0 | P41: 3 | Q41: 3 | R41: 3 | S41: 1 | T41: 1 | U41: 1
A42: 雲 林 縣 | B42: 男 | C42: 10 | D42: 1 | E42: 0 | F42: 0 | G42: 0 | H42: 1 | I42: 1 | J42: 0 | K42: 0 | L42: 1 | M42: 1 | N42: 1 | O42: 0 | P42: 1 | Q42: 2 | R42: 1 | S42: 0 | T42: 0 | U42: 0
B43: 女 | C43: 15 | D43: 1 | E43: 0 | F43: 2 | G43: 0 | H43: 0 | I43: 0 | J43: 0 | K43: 1 | L43: 2 | M43: 1 | N43: 0 | O43: 0 | P43: 2 | Q43: 1 | R43: 2 | S43: 1 | T43: 1 | U43: 1
B44: 計 | C44: 14 | D44: 0 | E44: 1 | F44: 0 | G44: 0 | H44: 1 | I44: 2 | J44: 1 | K44: 0 | L44: 0 | M44: 2 | N44: 1 | O44: 0 | P44: 2 | Q44: 0 | R44: 0 | S44: 3 | T44: 0 | U44: 1
A45: 嘉 義 縣 | B45: 男 | C45: 6 | D45: 0 | E45: 1 | F45: 0 | G45: 0 | H45: 1 | I45: 2 | J45: 0 | K45: 0 | L45: 0 | M45: 1 | N45: 0 | O45: 0 | P45: 0 | Q45: 0 | R45: 0 | S45: 1 | T45: 0 | U45: 0
B46: 女 | C46: 8 | D46: 0 | E46: 0 | F46: 0 | G46: 0 | H46: 0 | I46: 0 | J46: 1 | K46: 0 | L46: 0 | M46: 1 | N46: 1 | O46: 0 | P46: 2 | Q46: 0 | R46: 0 | S46: 2 | T46: 0 | U46: 1
B47: 計 | C47: 49 | D47: 3 | E47: 7 | F47: 2 | G47: 1 | H47: 7 | I47: 2 | J47: 2 | K47: 2 | L47: 2 | M47: 1 | N47: 5 | O47: 4 | P47: 0 | Q47: 5 | R47: 0 | S47: 2 | T47: 2 | U47: 2
A48: 屏 東 縣 | B48: 男 | C48: 21 | D48: 2 | E48: 5 | F48: 1 | G48: 1 | H48: 1 | I48: 0 | J48: 0 | K48: 1 | L48: 0 | M48: 0 | N48: 2 | O48: 2 | P48: 0 | Q48: 3 | R48: 0 | S48: 1 | T48: 2 | U48: 0
B49: 女 | C49: 28 | D49: 1 | E49: 2 | F49: 1 | G49: 0 | H49: 6 | I49: 2 | J49: 2 | K49: 1 | L49: 2 | M49: 1 | N49: 3 | O49: 2 | P49: 0 | Q49: 2 | R49: 0 | S49: 1 | T49: 0 | U49: 2
B50: 計 | C50: 20 | D50: 1 | E50: 4 | F50: 1 | G50: 2 | H50: 1 | I50: 0 | J50: 0 | K50: 0 | L50: 1 | M50: 1 | N50: 1 | O50: 0 | P50: 2 | Q50: 1 | R50: 2 | S50: 1 | T50: 1 | U50: 1
A51: 臺 東 縣 | B51: 男 | C51: 10 | D51: 1 | E51: 3 | F51: 0 | G51: 1 | H51: 1 | I51: 0 | J51: 0 | K51: 0 | L51: 1 | M51: 0 | N51: 1 | O51: 0 | P51: 0 | Q51: 0 | R51: 1 | S51: 1 | T51: 0 | U51: 0
B52: 女 | C52: 10 | D52: 0 | E52: 1 | F52: 1 | G52: 1 | H52: 0 | I52: 0 | J52: 0 | K52: 0 | L52: 0 | M52: 1 | N52: 0 | O52: 0 | P52: 2 | Q52: 1 | R52: 1 | S52: 0 | T52: 1 | U52: 1
B53: 計 | C53: 13 | D53: 2 | E53: 1 | F53: 1 | G53: 0 | H53: 0 | I53: 2 | J53: 0 | K53: 1 | L53: 1 | M53: 2 | N53: 1 | O53: 0 | P53: 0 | Q53: 0 | R53: 0 | S53: 1 | T53: 0 | U53: 1
A54: 花 蓮 縣 | B54: 男 | C54: 9 | D54: 0 | E54: 1 | F54: 1 | G54: 0 | H54: 0 | I54: 2 | J54: 0 | K54: 1 | L54: 1 | M54: 1 | N54: 1 | O54: 0 | P54: 0 | Q54: 0 | R54: 0 | S54: 1 | T54: 0 | U54: 0
B55: 女 | C55: 4 | D55: 2 | E55: 0 | F55: 0 | G55: 0 | H55: 0 | I55: 0 | J55: 0 | K55: 0 | L55: 0 | M55: 1 | N55: 0 | O55: 0 | P55: 0 | Q55: 0 | R55: 0 | S55: 0 | T55: 0 | U55: 1
B56: 計 | C56: 2 | D56: 0 | E56: 0 | F56: 0 | G56: 1 | H56: 0 | I56: 0 | J56: 0 | K56: 0 | L56: 0 | M56: 0 | N56: 0 | O56: 0 | P56: 1 | Q56: 0 | R56: 0 | S56: 0 | T56: 0 | U56: 0
A57: 澎 湖 縣 | B57: 男 | C57: 1 | D57: 0 | E57: 0 | F57: 0 | G57: 0 | H57: 0 | I57: 0 | J57: 0 | K57: 0 | L57: 0 | M57: 0 | N57: 0 | O57: 0 | P57: 1 | Q57: 0 | R57: 0 | S57: 0 | T57: 0 | U57: 0
B58: 女 | C58: 1 | D58: 0 | E58: 0 | F58: 0 | G58: 1 | H58: 0 | I58: 0 | J58: 0 | K58: 0 | L58: 0 | M58: 0 | N58: 0 | O58: 0 | P58: 0 | Q58: 0 | R58: 0 | S58: 0 | T58: 0 | U58: 0
B59: 計 | C59: 12 | D59: 1 | E59: 1 | F59: 1 | G59: 0 | H59: 2 | I59: 1 | J59: 0 | K59: 0 | L59: 1 | M59: 0 | N59: 0 | O59: 0 | P59: 2 | Q59: 1 | R59: 0 | S59: 0 | T59: 2 | U59: 0
A60: 基 隆 市 | B60: 男 | C60: 3 | D60: 1 | E60: 0 | F60: 0 | G60: 0 | H60: 0 | I60: 0 | J60: 0 | K60: 0 | L60: 0 | M60: 0 | N60: 0 | O60: 0 | P60: 1 | Q60: 1 | R60: 0 | S60: 0 | T60: 0 | U60: 0
B61: 女 | C61: 9 | D61: 0 | E61: 1 | F61: 1 | G61: 0 | H61: 2 | I61: 1 | J61: 0 | K61: 0 | L61: 1 | M61: 0 | N61: 0 | O61: 0 | P61: 1 | Q61: 0 | R61: 0 | S61: 0 | T61: 2 | U61: 0
B62: 計 | C62: 15 | D62: 0 | E62: 0 | F62: 2 | G62: 0 | H62: 0 | I62: 1 | J62: 1 | K62: 1 | L62: 4 | M62: 0 | N62: 2 | O62: 1 | P62: 0 | Q62: 1 | R62: 0 | S62: 0 | T62: 2 | U62: 0
A63: 新 竹 市 | B63: 男 | C63: 7 | D63: 0 | E63: 0 | F63: 2 | G63: 0 | H63: 0 | I63: 0 | J63: 0 | K63: 0 | L63: 2 | M63: 0 | N63: 2 | O63: 0 | P63: 0 | Q63: 0 | R63: 0 | S63: 0 | T63: 1 | U63: 0
B64: 女 | C64: 8 | D64: 0 | E64: 0 | F64: 0 | G64: 0 | H64: 0 | I64: 1 | J64: 1 | K64: 1 | L64: 2 | M64: 0 | N64: 0 | O64: 1 | P64: 0 | Q64: 1 | R64: 0 | S64: 0 | T64: 1 | U64: 0
B65: 計 | C65: 17 | D65: 0 | E65: 0 | F65: 0 | G65: 3 | H65: 0 | I65: 0 | J65: 1 | K65: 2 | L65: 0 | M65: 2 | N65: 1 | O65: 2 | P65: 1 | Q65: 0 | R65: 1 | S65: 0 | T65: 1 | U65: 3
A66: 嘉 義 市 | B66: 男 | C66: 8 | D66: 0 | E66: 0 | F66: 0 | G66: 1 | H66: 0 | I66: 0 | J66: 0 | K66: 1 | L66: 0 | M66: 1 | N66: 1 | O66: 2 | P66: 0 | Q66: 0 | R66: 0 | S66: 0 | T66: 0 | U66: 2
B67: 女 | C67: 9 | D67: 0 | E67: 0 | F67: 0 | G67: 2 | H67: 0 | I67: 0 | J67: 1 | K67: 1 | L67: 0 | M67: 1 | N67: 0 | O67: 0 | P67: 1 | Q67: 0 | R67: 1 | S67: 0 | T67: 1 | U67: 1
B68: 計 | C68: 4 | D68: 0 | E68: 0 | F68: 0 | G68: 1 | H68: 0 | I68: 0 | J68: 0 | K68: 0 | L68: 0 | M68: 0 | N68: 1 | O68: 0 | P68: 1 | Q68: 0 | R68: 0 | S68: 1 | T68: 0 | U68: 0
A69: 金 門 縣 | B69: 男 | C69: 0 | D69: 0 | E69: 0 | F69: 0 | G69: 0 | H69: 0 | I69: 0 | J69: 0 | K69: 0 | L69: 0 | M69: 0 | N69: 0 | O69: 0 | P69: 0 | Q69: 0 | R69: 0 | S69: 0 | T69: 0 | U69: 0
B70: 女 | C70: 4 | D70: 0 | E70: 0 | F70: 0 | G70: 1 | H70: 0 | I70: 0 | J70: 0 | K70: 0 | L70: 0 | M70: 0 | N70: 1 | O70: 0 | P70: 1 | Q70: 0 | R70: 0 | S70: 1 | T70: 0 | U70: 0
B71: 計 | C71: 0 | D71: 0 | E71: 0 | F71: 0 | G71: 0 | H71: 0 | I71: 0 | J71: 0 | K71: 0 | L71: 0 | M71: 0 | N71: 0 | O71: 0 | P71: 0 | Q71: 0 | R71: 0 | S71: 0 | T71: 0 | U71: 0
A72: 連 江 縣 | B72: 男 | C72: 0 | D72: 0 | E72: 0 | F72: 0 | G72: 0 | H72: 0 | I72: 0 | J72: 0 | K72: 0 | L72: 0 | M72: 0 | N72: 0 | O72: 0 | P72: 0 | Q72: 0 | R72: 0 | S72: 0 | T72: 0 | U72: 0
B73: 女 | C73: 0 | D73: 0 | E73: 0 | F73: 0 | G73: 0 | H73: 0 | I73: 0 | J73: 0 | K73: 0 | L73: 0 | M73: 0 | N73: 0 | O73: 0 | P73: 0 | Q73: 0 | R73: 0 | S73: 0 | T73: 0 | U73: 0
U74: ='108年'!U74 -> 內政部戶政司 編製

Sheet 101年
C1: ='108年'!C1:S1 -> 收養人數按性別、年齡分
C2: 中華民國101年底 | U2: ='108年'!U2 -> 單位：人
A3: 區域別 | B3: 性別 | C3: 總 計 | D3: 0歲 | E3: 1歲 | F3: 2歲 | G3: 3歲 | H3: 4歲 | I3: 5歲 | J3: 6歲 | K3: 7歲 | L3: 8歲 | M3: 9歲 | N3: 10歲 | O3: 11歲 | P3: 12歲 | Q3: 13歲 | R3: 14歲 | S3: 15歲 | T3: 16歲 | U3: 17歲
B5: 計 | C5: 1545 | D5: 309 | E5: 177 | F5: 85 | G5: 81 | H5: 68 | I5: 81 | J5: 81 | K5: 65 | L5: 52 | M5: 54 | N5: 62 | O5: 71 | P5: 88 | Q5: 61 | R5: 56 | S5: 60 | T5: 59 | U5: 35
A6: 總 計 | B6: 男 | C6: 704 | D6: 152 | E6: 77 | F6: 42 | G6: 38 | H6: 32 | I6: 38 | J6: 35 | K6: 31 | L6: 25 | M6: 22 | N6: 32 | O6: 29 | P6: 37 | Q6: 26 | R6: 26 | S6: 20 | T6: 23 | U6: 19
B7: 女 | C7: 841 | D7: 157 | E7: 100 | F7: 43 | G7: 43 | H7: 36 | I7: 43 | J7: 46 | K7: 34 | L7: 27 | M7: 32 | N7: 30 | O7: 42 | P7: 51 | Q7: 35 | R7: 30 | S7: 40 | T7: 36 | U7: 16
B8: 計 | C8: 241 | D8: 37 | E8: 27 | F8: 16 | G8: 12 | H8: 16 | I8: 9 | J8: 14 | K8: 8 | L8: 10 | M8: 12 | N8: 8 | O8: 22 | P8: 13 | Q8: 9 | R8: 4 | S8: 13 | T8: 6 | U8: 5
A9: 新 北 市 | B9: 男 | C9: 118 | D9: 16 | E9: 14 | F9: 9 | G9: 7 | H9: 12 | I9: 5 | J9: 7 | K9: 4 | L9: 4 | M9: 6 | N9: 3 | O9: 10 | P9: 5 | Q9: 5 | R9: 3 | S9: 4 | T9: 1 | U9: 3
B10: 女 | C10: 123 | D10: 21 | E10: 13 | F10: 7 | G10: 5 | H10: 4 | I10: 4 | J10: 7 | K10: 4 | L10: 6 | M10: 6 | N10: 5 | O10: 12 | P10: 8 | Q10: 4 | R10: 1 | S10: 9 | T10: 5 | U10: 2
B11: 計 | C11: 231 | D11: 56 | E11: 38 | F11: 16 | G11: 22 | H11: 10 | I11: 8 | J11: 13 | K11: 5 | L11: 3 | M11: 4 | N11: 8 | O11: 9 | P11: 11 | Q11: 9 | R11: 3 | S11: 4 | T11: 6 | U11: 6
A12: 臺 北 市 | B12: 男 | C12: 107 | D12: 23 | E12: 19 | F12: 8 | G12: 9 | H12: 5 | I12: 5 | J12: 8 | K12: 5 | L12: 2 | M12: 2 | N12: 1 | O12: 3 | P12: 5 | Q12: 5 | R12: 1 | S12: 1 | T12: 2 | U12: 3
B13: 女 | C13: 124 | D13: 33 | E13: 19 | F13: 8 | G13: 13 | H13: 5 | I13: 3 | J13: 5 | K13: 0 | L13: 1 | M13: 2 | N13: 7 | O13: 6 | P13: 6 | Q13: 4 | R13: 2 | S13: 3 | T13: 4 | U13: 3
B14: 計 | C14: 147 | D14: 26 | E14: 17 | F14: 7 | G14: 4 | H14: 5 | I14: 12 | J14: 9 | K14: 9 | L14: 4 | M14: 12 | N14: 7 | O14: 2 | P14: 6 | Q14: 8 | R14: 4 | S14: 4 | T14: 6 | U14: 5
A15: 臺 中 市 | B15: 男 | C15: 66 | D15: 16 | E15: 6 | F15: 2 | G15: 4 | H15: 3 | I15: 4 | J15: 1 | K15: 4 | L15: 2 | M15: 4 | N15: 6 | O15: 1 | P15: 0 | Q15: 3 | R15: 4 | S15: 0 | T15: 3 | U15: 3
B16: 女 | C16: 81 | D16: 10 | E16: 11 | F16: 5 | G16: 0 | H16: 2 | I16: 8 | J16: 8 | K16: 5 | L16: 2 | M16: 8 | N16: 1 | O16: 1 | P16: 6 | Q16: 5 | R16: 0 | S16: 4 | T16: 3 | U16: 2
B17: 計 | C17: 126 | D17: 16 | E17: 20 | F17: 4 | G17: 7 | H17: 2 | I17: 10 | J17: 3 | K17: 5 | L17: 2 | M17: 6 | N17: 6 | O17: 9 | P17: 12 | Q17: 9 | R17: 3 | S17: 5 | T17: 5 | U17: 2
A18: 臺 南 市 | B18: 男 | C18: 51 | D18: 6 | E18: 9 | F18: 1 | G18: 5 | H18: 0 | I18: 5 | J18: 1 | K18: 3 | L18: 1 | M18: 0 | N18: 4 | O18: 2 | P18: 4 | Q18: 3 | R18: 0 | S18: 3 | T18: 2 | U18: 2
B19: 女 | C19: 75 | D19: 10 | E19: 11 | F19: 3 | G19: 2 | H19: 2 | I19: 5 | J19: 2 | K19: 2 | L19: 1 | M19: 6 | N19: 2 | O19: 7 | P19: 8 | Q19: 6 | R19: 3 | S19: 2 | T19: 3 | U19: 0
B20: 計 | C20: 154 | D20: 31 | E20: 16 | F20: 8 | G20: 4 | H20: 8 | I20: 9 | J20: 6 | K20: 9 | L20: 9 | M20: 0 | N20: 6 | O20: 3 | P20: 9 | Q20: 6 | R20: 12 | S20: 9 | T20: 7 | U20: 2
A21: 高 雄 市 | B21: 男 | C21: 54 | D21: 12 | E21: 5 | F21: 3 | G21: 3 | H21: 3 | I21: 2 | J21: 2 | K21: 2 | L21: 5 | M21: 0 | N21: 2 | O21: 2 | P21: 1 | Q21: 2 | R21: 5 | S21: 2 | T21: 2 | U21: 1
B22: 女 | C22: 100 | D22: 19 | E22: 11 | F22: 5 | G22: 1 | H22: 5 | I22: 7 | J22: 4 | K22: 7 | L22: 4 | M22: 0 | N22: 4 | O22: 1 | P22: 8 | Q22: 4 | R22: 7 | S22: 7 | T22: 5 | U22: 1
B23: 計 | C23: 47 | D23: 16 | E23: 6 | F23: 0 | G23: 4 | H23: 3 | I23: 4 | J23: 2 | K23: 3 | L23: 0 | M23: 1 | N23: 0 | O23: 0 | P23: 2 | Q23: 0 | R23: 1 | S23: 2 | T23: 1 | U23: 2
A24: 宜 蘭 縣 | B24: 男 | C24: 23 | D24: 7 | E24: 3 | F24: 0 | G24: 3 | H24: 1 | I24: 2 | J24: 0 | K24: 2 | L24: 0 | M24: 1 | N24: 0 | O24: 0 | P24: 0 | Q24: 0 | R24: 1 | S24: 2 | T24: 1 | U24: 0
B25: 女 | C25: 24 | D25: 9 | E25: 3 | F25: 0 | G25: 1 | H25: 2 | I25: 2 | J25: 2 | K25: 1 | L25: 0 | M25: 0 | N25: 0 | O25: 0 | P25: 2 | Q25: 0 | R25: 0 | S25: 0 | T25: 0 | U25: 2
B26: 計 | C26: 132 | D26: 25 | E26: 9 | F26: 8 | G26: 6 | H26: 2 | I26: 7 | J26: 14 | K26: 5 | L26: 7 | M26: 3 | N26: 7 | O26: 9 | P26: 7 | Q26: 6 | R26: 5 | S26: 4 | T26: 7 | U26: 1
A27: 桃 園 縣 | B27: 男 | C27: 60 | D27: 13 | E27: 3 | F27: 4 | G27: 1 | H27: 2 | I27: 3 | J27: 9 | K27: 3 | L27: 3 | M27: 2 | N27: 2 | O27: 3 | P27: 3 | Q27: 3 | R27: 2 | S27: 1 | T27: 2 | U27: 1
B28: 女 | C28: 72 | D28: 12 | E28: 6 | F28: 4 | G28: 5 | H28: 0 | I28: 4 | J28: 5 | K28: 2 | L28: 4 | M28: 1 | N28: 5 | O28: 6 | P28: 4 | Q28: 3 | R28: 3 | S28: 3 | T28: 5 | U28: 0
B29: 計 | C29: 46 | D29: 9 | E29: 12 | F29: 2 | G29: 0 | H29: 2 | I29: 3 | J29: 2 | K29: 2 | L29: 2 | M29: 2 | N29: 3 | O29: 1 | P29: 0 | Q29: 1 | R29: 3 | S29: 1 | T29: 1 | U29: 0
A30: 新 竹 縣 | B30: 男 | C30: 21 | D30: 5 | E30: 2 | F30: 1 | G30: 0 | H30: 0 | I30: 3 | J30: 1 | K30: 1 | L30: 2 | M30: 2 | N30: 3 | O30: 0 | P30: 0 | Q30: 0 | R30: 1 | S30: 0 | T30: 0 | U30: 0
B31: 女 | C31: 25 | D31: 4 | E31: 10 | F31: 1 | G31: 0 | H31: 2 | I31: 0 | J31: 1 | K31: 1 | L31: 0 | M31: 0 | N31: 0 | O31: 1 | P31: 0 | Q31: 1 | R31: 2 | S31: 1 | T31: 1 | U31: 0
B32: 計 | C32: 35 | D32: 7 | E32: 4 | F32: 1 | G32: 0 | H32: 2 | I32: 0 | J32: 3 | K32: 1 | L32: 2 | M32: 0 | N32: 3 | O32: 0 | P32: 4 | Q32: 2 | R32: 1 | S32: 0 | T32: 4 | U32: 1
A33: 苗 栗 縣 | B33: 男 | C33: 16 | D33: 4 | E33: 2 | F33: 0 | G33: 0 | H33: 0 | I33: 0 | J33: 1 | K33: 0 | L33: 0 | M33: 0 | N33: 3 | O33: 0 | P33: 2 | Q33: 2 | R33: 0 | S33: 0 | T33: 1 | U33: 1
B34: 女 | C34: 19 | D34: 3 | E34: 2 | F34: 1 | G34: 0 | H34: 2 | I34: 0 | J34: 2 | K34: 1 | L34: 2 | M34: 0 | N34: 0 | O34: 0 | P34: 2 | Q34: 0 | R34: 1 | S34: 0 | T34: 3 | U34: 0
B35: 計 | C35: 56 | D35: 12 | E35: 3 | F35: 7 | G35: 5 | H35: 6 | I35: 2 | J35: 5 | K35: 2 | L35: 0 | M35: 1 | N35: 0 | O35: 2 | P35: 2 | Q35: 2 | R35: 1 | S35: 2 | T35: 3 | U35: 1
A36: 彰 化 縣 | B36: 男 | C36: 24 | D36: 6 | E36: 2 | F36: 5 | G36: 1 | H36: 1 | I36: 1 | J36: 1 | K36: 1 | L36: 0 | M36: 0 | N36: 0 | O36: 0 | P36: 1 | Q36: 1 | R36: 0 | S36: 0 | T36: 3 | U36: 1
B37: 女 | C37: 32 | D37: 6 | E37: 1 | F37: 2 | G37: 4 | H37: 5 | I37: 1 | J37: 4 | K37: 1 | L37: 0 | M37: 1 | N37: 0 | O37: 2 | P37: 1 | Q37: 1 | R37: 1 | S37: 2 | T37: 0 | U37: 0
B38: 計 | C38: 40 | D38: 10 | E38: 1 | F38: 3 | G38: 3 | H38: 2 | I38: 2 | J38: 1 | K38: 1 | L38: 2 | M38: 1 | N38: 2 | O38: 1 | P38: 3 | Q38: 2 | R38: 4 | S38: 0 | T38: 1 | U38: 1
A39: 南 投 縣 | B39: 男 | C39: 25 | D39: 7 | E39: 1 | F39: 1 | G39: 1 | H39: 0 | I39: 2 | J39: 0 | K39: 1 | L39: 1 | M39: 1 | N39: 2 | O39: 1 | P39: 3 | Q39: 1 | R39: 2 | S39: 0 | T39: 1 | U39: 0
B40: 女 | C40: 15 | D40: 3 | E40: 0 | F40: 2 | G40: 2 | H40: 2 | I40: 0 | J40: 1 | K40: 0 | L40: 1 | M40: 0 | N40: 0 | O40: 0 | P40: 0 | Q40: 1 | R40: 2 | S40: 0 | T40: 0 | U40: 1
B41: 計 | C41: 45 | D41: 7 | E41: 5 | F41: 4 | G41: 1 | H41: 2 | I41: 5 | J41: 2 | K41: 2 | L41: 1 | M41: 2 | N41: 2 | O41: 3 | P41: 2 | Q41: 1 | R41: 1 | S41: 1 | T41: 2 | U41: 2
A42: 雲 林 縣 | B42: 男 | C42: 19 | D42: 4 | E42: 1 | F42: 3 | G42: 1 | H42: 1 | I42: 2 | J42: 0 | K42: 0 | L42: 0 | M42: 0 | N42: 1 | O42: 1 | P42: 1 | Q42: 0 | R42: 1 | S42: 1 | T42: 1 | U42: 1
B43: 女 | C43: 26 | D43: 3 | E43: 4 | F43: 1 | G43: 0 | H43: 1 | I43: 3 | J43: 2 | K43: 2 | L43: 1 | M43: 2 | N43: 1 | O43: 2 | P43: 1 | Q43: 1 | R43: 0 | S43: 0 | T43: 1 | U43: 1
B44: 計 | C44: 37 | D44: 5 | E44: 4 | F44: 0 | G44: 5 | H44: 0 | I44: 1 | J44: 0 | K44: 3 | L44: 1 | M44: 2 | N44: 3 | O44: 1 | P44: 3 | Q44: 2 | R44: 4 | S44: 1 | T44: 1 | U44: 1
A45: 嘉 義 縣 | B45: 男 | C45: 17 | D45: 4 | E45: 1 | F45: 0 | G45: 0 | H45: 0 | I45: 1 | J45: 0 | K45: 0 | L45: 1 | M45: 2 | N45: 1 | O45: 1 | P45: 3 | Q45: 0 | R45: 2 | S45: 0 | T45: 0 | U45: 1
B46: 女 | C46: 20 | D46: 1 | E46: 3 | F46: 0 | G46: 5 | H46: 0 | I46: 0 | J46: 0 | K46: 3 | L46: 0 | M46: 0 | N46: 2 | O46: 0 | P46: 0 | Q46: 2 | R46: 2 | S46: 1 | T46: 1 | U46: 0
B47: 計 | C47: 63 | D47: 12 | E47: 4 | F47: 3 | G47: 2 | H47: 3 | I47: 2 | J47: 6 | K47: 2 | L47: 3 | M47: 2 | N47: 4 | O47: 4 | P47: 1 | Q47: 0 | R47: 2 | S47: 7 | T47: 6 | U47: 0
A48: 屏 東 縣 | B48: 男 | C48: 31 | D48: 5 | E48: 2 | F48: 0 | G48: 1 | H48: 2 | I48: 0 | J48: 3 | K48: 2 | L48: 2 | M48: 1 | N48: 3 | O48: 3 | P48: 0 | Q48: 0 | R48: 1 | S48: 3 | T48: 3 | U48: 0
B49: 女 | C49: 32 | D49: 7 | E49: 2 | F49: 3 | G49: 1 | H49: 1 | I49: 2 | J49: 3 | K49: 0 | L49: 1 | M49: 1 | N49: 1 | O49: 1 | P49: 1 | Q49: 0 | R49: 1 | S49: 4 | T49: 3 | U49: 0
B50: 計 | C50: 40 | D50: 20 | E50: 5 | F50: 1 | G50: 2 | H50: 2 | I50: 1 | J50: 0 | K50: 0 | L50: 1 | M50: 1 | N50: 1 | O50: 1 | P50: 0 | Q50: 1 | R50: 0 | S50: 4 | T50: 0 | U50: 0
A51: 臺 東 縣 | B51: 男 | C51: 18 | D51: 11 | E51: 1 | F51: 0 | G51: 2 | H51: 1 | I51: 1 | J51: 0 | K51: 0 | L51: 0 | M51: 0 | N51: 0 | O51: 1 | P51: 0 | Q51: 0 | R51: 0 | S51: 1 | T51: 0 | U51: 0
B52: 女 | C52: 22 | D52: 9 | E52: 4 | F52: 1 | G52: 0 | H52: 1 | I52: 0 | J52: 0 | K52: 0 | L52: 1 | M52: 1 | N52: 1 | O52: 0 | P52: 0 | Q52: 1 | R52: 0 | S52: 3 | T52: 0 | U52: 0
B53: 計 | C53: 30 | D53: 5 | E53: 2 | F53: 3 | G53: 0 | H53: 0 | I53: 1 | J53: 1 | K53: 1 | L53: 3 | M53: 2 | N53: 1 | O53: 2 | P53: 3 | Q53: 0 | R53: 2 | S53: 2 | T53: 1 | U53: 1
A54: 花 蓮 縣 | B54: 男 | C54: 16 | D54: 2 | E54: 2 | F54: 3 | G54: 0 | H54: 0 | I54: 0 | J54: 1 | K54: 0 | L54: 2 | M54: 0 | N54: 0 | O54: 1 | P54: 2 | Q54: 0 | R54: 1 | S54: 1 | T54: 0 | U54: 1
B55: 女 | C55: 14 | D55: 3 | E55: 0 | F55: 0 | G55: 0 | H55: 0 | I55: 1 | J55: 0 | K55: 1 | L55: 1 | M55: 2 | N55: 1 | O55: 1 | P55: 1 | Q55: 0 | R55: 1 | S55: 1 | T55: 1 | U55: 0
B56: 計 | C56: 2 | D56: 0 | E56: 0 | F56: 0 | G56: 0 | H56: 1 | I56: 0 | J56: 0 | K56: 0 | L56: 0 | M56: 0 | N56: 0 | O56: 0 | P56: 0 | Q56: 0 | R56: 0 | S56: 1 | T56: 0 | U56: 0
A57: 澎 湖 縣 | B57: 男 | C57: 1 | D57: 0 | E57: 0 | F57: 0 | G57: 0 | H57: 0 | I57: 0 | J57: 0 | K57: 0 | L57: 0 | M57: 0 | N57: 0 | O57: 0 | P57: 0 | Q57: 0 | R57: 0 | S57: 1 | T57: 0 | U57: 0
B58: 女 | C58: 1 | D58: 0 | E58: 0 | F58: 0 | G58: 0 | H58: 1 | I58: 0 | J58: 0 | K58: 0 | L58: 0 | M58: 0 | N58: 0 | O58: 0 | P58: 0 | Q58: 0 | R58: 0 | S58: 0 | T58: 0 | U58: 0
B59: 計 | C59: 27 | D59: 5 | E59: 2 | F59: 0 | G59: 1 | H59: 1 | I59: 2 | J59: 0 | K59: 2 | L59: 0 | M59: 1 | N59: 1 | O59: 0 | P59: 4 | Q59: 2 | R59: 3 | S59: 0 | T59: 0 | U59: 3
A60: 基 隆 市 | B60: 男 | C60: 13 | D60: 4 | E60: 2 | F60: 0 | G60: 0 | H60: 1 | I60: 2 | J60: 0 | K60: 0 | L60: 0 | M60: 1 | N60: 1 | O60: 0 | P60: 1 | Q60: 1 | R60: 0 | S60: 0 | T60: 0 | U60: 0
B61: 女 | C61: 14 | D61: 1 | E61: 0 | F61: 0 | G61: 1 | H61: 0 | I61: 0 | J61: 0 | K61: 2 | L61: 0 | M61: 0 | N61: 0 | O61: 0 | P61: 3 | Q61: 1 | R61: 3 | S61: 0 | T61: 0 | U61: 3
B62: 計 | C62: 30 | D62: 8 | E62: 1 | F62: 1 | G62: 3 | H62: 1 | I62: 3 | J62: 0 | K62: 3 | L62: 0 | M62: 1 | N62: 0 | O62: 2 | P62: 3 | Q62: 1 | R62: 2 | S62: 0 | T62: 0 | U62: 1
A63: 新 竹 市 | B63: 男 | C63: 14 | D63: 6 | E63: 1 | F63: 1 | G63: 0 | H63: 0 | I63: 0 | J63: 0 | K63: 2 | L63: 0 | M63: 0 | N63: 0 | O63: 0 | P63: 3 | Q63: 0 | R63: 1 | S63: 0 | T63: 0 | U63: 0
B64: 女 | C64: 16 | D64: 2 | E64: 0 | F64: 0 | G64: 3 | H64: 1 | I64: 3 | J64: 0 | K64: 1 | L64: 0 | M64: 1 | N64: 0 | O64: 2 | P64: 0 | Q64: 1 | R64: 1 | S64: 0 | T64: 0 | U64: 1
B65: 計 | C65: 16 | D65: 2 | E65: 1 | F65: 1 | G65: 0 | H65: 0 | I65: 0 | J65: 0 | K65: 2 | L65: 2 | M65: 1 | N65: 0 | O65: 0 | P65: 3 | Q65: 0 | R65: 1 | S65: 0 | T65: 2 | U65: 1
A66: 嘉 義 市 | B66: 男 | C66: 10 | D66: 1 | E66: 1 | F66: 1 | G66: 0 | H66: 0 | I66: 0 | J66: 0 | K66: 1 | L66: 0 | M66: 0 | N66: 0 | O66: 0 | P66: 3 | Q66: 0 | R66: 1 | S66: 0 | T66: 1 | U66: 1
B67: 女 | C67: 6 | D67: 1 | E67: 0 | F67: 0 | G67: 0 | H67: 0 | I67: 0 | J67: 0 | K67: 1 | L67: 2 | M67: 1 | N67: 0 | O67: 0 | P67: 0 | Q67: 0 | R67: 0 | S67: 0 | T67: 1 | U67: 0
B68: 計 | C68: 0 | D68: 0 | E68: 0 | F68: 0 | G68: 0 | H68: 0 | I68: 0 | J68: 0 | K68: 0 | L68: 0 | M68: 0 | N68: 0 | O68: 0 | P68: 0 | Q68: 0 | R68: 0 | S68: 0 | T68: 0 | U68: 0
A69: 金 門 縣 | B69: 男 | C69: 0 | D69: 0 | E69: 0 | F69: 0 | G69: 0 | H69: 0 | I69: 0 | J69: 0 | K69: 0 | L69: 0 | M69: 0 | N69: 0 | O69: 0 | P69: 0 | Q69: 0 | R69: 0 | S69: 0 | T69: 0 | U69: 0
B70: 女 | C70: 0 | D70: 0 | E70: 0 | F70: 0 | G70: 0 | H70: 0 | I70: 0 | J70: 0 | K70: 0 | L70: 0 | M70: 0 | N70: 0 | O70: 0 | P70: 0 | Q70: 0 | R70: 0 | S70: 0 | T70: 0 | U70: 0
B71: 計 | C71: 0 | D71: 0 | E71: 0 | F71: 0 | G71: 0 | H71: 0 | I71: 0 | J71: 0 | K71: 0 | L71: 0 | M71: 0 | N71: 0 | O71: 0 | P71: 0 | Q71: 0 | R71: 0 | S71: 0 | T71: 0 | U71: 0
A72: 連 江 縣 | B72: 男 | C72: 0 | D72: 0 | E72: 0 | F72: 0 | G72: 0 | H72: 0 | I72: 0 | J72: 0 | K72: 0 | L72: 0 | M72: 0 | N72: 0 | O72: 0 | P72: 0 | Q72: 0 | R72: 0 | S72: 0 | T72: 0 | U72: 0
B73: 女 | C73: 0 | D73: 0 | E73: 0 | F73: 0 | G73: 0 | H73: 0 | I73: 0 | J73: 0 | K73: 0 | L73: 0 | M73: 0 | N73: 0 | O73: 0 | P73: 0 | Q73: 0 | R73: 0 | S73: 0 | T73: 0 | U73: 0
U74: ='108年'!U74 -> 內政部戶政司 編製

Sheet 100年
C1: ='108年'!C1:S1 -> 收養人數按性別、年齡分
C2: 中華民國100年底 | U2: ='108年'!U2 -> 單位：人
A3: 區域別 | B3: 性別 | C3: 總 計 | D3: 0歲 | E3: 1歲 | F3: 2歲 | G3: 3歲 | H3: 4歲 | I3: 5歲 | J3: 6歲 | K3: 7歲 | L3: 8歲 | M3: 9歲 | N3: 10歲 | O3: 11歲 | P3: 12歲 | Q3: 13歲 | R3: 14歲 | S3: 15歲 | T3: 16歲 | U3: 17歲
B5: 計 | C5: 1743 | D5: 404 | E5: 194 | F5: 94 | G5: 86 | H5: 88 | I5: 94 | J5: 107 | K5: 63 | L5: 53 | M5: 80 | N5: 67 | O5: 66 | P5: 44 | Q5: 70 | R5: 57 | S5: 77 | T5: 62 | U5: 37
A6: 總 計 | B6: 男 | C6: 860 | D6: 219 | E6: 100 | F6: 47 | G6: 41 | H6: 35 | I6: 39 | J6: 61 | K6: 30 | L6: 33 | M6: 36 | N6: 36 | O6: 30 | P6: 17 | Q6: 29 | R6: 30 | S6: 37 | T6: 21 | U6: 19
B7: 女 | C7: 883 | D7: 185 | E7: 94 | F7: 47 | G7: 45 | H7: 53 | I7: 55 | J7: 46 | K7: 33 | L7: 20 | M7: 44 | N7: 31 | O7: 36 | P7: 27 | Q7: 41 | R7: 27 | S7: 40 | T7: 41 | U7: 18
B8: 計 | C8: 286 | D8: 39 | E8: 30 | F8: 15 | G8: 16 | H8: 17 | I8: 15 | J8: 18 | K8: 12 | L8: 13 | M8: 14 | N8: 14 | O8: 19 | P8: 6 | Q8: 17 | R8: 7 | S8: 18 | T8: 12 | U8: 4
A9: 新 北 市 | B9: 男 | C9: 141 | D9: 20 | E9: 16 | F9: 5 | G9: 9 | H9: 9 | I9: 8 | J9: 10 | K9: 6 | L9: 7 | M9: 5 | N9: 10 | O9: 7 | P9: 3 | Q9: 7 | R9: 3 | S9: 10 | T9: 5 | U9: 1
B10: 女 | C10: 145 | D10: 19 | E10: 14 | F10: 10 | G10: 7 | H10: 8 | I10: 7 | J10: 8 | K10: 6 | L10: 6 | M10: 9 | N10: 4 | O10: 12 | P10: 3 | Q10: 10 | R10: 4 | S10: 8 | T10: 7 | U10: 3
B11: 計 | C11: 249 | D11: 51 | E11: 53 | F11: 22 | G11: 23 | H11: 15 | I11: 9 | J11: 12 | K11: 8 | L11: 9 | M11: 10 | N11: 7 | O11: 7 | P11: 3 | Q11: 3 | R11: 4 | S11: 3 | T11: 10 | U11: 0
A12: 臺 北 市 | B12: 男 | C12: 120 | D12: 24 | E12: 28 | F12: 14 | G12: 8 | H12: 8 | I12: 5 | J12: 7 | K12: 6 | L12: 4 | M12: 1 | N12: 3 | O12: 3 | P12: 3 | Q12: 2 | R12: 1 | S12: 0 | T12: 3 | U12: 0
B13: 女 | C13: 129 | D13: 27 | E13: 25 | F13: 8 | G13: 15 | H13: 7 | I13: 4 | J13: 5 | K13: 2 | L13: 5 | M13: 9 | N13: 4 | O13: 4 | P13: 0 | Q13: 1 | R13: 3 | S13: 3 | T13: 7 | U13: 0
B14: 計 | C14: 171 | D14: 34 | E14: 23 | F14: 9 | G14: 5 | H14: 6 | I14: 9 | J14: 16 | K14: 8 | L14: 3 | M14: 8 | N14: 8 | O14: 7 | P14: 3 | Q14: 12 | R14: 7 | S14: 3 | T14: 4 | U14: 6
A15: 臺 中 市 | B15: 男 | C15: 88 | D15: 19 | E15: 12 | F15: 4 | G15: 1 | H15: 1 | I15: 2 | J15: 12 | K15: 4 | L15: 1 | M15: 4 | N15: 4 | O15: 4 | P15: 1 | Q15: 5 | R15: 6 | S15: 2 | T15: 1 | U15: 5
B16: 女 | C16: 83 | D16: 15 | E16: 11 | F16: 5 | G16: 4 | H16: 5 | I16: 7 | J16: 4 | K16: 4 | L16: 2 | M16: 4 | N16: 4 | O16: 3 | P16: 2 | Q16: 7 | R16: 1 | S16: 1 | T16: 3 | U16: 1
B17: 計 | C17: 186 | D17: 44 | E17: 30 | F17: 11 | G17: 11 | H17: 12 | I17: 14 | J17: 7 | K17: 5 | L17: 4 | M17: 6 | N17: 4 | O17: 5 | P17: 6 | Q17: 8 | R17: 6 | S17: 6 | T17: 2 | U17: 5
A18: 臺 南 市 | B18: 男 | C18: 96 | D18: 26 | E18: 17 | F18: 8 | G18: 3 | H18: 5 | I18: 6 | J18: 3 | K18: 0 | L18: 3 | M18: 4 | N18: 1 | O18: 3 | P18: 3 | Q18: 2 | R18: 4 | S18: 3 | T18: 0 | U18: 5
B19: 女 | C19: 90 | D19: 18 | E19: 13 | F19: 3 | G19: 8 | H19: 7 | I19: 8 | J19: 4 | K19: 5 | L19: 1 | M19: 2 | N19: 3 | O19: 2 | P19: 3 | Q19: 6 | R19: 2 | S19: 3 | T19: 2 | U19: 0
B20: 計 | C20: 156 | D20: 36 | E20: 8 | F20: 7 | G20: 7 | H20: 9 | I20: 8 | J20: 14 | K20: 5 | L20: 4 | M20: 11 | N20: 5 | O20: 5 | P20: 6 | Q20: 5 | R20: 8 | S20: 6 | T20: 6 | U20: 6
A21: 高 雄 市 | B21: 男 | C21: 72 | D21: 15 | E21: 1 | F21: 5 | G21: 4 | H21: 4 | I21: 4 | J21: 6 | K21: 5 | L21: 4 | M21: 7 | N21: 4 | O21: 1 | P21: 2 | Q21: 2 | R21: 2 | S21: 1 | T21: 3 | U21: 2
B22: 女 | C22: 84 | D22: 21 | E22: 7 | F22: 2 | G22: 3 | H22: 5 | I22: 4 | J22: 8 | K22: 0 | L22: 0 | M22: 4 | N22: 1 | O22: 4 | P22: 4 | Q22: 3 | R22: 6 | S22: 5 | T22: 3 | U22: 4
B23: 計 | C23: 60 | D23: 24 | E23: 5 | F23: 4 | G23: 2 | H23: 3 | I23: 2 | J23: 3 | K23: 1 | L23: 2 | M23: 0 | N23: 1 | O23: 1 | P23: 0 | Q23: 1 | R23: 3 | S23: 4 | T23: 1 | U23: 3
A24: 宜 蘭 縣 | B24: 男 | C24: 33 | D24: 17 | E24: 3 | F24: 1 | G24: 1 | H24: 0 | I24: 0 | J24: 2 | K24: 0 | L24: 1 | M24: 0 | N24: 0 | O24: 1 | P24: 0 | Q24: 1 | R24: 2 | S24: 2 | T24: 0 | U24: 2
B25: 女 | C25: 27 | D25: 7 | E25: 2 | F25: 3 | G25: 1 | H25: 3 | I25: 2 | J25: 1 | K25: 1 | L25: 1 | M25: 0 | N25: 1 | O25: 0 | P25: 0 | Q25: 0 | R25: 1 | S25: 2 | T25: 1 | U25: 1
B26: 計 | C26: 149 | D26: 44 | E26: 11 | F26: 5 | G26: 3 | H26: 8 | I26: 9 | J26: 8 | K26: 6 | L26: 3 | M26: 9 | N26: 6 | O26: 7 | P26: 3 | Q26: 3 | R26: 5 | S26: 9 | T26: 6 | U26: 4
A27: 桃 園 縣 | B27: 男 | C27: 73 | D27: 25 | E27: 6 | F27: 3 | G27: 0 | H27: 2 | I27: 4 | J27: 5 | K27: 3 | L27: 1 | M27: 5 | N27: 3 | O27: 3 | P27: 1 | Q27: 3 | R27: 2 | S27: 6 | T27: 0 | U27: 1
B28: 女 | C28: 76 | D28: 19 | E28: 5 | F28: 2 | G28: 3 | H28: 6 | I28: 5 | J28: 3 | K28: 3 | L28: 2 | M28: 4 | N28: 3 | O28: 4 | P28: 2 | Q28: 0 | R28: 3 | S28: 3 | T28: 6 | U28: 3
B29: 計 | C29: 62 | D29: 14 | E29: 9 | F29: 3 | G29: 3 | H29: 2 | I29: 5 | J29: 0 | K29: 1 | L29: 2 | M29: 5 | N29: 4 | O29: 0 | P29: 5 | Q29: 1 | R29: 3 | S29: 1 | T29: 2 | U29: 2
A30: 新 竹 縣 | B30: 男 | C30: 34 | D30: 8 | E30: 6 | F30: 1 | G30: 3 | H30: 0 | I30: 3 | J30: 0 | K30: 0 | L30: 1 | M30: 3 | N30: 2 | O30: 0 | P30: 1 | Q30: 1 | R30: 2 | S30: 0 | T30: 1 | U30: 2
B31: 女 | C31: 28 | D31: 6 | E31: 3 | F31: 2 | G31: 0 | H31: 2 | I31: 2 | J31: 0 | K31: 1 | L31: 1 | M31: 2 | N31: 2 | O31: 0 | P31: 4 | Q31: 0 | R31: 1 | S31: 1 | T31: 1 | U31: 0
B32: 計 | C32: 57 | D32: 10 | E32: 3 | F32: 3 | G32: 1 | H32: 1 | I32: 0 | J32: 5 | K32: 7 | L32: 3 | M32: 0 | N32: 4 | O32: 1 | P32: 1 | Q32: 1 | R32: 1 | S32: 10 | T32: 5 | U32: 1
A33: 苗 栗 縣 | B33: 男 | C33: 27 | D33: 6 | E33: 2 | F33: 0 | G33: 1 | H33: 0 | I33: 0 | J33: 3 | K33: 3 | L33: 3 | M33: 0 | N33: 1 | O33: 0 | P33: 0 | Q33: 0 | R33: 1 | S33: 4 | T33: 3 | U33: 0
B34: 女 | C34: 30 | D34: 4 | E34: 1 | F34: 3 | G34: 0 | H34: 1 | I34: 0 | J34: 2 | K34: 4 | L34: 0 | M34: 0 | N34: 3 | O34: 1 | P34: 1 | Q34: 1 | R34: 0 | S34: 6 | T34: 2 | U34: 1
B35: 計 | C35: 57 | D35: 20 | E35: 2 | F35: 3 | G35: 1 | H35: 1 | I35: 4 | J35: 2 | K35: 0 | L35: 2 | M35: 3 | N35: 2 | O35: 1 | P35: 0 | Q35: 8 | R35: 2 | S35: 3 | T35: 3 | U35: 0
A36: 彰 化 縣 | B36: 男 | C36: 27 | D36: 10 | E36: 0 | F36: 1 | G36: 1 | H36: 0 | I36: 3 | J36: 1 | K36: 0 | L36: 1 | M36: 1 | N36: 1 | O36: 0 | P36: 0 | Q36: 4 | R36: 2 | S36: 1 | T36: 1 | U36: 0
B37: 女 | C37: 30 | D37: 10 | E37: 2 | F37: 2 | G37: 0 | H37: 1 | I37: 1 | J37: 1 | K37: 0 | L37: 1 | M37: 2 | N37: 1 | O37: 1 | P37: 0 | Q37: 4 | R37: 0 | S37: 2 | T37: 2 | U37: 0
B38: 計 | C38: 35 | D38: 10 | E38: 3 | F38: 0 | G38: 1 | H38: 3 | I38: 3 | J38: 2 | K38: 4 | L38: 0 | M38: 0 | N38: 1 | O38: 0 | P38: 1 | Q38: 2 | R38: 3 | S38: 0 | T38: 2 | U38: 0
A39: 南 投 縣 | B39: 男 | C39: 18 | D39: 7 | E39: 2 | F39: 0 | G39: 0 | H39: 2 | I39: 1 | J39: 0 | K39: 1 | L39: 0 | M39: 0 | N39: 1 | O39: 0 | P39: 0 | Q39: 1 | R39: 3 | S39: 0 | T39: 0 | U39: 0
B40: 女 | C40: 17 | D40: 3 | E40: 1 | F40: 0 | G40: 1 | H40: 1 | I40: 2 | J40: 2 | K40: 3 | L40: 0 | M40: 0 | N40: 0 | O40: 0 | P40: 1 | Q40: 1 | R40: 0 | S40: 0 | T40: 2 | U40: 0
B41: 計 | C41: 32 | D41: 13 | E41: 2 | F41: 1 | G41: 0 | H41: 1 | I41: 2 | J41: 1 | K41: 1 | L41: 0 | M41: 1 | N41: 2 | O41: 2 | P41: 1 | Q41: 0 | R41: 1 | S41: 1 | T41: 2 | U41: 1
A42: 雲 林 縣 | B42: 男 | C42: 14 | D42: 5 | E42: 1 | F42: 1 | G42: 0 | H42: 1 | I42: 1 | J42: 0 | K42: 0 | L42: 0 | M42: 1 | N42: 0 | O42: 2 | P42: 0 | Q42: 0 | R42: 1 | S42: 0 | T42: 1 | U42: 0
B43: 女 | C43: 18 | D43: 8 | E43: 1 | F43: 0 | G43: 0 | H43: 0 | I43: 1 | J43: 1 | K43: 1 | L43: 0 | M43: 0 | N43: 2 | O43: 0 | P43: 1 | Q43: 0 | R43: 0 | S43: 1 | T43: 1 | U43: 1
B44: 計 | C44: 32 | D44: 7 | E44: 2 | F44: 1 | G44: 3 | H44: 4 | I44: 2 | J44: 4 | K44: 1 | L44: 1 | M44: 1 | N44: 1 | O44: 2 | P44: 0 | Q44: 0 | R44: 1 | S44: 2 | T44: 0 | U44: 0
A45: 嘉 義 縣 | B45: 男 | C45: 13 | D45: 4 | E45: 0 | F45: 0 | G45: 2 | H45: 2 | I45: 0 | J45: 2 | K45: 1 | L45: 1 | M45: 0 | N45: 0 | O45: 1 | P45: 0 | Q45: 0 | R45: 0 | S45: 0 | T45: 0 | U45: 0
B46: 女 | C46: 19 | D46: 3 | E46: 2 | F46: 1 | G46: 1 | H46: 2 | I46: 2 | J46: 2 | K46: 0 | L46: 0 | M46: 1 | N46: 1 | O46: 1 | P46: 0 | Q46: 0 | R46: 1 | S46: 2 | T46: 0 | U46: 0
B47: 計 | C47: 65 | D47: 16 | E47: 8 | F47: 1 | G47: 4 | H47: 2 | I47: 4 | J47: 3 | K47: 3 | L47: 4 | M47: 1 | N47: 2 | O47: 2 | P47: 4 | Q47: 4 | R47: 2 | S47: 2 | T47: 2 | U47: 1
A48: 屏 東 縣 | B48: 男 | C48: 27 | D48: 6 | E48: 3 | F48: 0 | G48: 3 | H48: 0 | I48: 0 | J48: 2 | K48: 1 | L48: 4 | M48: 1 | N48: 1 | O48: 2 | P48: 1 | Q48: 0 | R48: 0 | S48: 2 | T48: 1 | U48: 0
B49: 女 | C49: 38 | D49: 10 | E49: 5 | F49: 1 | G49: 1 | H49: 2 | I49: 4 | J49: 1 | K49: 2 | L49: 0 | M49: 0 | N49: 1 | O49: 0 | P49: 3 | Q49: 4 | R49: 2 | S49: 0 | T49: 1 | U49: 1
B50: 計 | C50: 50 | D50: 24 | E50: 1 | F50: 2 | G50: 0 | H50: 0 | I50: 4 | J50: 5 | K50: 0 | L50: 0 | M50: 4 | N50: 2 | O50: 2 | P50: 0 | Q50: 1 | R50: 1 | S50: 2 | T50: 2 | U50: 0
A51: 臺 東 縣 | B51: 男 | C51: 26 | D51: 13 | E51: 1 | F51: 0 | G51: 0 | H51: 0 | I51: 2 | J51: 2 | K51: 0 | L51: 0 | M51: 2 | N51: 2 | O51: 1 | P51: 0 | Q51: 0 | R51: 0 | S51: 2 | T51: 1 | U51: 0
B52: 女 | C52: 24 | D52: 11 | E52: 0 | F52: 2 | G52: 0 | H52: 0 | I52: 2 | J52: 3 | K52: 0 | L52: 0 | M52: 2 | N52: 0 | O52: 1 | P52: 0 | Q52: 1 | R52: 1 | S52: 0 | T52: 1 | U52: 0
B53: 計 | C53: 32 | D53: 7 | E53: 0 | F53: 3 | G53: 1 | H53: 1 | I53: 1 | J53: 4 | K53: 0 | L53: 1 | M53: 1 | N53: 3 | O53: 2 | P53: 2 | Q53: 1 | R53: 0 | S53: 3 | T53: 1 | U53: 1
A54: 花 蓮 縣 | B54: 男 | C54: 19 | D54: 6 | E54: 0 | F54: 1 | G54: 1 | H54: 0 | I54: 0 | J54: 3 | K54: 0 | L54: 1 | M54: 0 | N54: 2 | O54: 0 | P54: 2 | Q54: 1 | R54: 0 | S54: 2 | T54: 0 | U54: 0
B55: 女 | C55: 13 | D55: 1 | E55: 0 | F55: 2 | G55: 0 | H55: 1 | I55: 1 | J55: 1 | K55: 0 | L55: 0 | M55: 1 | N55: 1 | O55: 2 | P55: 0 | Q55: 0 | R55: 0 | S55: 1 | T55: 1 | U55: 1
B56: 計 | C56: 5 | D56: 0 | E56: 0 | F56: 0 | G56: 1 | H56: 1 | I56: 0 | J56: 0 | K56: 0 | L56: 0 | M56: 1 | N56: 0 | O56: 0 | P56: 0 | Q56: 0 | R56: 0 | S56: 0 | T56: 1 | U56: 1
A57: 澎 湖 縣 | B57: 男 | C57: 3 | D57: 0 | E57: 0 | F57: 0 | G57: 1 | H57: 1 | I57: 0 | J57: 0 | K57: 0 | L57: 0 | M57: 0 | N57: 0 | O57: 0 | P57: 0 | Q57: 0 | R57: 0 | S57: 0 | T57: 0 | U57: 1
B58: 女 | C58: 2 | D58: 0 | E58: 0 | F58: 0 | G58: 0 | H58: 0 | I58: 0 | J58: 0 | K58: 0 | L58: 0 | M58: 1 | N58: 0 | O58: 0 | P58: 0 | Q58: 0 | R58: 0 | S58: 0 | T58: 1 | U58: 0
B59: 計 | C59: 18 | D59: 4 | E59: 0 | F59: 1 | G59: 1 | H59: 0 | I59: 0 | J59: 1 | K59: 0 | L59: 0 | M59: 2 | N59: 0 | O59: 2 | P59: 0 | Q59: 2 | R59: 1 | S59: 3 | T59: 0 | U59: 1
A60: 基 隆 市 | B60: 男 | C60: 9 | D60: 3 | E60: 0 | F60: 0 | G60: 1 | H60: 0 | I60: 0 | J60: 1 | K60: 0 | L60: 0 | M60: 0 | N60: 0 | O60: 1 | P60: 0 | Q60: 0 | R60: 1 | S60: 2 | T60: 0 | U60: 0
B61: 女 | C61: 9 | D61: 1 | E61: 0 | F61: 1 | G61: 0 | H61: 0 | I61: 0 | J61: 0 | K61: 0 | L61: 0 | M61: 2 | N61: 0 | O61: 1 | P61: 0 | Q61: 2 | R61: 0 | S61: 1 | T61: 0 | U61: 1
B62: 計 | C62: 21 | D62: 3 | E62: 3 | F62: 1 | G62: 0 | H62: 1 | I62: 0 | J62: 2 | K62: 0 | L62: 2 | M62: 1 | N62: 1 | O62: 0 | P62: 1 | Q62: 1 | R62: 2 | S62: 1 | T62: 1 | U62: 1
A63: 新 竹 市 | B63: 男 | C63: 11 | D63: 2 | E63: 2 | F63: 1 | G63: 0 | H63: 0 | I63: 0 | J63: 2 | K63: 0 | L63: 1 | M63: 1 | N63: 1 | O63: 0 | P63: 0 | Q63: 0 | R63: 0 | S63: 0 | T63: 1 | U63: 0
B64: 女 | C64: 10 | D64: 1 | E64: 1 | F64: 0 | G64: 0 | H64: 1 | I64: 0 | J64: 0 | K64: 0 | L64: 1 | M64: 0 | N64: 0 | O64: 0 | P64: 1 | Q64: 1 | R64: 2 | S64: 1 | T64: 0 | U64: 1
B65: 計 | C65: 14 | D65: 3 | E65: 1 | F65: 1 | G65: 3 | H65: 1 | I65: 3 | J65: 0 | K65: 0 | L65: 0 | M65: 1 | N65: 0 | O65: 1 | P65: 0 | Q65: 0 | R65: 0 | S65: 0 | T65: 0 | U65: 0
A66: 嘉 義 市 | B66: 男 | C66: 6 | D66: 2 | E66: 0 | F66: 1 | G66: 2 | H66: 0 | I66: 0 | J66: 0 | K66: 0 | L66: 0 | M66: 0 | N66: 0 | O66: 1 | P66: 0 | Q66: 0 | R66: 0 | S66: 0 | T66: 0 | U66: 0
B67: 女 | C67: 8 | D67: 1 | E67: 1 | F67: 0 | G67: 1 | H67: 1 | I67: 3 | J67: 0 | K67: 0 | L67: 0 | M67: 1 | N67: 0 | O67: 0 | P67: 0 | Q67: 0 | R67: 0 | S67: 0 | T67: 0 | U67: 0
B68: 計 | C68: 6 | D68: 1 | E68: 0 | F68: 1 | G68: 0 | H68: 0 | I68: 0 | J68: 0 | K68: 1 | L68: 0 | M68: 1 | N68: 0 | O68: 0 | P68: 2 | Q68: 0 | R68: 0 | S68: 0 | T68: 0 | U68: 0
A69: 金 門 縣 | B69: 男 | C69: 3 | D69: 1 | E69: 0 | F69: 1 | G69: 0 | H69: 0 | I69: 0 | J69: 0 | K69: 0 | L69: 0 | M69: 1 | N69: 0 | O69: 0 | P69: 0 | Q69: 0 | R69: 0 | S69: 0 | T69: 0 | U69: 0
