Workbook

Sheet 2016-2025各案類兒少嫌疑犯人數
A1: 2016年至2025年各案類兒少嫌疑犯人數（3.5.2） | AD1: 2016年至2025年各案類兒少嫌疑犯人數 | BH1: 2016年至2025年各案類兒少嫌疑犯人數
C2: 總計 | D2: 竊盜 | I2: 贓物 | J2: 賭博 | K2: 傷害 | N2: 詐欺背信 | Q2: 妨害自由 | R2: 殺人 | U2: 駕駛過失 | V2: 妨害婚姻及家庭 | W2: 妨害風化 | X2: 妨害性自主罪 | AC2: 內亂 | AD2: 恐嚇取財 | AG2: 擄人勒贖 | AH2: 侵占 | AI2: 偽造文書印文 | AJ2: 違反毒品危害防制條例 | AP2: 毀棄損壞 | AQ2: 妨害公務 | AR2: 違反著作權法 | AS2: 違反商標法 | AT2: 妨害電腦使用 | AU2: 強盜搶奪 | AX2: 竊佔 | AY2: 偽造有價證券 | AZ2: 妨害秩序 | BA2: 違反藥事法 | BB2: 違反國家總動員法 | BC2: 違反森林法 | BD2: 公共危險 | BE2: 侵害墳墓屍體 | BF2: 重利 | BG2: 妨害名譽 | BH2: 違反選罷法 | BI2: 妨害祕密 | BJ2: 遺棄 | BK2: 違反貪污治罪條例 | BL2: 懲治走私條例 | BM2: 妨害兵役 | BN2: 偽造貨幣 | BO2: 偽造度量衡 | BP2: 偽證 | BQ2: 誣告 | BR2: 湮滅證據 | BS2: 瀆職 | BT2: 脫逃 | BU2: 藏匿頂替 | BV2: 違反槍砲彈藥刀械管制條例 | BW2: 違反就業服務法 | BX2: 其他
D3: 計 | E3: 重大竊盜 | F3: 普通竊盜 | G3: 汽車竊盜 | K3: 計 | L3: 重傷害 | M3: 一般傷害 | N3: 計 | O3: 詐欺 | P3: 背信 | R3: 計 | S3: 故意殺人 | T3: 過失致死 | X3: 計 | Y3: 強制性交 | Z3: 共同強制性交 | AA3: 對幼性交 | AB3: 性交猥褻 | AD3: 計 | AE3: 重大恐嚇取財 | AF3: 一般恐嚇取財 | AJ3: 計 | AK3: 第一級 | AL3: 第二級 | AM3: 第三級 | AN3: 第四級 | AO3: 其他 | AU3: 計 | AV3: 強盜 | AW3: 搶奪
A4: 總計 | B4: 計 | C4: 106941 | D4: 17510 | E4: 5 | F4: 14825 | G4: 209 | H4: 2471 | I4: 72 | J4: 1630 | K4: 11566 | L4: 17 | M4: 11549 | N4: 19498 | O4: 19414 | P4: 84 | Q4: 4910 | R4: 425 | S4: 411 | T4: 14 | U4: 3355 | V4: 398 | W4: 132 | X4: 8264 | Y4: 267 | Z4: 72 | AA4: 904 | AB4: 7021 | AC4: 0 | AD4: 769 | AE4: 1 | AF4: 768 | AG4: 9 | AH4: 1391 | AI4: 659 | AJ4: 9589 | AK4: 118 | AL4: 5803 | AM4: 3579 | AN4: 32 | AO4: 57 | AP4: 1999 | AQ4: 253 | AR4: 107 | AS4: 155 | AT4: 578 | AU4: 307 | AV4: 212 | AW4: 95 | AX4: 19 | AY4: 11 | AZ4: 5441 | BA4: 62 | BB4: 0 | BC4: 24 | BD4: 4856 | BE4: 4 | BF4: 137 | BG4: 2698 | BH4: 48 | BI4: 324 | BJ4: 24 | BK4: 0 | BL4: 1 | BM4: 0 | BN4: 28 | BO4: 0 | BP4: 3 | BQ4: 97 | BR4: 4 | BS4: 0 | BT4: 9 | BU4: 12 | BV4: 379 | BW4: 3 | BX4: 9181
B5: 男 | C5: 89983 | D5: 14704 | E5: 2 | F5: 12202 | G5: 188 | H5: 2312 | I5: 64 | J5: 1510 | K5: 10265 | L5: 16 | M5: 10249 | N5: 15747 | O5: 15683 | P5: 64 | Q5: 4238 | R5: 402 | S5: 389 | T5: 13 | U5: 2697 | V5: 338 | W5: 113 | X5: 7632 | Y5: 257 | Z5: 67 | AA5: 847 | AB5: 6461 | AC5: 0 | AD5: 686 | AE5: 1 | AF5: 685 | AG5: 9 | AH5: 1077 | AI5: 467 | AJ5: 7833 | AK5: 83 | AL5: 4480 | AM5: 3188 | AN5: 30 | AO5: 52 | AP5: 1838 | AQ5: 238 | AR5: 69 | AS5: 60 | AT5: 494 | AU5: 279 | AV5: 189 | AW5: 90 | AX5: 14 | AY5: 10 | AZ5: 4921 | BA5: 33 | BB5: 0 | BC5: 22 | BD5: 4145 | BE5: 4 | BF5: 120 | BG5: 1836 | BH5: 45 | BI5: 285 | BJ5: 14 | BK5: 0 | BL5: 1 | BM5: 0 | BN5: 22 | BO5: 0 | BP5: 2 | BQ5: 64 | BR5: 1 | BS5: 0 | BT5: 7 | BU5: 10 | BV5: 362 | BW5: 2 | BX5: 7303
B6: 女 | C6: 16958 | D6: 2806 | E6: 3 | F6: 2623 | G6: 21 | H6: 159 | I6: 8 | J6: 120 | K6: 1301 | L6: 1 | M6: 1300 | N6: 3751 | O6: 3731 | P6: 20 | Q6: 672 | R6: 23 | S6: 22 | T6: 1 | U6: 658 | V6: 60 | W6: 19 | X6: 632 | Y6: 10 | Z6: 5 | AA6: 57 | AB6: 560 | AC6: 0 | AD6: 83 | AE6: 0 | AF6: 83 | AG6: 0 | AH6: 314 | AI6: 192 | AJ6: 1756 | AK6: 35 | AL6: 1323 | AM6: 391 | AN6: 2 | AO6: 5 | AP6: 161 | AQ6: 15 | AR6: 38 | AS6: 95 | AT6: 84 | AU6: 28 | AV6: 23 | AW6: 5 | AX6: 5 | AY6: 1 | AZ6: 520 | BA6: 29 | BB6: 0 | BC6: 2 | BD6: 711 | BE6: 0 | BF6: 17 | BG6: 862 | BH6: 3 | BI6: 39 | BJ6: 10 | BK6: 0 | BL6: 0 | BM6: 0 | BN6: 6 | BO6: 0 | BP6: 1 | BQ6: 33 | BR6: 3 | BS6: 0 | BT6: 2 | BU6: 2 | BV6: 17 | BW6: 1 | BX6: 1878
A7: 新北市 | B7: 計 | C7: 14871 | D7: 2089 | E7: 1 | F7: 1721 | G7: 16 | H7: 351 | I7: 8 | J7: 129 | K7: 1576 | L7: 2 | M7: 1574 | N7: 2805 | O7: 2782 | P7: 23 | Q7: 812 | R7: 50 | S7: 50 | T7: 0 | U7: 313 | V7: 76 | W7: 17 | X7: 912 | Y7: 30 | Z7: 12 | AA7: 48 | AB7: 822 | AC7: 0 | AD7: 68 | AE7: 0 | AF7: 68 | AG7: 4 | AH7: 220 | AI7: 88 | AJ7: 2622 | AK7: 26 | AL7: 1613 | AM7: 972 | AN7: 2 | AO7: 9 | AP7: 255 | AQ7: 72 | AR7: 5 | AS7: 1 | AT7: 77 | AU7: 29 | AV7: 20 | AW7: 9 | AX7: 4 | AY7: 7 | AZ7: 939 | BA7: 7 | BB7: 0 | BC7: 0 | BD7: 422 | BE7: 4 | BF7: 7 | BG7: 377 | BH7: 2 | BI7: 44 | BJ7: 3 | BK7: 0 | BL7: 0 | BM7: 0 | BN7: 1 | BO7: 0 | BP7: 0 | BQ7: 12 | BR7: 0 | BS7: 0 | BT7: 1 | BU7: 3 | BV7: 48 | BW7: 0 | BX7: 762
B8: 男 | C8: 12422 | D8: 1713 | E8: 1 | F8: 1362 | G8: 15 | H8: 335 | I8: 7 | J8: 122 | K8: 1379 | L8: 2 | M8: 1377 | N8: 2250 | O8: 2234 | P8: 16 | Q8: 673 | R8: 49 | S8: 49 | T8: 0 | U8: 269 | V8: 64 | W8: 17 | X8: 857 | Y8: 29 | Z8: 12 | AA8: 44 | AB8: 772 | AC8: 0 | AD8: 61 | AE8: 0 | AF8: 61 | AG8: 4 | AH8: 176 | AI8: 63 | AJ8: 2110 | AK8: 15 | AL8: 1241 | AM8: 844 | AN8: 2 | AO8: 8 | AP8: 233 | AQ8: 68 | AR8: 3 | AS8: 0 | AT8: 68 | AU8: 26 | AV8: 18 | AW8: 8 | AX8: 2 | AY8: 7 | AZ8: 835 | BA8: 6 | BB8: 0 | BC8: 0 | BD8: 385 | BE8: 4 | BF8: 6 | BG8: 257 | BH8: 2 | BI8: 41 | BJ8: 2 | BK8: 0 | BL8: 0 | BM8: 0 | BN8: 1 | BO8: 0 | BP8: 0 | BQ8: 8 | BR8: 0 | BS8: 0 | BT8: 0 | BU8: 3 | BV8: 45 | BW8: 0 | BX8: 606
B9: 女 | C9: 2449 | D9: 376 | E9: 0 | F9: 359 | G9: 1 | H9: 16 | I9: 1 | J9: 7 | K9: 197 | L9: 0 | M9: 197 | N9: 555 | O9: 548 | P9: 7 | Q9: 139 | R9: 1 | S9: 1 | T9: 0 | U9: 44 | V9: 12 | W9: 0 | X9: 55 | Y9: 1 | Z9: 0 | AA9: 4 | AB9: 50 | AC9: 0 | AD9: 7 | AE9: 0 | AF9: 7 | AG9: 0 | AH9: 44 | AI9: 25 | AJ9: 512 | AK9: 11 | AL9: 372 | AM9: 128 | AN9: 0 | AO9: 1 | AP9: 22 | AQ9: 4 | AR9: 2 | AS9: 1 | AT9: 9 | AU9: 3 | AV9: 2 | AW9: 1 | AX9: 2 | AY9: 0 | AZ9: 104 | BA9: 1 | BB9: 0 | BC9: 0 | BD9: 37 | BE9: 0 | BF9: 1 | BG9: 120 | BH9: 0 | BI9: 3 | BJ9: 1 | BK9: 0 | BL9: 0 | BM9: 0 | BN9: 0 | BO9: 0 | BP9: 0 | BQ9: 4 | BR9: 0 | BS9: 0 | BT9: 1 | BU9: 0 | BV9: 3 | BW9: 0 | BX9: 156
A10: 臺北市 | B10: 計 | C10: 12525 | D10: 1483 | E10: 0 | F10: 1291 | G10: 6 | H10: 186 | I10: 11 | J10: 220 | K10: 1406 | L10: 1 | M10: 1405 | N10: 3208 | O10: 3184 | P10: 24 | Q10: 523 | R10: 78 | S10: 77 | T10: 1 | U10: 274 | V10: 48 | W10: 12 | X10: 613 | Y10: 16 | Z10: 6 | AA10: 68 | AB10: 523 | AC10: 0 | AD10: 92 | AE10: 0 | AF10: 92 | AG10: 1 | AH10: 293 | AI10: 126 | AJ10: 948 | AK10: 10 | AL10: 625 | AM10: 307 | AN10: 1 | AO10: 5 | AP10: 224 | AQ10: 29 | AR10: 33 | AS10: 18 | AT10: 122 | AU10: 44 | AV10: 30 | AW10: 14 | AX10: 4 | AY10: 0 | AZ10: 405 | BA10: 3 | BB10: 0 | BC10: 0 | BD10: 260 | BE10: 0 | BF10: 10 | BG10: 593 | BH10: 1 | BI10: 60 | BJ10: 5 | BK10: 0 | BL10: 0 | BM10: 0 | BN10: 1 | BO10: 0 | BP10: 0 | BQ10: 12 | BR10: 1 | BS10: 0 | BT10: 1 | BU10: 0 | BV10: 49 | BW10: 0 | BX10: 1314
B11: 男 | C11: 10536 | D11: 1185 | E11: 0 | F11: 1003 | G11: 5 | H11: 177 | I11: 11 | J11: 197 | K11: 1199 | L11: 1 | M11: 1198 | N11: 2722 | O11: 2701 | P11: 21 | Q11: 467 | R11: 72 | S11: 71 | T11: 1 | U11: 240 | V11: 39 | W11: 10 | X11: 569 | Y11: 16 | Z11: 6 | AA11: 63 | AB11: 484 | AC11: 0 | AD11: 84 | AE11: 0 | AF11: 84 | AG11: 1 | AH11: 230 | AI11: 90 | AJ11: 769 | AK11: 7 | AL11: 480 | AM11: 276 | AN11: 1 | AO11: 5 | AP11: 201 | AQ11: 28 | AR11: 29 | AS11: 10 | AT11: 103 | AU11: 40 | AV11: 27 | AW11: 13 | AX11: 2 | AY11: 0 | AZ11: 355 | BA11: 2 | BB11: 0 | BC11: 0 | BD11: 225 | BE11: 0 | BF11: 9 | BG11: 431 | BH11: 1 | BI11: 53 | BJ11: 4 | BK11: 0 | BL11: 0 | BM11: 0 | BN11: 1 | BO11: 0 | BP11: 0 | BQ11: 8 | BR11: 0 | BS11: 0 | BT11: 1 | BU11: 0 | BV11: 45 | BW11: 0 | BX11: 1103
B12: 女 | C12: 1989 | D12: 298 | E12: 0 | F12: 288 | G12: 1 | H12: 9 | I12: 0 | J12: 23 | K12: 207 | L12: 0 | M12: 207 | N12: 486 | O12: 483 | P12: 3 | Q12: 56 | R12: 6 | S12: 6 | T12: 0 | U12: 34 | V12: 9 | W12: 2 | X12: 44 | Y12: 0 | Z12: 0 | AA12: 5 | AB12: 39 | AC12: 0 | AD12: 8 | AE12: 0 | AF12: 8 | AG12: 0 | AH12: 63 | AI12: 36 | AJ12: 179 | AK12: 3 | AL12: 145 | AM12: 31 | AN12: 0 | AO12: 0 | AP12: 23 | AQ12: 1 | AR12: 4 | AS12: 8 | AT12: 19 | AU12: 4 | AV12: 3 | AW12: 1 | AX12: 2 | AY12: 0 | AZ12: 50 | BA12: 1 | BB12: 0 | BC12: 0 | BD12: 35 | BE12: 0 | BF12: 1 | BG12: 162 | BH12: 0 | BI12: 7 | BJ12: 1 | BK12: 0 | BL12: 0 | BM12: 0 | BN12: 0 | BO12: 0 | BP12: 0 | BQ12: 4 | BR12: 1 | BS12: 0 | BT12: 0 | BU12: 0 | BV12: 4 | BW12: 0 | BX12: 211
A13: 桃園市 | B13: 計 | C13: 7551 | D13: 1425 | E13: 0 | F13: 1141 | G13: 26 | H13: 258 | I13: 11 | J13: 193 | K13: 501 | L13: 5 | M13: 496 | N13: 1059 | O13: 1058 | P13: 1 | Q13: 284 | R13: 40 | S13: 40 | T13: 0 | U13: 162 | V13: 23 | W13: 7 | X13: 856 | Y13: 9 | Z13: 2 | AA13: 17 | AB13: 828 | AC13: 0 | AD13: 49 | AE13: 0 | AF13: 49 | AG13: 0 | AH13: 104 | AI13: 40 | AJ13: 1228 | AK13: 23 | AL13: 816 | AM13: 379 | AN13: 5 | AO13: 5 | AP13: 106 | AQ13: 13 | AR13: 4 | AS13: 0 | AT13: 32 | AU13: 19 | AV13: 12 | AW13: 7 | AX13: 0 | AY13: 0 | AZ13: 106 | BA13: 1 | BB13: 0 | BC13: 2 | BD13: 416 | BE13: 0 | BF13: 4 | BG13: 147 | BH13: 0 | BI13: 13 | BJ13: 1 | BK13: 0 | BL13: 0 | BM13: 0 | BN13: 2 | BO13: 0 | BP13: 0 | BQ13: 4 | BR13: 0 | BS13: 0 | BT13: 0 | BU13: 0 | BV13: 35 | BW13: 0 | BX13: 664
B14: 男 | C14: 6272 | D14: 1147 | E14: 0 | F14: 896 | G14: 22 | H14: 229 | I14: 9 | J14: 165 | K14: 454 | L14: 5 | M14: 449 | N14: 849 | O14: 848 | P14: 1 | Q14: 251 | R14: 38 | S14: 38 | T14: 0 | U14: 140 | V14: 18 | W14: 6 | X14: 796 | Y14: 9 | Z14: 2 | AA14: 16 | AB14: 769 | AC14: 0 | AD14: 45 | AE14: 0 | AF14: 45 | AG14: 0 | AH14: 84 | AI14: 34 | AJ14: 979 | AK14: 18 | AL14: 611 | AM14: 340 | AN14: 5 | AO14: 5 | AP14: 96 | AQ14: 12 | AR14: 3 | AS14: 0 | AT14: 26 | AU14: 18 | AV14: 11 | AW14: 7 | AX14: 0 | AY14: 0 | AZ14: 94 | BA14: 0 | BB14: 0 | BC14: 2 | BD14: 363 | BE14: 0 | BF14: 4 | BG14: 92 | BH14: 0 | BI14: 11 | BJ14: 0 | BK14: 0 | BL14: 0 | BM14: 0 | BN14: 1 | BO14: 0 | BP14: 0 | BQ14: 2 | BR14: 0 | BS14: 0 | BT14: 0 | BU14: 0 | BV14: 32 | BW14: 0 | BX14: 501
B15: 女 | C15: 1279 | D15: 278 | E15: 0 | F15: 245 | G15: 4 | H15: 29 | I15: 2 | J15: 28 | K15: 47 | L15: 0 | M15: 47 | N15: 210 | O15: 210 | P15: 0 | Q15: 33 | R15: 2 | S15: 2 | T15: 0 | U15: 22 | V15: 5 | W15: 1 | X15: 60 | Y15: 0 | Z15: 0 | AA15: 1 | AB15: 59 | AC15: 0 | AD15: 4 | AE15: 0 | AF15: 4 | AG15: 0 | AH15: 20 | AI15: 6 | AJ15: 249 | AK15: 5 | AL15: 205 | AM15: 39 | AN15: 0 | AO15: 0 | AP15: 10 | AQ15: 1 | AR15: 1 | AS15: 0 | AT15: 6 | AU15: 1 | AV15: 1 | AW15: 0 | AX15: 0 | AY15: 0 | AZ15: 12 | BA15: 1 | BB15: 0 | BC15: 0 | BD15: 53 | BE15: 0 | BF15: 0 | BG15: 55 | BH15: 0 | BI15: 2 | BJ15: 1 | BK15: 0 | BL15: 0 | BM15: 0 | BN15: 1 | BO15: 0 | BP15: 0 | BQ15: 2 | BR15: 0 | BS15: 0 | BT15: 0 | BU15: 0 | BV15: 3 | BW15: 0 | BX15: 163
A16: 臺中市 | B16: 計 | C16: 12173 | D16: 1964 | E16: 0 | F16: 1633 | G16: 22 | H16: 309 | I16: 5 | J16: 472 | K16: 981 | L16: 1 | M16: 980 | N16: 2890 | O16: 2871 | P16: 19 | Q16: 579 | R16: 34 | S16: 32 | T16: 2 | U16: 123 | V16: 26 | W16: 18 | X16: 1012 | Y16: 7 | Z16: 1 | AA16: 61 | AB16: 943 | AC16: 0 | AD16: 96 | AE16: 0 | AF16: 96 | AG16: 0 | AH16: 144 | AI16: 57 | AJ16: 1003 | AK16: 11 | AL16: 679 | AM16: 311 | AN16: 1 | AO16: 1 | AP16: 169 | AQ16: 22 | AR16: 3 | AS16: 4 | AT16: 74 | AU16: 27 | AV16: 23 | AW16: 4 | AX16: 0 | AY16: 0 | AZ16: 652 | BA16: 2 | BB16: 0 | BC16: 1 | BD16: 358 | BE16: 0 | BF16: 7 | BG16: 287 | BH16: 4 | BI16: 28 | BJ16: 3 | BK16: 0 | BL16: 0 | BM16: 0 | BN16: 4 | BO16: 0 | BP16: 0 | BQ16: 10 | BR16: 0 | BS16: 0 | BT16: 0 | BU16: 0 | BV16: 22 | BW16: 0 | BX16: 1092
B17: 男 | C17: 10373 | D17: 1662 | E17: 0 | F17: 1349 | G17: 21 | H17: 292 | I17: 5 | J17: 450 | K17: 888 | L17: 1 | M17: 887 | N17: 2434 | O17: 2419 | P17: 15 | Q17: 503 | R17: 30 | S17: 28 | T17: 2 | U17: 101 | V17: 22 | W17: 13 | X17: 958 | Y17: 7 | Z17: 1 | AA17: 60 | AB17: 890 | AC17: 0 | AD17: 86 | AE17: 0 | AF17: 86 | AG17: 0 | AH17: 111 | AI17: 37 | AJ17: 810 | AK17: 9 | AL17: 520 | AM17: 279 | AN17: 1 | AO17: 1 | AP17: 153 | AQ17: 20 | AR17: 1 | AS17: 1 | AT17: 66 | AU17: 26 | AV17: 22 | AW17: 4 | AX17: 0 | AY17: 0 | AZ17: 601 | BA17: 2 | BB17: 0 | BC17: 1 | BD17: 312 | BE17: 0 | BF17: 7 | BG17: 188 | BH17: 4 | BI17: 21 | BJ17: 3 | BK17: 0 | BL17: 0 | BM17: 0 | BN17: 3 | BO17: 0 | BP17: 0 | BQ17: 6 | BR17: 0 | BS17: 0 | BT17: 0 | BU17: 0 | BV17: 21 | BW17: 0 | BX17: 827
B18: 女 | C18: 1800 | D18: 302 | E18: 0 | F18: 284 | G18: 1 | H18: 17 | I18: 0 | J18: 22 | K18: 93 | L18: 0 | M18: 93 | N18: 456 | O18: 452 | P18: 4 | Q18: 76 | R18: 4 | S18: 4 | T18: 0 | U18: 22 | V18: 4 | W18: 5 | X18: 54 | Y18: 0 | Z18: 0 | AA18: 1 | AB18: 53 | AC18: 0 | AD18: 10 | AE18: 0 | AF18: 10 | AG18: 0 | AH18: 33 | AI18: 20 | AJ18: 193 | AK18: 2 | AL18: 159 | AM18: 32 | AN18: 0 | AO18: 0 | AP18: 16 | AQ18: 2 | AR18: 2 | AS18: 3 | AT18: 8 | AU18: 1 | AV18: 1 | AW18: 0 | AX18: 0 | AY18: 0 | AZ18: 51 | BA18: 0 | BB18: 0 | BC18: 0 | BD18: 46 | BE18: 0 | BF18: 0 | BG18: 99 | BH18: 0 | BI18: 7 | BJ18: 0 | BK18: 0 | BL18: 0 | BM18: 0 | BN18: 1 | BO18: 0 | BP18: 0 | BQ18: 4 | BR18: 0 | BS18: 0 | BT18: 0 | BU18: 0 | BV18: 1 | BW18: 0 | BX18: 265
A19: 臺南市 | B19: 計 | C19: 8034 | D19: 1355 | E19: 0 | F19: 1224 | G19: 12 | H19: 119 | I19: 3 | J19: 80 | K19: 901 | L19: 0 | M19: 901 | N19: 1691 | O19: 1691 | P19: 0 | Q19: 409 | R19: 31 | S19: 31 | T19: 0 | U19: 521 | V19: 30 | W19: 19 | X19: 542 | Y19: 10 | Z19: 6 | AA19: 161 | AB19: 365 | AC19: 0 | AD19: 61 | AE19: 0 | AF19: 61 | AG19: 2 | AH19: 78 | AI19: 27 | AJ19: 331 | AK19: 4 | AL19: 158 | AM19: 164 | AN19: 4 | AO19: 1 | AP19: 191 | AQ19: 8 | AR19: 2 | AS19: 8 | AT19: 60 | AU19: 40 | AV19: 33 | AW19: 7 | AX19: 1 | AY19: 0 | AZ19: 320 | BA19: 2 | BB19: 0 | BC19: 0 | BD19: 380 | BE19: 0 | BF19: 9 | BG19: 218 | BH19: 4 | BI19: 28 | BJ19: 2 | BK19: 0 | BL19: 0 | BM19: 0 | BN19: 3 | BO19: 0 | BP19: 1 | BQ19: 16 | BR19: 0 | BS19: 0 | BT19: 0 | BU19: 1 | BV19: 25 | BW19: 3 | BX19: 631
B20: 男 | C20: 6700 | D20: 1103 | E20: 0 | F20: 988 | G20: 12 | H20: 103 | I20: 3 | J20: 72 | K20: 809 | L20: 0 | M20: 809 | N20: 1358 | O20: 1358 | P20: 0 | Q20: 338 | R20: 30 | S20: 30 | T20: 0 | U20: 384 | V20: 25 | W20: 17 | X20: 500 | Y20: 10 | Z20: 6 | AA20: 155 | AB20: 329 | AC20: 0 | AD20: 58 | AE20: 0 | AF20: 58 | AG20: 2 | AH20: 56 | AI20: 18 | AJ20: 301 | AK20: 3 | AL20: 138 | AM20: 155 | AN20: 4 | AO20: 1 | AP20: 177 | AQ20: 7 | AR20: 1 | AS20: 2 | AT20: 49 | AU20: 36 | AV20: 30 | AW20: 6 | AX20: 1 | AY20: 0 | AZ20: 295 | BA20: 1 | BB20: 0 | BC20: 0 | BD20: 318 | BE20: 0 | BF20: 7 | BG20: 140 | BH20: 3 | BI20: 23 | BJ20: 2 | BK20: 0 | BL20: 0 | BM20: 0 | BN20: 3 | BO20: 0 | BP20: 0 | BQ20: 11 | BR20: 0 | BS20: 0 | BT20: 0 | BU20: 1 | BV20: 25 | BW20: 2 | BX20: 522
B21: 女 | C21: 1334 | D21: 252 | E21: 0 | F21: 236 | G21: 0 | H21: 16 | I21: 0 | J21: 8 | K21: 92 | L21: 0 | M21: 92 | N21: 333 | O21: 333 | P21: 0 | Q21: 71 | R21: 1 | S21: 1 | T21: 0 | U21: 137 | V21: 5 | W21: 2 | X21: 42 | Y21: 0 | Z21: 0 | AA21: 6 | AB21: 36 | AC21: 0 | AD21: 3 | AE21: 0 | AF21: 3 | AG21: 0 | AH21: 22 | AI21: 9 | AJ21: 30 | AK21: 1 | AL21: 20 | AM21: 9 | AN21: 0 | AO21: 0 | AP21: 14 | AQ21: 1 | AR21: 1 | AS21: 6 | AT21: 11 | AU21: 4 | AV21: 3 | AW21: 1 | AX21: 0 | AY21: 0 | AZ21: 25 | BA21: 1 | BB21: 0 | BC21: 0 | BD21: 62 | BE21: 0 | BF21: 2 | BG21: 78 | BH21: 1 | BI21: 5 | BJ21: 0 | BK21: 0 | BL21: 0 | BM21: 0 | BN21: 0 | BO21: 0 | BP21: 1 | BQ21: 5 | BR21: 0 | BS21: 0 | BT21: 0 | BU21: 0 | BV21: 0 | BW21: 1 | BX21: 109
A22: 高雄市 | B22: 計 | C22: 11535 | D22: 2142 | E22: 2 | F22: 1913 | G22: 13 | H22: 214 | I22: 6 | J22: 127 | K22: 1227 | L22: 0 | M22: 1227 | N22: 2034 | O22: 2033 | P22: 1 | Q22: 418 | R22: 26 | S22: 25 | T22: 1 | U22: 581 | V22: 41 | W22: 9 | X22: 717 | Y22: 9 | Z22: 0 | AA22: 222 | AB22: 486 | AC22: 0 | AD22: 64 | AE22: 0 | AF22: 64 | AG22: 0 | AH22: 154 | AI22: 79 | AJ22: 820 | AK22: 10 | AL22: 491 | AM22: 315 | AN22: 1 | AO22: 3 | AP22: 264 | AQ22: 36 | AR22: 7 | AS22: 6 | AT22: 38 | AU22: 20 | AV22: 6 | AW22: 14 | AX22: 3 | AY22: 0 | AZ22: 453 | BA22: 1 | BB22: 0 | BC22: 0 | BD22: 734 | BE22: 0 | BF22: 32 | BG22: 289 | BH22: 7 | BI22: 28 | BJ22: 2 | BK22: 0 | BL22: 0 | BM22: 0 | BN22: 3 | BO22: 0 | BP22: 0 | BQ22: 8 | BR22: 1 | BS22: 0 | BT22: 0 | BU22: 2 | BV22: 26 | BW22: 0 | BX22: 1130
B23: 男 | C23: 9614 | D23: 1822 | E23: 0 | F23: 1614 | G23: 13 | H23: 195 | I23: 5 | J23: 111 | K23: 1081 | L23: 0 | M23: 1081 | N23: 1621 | O23: 1620 | P23: 1 | Q23: 361 | R23: 26 | S23: 25 | T23: 1 | U23: 450 | V23: 34 | W23: 9 | X23: 660 | Y23: 9 | Z23: 0 | AA23: 208 | AB23: 443 | AC23: 0 | AD23: 56 | AE23: 0 | AF23: 56 | AG23: 0 | AH23: 115 | AI23: 54 | AJ23: 634 | AK23: 2 | AL23: 361 | AM23: 267 | AN23: 1 | AO23: 3 | AP23: 240 | AQ23: 32 | AR23: 4 | AS23: 2 | AT23: 33 | AU23: 19 | AV23: 6 | AW23: 13 | AX23: 3 | AY23: 0 | AZ23: 411 | BA23: 0 | BB23: 0 | BC23: 0 | BD23: 634 | BE23: 0 | BF23: 26 | BG23: 205 | BH23: 7 | BI23: 28 | BJ23: 1 | BK23: 0 | BL23: 0 | BM23: 0 | BN23: 2 | BO23: 0 | BP23: 0 | BQ23: 7 | BR23: 1 | BS23: 0 | BT23: 0 | BU23: 2 | BV23: 26 | BW23: 0 | BX23: 892
B24: 女 | C24: 1921 | D24: 320 | E24: 2 | F24: 299 | G24: 0 | H24: 19 | I24: 1 | J24: 16 | K24: 146 | L24: 0 | M24: 146 | N24: 413 | O24: 413 | P24: 0 | Q24: 57 | R24: 0 | S24: 0 | T24: 0 | U24: 131 | V24: 7 | W24: 0 | X24: 57 | Y24: 0 | Z24: 0 | AA24: 14 | AB24: 43 | AC24: 0 | AD24: 8 | AE24: 0 | AF24: 8 | AG24: 0 | AH24: 39 | AI24: 25 | AJ24: 186 | AK24: 8 | AL24: 130 | AM24: 48 | AN24: 0 | AO24: 0 | AP24: 24 | AQ24: 4 | AR24: 3 | AS24: 4 | AT24: 5 | AU24: 1 | AV24: 0 | AW24: 1 | AX24: 0 | AY24: 0 | AZ24: 42 | BA24: 1 | BB24: 0 | BC24: 0 | BD24: 100 | BE24: 0 | BF24: 6 | BG24: 84 | BH24: 0 | BI24: 0 | BJ24: 1 | BK24: 0 | BL24: 0 | BM24: 0 | BN24: 1 | BO24: 0 | BP24: 0 | BQ24: 1 | BR24: 0 | BS24: 0 | BT24: 0 | BU24: 0 | BV24: 0 | BW24: 0 | BX24: 238
A25: 宜蘭縣 | B25: 計 | C25: 3442 | D25: 542 | E25: 0 | F25: 460 | G25: 20 | H25: 62 | I25: 0 | J25: 6 | K25: 539 | L25: 1 | M25: 538 | N25: 446 | O25: 446 | P25: 0 | Q25: 211 | R25: 4 | S25: 3 | T25: 1 | U25: 176 | V25: 20 | W25: 3 | X25: 288 | Y25: 11 | Z25: 9 | AA25: 1 | AB25: 267 | AC25: 0 | AD25: 56 | AE25: 0 | AF25: 56 | AG25: 0 | AH25: 27 | AI25: 22 | AJ25: 214 | AK25: 3 | AL25: 63 | AM25: 148 | AN25: 0 | AO25: 0 | AP25: 69 | AQ25: 6 | AR25: 1 | AS25: 0 | AT25: 9 | AU25: 7 | AV25: 1 | AW25: 6 | AX25: 1 | AY25: 1 | AZ25: 239 | BA25: 0 | BB25: 0 | BC25: 3 | BD25: 255 | BE25: 0 | BF25: 6 | BG25: 49 | BH25: 3 | BI25: 2 | BJ25: 4 | BK25: 0 | BL25: 0 | BM25: 0 | BN25: 0 | BO25: 0 | BP25: 0 | BQ25: 5 | BR25: 1 | BS25: 0 | BT25: 4 | BU25: 0 | BV25: 10 | BW25: 0 | BX25: 213
B26: 男 | C26: 2905 | D26: 466 | E26: 0 | F26: 388 | G26: 17 | H26: 61 | I26: 0 | J26: 6 | K26: 470 | L26: 0 | M26: 470 | N26: 349 | O26: 349 | P26: 0 | Q26: 181 | R26: 4 | S26: 3 | T26: 1 | U26: 134 | V26: 16 | W26: 3 | X26: 252 | Y26: 11 | Z26: 7 | AA26: 1 | AB26: 233 | AC26: 0 | AD26: 49 | AE26: 0 | AF26: 49 | AG26: 0 | AH26: 24 | AI26: 16 | AJ26: 193 | AK26: 1 | AL26: 56 | AM26: 136 | AN26: 0 | AO26: 0 | AP26: 65 | AQ26: 6 | AR26: 0 | AS26: 0 | AT26: 5 | AU26: 7 | AV26: 1 | AW26: 6 | AX26: 1 | AY26: 0 | AZ26: 226 | BA26: 0 | BB26: 0 | BC26: 3 | BD26: 207 | BE26: 0 | BF26: 6 | BG26: 33 | BH26: 3 | BI26: 2 | BJ26: 2 | BK26: 0 | BL26: 0 | BM26: 0 | BN26: 0 | BO26: 0 | BP26: 0 | BQ26: 3 | BR26: 0 | BS26: 0 | BT26: 4 | BU26: 0 | BV26: 10 | BW26: 0 | BX26: 159
B27: 女 | C27: 537 | D27: 76 | E27: 0 | F27: 72 | G27: 3 | H27: 1 | I27: 0 | J27: 0 | K27: 69 | L27: 1 | M27: 68 | N27: 97 | O27: 97 | P27: 0 | Q27: 30 | R27: 0 | S27: 0 | T27: 0 | U27: 42 | V27: 4 | W27: 0 | X27: 36 | Y27: 0 | Z27: 2 | AA27: 0 | AB27: 34 | AC27: 0 | AD27: 7 | AE27: 0 | AF27: 7 | AG27: 0 | AH27: 3 | AI27: 6 | AJ27: 21 | AK27: 2 | AL27: 7 | AM27: 12 | AN27: 0 | AO27: 0 | AP27: 4 | AQ27: 0 | AR27: 1 | AS27: 0 | AT27: 4 | AU27: 0 | AV27: 0 | AW27: 0 | AX27: 0 | AY27: 1 | AZ27: 13 | BA27: 0 | BB27: 0 | BC27: 0 | BD27: 48 | BE27: 0 | BF27: 0 | BG27: 16 | BH27: 0 | BI27: 0 | BJ27: 2 | BK27: 0 | BL27: 0 | BM27: 0 | BN27: 0 | BO27: 0 | BP27: 0 | BQ27: 2 | BR27: 1 | BS27: 0 | BT27: 0 | BU27: 0 | BV27: 0 | BW27: 0 | BX27: 54
A28: 新竹縣 | B28: 計 | C28: 2859 | D28: 522 | E28: 0 | F28: 402 | G28: 11 | H28: 109 | I28: 3 | J28: 3 | K28: 345 | L28: 1 | M28: 344 | N28: 356 | O28: 355 | P28: 1 | Q28: 145 | R28: 15 | S28: 15 | T28: 0 | U28: 109 | V28: 16 | W28: 4 | X28: 368 | Y28: 8 | Z28: 0 | AA28: 63 | AB28: 297 | AC28: 0 | AD28: 49 | AE28: 0 | AF28: 49 | AG28: 0 | AH28: 33 | AI28: 12 | AJ28: 137 | AK28: 2 | AL28: 67 | AM28: 63 | AN28: 2 | AO28: 3 | AP28: 65 | AQ28: 5 | AR28: 0 | AS28: 2 | AT28: 7 | AU28: 18 | AV28: 13 | AW28: 5 | AX28: 1 | AY28: 0 | AZ28: 72 | BA28: 0 | BB28: 0 | BC28: 0 | BD28: 226 | BE28: 0 | BF28: 1 | BG28: 40 | BH28: 0 | BI28: 3 | BJ28: 1 | BK28: 0 | BL28: 0 | BM28: 0 | BN28: 2 | BO28: 0 | BP28: 0 | BQ28: 1 | BR28: 0 | BS28: 0 | BT28: 0 | BU28: 2 | BV28: 15 | BW28: 0 | BX28: 281
B29: 男 | C29: 2446 | D29: 453 | E29: 0 | F29: 339 | G29: 11 | H29: 103 | I29: 3 | J29: 3 | K29: 304 | L29: 1 | M29: 303 | N29: 278 | O29: 277 | P29: 1 | Q29: 132 | R29: 15 | S29: 15 | T29: 0 | U29: 90 | V29: 13 | W29: 4 | X29: 336 | Y29: 8 | Z29: 0 | AA29: 55 | AB29: 273 | AC29: 0 | AD29: 47 | AE29: 0 | AF29: 47 | AG29: 0 | AH29: 28 | AI29: 12 | AJ29: 116 | AK29: 2 | AL29: 54 | AM29: 55 | AN29: 2 | AO29: 3 | AP29: 62 | AQ29: 5 | AR29: 0 | AS29: 0 | AT29: 6 | AU29: 16 | AV29: 11 | AW29: 5 | AX29: 1 | AY29: 0 | AZ29: 66 | BA29: 0 | BB29: 0 | BC29: 0 | BD29: 190 | BE29: 0 | BF29: 1 | BG29: 31 | BH29: 0 | BI29: 3 | BJ29: 0 | BK29: 0 | BL29: 0 | BM29: 0 | BN29: 2 | BO29: 0 | BP29: 0 | BQ29: 1 | BR29: 0 | BS29: 0 | BT29: 0 | BU29: 2 | BV29: 15 | BW29: 0 | BX29: 211
B30: 女 | C30: 413 | D30: 69 | E30: 0 | F30: 63 | G30: 0 | H30: 6 | I30: 0 | J30: 0 | K30: 41 | L30: 0 | M30: 41 | N30: 78 | O30: 78 | P30: 0 | Q30: 13 | R30: 0 | S30: 0 | T30: 0 | U30: 19 | V30: 3 | W30: 0 | X30: 32 | Y30: 0 | Z30: 0 | AA30: 8 | AB30: 24 | AC30: 0 | AD30: 2 | AE30: 0 | AF30: 2 | AG30: 0 | AH30: 5 | AI30: 0 | AJ30: 21 | AK30: 0 | AL30: 13 | AM30: 8 | AN30: 0 | AO30: 0 | AP30: 3 | AQ30: 0 | AR30: 0 | AS30: 2 | AT30: 1 | AU30: 2 | AV30: 2 | AW30: 0 | AX30: 0 | AY30: 0 | AZ30: 6 | BA30: 0 | BB30: 0 | BC30: 0 | BD30: 36 | BE30: 0 | BF30: 0 | BG30: 9 | BH30: 0 | BI30: 0 | BJ30: 1 | BK30: 0 | BL30: 0 | BM30: 0 | BN30: 0 | BO30: 0 | BP30: 0 | BQ30: 0 | BR30: 0 | BS30: 0 | BT30: 0 | BU30: 0 | BV30: 0 | BW30: 0 | BX30: 70
A31: 苗栗縣 | B31: 計 | C31: 2374 | D31: 621 | E31: 1 | F31: 557 | G31: 4 | H31: 59 | I31: 2 | J31: 23 | K31: 242 | L31: 4 | M31: 238 | N31: 294 | O31: 291 | P31: 3 | Q31: 102 | R31: 1 | S31: 1 | T31: 0 | U31: 81 | V31: 3 | W31: 0 | X31: 213 | Y31: 14 | Z31: 0 | AA31: 45 | AB31: 154 | AC31: 0 | AD31: 22 | AE31: 1 | AF31: 21 | AG31: 0 | AH31: 16 | AI31: 10 | AJ31: 181 | AK31: 2 | AL31: 98 | AM31: 75 | AN31: 0 | AO31: 6 | AP31: 54 | AQ31: 3 | AR31: 1 | AS31: 0 | AT31: 4 | AU31: 10 | AV31: 7 | AW31: 3 | AX31: 0 | AY31: 0 | AZ31: 105 | BA31: 0 | BB31: 0 | BC31: 0 | BD31: 191 | BE31: 0 | BF31: 8 | BG31: 29 | BH31: 0 | BI31: 6 | BJ31: 0 | BK31: 0 | BL31: 0 | BM31: 0 | BN31: 0 | BO31: 0 | BP31: 0 | BQ31: 0 | BR31: 0 | BS31: 0 | BT31: 0 | BU31: 0 | BV31: 2 | BW31: 0 | BX31: 150
B32: 男 | C32: 2058 | D32: 531 | E32: 0 | F32: 471 | G32: 4 | H32: 56 | I32: 2 | J32: 23 | K32: 225 | L32: 4 | M32: 221 | N32: 232 | O32: 231 | P32: 1 | Q32: 90 | R32: 1 | S32: 1 | T32: 0 | U32: 67 | V32: 3 | W32: 0 | X32: 203 | Y32: 13 | Z32: 0 | AA32: 43 | AB32: 147 | AC32: 0 | AD32: 18 | AE32: 1 | AF32: 17 | AG32: 0 | AH32: 12 | AI32: 9 | AJ32: 151 | AK32: 1 | AL32: 76 | AM32: 69 | AN32: 0 | AO32: 5 | AP32: 53 | AQ32: 2 | AR32: 1 | AS32: 0 | AT32: 3 | AU32: 9 | AV32: 6 | AW32: 3 | AX32: 0 | AY32: 0 | AZ32: 102 | BA32: 0 | BB32: 0 | BC32: 0 | BD32: 165 | BE32: 0 | BF32: 7 | BG32: 20 | BH32: 0 | BI32: 6 | BJ32: 0 | BK32: 0 | BL32: 0 | BM32: 0 | BN32: 0 | BO32: 0 | BP32: 0 | BQ32: 0 | BR32: 0 | BS32: 0 | BT32: 0 | BU32: 0 | BV32: 2 | BW32: 0 | BX32: 121
B33: 女 | C33: 316 | D33: 90 | E33: 1 | F33: 86 | G33: 0 | H33: 3 | I33: 0 | J33: 0 | K33: 17 | L33: 0 | M33: 17 | N33: 62 | O33: 60 | P33: 2 | Q33: 12 | R33: 0 | S33: 0 | T33: 0 | U33: 14 | V33: 0 | W33: 0 | X33: 10 | Y33: 1 | Z33: 0 | AA33: 2 | AB33: 7 | AC33: 0 | AD33: 4 | AE33: 0 | AF33: 4 | AG33: 0 | AH33: 4 | AI33: 1 | AJ33: 30 | AK33: 1 | AL33: 22 | AM33: 6 | AN33: 0 | AO33: 1 | AP33: 1 | AQ33: 1 | AR33: 0 | AS33: 0 | AT33: 1 | AU33: 1 | AV33: 1 | AW33: 0 | AX33: 0 | AY33: 0 | AZ33: 3 | BA33: 0 | BB33: 0 | BC33: 0 | BD33: 26 | BE33: 0 | BF33: 1 | BG33: 9 | BH33: 0 | BI33: 0 | BJ33: 0 | BK33: 0 | BL33: 0 | BM33: 0 | BN33: 0 | BO33: 0 | BP33: 0 | BQ33: 0 | BR33: 0 | BS33: 0 | BT33: 0 | BU33: 0 | BV33: 0 | BW33: 0 | BX33: 29
A34: 彰化縣 | B34: 計 | C34: 6119 | D34: 902 | E34: 0 | F34: 768 | G34: 13 | H34: 121 | I34: 2 | J34: 57 | K34: 906 | L34: 1 | M34: 905 | N34: 1068 | O34: 1068 | P34: 0 | Q34: 280 | R34: 6 | S34: 4 | T34: 2 | U34: 291 | V34: 21 | W34: 18 | X34: 551 | Y34: 12 | Z34: 3 | AA34: 46 | AB34: 490 | AC34: 0 | AD34: 62 | AE34: 0 | AF34: 62 | AG34: 0 | AH34: 67 | AI34: 31 | AJ34: 299 | AK34: 3 | AL34: 149 | AM34: 143 | AN34: 2 | AO34: 2 | AP34: 101 | AQ34: 10 | AR34: 2 | AS34: 13 | AT34: 32 | AU34: 7 | AV34: 5 | AW34: 2 | AX34: 0 | AY34: 0 | AZ34: 474 | BA34: 0 | BB34: 0 | BC34: 0 | BD34: 201 | BE34: 0 | BF34: 15 | BG34: 138 | BH34: 6 | BI34: 16 | BJ34: 0 | BK34: 0 | BL34: 0 | BM34: 0 | BN34: 7 | BO34: 0 | BP34: 0 | BQ34: 7 | BR34: 0 | BS34: 0 | BT34: 0 | BU34: 0 | BV34: 8 | BW34: 0 | BX34: 521
B35: 男 | C35: 5205 | D35: 766 | E35: 0 | F35: 640 | G35: 11 | H35: 115 | I35: 2 | J35: 56 | K35: 820 | L35: 1 | M35: 819 | N35: 863 | O35: 863 | P35: 0 | Q35: 256 | R35: 5 | S35: 4 | T35: 1 | U35: 247 | V35: 19 | W35: 15 | X35: 494 | Y35: 7 | Z35: 3 | AA35: 45 | AB35: 439 | AC35: 0 | AD35: 54 | AE35: 0 | AF35: 54 | AG35: 0 | AH35: 54 | AI35: 24 | AJ35: 260 | AK35: 3 | AL35: 125 | AM35: 129 | AN35: 1 | AO35: 2 | AP35: 93 | AQ35: 10 | AR35: 2 | AS35: 2 | AT35: 28 | AU35: 6 | AV35: 4 | AW35: 2 | AX35: 0 | AY35: 0 | AZ35: 420 | BA35: 0 | BB35: 0 | BC35: 0 | BD35: 178 | BE35: 0 | BF35: 13 | BG35: 97 | BH35: 5 | BI35: 13 | BJ35: 0 | BK35: 0 | BL35: 0 | BM35: 0 | BN35: 6 | BO35: 0 | BP35: 0 | BQ35: 6 | BR35: 0 | BS35: 0 | BT35: 0 | BU35: 0 | BV35: 8 | BW35: 0 | BX35: 383
B36: 女 | C36: 914 | D36: 136 | E36: 0 | F36: 128 | G36: 2 | H36: 6 | I36: 0 | J36: 1 | K36: 86 | L36: 0 | M36: 86 | N36: 205 | O36: 205 | P36: 0 | Q36: 24 | R36: 1 | S36: 0 | T36: 1 | U36: 44 | V36: 2 | W36: 3 | X36: 57 | Y36: 5 | Z36: 0 | AA36: 1 | AB36: 51 | AC36: 0 | AD36: 8 | AE36: 0 | AF36: 8 | AG36: 0 | AH36: 13 | AI36: 7 | AJ36: 39 | AK36: 0 | AL36: 24 | AM36: 14 | AN36: 1 | AO36: 0 | AP36: 8 | AQ36: 0 | AR36: 0 | AS36: 11 | AT36: 4 | AU36: 1 | AV36: 1 | AW36: 0 | AX36: 0 | AY36: 0 | AZ36: 54 | BA36: 0 | BB36: 0 | BC36: 0 | BD36: 23 | BE36: 0 | BF36: 2 | BG36: 41 | BH36: 1 | BI36: 3 | BJ36: 0 | BK36: 0 | BL36: 0 | BM36: 0 | BN36: 1 | BO36: 0 | BP36: 0 | BQ36: 1 | BR36: 0 | BS36: 0 | BT36: 0 | BU36: 0 | BV36: 0 | BW36: 0 | BX36: 138
A37: 南投縣 | B37: 計 | C37: 3185 | D37: 521 | E37: 0 | F37: 435 | G37: 6 | H37: 80 | I37: 2 | J37: 31 | K37: 403 | L37: 1 | M37: 402 | N37: 605 | O37: 603 | P37: 2 | Q37: 159 | R37: 15 | S37: 11 | T37: 4 | U37: 91 | V37: 10 | W37: 3 | X37: 248 | Y37: 36 | Z37: 21 | AA37: 22 | AB37: 169 | AC37: 0 | AD37: 43 | AE37: 0 | AF37: 43 | AG37: 0 | AH37: 24 | AI37: 22 | AJ37: 134 | AK37: 3 | AL37: 76 | AM37: 50 | AN37: 0 | AO37: 5 | AP37: 70 | AQ37: 5 | AR37: 2 | AS37: 0 | AT37: 17 | AU37: 15 | AV37: 14 | AW37: 1 | AX37: 0 | AY37: 0 | AZ37: 164 | BA37: 0 | BB37: 0 | BC37: 0 | BD37: 212 | BE37: 0 | BF37: 0 | BG37: 57 | BH37: 11 | BI37: 10 | BJ37: 0 | BK37: 0 | BL37: 0 | BM37: 0 | BN37: 1 | BO37: 0 | BP37: 1 | BQ37: 8 | BR37: 1 | BS37: 0 | BT37: 0 | BU37: 1 | BV37: 8 | BW37: 0 | BX37: 291
B38: 男 | C38: 2712 | D38: 475 | E38: 0 | F38: 391 | G38: 4 | H38: 80 | I38: 0 | J38: 29 | K38: 369 | L38: 1 | M38: 368 | N38: 438 | O38: 437 | P38: 1 | Q38: 135 | R38: 13 | S38: 9 | T38: 4 | U38: 76 | V38: 9 | W38: 1 | X38: 234 | Y38: 36 | Z38: 20 | AA38: 21 | AB38: 157 | AC38: 0 | AD38: 37 | AE38: 0 | AF38: 37 | AG38: 0 | AH38: 20 | AI38: 10 | AJ38: 119 | AK38: 3 | AL38: 65 | AM38: 46 | AN38: 0 | AO38: 5 | AP38: 63 | AQ38: 5 | AR38: 2 | AS38: 0 | AT38: 16 | AU38: 15 | AV38: 14 | AW38: 1 | AX38: 0 | AY38: 0 | AZ38: 149 | BA38: 0 | BB38: 0 | BC38: 0 | BD38: 179 | BE38: 0 | BF38: 0 | BG38: 39 | BH38: 11 | BI38: 9 | BJ38: 0 | BK38: 0 | BL38: 0 | BM38: 0 | BN38: 0 | BO38: 0 | BP38: 1 | BQ38: 5 | BR38: 0 | BS38: 0 | BT38: 0 | BU38: 0 | BV38: 7 | BW38: 0 | BX38: 246
B39: 女 | C39: 473 | D39: 46 | E39: 0 | F39: 44 | G39: 2 | H39: 0 | I39: 2 | J39: 2 | K39: 34 | L39: 0 | M39: 34 | N39: 167 | O39: 166 | P39: 1 | Q39: 24 | R39: 2 | S39: 2 | T39: 0 | U39: 15 | V39: 1 | W39: 2 | X39: 14 | Y39: 0 | Z39: 1 | AA39: 1 | AB39: 12 | AC39: 0 | AD39: 6 | AE39: 0 | AF39: 6 | AG39: 0 | AH39: 4 | AI39: 12 | AJ39: 15 | AK39: 0 | AL39: 11 | AM39: 4 | AN39: 0 | AO39: 0 | AP39: 7 | AQ39: 0 | AR39: 0 | AS39: 0 | AT39: 1 | AU39: 0 | AV39: 0 | AW39: 0 | AX39: 0 | AY39: 0 | AZ39: 15 | BA39: 0 | BB39: 0 | BC39: 0 | BD39: 33 | BE39: 0 | BF39: 0 | BG39: 18 | BH39: 0 | BI39: 1 | BJ39: 0 | BK39: 0 | BL39: 0 | BM39: 0 | BN39: 1 | BO39: 0 | BP39: 0 | BQ39: 3 | BR39: 1 | BS39: 0 | BT39: 0 | BU39: 1 | BV39: 1 | BW39: 0 | BX39: 45
A40: 雲林縣 | B40: 計 | C40: 3124 | D40: 543 | E40: 0 | F40: 466 | G40: 7 | H40: 70 | I40: 0 | J40: 80 | K40: 238 | L40: 0 | M40: 238 | N40: 634 | O40: 627 | P40: 7 | Q40: 180 | R40: 3 | S40: 2 | T40: 1 | U40: 103 | V40: 12 | W40: 3 | X40: 245 | Y40: 2 | Z40: 0 | AA40: 25 | AB40: 218 | AC40: 0 | AD40: 22 | AE40: 0 | AF40: 22 | AG40: 0 | AH40: 19 | AI40: 25 | AJ40: 156 | AK40: 4 | AL40: 94 | AM40: 56 | AN40: 1 | AO40: 1 | AP40: 48 | AQ40: 10 | AR40: 1 | AS40: 0 | AT40: 10 | AU40: 8 | AV40: 8 | AW40: 0 | AX40: 0 | AY40: 0 | AZ40: 274 | BA40: 1 | BB40: 0 | BC40: 0 | BD40: 97 | BE40: 0 | BF40: 5 | BG40: 74 | BH40: 0 | BI40: 8 | BJ40: 0 | BK40: 0 | BL40: 0 | BM40: 0 | BN40: 1 | BO40: 0 | BP40: 0 | BQ40: 2 | BR40: 0 | BS40: 0 | BT40: 2 | BU40: 0 | BV40: 5 | BW40: 0 | BX40: 315
...

Sheet 刑案嫌疑犯人數總計
A1: 2016年至2025年各案類兒少嫌疑犯人數(續)
A2: 刑案嫌疑犯人數統計
D3: 單位：人
A4: 年度 | B4: 全年齡 | C4: 6-11歲 | D4: 12-17歲
A5: 2016 | B5: 272817 | C5: 440 | D5: 9775
A6: 2017 | B6: 287294 | C6: 448 | D6: 10499
A7: 2018 | B7: 291621 | C7: 383 | D7: 8893
A8: 2019 | B8: 277664 | C8: 430 | D8: 9441
A9: 2020 | B9: 281811 | C9: 219 | D9: 10226
A10: 2021 | B10: 265221 | C10: 0 | D10: 9627 | G10: =
A11: 2022 | B11: 291891 | C11: 0 | D11: 9554
A12: 2023 | B12: 296458 | C12: 0 | D12: 10770
A13: 2024 | B13: 287597 | C13: 0 | D13: 11277
A14: 2025 | B14: 428438 | C14: 0 | D14: 14959
A15: 說明：配合「少年事件處理法」修正，兒童全面去刑罰化，自109年6月19日起兒童嫌疑犯(0-11歲)不列入統計。

Sheet 工作表4
A1: 105-110各案類少年嫌疑犯人數
C2: 總計 | D2: 竊盜 | I2: 贓物 | J2: 賭博 | K2: 傷害 | N2: 詐欺背信 | Q2: 妨害自由 | R2: 殺人 | U2: 駕駛過失 | V2: 妨害婚姻及家庭 | W2: 妨害風化 | X2: 妨害性自主罪 | AC2: 內亂 | AD2: 恐嚇取財 | AG2: 擄人勒贖 | AH2: 侵占 | AI2: 偽造文書印文 | AJ2: 違反毒品危害防制條例 | AP2: 毀棄損壞 | AQ2: 妨害公務 | AR2: 違反著作權法 | AS2: 違反商標法 | AT2: 妨害電腦使用 | AU2: 強盜搶奪 | AX2: 竊佔 | AY2: 偽造有價證券 | AZ2: 妨害秩序 | BA2: 違反藥事法 | BB2: 違反國家總動員法 | BC2: 違反森林法 | BD2: 公共危險 | BE2: 侵害墳墓屍體 | BF2: 重利 | BG2: 妨害名譽 | BH2: 違反選罷法 | BI2: 妨害祕密 | BJ2: 遺棄 | BK2: 違反貪污治罪條例 | BL2: 懲治走私條例 | BM2: 妨害兵役 | BN2: 偽造貨幣 | BO2: 偽造度量衡 | BP2: 偽證 | BQ2: 誣告 | BR2: 湮滅證據 | BS2: 瀆職 | BT2: 脫逃 | BU2: 藏匿頂替 | BV2: 違反槍砲彈藥刀械管制條例 | BW2: 違反就業服務法 | BX2: 其他
D3: 計 | E3: 重大竊盜 | F3: 普通竊盜 | G3: 汽車竊盜 | H3: 機車竊盜 | K3: 計 | L3: 重傷害 | M3: 一般傷害 | N3: 計 | O3: 詐欺 | P3: 背信 | R3: 計 | S3: 故意殺人 | T3: 過失致死 | X3: 計 | Y3: 強制性交 | Z3: 共同強制性交 | AA3: 對幼性交 | AB3: 性交猥褻 | AD3: 計 | AE3: 重大恐嚇取財 | AF3: 一般恐嚇取財 | AJ3: 計 | AK3: 第一級毒品 | AL3: 第二級毒品 | AM3: 第三級毒品 | AN3: 第四級毒品 | AO3: 其他 | AU3: 計 | AV3: 強盜 | AW3: 搶奪
A4: 總計 | B4: 計 | C4: =SUM(C5:C6) -> 58461 | D4: =SUM(E4:H4) -> 10377 | E4: =SUM(E5:E6) -> 4 | F4: =SUM(F5:F6) -> 8414 | G4: =SUM(G5:G6) -> 136 | H4: =SUM(H5:H6) -> 1823 | I4: =SUM(I5:I6) -> 51 | J4: =SUM(J5:J6) -> 943 | K4: =SUM(K5:K6) -> 6632 | L4: =SUM(L5:L6) -> 5 | M4: =SUM(M5:M6) -> 6627 | N4: =SUM(O4:P4) -> 8619 | O4: =SUM(O5:O6) -> 8568 | P4: =SUM(P5:P6) -> 51 | Q4: =SUM(Q5:Q6) -> 2272 | R4: =SUM(S4:T4) -> 347 | S4: =SUM(S5:S6) -> 336 | T4: =SUM(T5:T6) -> 11 | U4: =SUM(U5:U6) -> 1778 | V4: =SUM(V5:V6) -> 204 | W4: =SUM(W5:W6) -> 80 | X4: =SUM(Y4:AB4) -> 4177 | Y4: =SUM(Y5:Y6) -> 221 | Z4: =SUM(Z5:Z6) -> 51 | AA4: =SUM(AA5:AA6) -> 362 | AB4: =SUM(AB5:AB6) -> 3543 | AC4: =SUM(AC5:AC6) -> 0 | AD4: =SUM(AD5:AD6) -> 567 | AE4: =SUM(AE5:AE6) -> 1 | AF4: =SUM(AF5:AF6) -> 566 | ... AN4: =SUM(AN5:AN6) -> 15 | AO4: =SUM(AJ4)-SUM(AK4:AN4) -> 42 | AP4: =SUM(AP5:AP6) -> 1078 | AQ4: =SUM(AQ5:AQ6) -> 178 | AR4: =SUM(AR5:AR6) -> 82 | AS4: =SUM(AS5:AS6) -> 124 | AT4: =SUM(AT5:AT6) -> 252 | AU4: =SUM(AV4:AW4) -> 216 | AV4: =SUM(AV5:AV6) -> 158 | AW4: =SUM(AW5:AW6) -> 58 | AX4: =SUM(AX5:AX6) -> 9 | AY4: =SUM(AY5:AY6) -> 8 | AZ4: =SUM(AZ5:AZ6) -> 2727 | BA4: =SUM(BA5:BA6) -> 38 | BB4: =SUM(BB5:BB6) -> 0 | BC4: =SUM(BC5:BC6) -> 12 | ... BW4: =SUM(BW5:BW6) -> 3 | BX4: =SUM(C4)-SUM(D4,I4:K4,N4,Q4:R4,U4:X4,AC4:AD4,AG4:AJ4,AP4:AU4,AX4:BW4) -> 4322
B5: 男 | C5: 50088 | D5: =SUM(E5:H5) -> 9009 | E5: 1 | F5: 7182 | G5: 122 | H5: 1704 | I5: 44 | J5: 891 | K5: 5946 | L5: 5 | M5: 5941 | N5: =SUM(O5:P5) -> 7062 | O5: 7024 | P5: 38 | Q5: 2009 | R5: =SUM(S5:T5) -> 329 | S5: 319 | T5: 10 | U5: 1412 | V5: 171 | W5: 69 | X5: =SUM(Y5:AB5) -> 3927 | Y5: 211 | Z5: 49 | AA5: 345 | AB5: 3322 | AC5: 0 | AD5: 508 | AE5: 1 | AF5: 507 | AG5: 8 | AH5: 472 | AI5: 197 | AJ5: 5769 | AK5: 67 | AL5: 3371 | AM5: 2279 | AN5: 13 | AO5: =SUM(AJ5)-SUM(AK5:AN5) -> 39 | AP5: 1004 | AQ5: 170 | AR5: 52 | AS5: 46 | AT5: 225 | AU5: =SUM(AV5:AW5) -> 193 | AV5: 137 | AW5: 56 | AX5: 8 | AY5: 7 | AZ5: 2477 | BA5: 18 | BB5: 0 | BC5: 11 | BD5: 2913 | BE5: 1 | BF5: 101 | BG5: 1009 | BH5: 19 | BI5: 172 | BJ5: 10 | BK5: 0 | BL5: 0 | BM5: 0 | BN5: 11 | BO5: 0 | BP5: 2 | BQ5: 28 | BR5: 1 | BS5: 0 | BT5: 7 | BU5: 3 | BV5: 239 | BW5: 2 | BX5: =SUM(C5)-SUM(D5,I5:K5,N5,Q5:R5,U5:X5,AC5:AD5,AG5:AJ5,AP5:AU5,AX5:BW5) -> 3536
B6: 女 | C6: 8373 | D6: =SUM(E6:H6) -> 1368 | E6: 3 | F6: 1232 | G6: 14 | H6: 119 | I6: 7 | J6: 52 | K6: 686 | L6: 0 | M6: 686 | N6: =SUM(O6:P6) -> 1557 | O6: 1544 | P6: 13 | Q6: 263 | R6: =SUM(S6:T6) -> 18 | S6: 17 | T6: 1 | U6: 366 | V6: 33 | W6: 11 | X6: =SUM(Y6:AB6) -> 250 | Y6: 10 | Z6: 2 | AA6: 17 | AB6: 221 | AC6: 0 | AD6: 59 | AE6: 0 | AF6: 59 | AG6: 0 | AH6: 119 | AI6: 128 | AJ6: 1248 | AK6: 34 | AL6: 933 | AM6: 276 | AN6: 2 | AO6: =SUM(AJ6)-SUM(AK6:AN6) -> 3 | AP6: 74 | AQ6: 8 | AR6: 30 | AS6: 78 | AT6: 27 | AU6: =SUM(AV6:AW6) -> 23 | AV6: 21 | AW6: 2 | AX6: 1 | AY6: 1 | AZ6: 250 | BA6: 20 | BB6: 0 | BC6: 1 | BD6: 506 | BE6: 0 | BF6: 11 | BG6: 336 | BH6: 1 | BI6: 19 | BJ6: 7 | BK6: 0 | BL6: 0 | BM6: 0 | BN6: 3 | BO6: 0 | BP6: 1 | BQ6: 12 | BR6: 2 | BS6: 0 | BT6: 1 | BU6: 2 | BV6: 7 | BW6: 1 | BX6: =SUM(C6)-SUM(D6,I6:K6,N6,Q6:R6,U6:X6,AC6:AD6,AG6:AJ6,AP6:AU6,AX6:BW6) -> 786
A7: 新北市 | B7: 計 | C7: =SUM(C8:C9) -> 7907 | D7: =SUM(E7:H7) -> 1155 | E7: =SUM(E8:E9) -> 0 | F7: =SUM(F8:F9) -> 871 | G7: =SUM(G8:G9) -> 9 | H7: =SUM(H8:H9) -> 275 | I7: =SUM(I8:I9) -> 6 | J7: =SUM(J8:J9) -> 106 | K7: =SUM(K8:K9) -> 772 | L7: =SUM(L8:L9) -> 1 | M7: =SUM(M8:M9) -> 771 | N7: =SUM(O7:P7) -> 1027 | O7: =SUM(O8:O9) -> 1013 | P7: =SUM(P8:P9) -> 14 | Q7: =SUM(Q8:Q9) -> 301 | R7: =SUM(S7:T7) -> 47 | S7: =SUM(S8:S9) -> 47 | T7: =SUM(T8:T9) -> 0 | U7: =SUM(U8:U9) -> 151 | V7: =SUM(V8:V9) -> 35 | W7: =SUM(W8:W9) -> 9 | X7: =SUM(Y7:AB7) -> 465 | Y7: =SUM(Y8:Y9) -> 23 | Z7: =SUM(Z8:Z9) -> 9 | AA7: =SUM(AA8:AA9) -> 7 | AB7: =SUM(AB8:AB9) -> 426 | AC7: =SUM(AC8:AC9) -> 0 | AD7: =SUM(AD8:AD9) -> 48 | AE7: =SUM(AE8:AE9) -> 0 | AF7: =SUM(AF8:AF9) -> 48 | ... AN7: =SUM(AN8:AN9) -> 2 | AO7: =SUM(AJ7)-SUM(AK7:AN7) -> 8 | AP7: =SUM(AP8:AP9) -> 126 | AQ7: =SUM(AQ8:AQ9) -> 49 | AR7: =SUM(AR8:AR9) -> 4 | AS7: =SUM(AS8:AS9) -> 1 | AT7: =SUM(AT8:AT9) -> 33 | AU7: =SUM(AV7:AW7) -> 16 | AV7: =SUM(AV8:AV9) -> 12 | AW7: =SUM(AW8:AW9) -> 4 | AX7: =SUM(AX8:AX9) -> 2 | AY7: =SUM(AY8:AY9) -> 6 | AZ7: =SUM(AZ8:AZ9) -> 608 | BA7: =SUM(BA8:BA9) -> 3 | BB7: =SUM(BB8:BB9) -> 0 | BC7: =SUM(BC8:BC9) -> 0 | ... BW7: =SUM(BW8:BW9) -> 0 | BX7: =SUM(C7)-SUM(D7,I7:K7,N7,Q7:R7,U7:X7,AC7:AD7,AG7:AJ7,AP7:AU7,AX7:BW7) -> 309
B8: 男 | C8: 6817 | D8: =SUM(E8:H8) -> 989 | E8: 0 | F8: 721 | G8: 8 | H8: 260 | I8: 5 | J8: 102 | K8: 678 | L8: 1 | M8: 677 | N8: =SUM(O8:P8) -> 868 | O8: 858 | P8: 10 | Q8: 263 | R8: =SUM(S8:T8) -> 47 | S8: 47 | T8: 0 | U8: 130 | V8: 31 | W8: 9 | X8: =SUM(Y8:AB8) -> 446 | Y8: 22 | Z8: 9 | AA8: 7 | AB8: 408 | AC8: 0 | AD8: 44 | AE8: 0 | AF8: 44 | AG8: 4 | AH8: 75 | AI8: 23 | AJ8: 1616 | AK8: 13 | AL8: 958 | AM8: 636 | AN8: 2 | AO8: =SUM(AJ8)-SUM(AK8:AN8) -> 7 | AP8: 119 | AQ8: 47 | AR8: 2 | AS8: 0 | AT8: 32 | AU8: =SUM(AV8:AW8) -> 16 | AV8: 12 | AW8: 4 | AX8: 1 | AY8: 6 | AZ8: 552 | BA8: 2 | BB8: 0 | BC8: 0 | BD8: 251 | BE8: 1 | BF8: 5 | BG8: 141 | BH8: 0 | BI8: 22 | BJ8: 1 | BK8: 0 | BL8: 0 | BM8: 0 | BN8: 0 | BO8: 0 | BP8: 0 | BQ8: 1 | BR8: 0 | BS8: 0 | BT8: 0 | BU8: 1 | BV8: 36 | BW8: 0 | BX8: =SUM(C8)-SUM(D8,I8:K8,N8,Q8:R8,U8:X8,AC8:AD8,AG8:AJ8,AP8:AU8,AX8:BW8) -> 251
B9: 女 | C9: 1090 | D9: =SUM(E9:H9) -> 166 | E9: 0 | F9: 150 | G9: 1 | H9: 15 | I9: 1 | J9: 4 | K9: 94 | L9: 0 | M9: 94 | N9: =SUM(O9:P9) -> 159 | O9: 155 | P9: 4 | Q9: 38 | R9: =SUM(S9:T9) -> 0 | S9: 0 | T9: 0 | U9: 21 | V9: 4 | W9: 0 | X9: =SUM(Y9:AB9) -> 19 | Y9: 1 | Z9: 0 | AA9: 0 | AB9: 18 | AC9: 0 | AD9: 4 | AE9: 0 | AF9: 4 | AG9: 0 | AH9: 20 | AI9: 16 | AJ9: 327 | AK9: 10 | AL9: 229 | AM9: 87 | AN9: 0 | AO9: =SUM(AJ9)-SUM(AK9:AN9) -> 1 | AP9: 7 | AQ9: 2 | AR9: 2 | AS9: 1 | AT9: 1 | AU9: =SUM(AV9:AW9) -> 0 | AV9: 0 | AW9: 0 | AX9: 1 | AY9: 0 | AZ9: 56 | BA9: 1 | BB9: 0 | BC9: 0 | BD9: 33 | BE9: 0 | BF9: 1 | BG9: 49 | BH9: 0 | BI9: 3 | BJ9: 1 | BK9: 0 | BL9: 0 | BM9: 0 | BN9: 0 | BO9: 0 | BP9: 0 | BQ9: 0 | BR9: 0 | BS9: 0 | BT9: 0 | BU9: 0 | BV9: 1 | BW9: 0 | BX9: =SUM(C9)-SUM(D9,I9:K9,N9,Q9:R9,U9:X9,AC9:AD9,AG9:AJ9,AP9:AU9,AX9:BW9) -> 58
A10: 臺北市 | B10: 計 | C10: =SUM(C11:C12) -> 7100 | D10: =SUM(E10:H10) -> 902 | E10: =SUM(E11:E12) -> 0 | F10: =SUM(F11:F12) -> 747 | G10: =SUM(G11:G12) -> 3 | H10: =SUM(H11:H12) -> 152 | I10: =SUM(I11:I12) -> 8 | J10: =SUM(J11:J12) -> 148 | K10: =SUM(K11:K12) -> 845 | L10: =SUM(L11:L12) -> 1 | M10: =SUM(M11:M12) -> 844 | N10: =SUM(O10:P10) -> 1572 | O10: =SUM(O11:O12) -> 1558 | P10: =SUM(P11:P12) -> 14 | Q10: =SUM(Q11:Q12) -> 295 | R10: =SUM(S10:T10) -> 61 | S10: =SUM(S11:S12) -> 60 | T10: =SUM(T11:T12) -> 1 | U10: =SUM(U11:U12) -> 178 | V10: =SUM(V11:V12) -> 32 | W10: =SUM(W11:W12) -> 9 | X10: =SUM(Y10:AB10) -> 302 | Y10: =SUM(Y11:Y12) -> 13 | Z10: =SUM(Z11:Z12) -> 6 | AA10: =SUM(AA11:AA12) -> 23 | AB10: =SUM(AB11:AB12) -> 260 | AC10: =SUM(AC11:AC12) -> 0 | AD10: =SUM(AD11:AD12) -> 67 | AE10: =SUM(AE11:AE12) -> 0 | AF10: =SUM(AF11:AF12) -> 67 | ... AN10: =SUM(AN11:AN12) -> 1 | AO10: =SUM(AJ10)-SUM(AK10:AN10) -> 5 | AP10: =SUM(AP11:AP12) -> 143 | AQ10: =SUM(AQ11:AQ12) -> 20 | AR10: =SUM(AR11:AR12) -> 28 | AS10: =SUM(AS11:AS12) -> 17 | AT10: =SUM(AT11:AT12) -> 52 | AU10: =SUM(AV10:AW10) -> 36 | AV10: =SUM(AV11:AV12) -> 25 | AW10: =SUM(AW11:AW12) -> 11 | AX10: =SUM(AX11:AX12) -> 2 | AY10: =SUM(AY11:AY12) -> 0 | AZ10: =SUM(AZ11:AZ12) -> 181 | BA10: =SUM(BA11:BA12) -> 2 | BB10: =SUM(BB11:BB12) -> 0 | BC10: =SUM(BC11:BC12) -> 0 | ... BW10: =SUM(BW11:BW12) -> 0 | BX10: =SUM(C10)-SUM(D10,I10:K10,N10,Q10:R10,U10:X10,AC10:AD10,AG10:AJ10,AP10:AU10,AX10:BW10) -> 750
B11: 男 | C11: 6145 | D11: =SUM(E11:H11) -> 753 | E11: 0 | F11: 607 | G11: 2 | H11: 144 | I11: 8 | J11: 143 | K11: 742 | L11: 1 | M11: 741 | N11: =SUM(O11:P11) -> 1391 | O11: 1378 | P11: 13 | Q11: 266 | R11: =SUM(S11:T11) -> 57 | S11: 56 | T11: 1 | U11: 155 | V11: 25 | W11: 8 | X11: =SUM(Y11:AB11) -> 287 | Y11: 13 | Z11: 6 | AA11: 21 | AB11: 247 | AC11: 0 | AD11: 61 | AE11: 0 | AF11: 61 | AG11: 1 | AH11: 97 | AI11: 47 | AJ11: 508 | AK11: 5 | AL11: 308 | AM11: 189 | AN11: 1 | AO11: =SUM(AJ11)-SUM(AK11:AN11) -> 5 | AP11: 132 | AQ11: 20 | AR11: 27 | AS11: 9 | AT11: 46 | AU11: =SUM(AV11:AW11) -> 32 | AV11: 22 | AW11: 10 | AX11: 2 | AY11: 0 | AZ11: 157 | BA11: 2 | BB11: 0 | BC11: 0 | BD11: 167 | BE11: 0 | BF11: 8 | BG11: 288 | BH11: 1 | BI11: 41 | BJ11: 2 | BK11: 0 | BL11: 0 | BM11: 0 | BN11: 0 | BO11: 0 | BP11: 0 | BQ11: 2 | BR11: 0 | BS11: 0 | BT11: 1 | BU11: 0 | BV11: 23 | BW11: 0 | BX11: =SUM(C11)-SUM(D11,I11:K11,N11,Q11:R11,U11:X11,AC11:AD11,AG11:AJ11,AP11:AU11,AX11:BW11) -> 636
B12: 女 | C12: 955 | D12: =SUM(E12:H12) -> 149 | E12: 0 | F12: 140 | G12: 1 | H12: 8 | I12: 0 | J12: 5 | K12: 103 | L12: 0 | M12: 103 | N12: =SUM(O12:P12) -> 181 | O12: 180 | P12: 1 | Q12: 29 | R12: =SUM(S12:T12) -> 4 | S12: 4 | T12: 0 | U12: 23 | V12: 7 | W12: 1 | X12: =SUM(Y12:AB12) -> 15 | Y12: 0 | Z12: 0 | AA12: 2 | AB12: 13 | AC12: 0 | AD12: 6 | AE12: 0 | AF12: 6 | AG12: 0 | AH12: 23 | AI12: 22 | AJ12: 114 | AK12: 3 | AL12: 93 | AM12: 18 | AN12: 0 | AO12: =SUM(AJ12)-SUM(AK12:AN12) -> 0 | AP12: 11 | AQ12: 0 | AR12: 1 | AS12: 8 | AT12: 6 | AU12: =SUM(AV12:AW12) -> 4 | AV12: 3 | AW12: 1 | AX12: 0 | AY12: 0 | AZ12: 24 | BA12: 0 | BB12: 0 | BC12: 0 | BD12: 22 | BE12: 0 | BF12: 0 | BG12: 75 | BH12: 0 | BI12: 5 | BJ12: 1 | BK12: 0 | BL12: 0 | BM12: 0 | BN12: 0 | BO12: 0 | BP12: 0 | BQ12: 2 | BR12: 0 | BS12: 0 | BT12: 0 | BU12: 0 | BV12: 0 | BW12: 0 | BX12: =SUM(C12)-SUM(D12,I12:K12,N12,Q12:R12,U12:X12,AC12:AD12,AG12:AJ12,AP12:AU12,AX12:BW12) -> 114
A13: 桃園市 | B13: 計 | C13: =SUM(C14:C15) -> 3605 | D13: =SUM(E13:H13) -> 753 | E13: =SUM(E14:E15) -> 0 | F13: =SUM(F14:F15) -> 548 | G13: =SUM(G14:G15) -> 13 | H13: =SUM(H14:H15) -> 192 | I13: =SUM(I14:I15) -> 8 | J13: =SUM(J14:J15) -> 69 | K13: =SUM(K14:K15) -> 142 | L13: =SUM(L14:L15) -> 0 | M13: =SUM(M14:M15) -> 142 | N13: =SUM(O13:P13) -> 413 | O13: =SUM(O14:O15) -> 413 | P13: =SUM(P14:P15) -> 0 | Q13: =SUM(Q14:Q15) -> 82 | R13: =SUM(S13:T13) -> 25 | S13: =SUM(S14:S15) -> 25 | T13: =SUM(T14:T15) -> 0 | U13: =SUM(U14:U15) -> 48 | V13: =SUM(V14:V15) -> 5 | W13: =SUM(W14:W15) -> 3 | X13: =SUM(Y13:AB13) -> 336 | Y13: =SUM(Y14:Y15) -> 8 | Z13: =SUM(Z14:Z15) -> 2 | AA13: =SUM(AA14:AA15) -> 5 | AB13: =SUM(AB14:AB15) -> 321 | AC13: =SUM(AC14:AC15) -> 0 | AD13: =SUM(AD14:AD15) -> 20 | AE13: =SUM(AE14:AE15) -> 0 | AF13: =SUM(AF14:AF15) -> 20 | ... AN13: =SUM(AN14:AN15) -> 1 | AO13: =SUM(AJ13)-SUM(AK13:AN13) -> 5 | AP13: =SUM(AP14:AP15) -> 40 | AQ13: =SUM(AQ14:AQ15) -> 8 | AR13: =SUM(AR14:AR15) -> 1 | AS13: =SUM(AS14:AS15) -> 0 | AT13: =SUM(AT14:AT15) -> 7 | AU13: =SUM(AV13:AW13) -> 9 | AV13: =SUM(AV14:AV15) -> 3 | AW13: =SUM(AW14:AW15) -> 6 | AX13: =SUM(AX14:AX15) -> 0 | AY13: =SUM(AY14:AY15) -> 0 | AZ13: =SUM(AZ14:AZ15) -> 37 | BA13: =SUM(BA14:BA15) -> 1 | BB13: =SUM(BB14:BB15) -> 0 | BC13: =SUM(BC14:BC15) -> 2 | ... BW13: =SUM(BW14:BW15) -> 0 | BX13: =SUM(C13)-SUM(D13,I13:K13,N13,Q13:R13,U13:X13,AC13:AD13,AG13:AJ13,AP13:AU13,AX13:BW13) -> 293
B14: 男 | C14: 3051 | D14: =SUM(E14:H14) -> 621 | E14: 0 | F14: 442 | G14: 10 | H14: 169 | I14: 6 | J14: 63 | K14: 136 | L14: 0 | M14: 136 | N14: =SUM(O14:P14) -> 345 | O14: 345 | P14: 0 | Q14: 73 | R14: =SUM(S14:T14) -> 23 | S14: 23 | T14: 0 | U14: 41 | V14: 5 | W14: 3 | X14: =SUM(Y14:AB14) -> 324 | Y14: 8 | Z14: 2 | AA14: 5 | AB14: 309 | AC14: 0 | AD14: 17 | AE14: 0 | AF14: 17 | AG14: 0 | AH14: 24 | AI14: 12 | AJ14: 742 | AK14: 14 | AL14: 464 | AM14: 258 | AN14: 1 | AO14: =SUM(AJ14)-SUM(AK14:AN14) -> 5 | AP14: 37 | AQ14: 8 | AR14: 0 | AS14: 0 | AT14: 6 | AU14: =SUM(AV14:AW14) -> 8 | AV14: 2 | AW14: 6 | AX14: 0 | AY14: 0 | AZ14: 29 | BA14: 0 | BB14: 0 | BC14: 2 | BD14: 252 | BE14: 0 | BF14: 1 | BG14: 25 | BH14: 0 | BI14: 1 | BJ14: 0 | BK14: 0 | BL14: 0 | BM14: 0 | BN14: 1 | BO14: 0 | BP14: 0 | BQ14: 1 | BR14: 0 | BS14: 0 | BT14: 0 | BU14: 0 | BV14: 20 | BW14: 0 | BX14: =SUM(C14)-SUM(D14,I14:K14,N14,Q14:R14,U14:X14,AC14:AD14,AG14:AJ14,AP14:AU14,AX14:BW14) -> 225
B15: 女 | C15: 554 | D15: =SUM(E15:H15) -> 132 | E15: 0 | F15: 106 | G15: 3 | H15: 23 | I15: 2 | J15: 6 | K15: 6 | L15: 0 | M15: 6 | N15: =SUM(O15:P15) -> 68 | O15: 68 | P15: 0 | Q15: 9 | R15: =SUM(S15:T15) -> 2 | S15: 2 | T15: 0 | U15: 7 | V15: 0 | W15: 0 | X15: =SUM(Y15:AB15) -> 12 | Y15: 0 | Z15: 0 | AA15: 0 | AB15: 12 | AC15: 0 | AD15: 3 | AE15: 0 | AF15: 3 | AG15: 0 | AH15: 3 | AI15: 2 | AJ15: 175 | AK15: 5 | AL15: 139 | AM15: 31 | AN15: 0 | AO15: =SUM(AJ15)-SUM(AK15:AN15) -> 0 | AP15: 3 | AQ15: 0 | AR15: 1 | AS15: 0 | AT15: 1 | AU15: =SUM(AV15:AW15) -> 1 | AV15: 1 | AW15: 0 | AX15: 0 | AY15: 0 | AZ15: 8 | BA15: 1 | BB15: 0 | BC15: 0 | BD15: 37 | BE15: 0 | BF15: 0 | BG15: 5 | BH15: 0 | BI15: 0 | BJ15: 0 | BK15: 0 | BL15: 0 | BM15: 0 | BN15: 0 | BO15: 0 | BP15: 0 | BQ15: 0 | BR15: 0 | BS15: 0 | BT15: 0 | BU15: 0 | BV15: 2 | BW15: 0 | BX15: =SUM(C15)-SUM(D15,I15:K15,N15,Q15:R15,U15:X15,AC15:AD15,AG15:AJ15,AP15:AU15,AX15:BW15) -> 68
A16: 臺中市 | B16: 計 | C16: =SUM(C17:C18) -> 6159 | D16: =SUM(E16:H16) -> 1214 | E16: =SUM(E17:E18) -> 0 | F16: =SUM(F17:F18) -> 965 | G16: =SUM(G17:G18) -> 12 | H16: =SUM(H17:H18) -> 237 | I16: =SUM(I17:I18) -> 4 | J16: =SUM(J17:J18) -> 258 | K16: =SUM(K17:K18) -> 508 | L16: =SUM(L17:L18) -> 1 | M16: =SUM(M17:M18) -> 507 | N16: =SUM(O16:P16) -> 1161 | O16: =SUM(O17:O18) -> 1148 | P16: =SUM(P17:P18) -> 13 | Q16: =SUM(Q17:Q18) -> 260 | R16: =SUM(S16:T16) -> 29 | S16: =SUM(S17:S18) -> 27 | T16: =SUM(T17:T18) -> 2 | U16: =SUM(U17:U18) -> 41 | V16: =SUM(V17:V18) -> 13 | W16: =SUM(W17:W18) -> 11 | X16: =SUM(Y16:AB16) -> 509 | Y16: =SUM(Y17:Y18) -> 7 | Z16: =SUM(Z17:Z18) -> 1 | AA16: =SUM(AA17:AA18) -> 48 | AB16: =SUM(AB17:AB18) -> 453 | AC16: =SUM(AC17:AC18) -> 0 | AD16: =SUM(AD17:AD18) -> 74 | AE16: =SUM(AE17:AE18) -> 0 | AF16: =SUM(AF17:AF18) -> 74 | ... AN16: =SUM(AN17:AN18) -> 0 | AO16: =SUM(AJ16)-SUM(AK16:AN16) -> 1 | AP16: =SUM(AP17:AP18) -> 90 | AQ16: =SUM(AQ17:AQ18) -> 16 | AR16: =SUM(AR17:AR18) -> 2 | AS16: =SUM(AS17:AS18) -> 2 | AT16: =SUM(AT17:AT18) -> 34 | AU16: =SUM(AV16:AW16) -> 24 | AV16: =SUM(AV17:AV18) -> 20 | AW16: =SUM(AW17:AW18) -> 4 | AX16: =SUM(AX17:AX18) -> 0 | AY16: =SUM(AY17:AY18) -> 0 | AZ16: =SUM(AZ17:AZ18) -> 345 | BA16: =SUM(BA17:BA18) -> 0 | BB16: =SUM(BB17:BB18) -> 0 | BC16: =SUM(BC17:BC18) -> 1 | ... BW16: =SUM(BW17:BW18) -> 0 | BX16: =SUM(C16)-SUM(D16,I16:K16,N16,Q16:R16,U16:X16,AC16:AD16,AG16:AJ16,AP16:AU16,AX16:BW16) -> 291
B17: 男 | C17: 5315 | D17: =SUM(E17:H17) -> 1047 | E17: 0 | F17: 812 | G17: 12 | H17: 223 | I17: 4 | J17: 246 | K17: 470 | L17: 1 | M17: 469 | N17: =SUM(O17:P17) -> 983 | O17: 973 | P17: 10 | Q17: 231 | R17: =SUM(S17:T17) -> 25 | S17: 23 | T17: 2 | U17: 38 | V17: 11 | W17: 7 | X17: =SUM(Y17:AB17) -> 486 | Y17: 7 | Z17: 1 | AA17: 47 | AB17: 431 | AC17: 0 | AD17: 67 | AE17: 0 | AF17: 67 | AG17: 0 | AH17: 53 | AI17: 12 | AJ17: 606 | AK17: 6 | AL17: 425 | AM17: 174 | AN17: 0 | AO17: =SUM(AJ17)-SUM(AK17:AN17) -> 1 | AP17: 80 | AQ17: 15 | AR17: 0 | AS17: 1 | AT17: 30 | AU17: =SUM(AV17:AW17) -> 23 | AV17: 19 | AW17: 4 | AX17: 0 | AY17: 0 | AZ17: 313 | BA17: 0 | BB17: 0 | BC17: 1 | BD17: 205 | BE17: 0 | BF17: 6 | BG17: 104 | BH17: 0 | BI17: 12 | BJ17: 3 | BK17: 0 | BL17: 0 | BM17: 0 | BN17: 3 | BO17: 0 | BP17: 0 | BQ17: 3 | BR17: 0 | BS17: 0 | BT17: 0 | BU17: 0 | BV17: 11 | BW17: 0 | BX17: =SUM(C17)-SUM(D17,I17:K17,N17,Q17:R17,U17:X17,AC17:AD17,AG17:AJ17,AP17:AU17,AX17:BW17) -> 219
B18: 女 | C18: 844 | D18: =SUM(E18:H18) -> 167 | E18: 0 | F18: 153 | G18: 0 | H18: 14 | I18: 0 | J18: 12 | K18: 38 | L18: 0 | M18: 38 | N18: =SUM(O18:P18) -> 178 | O18: 175 | P18: 3 | Q18: 29 | R18: =SUM(S18:T18) -> 4 | S18: 4 | T18: 0 | U18: 3 | V18: 2 | W18: 4 | X18: =SUM(Y18:AB18) -> 23 | Y18: 0 | Z18: 0 | AA18: 1 | AB18: 22 | AC18: 0 | AD18: 7 | AE18: 0 | AF18: 7 | AG18: 0 | AH18: 12 | AI18: 12 | AJ18: 161 | AK18: 2 | AL18: 133 | AM18: 26 | AN18: 0 | AO18: =SUM(AJ18)-SUM(AK18:AN18) -> 0 | AP18: 10 | AQ18: 1 | AR18: 2 | AS18: 1 | AT18: 4 | AU18: =SUM(AV18:AW18) -> 1 | AV18: 1 | AW18: 0 | AX18: 0 | AY18: 0 | AZ18: 32 | BA18: 0 | BB18: 0 | BC18: 0 | BD18: 32 | BE18: 0 | BF18: 0 | BG18: 33 | BH18: 0 | BI18: 0 | BJ18: 0 | BK18: 0 | BL18: 0 | BM18: 0 | BN18: 1 | BO18: 0 | BP18: 0 | BQ18: 2 | BR18: 0 | BS18: 0 | BT18: 0 | BU18: 0 | BV18: 1 | BW18: 0 | BX18: =SUM(C18)-SUM(D18,I18:K18,N18,Q18:R18,U18:X18,AC18:AD18,AG18:AJ18,AP18:AU18,AX18:BW18) -> 72
A19: 臺南市 | B19: 計 | C19: =SUM(C20:C21) -> 4239 | D19: =SUM(E19:H19) -> 740 | E19: =SUM(E20:E21) -> 0 | F19: =SUM(F20:F21) -> 635 | G19: =SUM(G20:G21) -> 8 | H19: =SUM(H20:H21) -> 97 | I19: =SUM(I20:I21) -> 2 | J19: =SUM(J20:J21) -> 39 | K19: =SUM(K20:K21) -> 582 | L19: =SUM(L20:L21) -> 0 | M19: =SUM(M20:M21) -> 582 | N19: =SUM(O19:P19) -> 688 | O19: =SUM(O20:O21) -> 688 | P19: =SUM(P20:P21) -> 0 | Q19: =SUM(Q20:Q21) -> 203 | R19: =SUM(S19:T19) -> 27 | S19: =SUM(S20:S21) -> 27 | T19: =SUM(T20:T21) -> 0 | U19: =SUM(U20:U21) -> 288 | V19: =SUM(V20:V21) -> 17 | W19: =SUM(W20:W21) -> 8 | X19: =SUM(Y19:AB19) -> 255 | Y19: =SUM(Y20:Y21) -> 7 | Z19: =SUM(Z20:Z21) -> 6 | AA19: =SUM(AA20:AA21) -> 74 | AB19: =SUM(AB20:AB21) -> 168 | AC19: =SUM(AC20:AC21) -> 0 | AD19: =SUM(AD20:AD21) -> 45 | AE19: =SUM(AE20:AE21) -> 0 | AF19: =SUM(AF20:AF21) -> 45 | ... AN19: =SUM(AN20:AN21) -> 4 | AO19: =SUM(AJ19)-SUM(AK19:AN19) -> 0 | AP19: =SUM(AP20:AP21) -> 125 | AQ19: =SUM(AQ20:AQ21) -> 7 | AR19: =SUM(AR20:AR21) -> 2 | AS19: =SUM(AS20:AS21) -> 8 | AT19: =SUM(AT20:AT21) -> 33 | AU19: =SUM(AV19:AW19) -> 27 | AV19: =SUM(AV20:AV21) -> 26 | AW19: =SUM(AW20:AW21) -> 1 | AX19: =SUM(AX20:AX21) -> 1 | AY19: =SUM(AY20:AY21) -> 0 | AZ19: =SUM(AZ20:AZ21) -> 159 | BA19: =SUM(BA20:BA21) -> 1 | BB19: =SUM(BB20:BB21) -> 0 | BC19: =SUM(BC20:BC21) -> 0 | ... BW19: =SUM(BW20:BW21) -> 3 | BX19: =SUM(C19)-SUM(D19,I19:K19,N19,Q19:R19,U19:X19,AC19:AD19,AG19:AJ19,AP19:AU19,AX19:BW19) -> 263
B20: 男 | C20: 3544 | D20: =SUM(E20:H20) -> 630 | E20: 0 | F20: 539 | G20: 8 | H20: 83 | I20: 2 | J20: 33 | K20: 521 | L20: 0 | M20: 521 | N20: =SUM(O20:P20) -> 529 | O20: 529 | P20: 0 | Q20: 175 | R20: =SUM(S20:T20) -> 26 | S20: 26 | T20: 0 | U20: 203 | V20: 14 | W20: 8 | X20: =SUM(Y20:AB20) -> 238 | Y20: 7 | Z20: 6 | AA20: 70 | AB20: 155 | AC20: 0 | AD20: 42 | AE20: 0 | AF20: 42 | AG20: 1 | AH20: 24 | AI20: 9 | AJ20: 193 | AK20: 1 | AL20: 93 | AM20: 95 | AN20: 4 | AO20: =SUM(AJ20)-SUM(AK20:AN20) -> 0 | AP20: 117 | AQ20: 7 | AR20: 1 | AS20: 2 | AT20: 26 | AU20: =SUM(AV20:AW20) -> 24 | AV20: 23 | AW20: 1 | AX20: 1 | AY20: 0 | AZ20: 142 | BA20: 0 | BB20: 0 | BC20: 0 | BD20: 222 | BE20: 0 | BF20: 5 | BG20: 78 | BH20: 3 | BI20: 14 | BJ20: 1 | BK20: 0 | BL20: 0 | BM20: 0 | BN20: 3 | BO20: 0 | BP20: 0 | BQ20: 6 | BR20: 0 | BS20: 0 | BT20: 0 | BU20: 0 | BV20: 17 | BW20: 2 | BX20: =SUM(C20)-SUM(D20,I20:K20,N20,Q20:R20,U20:X20,AC20:AD20,AG20:AJ20,AP20:AU20,AX20:BW20) -> 225
B21: 女 | C21: 695 | D21: =SUM(E21:H21) -> 110 | E21: 0 | F21: 96 | G21: 0 | H21: 14 | I21: 0 | J21: 6 | K21: 61 | L21: 0 | M21: 61 | N21: =SUM(O21:P21) -> 159 | O21: 159 | P21: 0 | Q21: 28 | R21: =SUM(S21:T21) -> 1 | S21: 1 | T21: 0 | U21: 85 | V21: 3 | W21: 0 | X21: =SUM(Y21:AB21) -> 17 | Y21: 0 | Z21: 0 | AA21: 4 | AB21: 13 | AC21: 0 | AD21: 3 | AE21: 0 | AF21: 3 | AG21: 0 | AH21: 8 | AI21: 7 | AJ21: 29 | AK21: 1 | AL21: 19 | AM21: 9 | AN21: 0 | AO21: =SUM(AJ21)-SUM(AK21:AN21) -> 0 | AP21: 8 | AQ21: 0 | AR21: 1 | AS21: 6 | AT21: 7 | AU21: =SUM(AV21:AW21) -> 3 | AV21: 3 | AW21: 0 | AX21: 0 | AY21: 0 | AZ21: 17 | BA21: 1 | BB21: 0 | BC21: 0 | BD21: 48 | BE21: 0 | BF21: 0 | BG21: 40 | BH21: 1 | BI21: 5 | BJ21: 0 | BK21: 0 | BL21: 0 | BM21: 0 | BN21: 0 | BO21: 0 | BP21: 1 | BQ21: 1 | BR21: 0 | BS21: 0 | BT21: 0 | BU21: 0 | BV21: 0 | BW21: 1 | BX21: =SUM(C21)-SUM(D21,I21:K21,N21,Q21:R21,U21:X21,AC21:AD21,AG21:AJ21,AP21:AU21,AX21:BW21) -> 38
A22: 高雄市 | B22: 計 | C22: =SUM(C23:C24) -> 6678 | D22: =SUM(E22:H22) -> 1338 | E22: =SUM(E23:E24) -> 2 | F22: =SUM(F23:F24) -> 1170 | G22: =SUM(G23:G24) -> 9 | H22: =SUM(H23:H24) -> 157 | I22: =SUM(I23:I24) -> 6 | J22: =SUM(J23:J24) -> 90 | K22: =SUM(K23:K24) -> 714 | L22: =SUM(L23:L24) -> 0 | M22: =SUM(M23:M24) -> 714 | N22: =SUM(O22:P22) -> 1028 | O22: =SUM(O23:O24) -> 1027 | P22: =SUM(P23:P24) -> 1 | Q22: =SUM(Q23:Q24) -> 222 | R22: =SUM(S22:T22) -> 25 | S22: =SUM(S23:S24) -> 25 | T22: =SUM(T23:T24) -> 0 | U22: =SUM(U23:U24) -> 351 | V22: =SUM(V23:V24) -> 22 | W22: =SUM(W23:W24) -> 8 | X22: =SUM(Y22:AB22) -> 358 | Y22: =SUM(Y23:Y24) -> 9 | Z22: =SUM(Z23:Z24) -> 0 | AA22: =SUM(AA23:AA24) -> 88 | AB22: =SUM(AB23:AB24) -> 261 | AC22: =SUM(AC23:AC24) -> 0 | AD22: =SUM(AD23:AD24) -> 56 | AE22: =SUM(AE23:AE24) -> 0 | AF22: =SUM(AF23:AF24) -> 56 | ... AN22: =SUM(AN23:AN24) -> 0 | AO22: =SUM(AJ22)-SUM(AK22:AN22) -> 1 | AP22: =SUM(AP23:AP24) -> 162 | AQ22: =SUM(AQ23:AQ24) -> 26 | AR22: =SUM(AR23:AR24) -> 5 | AS22: =SUM(AS23:AS24) -> 6 | AT22: =SUM(AT23:AT24) -> 18 | AU22: =SUM(AV22:AW22) -> 20 | AV22: =SUM(AV23:AV24) -> 6 | AW22: =SUM(AW23:AW24) -> 14 | AX22: =SUM(AX23:AX24) -> 1 | AY22: =SUM(AY23:AY24) -> 0 | AZ22: =SUM(AZ23:AZ24) -> 286 | BA22: =SUM(BA23:BA24) -> 0 | BB22: =SUM(BB23:BB24) -> 0 | BC22: =SUM(BC23:BC24) -> 0 | ... BW22: =SUM(BW23:BW24) -> 0 | BX22: =SUM(C22)-SUM(D22,I22:K22,N22,Q22:R22,U22:X22,AC22:AD22,AG22:AJ22,AP22:AU22,AX22:BW22) -> 482
B23: 男 | C23: 5640 | D23: =SUM(E23:H23) -> 1172 | E23: 0 | F23: 1018 | G23: 9 | H23: 145 | I23: 5 | J23: 79 | K23: 625 | L23: 0 | M23: 625 | N23: =SUM(O23:P23) -> 801 | O23: 800 | P23: 1 | Q23: 195 | R23: =SUM(S23:T23) -> 25 | S23: 25 | T23: 0 | U23: 263 | V23: 17 | W23: 8 | X23: =SUM(Y23:AB23) -> 341 | Y23: 9 | Z23: 0 | AA23: 83 | AB23: 249 | AC23: 0 | AD23: 51 | AE23: 0 | AF23: 51 | AG23: 0 | AH23: 51 | AI23: 28 | AJ23: 413 | AK23: 1 | AL23: 248 | AM23: 163 | AN23: 0 | AO23: =SUM(AJ23)-SUM(AK23:AN23) -> 1 | AP23: 150 | AQ23: 22 | AR23: 3 | AS23: 2 | AT23: 16 | AU23: =SUM(AV23:AW23) -> 19 | AV23: 6 | AW23: 13 | AX23: 1 | AY23: 0 | AZ23: 261 | BA23: 0 | BB23: 0 | BC23: 0 | BD23: 510 | BE23: 0 | BF23: 20 | BG23: 108 | BH23: 2 | BI23: 16 | BJ23: 1 | BK23: 0 | BL23: 0 | BM23: 0 | BN23: 2 | BO23: 0 | BP23: 0 | BQ23: 4 | BR23: 1 | BS23: 0 | BT23: 0 | BU23: 2 | BV23: 20 | BW23: 0 | BX23: =SUM(C23)-SUM(D23,I23:K23,N23,Q23:R23,U23:X23,AC23:AD23,AG23:AJ23,AP23:AU23,AX23:BW23) -> 406
B24: 女 | C24: 1038 | D24: =SUM(E24:H24) -> 166 | E24: 2 | F24: 152 | G24: 0 | H24: 12 | I24: 1 | J24: 11 | K24: 89 | L24: 0 | M24: 89 | N24: =SUM(O24:P24) -> 227 | O24: 227 | P24: 0 | Q24: 27 | R24: =SUM(S24:T24) -> 0 | S24: 0 | T24: 0 | U24: 88 | V24: 5 | W24: 0 | X24: =SUM(Y24:AB24) -> 17 | Y24: 0 | Z24: 0 | AA24: 5 | AB24: 12 | AC24: 0 | AD24: 5 | AE24: 0 | AF24: 5 | AG24: 0 | AH24: 16 | AI24: 18 | AJ24: 129 | AK24: 8 | AL24: 92 | AM24: 29 | AN24: 0 | AO24: =SUM(AJ24)-SUM(AK24:AN24) -> 0 | AP24: 12 | AQ24: 4 | AR24: 2 | AS24: 4 | AT24: 2 | AU24: =SUM(AV24:AW24) -> 1 | AV24: 0 | AW24: 1 | AX24: 0 | AY24: 0 | AZ24: 25 | BA24: 0 | BB24: 0 | BC24: 0 | BD24: 73 | BE24: 0 | BF24: 5 | BG24: 33 | BH24: 0 | BI24: 0 | BJ24: 1 | BK24: 0 | BL24: 0 | BM24: 0 | BN24: 1 | BO24: 0 | BP24: 0 | BQ24: 0 | BR24: 0 | BS24: 0 | BT24: 0 | BU24: 0 | BV24: 0 | BW24: 0 | BX24: =SUM(C24)-SUM(D24,I24:K24,N24,Q24:R24,U24:X24,AC24:AD24,AG24:AJ24,AP24:AU24,AX24:BW24) -> 76
A25: 宜蘭縣 | B25: 計 | C25: =SUM(C26:C27) -> 1959 | D25: =SUM(E25:H25) -> 292 | E25: =SUM(E26:E27) -> 0 | F25: =SUM(F26:F27) -> 240 | G25: =SUM(G26:G27) -> 13 | H25: =SUM(H26:H27) -> 39 | I25: =SUM(I26:I27) -> 0 | J25: =SUM(J26:J27) -> 2 | K25: =SUM(K26:K27) -> 337 | L25: =SUM(L26:L27) -> 0 | M25: =SUM(M26:M27) -> 337 | N25: =SUM(O25:P25) -> 190 | O25: =SUM(O26:O27) -> 190 | P25: =SUM(P26:P27) -> 0 | Q25: =SUM(Q26:Q27) -> 118 | R25: =SUM(S25:T25) -> 4 | S25: =SUM(S26:S27) -> 3 | T25: =SUM(T26:T27) -> 1 | U25: =SUM(U26:U27) -> 104 | V25: =SUM(V26:V27) -> 15 | W25: =SUM(W26:W27) -> 3 | X25: =SUM(Y25:AB25) -> 164 | Y25: =SUM(Y26:Y27) -> 11 | Z25: =SUM(Z26:Z27) -> 7 | AA25: =SUM(AA26:AA27) -> 1 | AB25: =SUM(AB26:AB27) -> 145 | AC25: =SUM(AC26:AC27) -> 0 | AD25: =SUM(AD26:AD27) -> 48 | AE25: =SUM(AE26:AE27) -> 0 | AF25: =SUM(AF26:AF27) -> 48 | ... AN25: =SUM(AN26:AN27) -> 0 | AO25: =SUM(AJ25)-SUM(AK25:AN25) -> 0 | AP25: =SUM(AP26:AP27) -> 41 | AQ25: =SUM(AQ26:AQ27) -> 4 | AR25: =SUM(AR26:AR27) -> 1 | AS25: =SUM(AS26:AS27) -> 0 | AT25: =SUM(AT26:AT27) -> 3 | AU25: =SUM(AV25:AW25) -> 1 | AV25: =SUM(AV26:AV27) -> 1 | AW25: =SUM(AW26:AW27) -> 0 | AX25: =SUM(AX26:AX27) -> 0 | AY25: =SUM(AY26:AY27) -> 1 | AZ25: =SUM(AZ26:AZ27) -> 102 | BA25: =SUM(BA26:BA27) -> 0 | BB25: =SUM(BB26:BB27) -> 0 | BC25: =SUM(BC26:BC27) -> 3 | ... BW25: =SUM(BW26:BW27) -> 0 | BX25: =SUM(C25)-SUM(D25,I25:K25,N25,Q25:R25,U25:X25,AC25:AD25,AG25:AJ25,AP25:AU25,AX25:BW25) -> 78
B26: 男 | C26: 1681 | D26: =SUM(E26:H26) -> 251 | E26: 0 | F26: 202 | G26: 10 | H26: 39 | I26: 0 | J26: 2 | K26: 301 | L26: 0 | M26: 301 | N26: =SUM(O26:P26) -> 151 | O26: 151 | P26: 0 | Q26: 107 | R26: =SUM(S26:T26) -> 4 | S26: 3 | T26: 1 | U26: 81 | V26: 11 | W26: 3 | X26: =SUM(Y26:AB26) -> 149 | Y26: 11 | Z26: 6 | AA26: 1 | AB26: 131 | AC26: 0 | AD26: 41 | AE26: 0 | AF26: 41 | AG26: 0 | AH26: 15 | AI26: 5 | AJ26: 154 | AK26: 1 | AL26: 42 | AM26: 111 | AN26: 0 | AO26: =SUM(AJ26)-SUM(AK26:AN26) -> 0 | AP26: 38 | AQ26: 4 | AR26: 0 | AS26: 0 | AT26: 2 | AU26: =SUM(AV26:AW26) -> 1 | AV26: 1 | AW26: 0 | AX26: 0 | AY26: 0 | AZ26: 95 | BA26: 0 | BB26: 0 | BC26: 3 | BD26: 158 | BE26: 0 | BF26: 6 | BG26: 21 | BH26: 3 | BI26: 1 | BJ26: 2 | BK26: 0 | BL26: 0 | BM26: 0 | BN26: 0 | BO26: 0 | BP26: 0 | BQ26: 2 | BR26: 0 | BS26: 0 | BT26: 4 | BU26: 0 | BV26: 9 | BW26: 0 | BX26: =SUM(C26)-SUM(D26,I26:K26,N26,Q26:R26,U26:X26,AC26:AD26,AG26:AJ26,AP26:AU26,AX26:BW26) -> 57
B27: 女 | C27: 278 | D27: =SUM(E27:H27) -> 41 | E27: 0 | F27: 38 | G27: 3 | H27: 0 | I27: 0 | J27: 0 | K27: 36 | L27: 0 | M27: 36 | N27: =SUM(O27:P27) -> 39 | O27: 39 | P27: 0 | Q27: 11 | R27: =SUM(S27:T27) -> 0 | S27: 0 | T27: 0 | U27: 23 | V27: 4 | W27: 0 | X27: =SUM(Y27:AB27) -> 15 | Y27: 0 | Z27: 1 | AA27: 0 | AB27: 14 | AC27: 0 | AD27: 7 | AE27: 0 | AF27: 7 | AG27: 0 | AH27: 2 | AI27: 4 | AJ27: 15 | AK27: 2 | AL27: 5 | AM27: 8 | AN27: 0 | AO27: =SUM(AJ27)-SUM(AK27:AN27) -> 0 | AP27: 3 | AQ27: 0 | AR27: 1 | AS27: 0 | AT27: 1 | AU27: =SUM(AV27:AW27) -> 0 | AV27: 0 | AW27: 0 | AX27: 0 | AY27: 1 | AZ27: 7 | BA27: 0 | BB27: 0 | BC27: 0 | BD27: 35 | BE27: 0 | BF27: 0 | BG27: 10 | BH27: 0 | BI27: 0 | BJ27: 1 | BK27: 0 | BL27: 0 | BM27: 0 | BN27: 0 | BO27: 0 | BP27: 0 | BQ27: 0 | BR27: 1 | BS27: 0 | BT27: 0 | BU27: 0 | BV27: 0 | BW27: 0 | BX27: =SUM(C27)-SUM(D27,I27:K27,N27,Q27:R27,U27:X27,AC27:AD27,AG27:AJ27,AP27:AU27,AX27:BW27) -> 21
A28: 新竹縣 | B28: 計 | C28: =SUM(C29:C30) -> 1785 | D28: =SUM(E28:H28) -> 350 | E28: =SUM(E29:E30) -> 0 | F28: =SUM(F29:F30) -> 267 | G28: =SUM(G29:G30) -> 10 | H28: =SUM(H29:H30) -> 73 | I28: =SUM(I29:I30) -> 0 | J28: =SUM(J29:J30) -> 1 | K28: =SUM(K29:K30) -> 231 | L28: =SUM(L29:L30) -> 0 | M28: =SUM(M29:M30) -> 231 | N28: =SUM(O28:P28) -> 195 | O28: =SUM(O29:O30) -> 194 | P28: =SUM(P29:P30) -> 1 | Q28: =SUM(Q29:Q30) -> 98 | R28: =SUM(S28:T28) -> 9 | S28: =SUM(S29:S30) -> 9 | T28: =SUM(T29:T30) -> 0 | U28: =SUM(U29:U30) -> 72 | V28: =SUM(V29:V30) -> 10 | W28: =SUM(W29:W30) -> 3 | X28: =SUM(Y28:AB28) -> 202 | Y28: =SUM(Y29:Y30) -> 7 | Z28: =SUM(Z29:Z30) -> 0 | AA28: =SUM(AA29:AA30) -> 12 | AB28: =SUM(AB29:AB30) -> 183 | AC28: =SUM(AC29:AC30) -> 0 | AD28: =SUM(AD29:AD30) -> 46 | AE28: =SUM(AE29:AE30) -> 0 | AF28: =SUM(AF29:AF30) -> 46 | ... AN28: =SUM(AN29:AN30) -> 1 | AO28: =SUM(AJ28)-SUM(AK28:AN28) -> 3 | AP28: =SUM(AP29:AP30) -> 41 | AQ28: =SUM(AQ29:AQ30) -> 3 | AR28: =SUM(AR29:AR30) -> 0 | AS28: =SUM(AS29:AS30) -> 2 | AT28: =SUM(AT29:AT30) -> 5 | AU28: =SUM(AV28:AW28) -> 15 | AV28: =SUM(AV29:AV30) -> 10 | AW28: =SUM(AW29:AW30) -> 5 | AX28: =SUM(AX29:AX30) -> 0 | AY28: =SUM(AY29:AY30) -> 0 | AZ28: =SUM(AZ29:AZ30) -> 47 | BA28: =SUM(BA29:BA30) -> 0 | BB28: =SUM(BB29:BB30) -> 0 | BC28: =SUM(BC29:BC30) -> 0 | ... BW28: =SUM(BW29:BW30) -> 0 | BX28: =SUM(C28)-SUM(D28,I28:K28,N28,Q28:R28,U28:X28,AC28:AD28,AG28:AJ28,AP28:AU28,AX28:BW28) -> 137
