Workbook

Sheet 2016-2025各案類兒少嫌疑犯人數
A1: 2016年至2025年各案類兒少嫌疑犯人數（3.5.2） | AD1: 2016年至2025年各案類兒少嫌疑犯人數 | BH1: 2016年至2025年各案類兒少嫌疑犯人數
C2: 總計 | D2: 竊盜 | I2: 贓物 | J2: 賭博 | K2: 傷害 | N2: 詐欺背信 | Q2: 妨害自由 | R2: 殺人 | U2: 駕駛過失 | V2: 妨害婚姻及家庭 | W2: 妨害風化 | X2: 妨害性自主罪 | AC2: 內亂 | AD2: 恐嚇取財 | AG2: 擄人勒贖 | AH2: 侵占 | AI2: 偽造文書印文 | AJ2: 違反毒品危害防制條例 | AP2: 毀棄損壞 | AQ2: 妨害公務 | AR2: 違反著作權法 | AS2: 違反商標法 | AT2: 妨害電腦使用 | AU2: 強盜搶奪 | AX2: 竊佔 | AY2: 偽造有價證券 | AZ2: 妨害秩序 | BA2: 違反藥事法 | BB2: 違反國家總動員法 | BC2: 違反森林法 | BD2: 公共危險 | BE2: 侵害墳墓屍體 | BF2: 重利 | BG2: 妨害名譽 | BH2: 違反選罷法 | BI2: 妨害祕密 | BJ2: 遺棄 | BK2: 違反貪污治罪條例 | BL2: 懲治走私條例 | BM2: 妨害兵役 | BN2: 偽造貨幣 | BO2: 偽造度量衡 | BP2: 偽證 | BQ2: 誣告 | BR2: 湮滅證據 | BS2: 瀆職 | BT2: 脫逃 | BU2: 藏匿頂替 | BV2: 違反槍砲彈藥刀械管制條例 | BW2: 違反就業服務法 | BX2: 其他
D3: 計 | E3: 重大竊盜 | F3: 普通竊盜 | G3: 汽車竊盜 | K3: 計 | L3: 重傷害 | M3: 一般傷害 | N3: 計 | O3: 詐欺 | P3: 背信 | R3: 計 | S3: 故意殺人 | T3: 過失致死 | X3: 計 | Y3: 強制性交 | Z3: 共同強制性交 | AA3: 對幼性交 | AB3: 性交猥褻 | AD3: 計 | AE3: 重大恐嚇取財 | AF3: 一般恐嚇取財 | AJ3: 計 | AK3: 第一級 | AL3: 第二級 | AM3: 第三級 | AN3: 第四級 | AO3: 其他 | AU3: 計 | AV3: 強盜 | AW3: 搶奪
A4: 總計 | B4: 計 | C4: 106941 | D4: 17510 | E4: 5 | F4: 14825 | G4: 209 | H4: 2471 | I4: 72 | J4: 1630 | K4: 11566 | L4: 17 | M4: 11549 | N4: 19498 | O4: 19414 | P4: 84 | Q4: 4910 | R4: 425 | S4: 411 | T4: 14 | U4: 3355 | V4: 398 | W4: 132 | X4: 8264 | Y4: 267 | Z4: 72 | AA4: 904 | AB4: 7021 | AC4: 0 | AD4: 769 | AE4: 1 | AF4: 768 | AG4: 9 | AH4: 1391 | AI4: 659 | AJ4: 9589 | AK4: 118 | AL4: 5803 | AM4: 3579 | AN4: 32 | AO4: 57 | AP4: 1999 | AQ4: 253 | AR4: 107 | AS4: 155 | AT4: 578 | AU4: 307 | AV4: 212 | AW4: 95 | AX4: 19 | AY4: 11 | AZ4: 5441 | BA4: 62 | BB4: 0 | BC4: 24 | BD4: 4856 | BE4: 4 | BF4: 137 | BG4: 2698 | BH4: 48 | BI4: 324 | BJ4: 24 | BK4: 0 | BL4: 1 | BM4: 0 | BN4: 28 | BO4: 0 | BP4: 3 | BQ4: 97 | BR4: 4 | BS4: 0 | BT4: 9 | BU4: 12 | BV4: 379 | BW4: 3 | BX4: 9181
B5: 男 | C5: 89983 | D5: 14704 | E5: 2 | F5: 12202 | G5: 188 | H5: 2312 | I5: 64 | J5: 1510 | K5: 10265 | L5: 16 | M5: 10249 | N5: 15747 | O5: 15683 | P5: 64 | Q5: 4238 | R5: 402 | S5: 389 | T5: 13 | U5: 2697 | V5: 338 | W5: 113 | X5: 7632 | Y5: 257 | Z5: 67 | AA5: 847 | AB5: 6461 | AC5: 0 | AD5: 686 | AE5: 1 | AF5: 685 | AG5: 9 | AH5: 1077 | AI5: 467 | AJ5: 7833 | AK5: 83 | AL5: 4480 | AM5: 3188 | AN5: 30 | AO5: 52 | AP5: 1838 | AQ5: 238 | AR5: 69 | AS5: 60 | AT5: 494 | AU5: 279 | AV5: 189 | AW5: 90 | AX5: 14 | AY5: 10 | AZ5: 4921 | BA5: 33 | BB5: 0 | BC5: 22 | BD5: 4145 | BE5: 4 | BF5: 120 | BG5: 1836 | BH5: 45 | BI5: 285 | BJ5: 14 | BK5: 0 | BL5: 1 | BM5: 0 | BN5: 22 | BO5: 0 | BP5: 2 | BQ5: 64 | BR5: 1 | BS5: 0 | BT5: 7 | BU5: 10 | BV5: 362 | BW5: 2 | BX5: 7303
B6: 女 | C6: 16958 | D6: 2806 | E6: 3 | F6: 2623 | G6: 21 | H6: 159 | I6: 8 | J6: 120 | K6: 1301 | L6: 1 | M6: 1300 | N6: 3751 | O6: 3731 | P6: 20 | Q6: 672 | R6: 23 | S6: 22 | T6: 1 | U6: 658 | V6: 60 | W6: 19 | X6: 632 | Y6: 10 | Z6: 5 | AA6: 57 | AB6: 560 | AC6: 0 | AD6: 83 | AE6: 0 | AF6: 83 | AG6: 0 | AH6: 314 | AI6: 192 | AJ6: 1756 | AK6: 35 | AL6: 1323 | AM6: 391 | AN6: 2 | AO6: 5 | AP6: 161 | AQ6: 15 | AR6: 38 | AS6: 95 | AT6: 84 | AU6: 28 | AV6: 23 | AW6: 5 | AX6: 5 | AY6: 1 | AZ6: 520 | BA6: 29 | BB6: 0 | BC6: 2 | BD6: 711 | BE6: 0 | BF6: 17 | BG6: 862 | BH6: 3 | BI6: 39 | BJ6: 10 | BK6: 0 | BL6: 0 | BM6: 0 | BN6: 6 | BO6: 0 | BP6: 1 | BQ6: 33 | BR6: 3 | BS6: 0 | BT6: 2 | BU6: 2 | BV6: 17 | BW6: 1 | BX6: 1878
A7: 新北市 | B7: 計 | C7: 14871 | D7: 2089 | E7: 1 | F7: 1721 | G7: 16 | H7: 351 | I7: 8 | J7: 129 | K7: 1576 | L7: 2 | M7: 1574 | N7: 2805 | O7: 2782 | P7: 23 | Q7: 812 | R7: 50 | S7: 50 | T7: 0 | U7: 313 | V7: 76 | W7: 17 | X7: 912 | Y7: 30 | Z7: 12 | AA7: 48 | AB7: 822 | AC7: 0 | AD7: 68 | AE7: 0 | AF7: 68 | AG7: 4 | AH7: 220 | AI7: 88 | AJ7: 2622 | AK7: 26 | AL7: 1613 | AM7: 972 | AN7: 2 | AO7: 9 | AP7: 255 | AQ7: 72 | AR7: 5 | AS7: 1 | AT7: 77 | AU7: 29 | AV7: 20 | AW7: 9 | AX7: 4 | AY7: 7 | AZ7: 939 | BA7: 7 | BB7: 0 | BC7: 0 | BD7: 422 | BE7: 4 | BF7: 7 | BG7: 377 | BH7: 2 | BI7: 44 | BJ7: 3 | BK7: 0 | BL7: 0 | BM7: 0 | BN7: 1 | BO7: 0 | BP7: 0 | BQ7: 12 | BR7: 0 | BS7: 0 | BT7: 1 | BU7: 3 | BV7: 48 | BW7: 0 | BX7: 762
B8: 男 | C8: 12422 | D8: 1713 | E8: 1 | F8: 1362 | G8: 15 | H8: 335 | I8: 7 | J8: 122 | K8: 1379 | L8: 2 | M8: 1377 | N8: 2250 | O8: 2234 | P8: 16 | Q8: 673 | R8: 49 | S8: 49 | T8: 0 | U8: 269 | V8: 64 | W8: 17 | X8: 857 | Y8: 29 | Z8: 12 | AA8: 44 | AB8: 772 | AC8: 0 | AD8: 61 | AE8: 0 | AF8: 61 | AG8: 4 | AH8: 176 | AI8: 63 | AJ8: 2110 | AK8: 15 | AL8: 1241 | AM8: 844 | AN8: 2 | AO8: 8 | AP8: 233 | AQ8: 68 | AR8: 3 | AS8: 0 | AT8: 68 | AU8: 26 | AV8: 18 | AW8: 8 | AX8: 2 | AY8: 7 | AZ8: 835 | BA8: 6 | BB8: 0 | BC8: 0 | BD8: 385 | BE8: 4 | BF8: 6 | BG8: 257 | BH8: 2 | BI8: 41 | BJ8: 2 | BK8: 0 | BL8: 0 | BM8: 0 | BN8: 1 | BO8: 0 | BP8: 0 | BQ8: 8 | BR8: 0 | BS8: 0 | BT8: 0 | BU8: 3 | BV8: 45 | BW8: 0 | BX8: 606
B9: 女 | C9: 2449 | D9: 376 | E9: 0 | F9: 359 | G9: 1 | H9: 16 | I9: 1 | J9: 7 | K9: 197 | L9: 0 | M9: 197 | N9: 555 | O9: 548 | P9: 7 | Q9: 139 | R9: 1 | S9: 1 | T9: 0 | U9: 44 | V9: 12 | W9: 0 | X9: 55 | Y9: 1 | Z9: 0 | AA9: 4 | AB9: 50 | AC9: 0 | AD9: 7 | AE9: 0 | AF9: 7 | AG9: 0 | AH9: 44 | AI9: 25 | AJ9: 512 | AK9: 11 | AL9: 372 | AM9: 128 | AN9: 0 | AO9: 1 | AP9: 22 | AQ9: 4 | AR9: 2 | AS9: 1 | AT9: 9 | AU9: 3 | AV9: 2 | AW9: 1 | AX9: 2 | AY9: 0 | AZ9: 104 | BA9: 1 | BB9: 0 | BC9: 0 | BD9: 37 | BE9: 0 | BF9: 1 | BG9: 120 | BH9: 0 | BI9: 3 | BJ9: 1 | BK9: 0 | BL9: 0 | BM9: 0 | BN9: 0 | BO9: 0 | BP9: 0 | BQ9: 4 | BR9: 0 | BS9: 0 | BT9: 1 | BU9: 0 | BV9: 3 | BW9: 0 | BX9: 156
A10: 臺北市 | B10: 計 | C10: 12525 | D10: 1483 | E10: 0 | F10: 1291 | G10: 6 | H10: 186 | I10: 11 | J10: 220 | K10: 1406 | L10: 1 | M10: 1405 | N10: 3208 | O10: 3184 | P10: 24 | Q10: 523 | R10: 78 | S10: 77 | T10: 1 | U10: 274 | V10: 48 | W10: 12 | X10: 613 | Y10: 16 | Z10: 6 | AA10: 68 | AB10: 523 | AC10: 0 | AD10: 92 | AE10: 0 | AF10: 92 | AG10: 1 | AH10: 293 | AI10: 126 | AJ10: 948 | AK10: 10 | AL10: 625 | AM10: 307 | AN10: 1 | AO10: 5 | AP10: 224 | AQ10: 29 | AR10: 33 | AS10: 18 | AT10: 122 | AU10: 44 | AV10: 30 | AW10: 14 | AX10: 4 | AY10: 0 | AZ10: 405 | BA10: 3 | BB10: 0 | BC10: 0 | BD10: 260 | BE10: 0 | BF10: 10 | BG10: 593 | BH10: 1 | BI10: 60 | BJ10: 5 | BK10: 0 | BL10: 0 | BM10: 0 | BN10: 1 | BO10: 0 | BP10: 0 | BQ10: 12 | BR10: 1 | BS10: 0 | BT10: 1 | BU10: 0 | BV10: 49 | BW10: 0 | BX10: 1314
B11: 男 | C11: 10536 | D11: 1185 | E11: 0 | F11: 1003 | G11: 5 | H11: 177 | I11: 11 | J11: 197 | K11: 1199 | L11: 1 | M11: 1198 | N11: 2722 | O11: 2701 | P11: 21 | Q11: 467 | R11: 72 | S11: 71 | T11: 1 | U11: 240 | V11: 39 | W11: 10 | X11: 569 | Y11: 16 | Z11: 6 | AA11: 63 | AB11: 484 | AC11: 0 | AD11: 84 | AE11: 0 | AF11: 84 | AG11: 1 | AH11: 230 | AI11: 90 | AJ11: 769 | AK11: 7 | AL11: 480 | AM11: 276 | AN11: 1 | AO11: 5 | AP11: 201 | AQ11: 28 | AR11: 29 | AS11: 10 | AT11: 103 | AU11: 40 | AV11: 27 | AW11: 13 | AX11: 2 | AY11: 0 | AZ11: 355 | BA11: 2 | BB11: 0 | BC11: 0 | BD11: 225 | BE11: 0 | BF11: 9 | BG11: 431 | BH11: 1 | BI11: 53 | BJ11: 4 | BK11: 0 | BL11: 0 | BM11: 0 | BN11: 1 | BO11: 0 | BP11: 0 | BQ11: 8 | BR11: 0 | BS11: 0 | BT11: 1 | BU11: 0 | BV11: 45 | BW11: 0 | BX11: 1103
B12: 女 | C12: 1989 | D12: 298 | E12: 0 | F12: 288 | G12: 1 | H12: 9 | I12: 0 | J12: 23 | K12: 207 | L12: 0 | M12: 207 | N12: 486 | O12: 483 | P12: 3 | Q12: 56 | R12: 6 | S12: 6 | T12: 0 | U12: 34 | V12: 9 | W12: 2 | X12: 44 | Y12: 0 | Z12: 0 | AA12: 5 | AB12: 39 | AC12: 0 | AD12: 8 | AE12: 0 | AF12: 8 | AG12: 0 | AH12: 63 | AI12: 36 | AJ12: 179 | AK12: 3 | AL12: 145 | AM12: 31 | AN12: 0 | AO12: 0 | AP12: 23 | AQ12: 1 | AR12: 4 | AS12: 8 | AT12: 19 | AU12: 4 | AV12: 3 | AW12: 1 | AX12: 2 | AY12: 0 | AZ12: 50 | BA12: 1 | BB12: 0 | BC12: 0 | BD12: 35 | BE12: 0 | BF12: 1 | BG12: 162 | BH12: 0 | BI12: 7 | BJ12: 1 | BK12: 0 | BL12: 0 | BM12: 0 | BN12: 0 | BO12: 0 | BP12: 0 | BQ12: 4 | BR12: 1 | BS12: 0 | BT12: 0 | BU12: 0 | BV12: 4 | BW12: 0 | BX12: 211
A13: 桃園市 | B13: 計 | C13: 7551 | D13: 1425 | E13: 0 | F13: 1141 | G13: 26 | H13: 258 | I13: 11 | J13: 193 | K13: 501 | L13: 5 | M13: 496 | N13: 1059 | O13: 1058 | P13: 1 | Q13: 284 | R13: 40 | S13: 40 | T13: 0 | U13: 162 | V13: 23 | W13: 7 | X13: 856 | Y13: 9 | Z13: 2 | AA13: 17 | AB13: 828 | AC13: 0 | AD13: 49 | AE13: 0 | AF13: 49 | AG13: 0 | AH13: 104 | AI13: 40 | AJ13: 1228 | AK13: 23 | AL13: 816 | AM13: 379 | AN13: 5 | AO13: 5 | AP13: 106 | AQ13: 13 | AR13: 4 | AS13: 0 | AT13: 32 | AU13: 19 | AV13: 12 | AW13: 7 | AX13: 0 | AY13: 0 | AZ13: 106 | BA13: 1 | BB13: 0 | BC13: 2 | BD13: 416 | BE13: 0 | BF13: 4 | BG13: 147 | BH13: 0 | BI13: 13 | BJ13: 1 | BK13: 0 | BL13: 0 | BM13: 0 | BN13: 2 | BO13: 0 | BP13: 0 | BQ13: 4 | BR13: 0 | BS13: 0 | BT13: 0 | BU13: 0 | BV13: 35 | BW13: 0 | BX13: 664
B14: 男 | C14: 6272 | D14: 1147 | E14: 0 | F14: 896 | G14: 22 | H14: 229 | I14: 9 | J14: 165 | K14: 454 | L14: 5 | M14: 449 | N14: 849 | O14: 848 | P14: 1 | Q14: 251 | R14: 38 | S14: 38 | T14: 0 | U14: 140 | V14: 18 | W14: 6 | X14: 796 | Y14: 9 | Z14: 2 | AA14: 16 | AB14: 769 | AC14: 0 | AD14: 45 | AE14: 0 | AF14: 45 | AG14: 0 | AH14: 84 | AI14: 34 | AJ14: 979 | AK14: 18 | AL14: 611 | AM14: 340 | AN14: 5 | AO14: 5 | AP14: 96 | AQ14: 12 | AR14: 3 | AS14: 0 | AT14: 26 | AU14: 18 | AV14: 11 | AW14: 7 | AX14: 0 | AY14: 0 | AZ14: 94 | BA14: 0 | BB14: 0 | BC14: 2 | BD14: 363 | BE14: 0 | BF14: 4 | BG14: 92 | BH14: 0 | BI14: 11 | BJ14: 0 | BK14: 0 | BL14: 0 | BM14: 0 | BN14: 1 | BO14: 0 | BP14: 0 | BQ14: 2 | BR14: 0 | BS14: 0 | BT14: 0 | BU14: 0 | BV14: 32 | BW14: 0 | BX14: 501
B15: 女 | C15: 1279 | D15: 278 | E15: 0 | F15: 245 | G15: 4 | H15: 29 | I15: 2 | J15: 28 | K15: 47 | L15: 0 | M15: 47 | N15: 210 | O15: 210 | P15: 0 | Q15: 33 | R15: 2 | S15: 2 | T15: 0 | U15: 22 | V15: 5 | W15: 1 | X15: 60 | Y15: 0 | Z15: 0 | AA15: 1 | AB15: 59 | AC15: 0 | AD15: 4 | AE15: 0 | AF15: 4 | AG15: 0 | AH15: 20 | AI15: 6 | AJ15: 249 | AK15: 5 | AL15: 205 | AM15: 39 | AN15: 0 | AO15: 0 | AP15: 10 | AQ15: 1 | AR15: 1 | AS15: 0 | AT15: 6 | AU15: 1 | AV15: 1 | AW15: 0 | AX15: 0 | AY15: 0 | AZ15: 12 | BA15: 1 | BB15: 0 | BC15: 0 | BD15: 53 | BE15: 0 | BF15: 0 | BG15: 55 | BH15: 0 | BI15: 2 | BJ15: 1 | BK15: 0 | BL15: 0 | BM15: 0 | BN15: 1 | BO15: 0 | BP15: 0 | BQ15: 2 | BR15: 0 | BS15: 0 | BT15: 0 | BU15: 0 | BV15: 3 | BW15: 0 | BX15: 163
A16: 臺中市 | B16: 計 | C16: 12173 | D16: 1964 | E16: 0 | F16: 1633 | G16: 22 | H16: 309 | I16: 5 | J16: 472 | K16: 981 | L16: 1 | M16: 980 | N16: 2890 | O16: 2871 | P16: 19 | Q16: 579 | R16: 34 | S16: 32 | T16: 2 | U16: 123 | V16: 26 | W16: 18 | X16: 1012 | Y16: 7 | Z16: 1 | AA16: 61 | AB16: 943 | AC16: 0 | AD16: 96 | AE16: 0 | AF16: 96 | AG16: 0 | AH16: 144 | AI16: 57 | AJ16: 1003 | AK16: 11 | AL16: 679 | AM16: 311 | AN16: 1 | AO16: 1 | AP16: 169 | AQ16: 22 | AR16: 3 | AS16: 4 | AT16: 74 | AU16: 27 | AV16: 23 | AW16: 4 | AX16: 0 | AY16: 0 | AZ16: 652 | BA16: 2 | BB16: 0 | BC16: 1 | BD16: 358 | BE16: 0 | BF16: 7 | BG16: 287 | BH16: 4 | BI16: 28 | BJ16: 3 | BK16: 0 | BL16: 0 | BM16: 0 | BN16: 4 | BO16: 0 | BP16: 0 | BQ16: 10 | BR16: 0 | BS16: 0 | BT16: 0 | BU16: 0 | BV16: 22 | BW16: 0 | BX16: 1092
B17: 男 | C17: 10373 | D17: 1662 | E17: 0 | F17: 1349 | G17: 21 | H17: 292 | I17: 5 | J17: 450 | K17: 888 | L17: 1 | M17: 887 | N17: 2434 | O17: 2419 | P17: 15 | Q17: 503 | R17: 30 | S17: 28 | T17: 2 | U17: 101 | V17: 22 | W17: 13 | X17: 958 | Y17: 7 | Z17: 1 | AA17: 60 | AB17: 890 | AC17: 0 | AD17: 86 | AE17: 0 | AF17: 86 | AG17: 0 | AH17: 111 | AI17: 37 | AJ17: 810 | AK17: 9 | AL17: 520 | AM17: 279 | AN17: 1 | AO17: 1 | AP17: 153 | AQ17: 20 | AR17: 1 | AS17: 1 | AT17: 66 | AU17: 26 | AV17: 22 | AW17: 4 | AX17: 0 | AY17: 0 | AZ17: 601 | BA17: 2 | BB17: 0 | BC17: 1 | BD17: 312 | BE17: 0 | BF17: 7 | BG17: 188 | BH17: 4 | BI17: 21 | BJ17: 3 | BK17: 0 | BL17: 0 | BM17: 0 | BN17: 3 | BO17: 0 | BP17: 0 | BQ17: 6 | BR17: 0 | BS17: 0 | BT17: 0 | BU17: 0 | BV17: 21 | BW17: 0 | BX17: 827
B18: 女 | C18: 1800 | D18: 302 | E18: 0 | F18: 284 | G18: 1 | H18: 17 | I18: 0 | J18: 22 | K18: 93 | L18: 0 | M18: 93 | N18: 456 | O18: 452 | P18: 4 | Q18: 76 | R18: 4 | S18: 4 | T18: 0 | U18: 22 | V18: 4 | W18: 5 | X18: 54 | Y18: 0 | Z18: 0 | AA18: 1 | AB18: 53 | AC18: 0 | AD18: 10 | AE18: 0 | AF18: 10 | AG18: 0 | AH18: 33 | AI18: 20 | AJ18: 193 | AK18: 2 | AL18: 159 | AM18: 32 | AN18: 0 | AO18: 0 | AP18: 16 | AQ18: 2 | AR18: 2 | AS18: 3 | AT18: 8 | AU18: 1 | AV18: 1 | AW18: 0 | AX18: 0 | AY18: 0 | AZ18: 51 | BA18: 0 | BB18: 0 | BC18: 0 | BD18: 46 | BE18: 0 | BF18: 0 | BG18: 99 | BH18: 0 | BI18: 7 | BJ18: 0 | BK18: 0 | BL18: 0 | BM18: 0 | BN18: 1 | BO18: 0 | BP18: 0 | BQ18: 4 | BR18: 0 | BS18: 0 | BT18: 0 | BU18: 0 | BV18: 1 | BW18: 0 | BX18: 265
A19: 臺南市 | B19: 計 | C19: 8034 | D19: 1355 | E19: 0 | F19: 1224 | G19: 12 | H19: 119 | I19: 3 | J19: 80 | K19: 901 | L19: 0 | M19: 901 | N19: 1691 | O19: 1691 | P19: 0 | Q19: 409 | R19: 31 | S19: 31 | T19: 0 | U19: 521 | V19: 30 | W19: 19 | X19: 542 | Y19: 10 | Z19: 6 | AA19: 161 | AB19: 365 | AC19: 0 | AD19: 61 | AE19: 0 | AF19: 61 | AG19: 2 | AH19: 78 | AI19: 27 | AJ19: 331 | AK19: 4 | AL19: 158 | AM19: 164 | AN19: 4 | AO19: 1 | AP19: 191 | AQ19: 8 | AR19: 2 | AS19: 8 | AT19: 60 | AU19: 40 | AV19: 33 | AW19: 7 | AX19: 1 | AY19: 0 | AZ19: 320 | BA19: 2 | BB19: 0 | BC19: 0 | BD19: 380 | BE19: 0 | BF19: 9 | BG19: 218 | BH19: 4 | BI19: 28 | BJ19: 2 | BK19: 0 | BL19: 0 | BM19: 0 | BN19: 3 | BO19: 0 | BP19: 1 | BQ19: 16 | BR19: 0 | BS19: 0 | BT19: 0 | BU19: 1 | BV19: 25 | BW19: 3 | BX19: 631
B20: 男 | C20: 6700 | D20: 1103 | E20: 0 | F20: 988 | G20: 12 | H20: 103 | I20: 3 | J20: 72 | K20: 809 | L20: 0 | M20: 809 | N20: 1358 | O20: 1358 | P20: 0 | Q20: 338 | R20: 30 | S20: 30 | T20: 0 | U20: 384 | V20: 25 | W20: 17 | X20: 500 | Y20: 10 | Z20: 6 | AA20: 155 | AB20: 329 | AC20: 0 | AD20: 58 | AE20: 0 | AF20: 58 | AG20: 2 | AH20: 56 | AI20: 18 | AJ20: 301 | AK20: 3 | AL20: 138 | AM20: 155 | AN20: 4 | AO20: 1 | AP20: 177 | AQ20: 7 | AR20: 1 | AS20: 2 | AT20: 49 | AU20: 36 | AV20: 30 | AW20: 6 | AX20: 1 | AY20: 0 | AZ20: 295 | BA20: 1 | BB20: 0 | BC20: 0 | BD20: 318 | BE20: 0 | BF20: 7 | BG20: 140 | BH20: 3 | BI20: 23 | BJ20: 2 | BK20: 0 | BL20: 0 | BM20: 0 | BN20: 3 | BO20: 0 | BP20: 0 | BQ20: 11 | BR20: 0 | BS20: 0 | BT20: 0 | BU20: 1 | BV20: 25 | BW20: 2 | BX20: 522
B21: 女 | C21: 1334 | D21: 252 | E21: 0 | F21: 236 | G21: 0 | H21: 16 | I21: 0 | J21: 8 | K21: 92 | L21: 0 | M21: 92 | N21: 333 | O21: 333 | P21: 0 | Q21: 71 | R21: 1 | S21: 1 | T21: 0 | U21: 137 | V21: 5 | W21: 2 | X21: 42 | Y21: 0 | Z21: 0 | AA21: 6 | AB21: 36 | AC21: 0 | AD21: 3 | AE21: 0 | AF21: 3 | AG21: 0 | AH21: 22 | AI21: 9 | AJ21: 30 | AK21: 1 | AL21: 20 | AM21: 9 | AN21: 0 | AO21: 0 | AP21: 14 | AQ21: 1 | AR21: 1 | AS21: 6 | AT21: 11 | AU21: 4 | AV21: 3 | AW21: 1 | AX21: 0 | AY21: 0 | AZ21: 25 | BA21: 1 | BB21: 0 | BC21: 0 | BD21: 62 | BE21: 0 | BF21: 2 | BG21: 78 | BH21: 1 | BI21: 5 | BJ21: 0 | BK21: 0 | BL21: 0 | BM21: 0 | BN21: 0 | BO21: 0 | BP21: 1 | BQ21: 5 | BR21: 0 | BS21: 0 | BT21: 0 | BU21: 0 | BV21: 0 | BW21: 1 | BX21: 109
A22: 高雄市 | B22: 計 | C22: 11535 | D22: 2142 | E22: 2 | F22: 1913 | G22: 13 | H22: 214 | I22: 6 | J22: 127 | K22: 1227 | L22: 0 | M22: 1227 | N22: 2034 | O22: 2033 | P22: 1 | Q22: 418 | R22: 26 | S22: 25 | T22: 1 | U22: 581 | V22: 41 | W22: 9 | X22: 717 | Y22: 9 | Z22: 0 | AA22: 222 | AB22: 486 | AC22: 0 | AD22: 64 | AE22: 0 | AF22: 64 | AG22: 0 | AH22: 154 | AI22: 79 | AJ22: 820 | AK22: 10 | AL22: 491 | AM22: 315 | AN22: 1 | AO22: 3 | AP22: 264 | AQ22: 36 | AR22: 7 | AS22: 6 | AT22: 38 | AU22: 20 | AV22: 6 | AW22: 14 | AX22: 3 | AY22: 0 | AZ22: 453 | BA22: 1 | BB22: 0 | BC22: 0 | BD22: 734 | BE22: 0 | BF22: 32 | BG22: 289 | BH22: 7 | BI22: 28 | BJ22: 2 | BK22: 0 | BL22: 0 | BM22: 0 | BN22: 3 | BO22: 0 | BP22: 0 | BQ22: 8 | BR22: 1 | BS22: 0 | BT22: 0 | BU22: 2 | BV22: 26 | BW22: 0 | BX22: 1130
B23: 男 | C23: 9614 | D23: 1822 | E23: 0 | F23: 1614 | G23: 13 | H23: 195 | I23: 5 | J23: 111 | K23: 1081 | L23: 0 | M23: 1081 | N23: 1621 | O23: 1620 | P23: 1 | Q23: 361 | R23: 26 | S23: 25 | T23: 1 | U23: 450 | V23: 34 | W23: 9 | X23: 660 | Y23: 9 | Z23: 0 | AA23: 208 | AB23: 443 | AC23: 0 | AD23: 56 | AE23: 0 | AF23: 56 | AG23: 0 | AH23: 115 | AI23: 54 | AJ23: 634 | AK23: 2 | AL23: 361 | AM23: 267 | AN23: 1 | AO23: 3 | AP23: 240 | AQ23: 32 | AR23: 4 | AS23: 2 | AT23: 33 | AU23: 19 | AV23: 6 | AW23: 13 | AX23: 3 | AY23: 0 | AZ23: 411 | BA23: 0 | BB23: 0 | BC23: 0 | BD23: 634 | BE23: 0 | BF23: 26 | BG23: 205 | BH23: 7 | BI23: 28 | BJ23: 1 | BK23: 0 | BL23: 0 | BM23: 0 | BN23: 2 | BO23: 0 | BP23: 0 | BQ23: 7 | BR23: 1 | BS23: 0 | BT23: 0 | BU23: 2 | BV23: 26 | BW23: 0 | BX23: 892
B24: 女 | C24: 1921 | D24: 320 | E24: 2 | F24: 299 | G24: 0 | H24: 19 | I24: 1 | J24: 16 | K24: 146 | L24: 0 | M24: 146 | N24: 413 | O24: 413 | P24: 0 | Q24: 57 | R24: 0 | S24: 0 | T24: 0 | U24: 131 | V24: 7 | W24: 0 | X24: 57 | Y24: 0 | Z24: 0 | AA24: 14 | AB24: 43 | AC24: 0 | AD24: 8 | AE24: 0 | AF24: 8 | AG24: 0 | AH24: 39 | AI24: 25 | AJ24: 186 | AK24: 8 | AL24: 130 | AM24: 48 | AN24: 0 | AO24: 0 | AP24: 24 | AQ24: 4 | AR24: 3 | AS24: 4 | AT24: 5 | AU24: 1 | AV24: 0 | AW24: 1 | AX24: 0 | AY24: 0 | AZ24: 42 | BA24: 1 | BB24: 0 | BC24: 0 | BD24: 100 | BE24: 0 | BF24: 6 | BG24: 84 | BH24: 0 | BI24: 0 | BJ24: 1 | BK24: 0 | BL24: 0 | BM24: 0 | BN24: 1 | BO24: 0 | BP24: 0 | BQ24: 1 | BR24: 0 | BS24: 0 | BT24: 0 | BU24: 0 | BV24: 0 | BW24: 0 | BX24: 238
A25: 宜蘭縣 | B25: 計 | C25: 3442 | D25: 542 | E25: 0 | F25: 460 | G25: 20 | H25: 62 | I25: 0 | J25: 6 | K25: 539 | L25: 1 | M25: 538 | N25: 446 | O25: 446 | P25: 0 | Q25: 211 | R25: 4 | S25: 3 | T25: 1 | U25: 176 | V25: 20 | W25: 3 | X25: 288 | Y25: 11 | Z25: 9 | AA25: 1 | AB25: 267 | AC25: 0 | AD25: 56 | AE25: 0 | AF25: 56 | AG25: 0 | AH25: 27 | AI25: 22 | AJ25: 214 | AK25: 3 | AL25: 63 | AM25: 148 | AN25: 0 | AO25: 0 | AP25: 69 | AQ25: 6 | AR25: 1 | AS25: 0 | AT25: 9 | AU25: 7 | AV25: 1 | AW25: 6 | AX25: 1 | AY25: 1 | AZ25: 239 | BA25: 0 | BB25: 0 | BC25: 3 | BD25: 255 | BE25: 0 | BF25: 6 | BG25: 49 | BH25: 3 | BI25: 2 | BJ25: 4 | BK25: 0 | BL25: 0 | BM25: 0 | BN25: 0 | BO25: 0 | BP25: 0 | BQ25: 5 | BR25: 1 | BS25: 0 | BT25: 4 | BU25: 0 | BV25: 10 | BW25: 0 | BX25: 213
B26: 男 | C26: 2905 | D26: 466 | E26: 0 | F26: 388 | G26: 17 | H26: 61 | I26: 0 | J26: 6 | K26: 470 | L26: 0 | M26: 470 | N26: 349 | O26: 349 | P26: 0 | Q26: 181 | R26: 4 | S26: 3 | T26: 1 | U26: 134 | V26: 16 | W26: 3 | X26: 252 | Y26: 11 | Z26: 7 | AA26: 1 | AB26: 233 | AC26: 0 | AD26: 49 | AE26: 0 | AF26: 49 | AG26: 0 | AH26: 24 | AI26: 16 | AJ26: 193 | AK26: 1 | AL26: 56 | AM26: 136 | AN26: 0 | AO26: 0 | AP26: 65 | AQ26: 6 | AR26: 0 | AS26: 0 | AT26: 5 | AU26: 7 | AV26: 1 | AW26: 6 | AX26: 1 | AY26: 0 | AZ26: 226 | BA26: 0 | BB26: 0 | BC26: 3 | BD26: 207 | BE26: 0 | BF26: 6 | BG26: 33 | BH26: 3 | BI26: 2 | BJ26: 2 | BK26: 0 | BL26: 0 | BM26: 0 | BN26: 0 | BO26: 0 | BP26: 0 | BQ26: 3 | BR26: 0 | BS26: 0 | BT26: 4 | BU26: 0 | BV26: 10 | BW26: 0 | BX26: 159
B27: 女 | C27: 537 | D27: 76 | E27: 0 | F27: 72 | G27: 3 | H27: 1 | I27: 0 | J27: 0 | K27: 69 | L27: 1 | M27: 68 | N27: 97 | O27: 97 | P27: 0 | Q27: 30 | R27: 0 | S27: 0 | T27: 0 | U27: 42 | V27: 4 | W27: 0 | X27: 36 | Y27: 0 | Z27: 2 | AA27: 0 | AB27: 34 | AC27: 0 | AD27: 7 | AE27: 0 | AF27: 7 | AG27: 0 | AH27: 3 | AI27: 6 | AJ27: 21 | AK27: 2 | AL27: 7 | AM27: 12 | AN27: 0 | AO27: 0 | AP27: 4 | AQ27: 0 | AR27: 1 | AS27: 0 | AT27: 4 | AU27: 0 | AV27: 0 | AW27: 0 | AX27: 0 | AY27: 1 | AZ27: 13 | BA27: 0 | BB27: 0 | BC27: 0 | BD27: 48 | BE27: 0 | BF27: 0 | BG27: 16 | BH27: 0 | BI27: 0 | BJ27: 2 | BK27: 0 | BL27: 0 | BM27: 0 | BN27: 0 | BO27: 0 | BP27: 0 | BQ27: 2 | BR27: 1 | BS27: 0 | BT27: 0 | BU27: 0 | BV27: 0 | BW27: 0 | BX27: 54
A28: 新竹縣 | B28: 計 | C28: 2859 | D28: 522 | E28: 0 | F28: 402 | G28: 11 | H28: 109 | I28: 3 | J28: 3 | K28: 345 | L28: 1 | M28: 344 | N28: 356 | O28: 355 | P28: 1 | Q28: 145 | R28: 15 | S28: 15 | T28: 0 | U28: 109 | V28: 16 | W28: 4 | X28: 368 | Y28: 8 | Z28: 0 | AA28: 63 | AB28: 297 | AC28: 0 | AD28: 49 | AE28: 0 | AF28: 49 | AG28: 0 | AH28: 33 | AI28: 12 | AJ28: 137 | AK28: 2 | AL28: 67 | AM28: 63 | AN28: 2 | AO28: 3 | AP28: 65 | AQ28: 5 | AR28: 0 | AS28: 2 | AT28: 7 | AU28: 18 | AV28: 13 | AW28: 5 | AX28: 1 | AY28: 0 | AZ28: 72 | BA28: 0 | BB28: 0 | BC28: 0 | BD28: 226 | BE28: 0 | BF28: 1 | BG28: 40 | BH28: 0 | BI28: 3 | BJ28: 1 | BK28: 0 | BL28: 0 | BM28: 0 | BN28: 2 | BO28: 0 | BP28: 0 | BQ28: 1 | BR28: 0 | BS28: 0 | BT28: 0 | BU28: 2 | BV28: 15 | BW28: 0 | BX28: 281
B29: 男 | C29: 2446 | D29: 453 | E29: 0 | F29: 339 | G29: 11 | H29: 103 | I29: 3 | J29: 3 | K29: 304 | L29: 1 | M29: 303 | N29: 278 | O29: 277 | P29: 1 | Q29: 132 | R29: 15 | S29: 15 | T29: 0 | U29: 90 | V29: 13 | W29: 4 | X29: 336 | Y29: 8 | Z29: 0 | AA29: 55 | AB29: 273 | AC29: 0 | AD29: 47 | AE29: 0 | AF29: 47 | AG29: 0 | AH29: 28 | AI29: 12 | AJ29: 116 | AK29: 2 | AL29: 54 | AM29: 55 | AN29: 2 | AO29: 3 | AP29: 62 | AQ29: 5 | AR29: 0 | AS29: 0 | AT29: 6 | AU29: 16 | AV29: 11 | AW29: 5 | AX29: 1 | AY29: 0 | AZ29: 66 | BA29: 0 | BB29: 0 | BC29: 0 | BD29: 190 | BE29: 0 | BF29: 1 | BG29: 31 | BH29: 0 | BI29: 3 | BJ29: 0 | BK29: 0 | BL29: 0 | BM29: 0 | BN29: 2 | BO29: 0 | BP29: 0 | BQ29: 1 | BR29: 0 | BS29: 0 | BT29: 0 | BU29: 2 | BV29: 15 | BW29: 0 | BX29: 211
B30: 女 | C30: 413 | D30: 69 | E30: 0 | F30: 63 | G30: 0 | H30: 6 | I30: 0 | J30: 0 | K30: 41 | L30: 0 | M30: 41 | N30: 78 | O30: 78 | P30: 0 | Q30: 13 | R30: 0 | S30: 0 | T30: 0 | U30: 19 | V30: 3 | W30: 0 | X30: 32 | Y30: 0 | Z30: 0 | AA30: 8 | AB30: 24 | AC30: 0 | AD30: 2 | AE30: 0 | AF30: 2 | AG30: 0 | AH30: 5 | AI30: 0 | AJ30: 21 | AK30: 0 | AL30: 13 | AM30: 8 | AN30: 0 | AO30: 0 | AP30: 3 | AQ30: 0 | AR30: 0 | AS30: 2 | AT30: 1 | AU30: 2 | AV30: 2 | AW30: 0 | AX30: 0 | AY30: 0 | AZ30: 6 | BA30: 0 | BB30: 0 | BC30: 0 | BD30: 36 | BE30: 0 | BF30: 0 | BG30: 9 | BH30: 0 | BI30: 0 | BJ30: 1 | BK30: 0 | BL30: 0 | BM30: 0 | BN30: 0 | BO30: 0 | BP30: 0 | BQ30: 0 | BR30: 0 | BS30: 0 | BT30: 0 | BU30: 0 | BV30: 0 | BW30: 0 | BX30: 70
A31: 苗栗縣 | B31: 計 | C31: 2374 | D31: 621 | E31: 1 | F31: 557 | G31: 4 | H31: 59 | I31: 2 | J31: 23 | K31: 242 | L31: 4 | M31: 238 | N31: 294 | O31: 291 | P31: 3 | Q31: 102 | R31: 1 | S31: 1 | T31: 0 | U31: 81 | V31: 3 | W31: 0 | X31: 213 | Y31: 14 | Z31: 0 | AA31: 45 | AB31: 154 | AC31: 0 | AD31: 22 | AE31: 1 | AF31: 21 | AG31: 0 | AH31: 16 | AI31: 10 | AJ31: 181 | AK31: 2 | AL31: 98 | AM31: 75 | AN31: 0 | AO31: 6 | AP31: 54 | AQ31: 3 | AR31: 1 | AS31: 0 | AT31: 4 | AU31: 10 | AV31: 7 | AW31: 3 | AX31: 0 | AY31: 0 | AZ31: 105 | BA31: 0 | BB31: 0 | BC31: 0 | BD31: 191 | BE31: 0 | BF31: 8 | BG31: 29 | BH31: 0 | BI31: 6 | BJ31: 0 | BK31: 0 | BL31: 0 | BM31: 0 | BN31: 0 | BO31: 0 | BP31: 0 | BQ31: 0 | BR31: 0 | BS31: 0 | BT31: 0 | BU31: 0 | BV31: 2 | BW31: 0 | BX31: 150
B32: 男 | C32: 2058 | D32: 531 | E32: 0 | F32: 471 | G32: 4 | H32: 56 | I32: 2 | J32: 23 | K32: 225 | L32: 4 | M32: 221 | N32: 232 | O32: 231 | P32: 1 | Q32: 90 | R32: 1 | S32: 1 | T32: 0 | U32: 67 | V32: 3 | W32: 0 | X32: 203 | Y32: 13 | Z32: 0 | AA32: 43 | AB32: 147 | AC32: 0 | AD32: 18 | AE32: 1 | AF32: 17 | AG32: 0 | AH32: 12 | AI32: 9 | AJ32: 151 | AK32: 1 | AL32: 76 | AM32: 69 | AN32: 0 | AO32: 5 | AP32: 53 | AQ32: 2 | AR32: 1 | AS32: 0 | AT32: 3 | AU32: 9 | AV32: 6 | AW32: 3 | AX32: 0 | AY32: 0 | AZ32: 102 | BA32: 0 | BB32: 0 | BC32: 0 | BD32: 165 | BE32: 0 | BF32: 7 | BG32: 20 | BH32: 0 | BI32: 6 | BJ32: 0 | BK32: 0 | BL32: 0 | BM32: 0 | BN32: 0 | BO32: 0 | BP32: 0 | BQ32: 0 | BR32: 0 | BS32: 0 | BT32: 0 | BU32: 0 | BV32: 2 | BW32: 0 | BX32: 121
B33: 女 | C33: 316 | D33: 90 | E33: 1 | F33: 86 | G33: 0 | H33: 3 | I33: 0 | J33: 0 | K33: 17 | L33: 0 | M33: 17 | N33: 62 | O33: 60 | P33: 2 | Q33: 12 | R33: 0 | S33: 0 | T33: 0 | U33: 14 | V33: 0 | W33: 0 | X33: 10 | Y33: 1 | Z33: 0 | AA33: 2 | AB33: 7 | AC33: 0 | AD33: 4 | AE33: 0 | AF33: 4 | AG33: 0 | AH33: 4 | AI33: 1 | AJ33: 30 | AK33: 1 | AL33: 22 | AM33: 6 | AN33: 0 | AO33: 1 | AP33: 1 | AQ33: 1 | AR33: 0 | AS33: 0 | AT33: 1 | AU33: 1 | AV33: 1 | AW33: 0 | AX33: 0 | AY33: 0 | AZ33: 3 | BA33: 0 | BB33: 0 | BC33: 0 | BD33: 26 | BE33: 0 | BF33: 1 | BG33: 9 | BH33: 0 | BI33: 0 | BJ33: 0 | BK33: 0 | BL33: 0 | BM33: 0 | BN33: 0 | BO33: 0 | BP33: 0 | BQ33: 0 | BR33: 0 | BS33: 0 | BT33: 0 | BU33: 0 | BV33: 0 | BW33: 0 | BX33: 29
A34: 彰化縣 | B34: 計 | C34: 6119 | D34: 902 | E34: 0 | F34: 768 | G34: 13 | H34: 121 | I34: 2 | J34: 57 | K34: 906 | L34: 1 | M34: 905 | N34: 1068 | O34: 1068 | P34: 0 | Q34: 280 | R34: 6 | S34: 4 | T34: 2 | U34: 291 | V34: 21 | W34: 18 | X34: 551 | Y34: 12 | Z34: 3 | AA34: 46 | AB34: 490 | AC34: 0 | AD34: 62 | AE34: 0 | AF34: 62 | AG34: 0 | AH34: 67 | AI34: 31 | AJ34: 299 | AK34: 3 | AL34: 149 | AM34: 143 | AN34: 2 | AO34: 2 | AP34: 101 | AQ34: 10 | AR34: 2 | AS34: 13 | AT34: 32 | AU34: 7 | AV34: 5 | AW34: 2 | AX34: 0 | AY34: 0 | AZ34: 474 | BA34: 0 | BB34: 0 | BC34: 0 | BD34: 201 | BE34: 0 | BF34: 15 | BG34: 138 | BH34: 6 | BI34: 16 | BJ34: 0 | BK34: 0 | BL34: 0 | BM34: 0 | BN34: 7 | BO34: 0 | BP34: 0 | BQ34: 7 | BR34: 0 | BS34: 0 | BT34: 0 | BU34: 0 | BV34: 8 | BW34: 0 | BX34: 521
B35: 男 | C35: 5205 | D35: 766 | E35: 0 | F35: 640 | G35: 11 | H35: 115 | I35: 2 | J35: 56 | K35: 820 | L35: 1 | M35: 819 | N35: 863 | O35: 863 | P35: 0 | Q35: 256 | R35: 5 | S35: 4 | T35: 1 | U35: 247 | V35: 19 | W35: 15 | X35: 494 | Y35: 7 | Z35: 3 | AA35: 45 | AB35: 439 | AC35: 0 | AD35: 54 | AE35: 0 | AF35: 54 | AG35: 0 | AH35: 54 | AI35: 24 | AJ35: 260 | AK35: 3 | AL35: 125 | AM35: 129 | AN35: 1 | AO35: 2 | AP35: 93 | AQ35: 10 | AR35: 2 | AS35: 2 | AT35: 28 | AU35: 6 | AV35: 4 | AW35: 2 | AX35: 0 | AY35: 0 | AZ35: 420 | BA35: 0 | BB35: 0 | BC35: 0 | BD35: 178 | BE35: 0 | BF35: 13 | BG35: 97 | BH35: 5 | BI35: 13 | BJ35: 0 | BK35: 0 | BL35: 0 | BM35: 0 | BN35: 6 | BO35: 0 | BP35: 0 | BQ35: 6 | BR35: 0 | BS35: 0 | BT35: 0 | BU35: 0 | BV35: 8 | BW35: 0 | BX35: 383
B36: 女 | C36: 914 | D36: 136 | E36: 0 | F36: 128 | G36: 2 | H36: 6 | I36: 0 | J36: 1 | K36: 86 | L36: 0 | M36: 86 | N36: 205 | O36: 205 | P36: 0 | Q36: 24 | R36: 1 | S36: 0 | T36: 1 | U36: 44 | V36: 2 | W36: 3 | X36: 57 | Y36: 5 | Z36: 0 | AA36: 1 | AB36: 51 | AC36: 0 | AD36: 8 | AE36: 0 | AF36: 8 | AG36: 0 | AH36: 13 | AI36: 7 | AJ36: 39 | AK36: 0 | AL36: 24 | AM36: 14 | AN36: 1 | AO36: 0 | AP36: 8 | AQ36: 0 | AR36: 0 | AS36: 11 | AT36: 4 | AU36: 1 | AV36: 1 | AW36: 0 | AX36: 0 | AY36: 0 | AZ36: 54 | BA36: 0 | BB36: 0 | BC36: 0 | BD36: 23 | BE36: 0 | BF36: 2 | BG36: 41 | BH36: 1 | BI36: 3 | BJ36: 0 | BK36: 0 | BL36: 0 | BM36: 0 | BN36: 1 | BO36: 0 | BP36: 0 | BQ36: 1 | BR36: 0 | BS36: 0 | BT36: 0 | BU36: 0 | BV36: 0 | BW36: 0 | BX36: 138
A37: 南投縣 | B37: 計 | C37: 3185 | D37: 521 | E37: 0 | F37: 435 | G37: 6 | H37: 80 | I37: 2 | J37: 31 | K37: 403 | L37: 1 | M37: 402 | N37: 605 | O37: 603 | P37: 2 | Q37: 159 | R37: 15 | S37: 11 | T37: 4 | U37: 91 | V37: 10 | W37: 3 | X37: 248 | Y37: 36 | Z37: 21 | AA37: 22 | AB37: 169 | AC37: 0 | AD37: 43 | AE37: 0 | AF37: 43 | AG37: 0 | AH37: 24 | AI37: 22 | AJ37: 134 | AK37: 3 | AL37: 76 | AM37: 50 | AN37: 0 | AO37: 5 | AP37: 70 | AQ37: 5 | AR37: 2 | AS37: 0 | AT37: 17 | AU37: 15 | AV37: 14 | AW37: 1 | AX37: 0 | AY37: 0 | AZ37: 164 | BA37: 0 | BB37: 0 | BC37: 0 | BD37: 212 | BE37: 0 | BF37: 0 | BG37: 57 | BH37: 11 | BI37: 10 | BJ37: 0 | BK37: 0 | BL37: 0 | BM37: 0 | BN37: 1 | BO37: 0 | BP37: 1 | BQ37: 8 | BR37: 1 | BS37: 0 | BT37: 0 | BU37: 1 | BV37: 8 | BW37: 0 | BX37: 291
B38: 男 | C38: 2712 | D38: 475 | E38: 0 | F38: 391 | G38: 4 | H38: 80 | I38: 0 | J38: 29 | K38: 369 | L38: 1 | M38: 368 | N38: 438 | O38: 437 | P38: 1 | Q38: 135 | R38: 13 | S38: 9 | T38: 4 | U38: 76 | V38: 9 | W38: 1 | X38: 234 | Y38: 36 | Z38: 20 | AA38: 21 | AB38: 157 | AC38: 0 | AD38: 37 | AE38: 0 | AF38: 37 | AG38: 0 | AH38: 20 | AI38: 10 | AJ38: 119 | AK38: 3 | AL38: 65 | AM38: 46 | AN38: 0 | AO38: 5 | AP38: 63 | AQ38: 5 | AR38: 2 | AS38: 0 | AT38: 16 | AU38: 15 | AV38: 14 | AW38: 1 | AX38: 0 | AY38: 0 | AZ38: 149 | BA38: 0 | BB38: 0 | BC38: 0 | BD38: 179 | BE38: 0 | BF38: 0 | BG38: 39 | BH38: 11 | BI38: 9 | BJ38: 0 | BK38: 0 | BL38: 0 | BM38: 0 | BN38: 0 | BO38: 0 | BP38: 1 | BQ38: 5 | BR38: 0 | BS38: 0 | BT38: 0 | BU38: 0 | BV38: 7 | BW38: 0 | BX38: 246
B39: 女 | C39: 473 | D39: 46 | E39: 0 | F39: 44 | G39: 2 | H39: 0 | I39: 2 | J39: 2 | K39: 34 | L39: 0 | M39: 34 | N39: 167 | O39: 166 | P39: 1 | Q39: 24 | R39: 2 | S39: 2 | T39: 0 | U39: 15 | V39: 1 | W39: 2 | X39: 14 | Y39: 0 | Z39: 1 | AA39: 1 | AB39: 12 | AC39: 0 | AD39: 6 | AE39: 0 | AF39: 6 | AG39: 0 | AH39: 4 | AI39: 12 | AJ39: 15 | AK39: 0 | AL39: 11 | AM39: 4 | AN39: 0 | AO39: 0 | AP39: 7 | AQ39: 0 | AR39: 0 | AS39: 0 | AT39: 1 | AU39: 0 | AV39: 0 | AW39: 0 | AX39: 0 | AY39: 0 | AZ39: 15 | BA39: 0 | BB39: 0 | BC39: 0 | BD39: 33 | BE39: 0 | BF39: 0 | BG39: 18 | BH39: 0 | BI39: 1 | BJ39: 0 | BK39: 0 | BL39: 0 | BM39: 0 | BN39: 1 | BO39: 0 | BP39: 0 | BQ39: 3 | BR39: 1 | BS39: 0 | BT39: 0 | BU39: 1 | BV39: 1 | BW39: 0 | BX39: 45
A40: 雲林縣 | B40: 計 | C40: 3124 | D40: 543 | E40: 0 | F40: 466 | G40: 7 | H40: 70 | I40: 0 | J40: 80 | K40: 238 | L40: 0 | M40: 238 | N40: 634 | O40: 627 | P40: 7 | Q40: 180 | R40: 3 | S40: 2 | T40: 1 | U40: 103 | V40: 12 | W40: 3 | X40: 245 | Y40: 2 | Z40: 0 | AA40: 25 | AB40: 218 | AC40: 0 | AD40: 22 | AE40: 0 | AF40: 22 | AG40: 0 | AH40: 19 | AI40: 25 | AJ40: 156 | AK40: 4 | AL40: 94 | AM40: 56 | AN40: 1 | AO40: 1 | AP40: 48 | AQ40: 10 | AR40: 1 | AS40: 0 | AT40: 10 | AU40: 8 | AV40: 8 | AW40: 0 | AX40: 0 | AY40: 0 | AZ40: 274 | BA40: 1 | BB40: 0 | BC40: 0 | BD40: 97 | BE40: 0 | BF40: 5 | BG40: 74 | BH40: 0 | BI40: 8 | BJ40: 0 | BK40: 0 | BL40: 0 | BM40: 0 | BN40: 1 | BO40: 0 | BP40: 0 | BQ40: 2 | BR40: 0 | BS40: 0 | BT40: 2 | BU40: 0 | BV40: 5 | BW40: 0 | BX40: 315
B41: 男 | C41: 2681 | D41: 459 | E41: 0 | F41: 385 | G41: 7 | H41: 67 | I41: 0 | J41: 79 | K41: 212 | L41: 0 | M41: 212 | N41: 518 | O41: 514 | P41: 4 | Q41: 167 | R41: 3 | S41: 2 | T41: 1 | U41: 88 | V41: 11 | W41: 2 | X41: 214 | Y41: 2 | Z41: 0 | AA41: 19 | AB41: 193 | AC41: 0 | AD41: 20 | AE41: 0 | AF41: 20 | AG41: 0 | AH41: 16 | AI41: 22 | AJ41: 129 | AK41: 2 | AL41: 79 | AM41: 48 | AN41: 0 | AO41: 0 | AP41: 46 | AQ41: 10 | AR41: 1 | AS41: 0 | AT41: 8 | AU41: 6 | AV41: 6 | AW41: 0 | AX41: 0 | AY41: 0 | AZ41: 250 | BA41: 1 | BB41: 0 | BC41: 0 | BD41: 83 | BE41: 0 | BF41: 3 | BG41: 46 | BH41: 0 | BI41: 8 | BJ41: 0 | BK41: 0 | BL41: 0 | BM41: 0 | BN41: 1 | BO41: 0 | BP41: 0 | BQ41: 1 | BR41: 0 | BS41: 0 | BT41: 1 | BU41: 0 | BV41: 5 | BW41: 0 | BX41: 271
B42: 女 | C42: 443 | D42: 84 | E42: 0 | F42: 81 | G42: 0 | H42: 3 | I42: 0 | J42: 1 | K42: 26 | L42: 0 | M42: 26 | N42: 116 | O42: 113 | P42: 3 | Q42: 13 | R42: 0 | S42: 0 | T42: 0 | U42: 15 | V42: 1 | W42: 1 | X42: 31 | Y42: 0 | Z42: 0 | AA42: 6 | AB42: 25 | AC42: 0 | AD42: 2 | AE42: 0 | AF42: 2 | AG42: 0 | AH42: 3 | AI42: 3 | AJ42: 27 | AK42: 2 | AL42: 15 | AM42: 8 | AN42: 1 | AO42: 1 | AP42: 2 | AQ42: 0 | AR42: 0 | AS42: 0 | AT42: 2 | AU42: 2 | AV42: 2 | AW42: 0 | AX42: 0 | AY42: 0 | AZ42: 24 | BA42: 0 | BB42: 0 | BC42: 0 | BD42: 14 | BE42: 0 | BF42: 2 | BG42: 28 | BH42: 0 | BI42: 0 | BJ42: 0 | BK42: 0 | BL42: 0 | BM42: 0 | BN42: 0 | BO42: 0 | BP42: 0 | BQ42: 1 | BR42: 0 | BS42: 0 | BT42: 1 | BU42: 0 | BV42: 0 | BW42: 0 | BX42: 44
A43: 嘉義縣 | B43: 計 | C43: 2553 | D43: 370 | E43: 0 | F43: 334 | G43: 8 | H43: 28 | I43: 1 | J43: 48 | K43: 224 | L43: 0 | M43: 224 | N43: 670 | O43: 667 | P43: 3 | Q43: 115 | R43: 18 | S43: 18 | T43: 0 | U43: 101 | V43: 10 | W43: 0 | X43: 177 | Y43: 16 | Z43: 0 | AA43: 19 | AB43: 142 | AC43: 0 | AD43: 6 | AE43: 0 | AF43: 6 | AG43: 0 | AH43: 11 | AI43: 14 | AJ43: 220 | AK43: 3 | AL43: 91 | AM43: 124 | AN43: 0 | AO43: 2 | AP43: 59 | AQ43: 3 | AR43: 1 | AS43: 0 | AT43: 17 | AU43: 0 | AV43: 0 | AW43: 0 | AX43: 1 | AY43: 0 | AZ43: 115 | BA43: 1 | BB43: 0 | BC43: 0 | BD43: 62 | BE43: 0 | BF43: 4 | BG43: 42 | BH43: 3 | BI43: 3 | BJ43: 0 | BK43: 0 | BL43: 0 | BM43: 0 | BN43: 1 | BO43: 0 | BP43: 0 | BQ43: 1 | BR43: 0 | BS43: 0 | BT43: 0 | BU43: 0 | BV43: 5 | BW43: 0 | BX43: 250
B44: 男 | C44: 2129 | D44: 320 | E44: 0 | F44: 285 | G44: 8 | H44: 27 | I44: 1 | J44: 45 | K44: 206 | L44: 0 | M44: 206 | N44: 492 | O44: 489 | P44: 3 | Q44: 98 | R44: 15 | S44: 15 | T44: 0 | U44: 76 | V44: 9 | W44: 0 | X44: 167 | Y44: 16 | Z44: 0 | AA44: 19 | AB44: 132 | AC44: 0 | AD44: 5 | AE44: 0 | AF44: 5 | AG44: 0 | AH44: 8 | AI44: 10 | AJ44: 192 | AK44: 3 | AL44: 72 | AM44: 115 | AN44: 0 | AO44: 2 | AP44: 57 | AQ44: 3 | AR44: 1 | AS44: 0 | AT44: 14 | AU44: 0 | AV44: 0 | AW44: 0 | AX44: 1 | AY44: 0 | AZ44: 107 | BA44: 0 | BB44: 0 | BC44: 0 | BD44: 54 | BE44: 0 | BF44: 3 | BG44: 22 | BH44: 3 | BI44: 2 | BJ44: 0 | BK44: 0 | BL44: 0 | BM44: 0 | BN44: 0 | BO44: 0 | BP44: 0 | BQ44: 1 | BR44: 0 | BS44: 0 | BT44: 0 | BU44: 0 | BV44: 5 | BW44: 0 | BX44: 212
B45: 女 | C45: 424 | D45: 50 | E45: 0 | F45: 49 | G45: 0 | H45: 1 | I45: 0 | J45: 3 | K45: 18 | L45: 0 | M45: 18 | N45: 178 | O45: 178 | P45: 0 | Q45: 17 | R45: 3 | S45: 3 | T45: 0 | U45: 25 | V45: 1 | W45: 0 | X45: 10 | Y45: 0 | Z45: 0 | AA45: 0 | AB45: 10 | AC45: 0 | AD45: 1 | AE45: 0 | AF45: 1 | AG45: 0 | AH45: 3 | AI45: 4 | AJ45: 28 | AK45: 0 | AL45: 19 | AM45: 9 | AN45: 0 | AO45: 0 | AP45: 2 | AQ45: 0 | AR45: 0 | AS45: 0 | AT45: 3 | AU45: 0 | AV45: 0 | AW45: 0 | AX45: 0 | AY45: 0 | AZ45: 8 | BA45: 1 | BB45: 0 | BC45: 0 | BD45: 8 | BE45: 0 | BF45: 1 | BG45: 20 | BH45: 0 | BI45: 1 | BJ45: 0 | BK45: 0 | BL45: 0 | BM45: 0 | BN45: 1 | BO45: 0 | BP45: 0 | BQ45: 0 | BR45: 0 | BS45: 0 | BT45: 0 | BU45: 0 | BV45: 0 | BW45: 0 | BX45: 38
A46: 屏東縣 | B46: 計 | C46: 3419 | D46: 562 | E46: 0 | F46: 455 | G46: 7 | H46: 100 | I46: 4 | J46: 31 | K46: 401 | L46: 0 | M46: 401 | N46: 270 | O46: 270 | P46: 0 | Q46: 136 | R46: 17 | S46: 17 | T46: 0 | U46: 141 | V46: 13 | W46: 1 | X46: 366 | Y46: 3 | Z46: 0 | AA46: 24 | AB46: 339 | AC46: 0 | AD46: 27 | AE46: 0 | AF46: 27 | AG46: 0 | AH46: 24 | AI46: 14 | AJ46: 339 | AK46: 2 | AL46: 230 | AM46: 97 | AN46: 9 | AO46: 1 | AP46: 56 | AQ46: 8 | AR46: 1 | AS46: 0 | AT46: 6 | AU46: 14 | AV46: 9 | AW46: 5 | AX46: 2 | AY46: 1 | AZ46: 233 | BA46: 0 | BB46: 0 | BC46: 0 | BD46: 275 | BE46: 0 | BF46: 18 | BG46: 55 | BH46: 4 | BI46: 9 | BJ46: 0 | BK46: 0 | BL46: 0 | BM46: 0 | BN46: 2 | BO46: 0 | BP46: 1 | BQ46: 3 | BR46: 0 | BS46: 0 | BT46: 0 | BU46: 0 | BV46: 6 | BW46: 0 | BX46: 379
B47: 男 | C47: 2931 | D47: 474 | E47: 0 | F47: 373 | G47: 7 | H47: 94 | I47: 4 | J47: 29 | K47: 375 | L47: 0 | M47: 375 | N47: 203 | O47: 203 | P47: 0 | Q47: 124 | R47: 17 | S47: 17 | T47: 0 | U47: 110 | V47: 13 | W47: 1 | X47: 334 | Y47: 3 | Z47: 0 | AA47: 24 | AB47: 307 | AC47: 0 | AD47: 22 | AE47: 0 | AF47: 22 | AG47: 0 | AH47: 15 | AI47: 9 | AJ47: 298 | AK47: 2 | AL47: 194 | AM47: 92 | AN47: 9 | AO47: 1 | AP47: 53 | AQ47: 8 | AR47: 1 | AS47: 0 | AT47: 5 | AU47: 13 | AV47: 8 | AW47: 5 | AX47: 1 | AY47: 1 | AZ47: 223 | BA47: 0 | BB47: 0 | BC47: 0 | BD47: 236 | BE47: 0 | BF47: 17 | BG47: 40 | BH47: 4 | BI47: 9 | BJ47: 0 | BK47: 0 | BL47: 0 | BM47: 0 | BN47: 2 | BO47: 0 | BP47: 1 | BQ47: 3 | BR47: 0 | BS47: 0 | BT47: 0 | BU47: 0 | BV47: 6 | BW47: 0 | BX47: 280
B48: 女 | C48: 488 | D48: 88 | E48: 0 | F48: 82 | G48: 0 | H48: 6 | I48: 0 | J48: 2 | K48: 26 | L48: 0 | M48: 26 | N48: 67 | O48: 67 | P48: 0 | Q48: 12 | R48: 0 | S48: 0 | T48: 0 | U48: 31 | V48: 0 | W48: 0 | X48: 32 | Y48: 0 | Z48: 0 | AA48: 0 | AB48: 32 | AC48: 0 | AD48: 5 | AE48: 0 | AF48: 5 | AG48: 0 | AH48: 9 | AI48: 5 | AJ48: 41 | AK48: 0 | AL48: 36 | AM48: 5 | AN48: 0 | AO48: 0 | AP48: 3 | AQ48: 0 | AR48: 0 | AS48: 0 | AT48: 1 | AU48: 1 | AV48: 1 | AW48: 0 | AX48: 1 | AY48: 0 | AZ48: 10 | BA48: 0 | BB48: 0 | BC48: 0 | BD48: 39 | BE48: 0 | BF48: 1 | BG48: 15 | BH48: 0 | BI48: 0 | BJ48: 0 | BK48: 0 | BL48: 0 | BM48: 0 | BN48: 0 | BO48: 0 | BP48: 0 | BQ48: 0 | BR48: 0 | BS48: 0 | BT48: 0 | BU48: 0 | BV48: 0 | BW48: 0 | BX48: 99
A49: 臺東縣 | B49: 計 | C49: 1403 | D49: 239 | E49: 0 | F49: 178 | G49: 6 | H49: 55 | I49: 1 | J49: 0 | K49: 220 | L49: 0 | M49: 220 | N49: 69 | O49: 69 | P49: 0 | Q49: 34 | R49: 7 | S49: 5 | T49: 2 | U49: 33 | V49: 2 | W49: 1 | X49: 249 | Y49: 1 | Z49: 0 | AA49: 41 | AB49: 207 | AC49: 0 | AD49: 2 | AE49: 0 | AF49: 2 | AG49: 2 | AH49: 15 | AI49: 3 | AJ49: 50 | AK49: 0 | AL49: 42 | AM49: 7 | AN49: 0 | AO49: 1 | AP49: 16 | AQ49: 3 | AR49: 0 | AS49: 0 | AT49: 3 | AU49: 4 | AV49: 4 | AW49: 0 | AX49: 0 | AY49: 0 | AZ49: 41 | BA49: 0 | BB49: 0 | BC49: 1 | BD49: 163 | BE49: 0 | BF49: 1 | BG49: 15 | BH49: 0 | BI49: 4 | BJ49: 0 | BK49: 0 | BL49: 0 | BM49: 0 | BN49: 0 | BO49: 0 | BP49: 0 | BQ49: 3 | BR49: 0 | BS49: 0 | BT49: 0 | BU49: 1 | BV49: 7 | BW49: 0 | BX49: 214
B50: 男 | C50: 1153 | D50: 211 | E50: 0 | F50: 154 | G50: 5 | H50: 52 | I50: 1 | J50: 0 | K50: 185 | L50: 0 | M50: 185 | N50: 41 | O50: 41 | P50: 0 | Q50: 31 | R50: 7 | S50: 5 | T50: 2 | U50: 24 | V50: 2 | W50: 1 | X50: 219 | Y50: 1 | Z50: 0 | AA50: 33 | AB50: 185 | AC50: 0 | AD50: 1 | AE50: 0 | AF50: 1 | AG50: 2 | AH50: 12 | AI50: 1 | AJ50: 33 | AK50: 0 | AL50: 27 | AM50: 5 | AN50: 0 | AO50: 1 | AP50: 13 | AQ50: 3 | AR50: 0 | AS50: 0 | AT50: 3 | AU50: 4 | AV50: 4 | AW50: 0 | AX50: 0 | AY50: 0 | AZ50: 40 | BA50: 0 | BB50: 0 | BC50: 1 | BD50: 123 | BE50: 0 | BF50: 1 | BG50: 6 | BH50: 0 | BI50: 4 | BJ50: 0 | BK50: 0 | BL50: 0 | BM50: 0 | BN50: 0 | BO50: 0 | BP50: 0 | BQ50: 2 | BR50: 0 | BS50: 0 | BT50: 0 | BU50: 1 | BV50: 7 | BW50: 0 | BX50: 174
B51: 女 | C51: 250 | D51: 28 | E51: 0 | F51: 24 | G51: 1 | H51: 3 | I51: 0 | J51: 0 | K51: 35 | L51: 0 | M51: 35 | N51: 28 | O51: 28 | P51: 0 | Q51: 3 | R51: 0 | S51: 0 | T51: 0 | U51: 9 | V51: 0 | W51: 0 | X51: 30 | Y51: 0 | Z51: 0 | AA51: 8 | AB51: 22 | AC51: 0 | AD51: 1 | AE51: 0 | AF51: 1 | AG51: 0 | AH51: 3 | AI51: 2 | AJ51: 17 | AK51: 0 | AL51: 15 | AM51: 2 | AN51: 0 | AO51: 0 | AP51: 3 | AQ51: 0 | AR51: 0 | AS51: 0 | AT51: 0 | AU51: 0 | AV51: 0 | AW51: 0 | AX51: 0 | AY51: 0 | AZ51: 1 | BA51: 0 | BB51: 0 | BC51: 0 | BD51: 40 | BE51: 0 | BF51: 0 | BG51: 9 | BH51: 0 | BI51: 0 | BJ51: 0 | BK51: 0 | BL51: 0 | BM51: 0 | BN51: 0 | BO51: 0 | BP51: 0 | BQ51: 1 | BR51: 0 | BS51: 0 | BT51: 0 | BU51: 0 | BV51: 0 | BW51: 0 | BX51: 40
A52: 花蓮縣 | B52: 計 | C52: 2755 | D52: 646 | E52: 0 | F52: 548 | G52: 8 | H52: 90 | I52: 4 | J52: 6 | K52: 342 | L52: 0 | M52: 342 | N52: 202 | O52: 202 | P52: 0 | Q52: 133 | R52: 41 | S52: 41 | T52: 0 | U52: 51 | V52: 10 | W52: 6 | X52: 270 | Y52: 16 | Z52: 3 | AA52: 13 | AB52: 238 | AC52: 0 | AD52: 9 | AE52: 0 | AF52: 9 | AG52: 0 | AH52: 19 | AI52: 15 | AJ52: 166 | AK52: 0 | AL52: 103 | AM52: 59 | AN52: 2 | AO52: 2 | AP52: 61 | AQ52: 5 | AR52: 0 | AS52: 0 | AT52: 10 | AU52: 21 | AV52: 10 | AW52: 11 | AX52: 0 | AY52: 0 | AZ52: 113 | BA52: 2 | BB52: 0 | BC52: 0 | BD52: 293 | BE52: 0 | BF52: 2 | BG52: 67 | BH52: 1 | BI52: 8 | BJ52: 0 | BK52: 0 | BL52: 0 | BM52: 0 | BN52: 0 | BO52: 0 | BP52: 0 | BQ52: 2 | BR52: 0 | BS52: 0 | BT52: 1 | BU52: 0 | BV52: 9 | BW52: 0 | BX52: 240
B53: 男 | C53: 2319 | D53: 564 | E53: 0 | F53: 474 | G53: 7 | H53: 83 | I53: 4 | J53: 6 | K53: 307 | L53: 0 | M53: 307 | N53: 140 | O53: 140 | P53: 0 | Q53: 118 | R53: 40 | S53: 40 | T53: 0 | U53: 35 | V53: 7 | W53: 6 | X53: 248 | Y53: 15 | Z53: 3 | AA53: 13 | AB53: 217 | AC53: 0 | AD53: 6 | AE53: 0 | AF53: 6 | AG53: 0 | AH53: 14 | AI53: 9 | AJ53: 135 | AK53: 0 | AL53: 80 | AM53: 51 | AN53: 2 | AO53: 2 | AP53: 54 | AQ53: 5 | AR53: 0 | AS53: 0 | AT53: 10 | AU53: 20 | AV53: 9 | AW53: 11 | AX53: 0 | AY53: 0 | AZ53: 109 | BA53: 0 | BB53: 0 | BC53: 0 | BD53: 222 | BE53: 0 | BF53: 2 | BG53: 41 | BH53: 1 | BI53: 4 | BJ53: 0 | BK53: 0 | BL53: 0 | BM53: 0 | BN53: 0 | BO53: 0 | BP53: 0 | BQ53: 0 | BR53: 0 | BS53: 0 | BT53: 1 | BU53: 0 | BV53: 9 | BW53: 0 | BX53: 202
B54: 女 | C54: 436 | D54: 82 | E54: 0 | F54: 74 | G54: 1 | H54: 7 | I54: 0 | J54: 0 | K54: 35 | L54: 0 | M54: 35 | N54: 62 | O54: 62 | P54: 0 | Q54: 15 | R54: 1 | S54: 1 | T54: 0 | U54: 16 | V54: 3 | W54: 0 | X54: 22 | Y54: 1 | Z54: 0 | AA54: 0 | AB54: 21 | AC54: 0 | AD54: 3 | AE54: 0 | AF54: 3 | AG54: 0 | AH54: 5 | AI54: 6 | AJ54: 31 | AK54: 0 | AL54: 23 | AM54: 8 | AN54: 0 | AO54: 0 | AP54: 7 | AQ54: 0 | AR54: 0 | AS54: 0 | AT54: 0 | AU54: 1 | AV54: 1 | AW54: 0 | AX54: 0 | AY54: 0 | AZ54: 4 | BA54: 2 | BB54: 0 | BC54: 0 | BD54: 71 | BE54: 0 | BF54: 0 | BG54: 26 | BH54: 0 | BI54: 4 | BJ54: 0 | BK54: 0 | BL54: 0 | BM54: 0 | BN54: 0 | BO54: 0 | BP54: 0 | BQ54: 2 | BR54: 0 | BS54: 0 | BT54: 0 | BU54: 0 | BV54: 0 | BW54: 0 | BX54: 38
A55: 澎湖縣 | B55: 計 | C55: 672 | D55: 189 | E55: 1 | F55: 145 | G55: 9 | H55: 34 | I55: 1 | J55: 0 | K55: 141 | L55: 0 | M55: 141 | N55: 35 | O55: 35 | P55: 0 | Q55: 22 | R55: 4 | S55: 4 | T55: 0 | U55: 17 | V55: 2 | W55: 0 | X55: 25 | Y55: 11 | Z55: 0 | AA55: 1 | AB55: 13 | AC55: 0 | AD55: 3 | AE55: 0 | AF55: 3 | AG55: 0 | AH55: 2 | AI55: 6 | AJ55: 45 | AK55: 0 | AL55: 34 | AM55: 11 | AN55: 0 | AO55: 0 | AP55: 13 | AQ55: 0 | AR55: 0 | AS55: 1 | AT55: 7 | AU55: 0 | AV55: 0 | AW55: 0 | AX55: 1 | AY55: 0 | AZ55: 17 | BA55: 0 | BB55: 0 | BC55: 0 | BD55: 40 | BE55: 0 | BF55: 0 | BG55: 24 | BH55: 0 | BI55: 12 | BJ55: 0 | BK55: 0 | BL55: 0 | BM55: 0 | BN55: 0 | BO55: 0 | BP55: 0 | BQ55: 0 | BR55: 0 | BS55: 0 | BT55: 0 | BU55: 0 | BV55: 2 | BW55: 0 | BX55: 63
B56: 男 | C56: 577 | D56: 165 | E56: 1 | F56: 124 | G56: 8 | H56: 32 | I56: 1 | J56: 0 | K56: 130 | L56: 0 | M56: 130 | N56: 25 | O56: 25 | P56: 0 | Q56: 17 | R56: 4 | S56: 4 | T56: 0 | U56: 9 | V56: 2 | W56: 0 | X56: 25 | Y56: 11 | Z56: 0 | AA56: 1 | AB56: 13 | AC56: 0 | AD56: 3 | AE56: 0 | AF56: 3 | AG56: 0 | AH56: 1 | AI56: 2 | AJ56: 44 | AK56: 0 | AL56: 33 | AM56: 11 | AN56: 0 | AO56: 0 | AP56: 13 | AQ56: 0 | AR56: 0 | AS56: 0 | AT56: 6 | AU56: 0 | AV56: 0 | AW56: 0 | AX56: 1 | AY56: 0 | AZ56: 11 | BA56: 0 | BB56: 0 | BC56: 0 | BD56: 33 | BE56: 0 | BF56: 0 | BG56: 16 | BH56: 0 | BI56: 10 | BJ56: 0 | BK56: 0 | BL56: 0 | BM56: 0 | BN56: 0 | BO56: 0 | BP56: 0 | BQ56: 0 | BR56: 0 | BS56: 0 | BT56: 0 | BU56: 0 | BV56: 2 | BW56: 0 | BX56: 57
B57: 女 | C57: 95 | D57: 24 | E57: 0 | F57: 21 | G57: 1 | H57: 2 | I57: 0 | J57: 0 | K57: 11 | L57: 0 | M57: 11 | N57: 10 | O57: 10 | P57: 0 | Q57: 5 | R57: 0 | S57: 0 | T57: 0 | U57: 8 | V57: 0 | W57: 0 | X57: 0 | Y57: 0 | Z57: 0 | AA57: 0 | AB57: 0 | AC57: 0 | AD57: 0 | AE57: 0 | AF57: 0 | AG57: 0 | AH57: 1 | AI57: 4 | AJ57: 1 | AK57: 0 | AL57: 1 | AM57: 0 | AN57: 0 | AO57: 0 | AP57: 0 | AQ57: 0 | AR57: 0 | AS57: 1 | AT57: 1 | AU57: 0 | AV57: 0 | AW57: 0 | AX57: 0 | AY57: 0 | AZ57: 6 | BA57: 0 | BB57: 0 | BC57: 0 | BD57: 7 | BE57: 0 | BF57: 0 | BG57: 8 | BH57: 0 | BI57: 2 | BJ57: 0 | BK57: 0 | BL57: 0 | BM57: 0 | BN57: 0 | BO57: 0 | BP57: 0 | BQ57: 0 | BR57: 0 | BS57: 0 | BT57: 0 | BU57: 0 | BV57: 0 | BW57: 0 | BX57: 6
A58: 基隆市 | B58: 計 | C58: 2872 | D58: 434 | E58: 0 | F58: 330 | G58: 3 | H58: 101 | I58: 0 | J58: 31 | K58: 368 | L58: 0 | M58: 368 | N58: 317 | O58: 317 | P58: 0 | Q58: 160 | R58: 26 | S58: 26 | T58: 0 | U58: 75 | V58: 21 | W58: 4 | X58: 219 | Y58: 21 | Z58: 7 | AA58: 2 | AB58: 189 | AC58: 0 | AD58: 9 | AE58: 0 | AF58: 9 | AG58: 0 | AH58: 37 | AI58: 16 | AJ58: 242 | AK58: 9 | AL58: 175 | AM58: 55 | AN58: 0 | AO58: 3 | AP58: 38 | AQ58: 7 | AR58: 1 | AS58: 0 | AT58: 17 | AU58: 13 | AV58: 11 | AW58: 2 | AX58: 0 | AY58: 0 | AZ58: 392 | BA58: 7 | BB58: 0 | BC58: 0 | BD58: 86 | BE58: 0 | BF58: 1 | BG58: 58 | BH58: 2 | BI58: 14 | BJ58: 2 | BK58: 0 | BL58: 0 | BM58: 0 | BN58: 0 | BO58: 0 | BP58: 0 | BQ58: 2 | BR58: 0 | BS58: 0 | BT58: 0 | BU58: 0 | BV58: 5 | BW58: 0 | BX58: 268
B59: 男 | C59: 2403 | D59: 375 | E59: 0 | F59: 277 | G59: 2 | H59: 96 | I59: 0 | J59: 31 | K59: 317 | L59: 0 | M59: 317 | N59: 255 | O59: 255 | P59: 0 | Q59: 127 | R59: 26 | S59: 26 | T59: 0 | U59: 66 | V59: 19 | W59: 4 | X59: 203 | Y59: 20 | Z59: 5 | AA59: 2 | AB59: 176 | AC59: 0 | AD59: 8 | AE59: 0 | AF59: 8 | AG59: 0 | AH59: 28 | AI59: 12 | AJ59: 194 | AK59: 9 | AL59: 135 | AM59: 48 | AN59: 0 | AO59: 2 | AP59: 35 | AQ59: 7 | AR59: 1 | AS59: 0 | AT59: 14 | AU59: 8 | AV59: 6 | AW59: 2 | AX59: 0 | AY59: 0 | AZ59: 334 | BA59: 2 | BB59: 0 | BC59: 0 | BD59: 76 | BE59: 0 | BF59: 1 | BG59: 38 | BH59: 1 | BI59: 14 | BJ59: 0 | BK59: 0 | BL59: 0 | BM59: 0 | BN59: 0 | BO59: 0 | BP59: 0 | BQ59: 0 | BR59: 0 | BS59: 0 | BT59: 0 | BU59: 0 | BV59: 4 | BW59: 0 | BX59: 203
B60: 女 | C60: 469 | D60: 59 | E60: 0 | F60: 53 | G60: 1 | H60: 5 | I60: 0 | J60: 0 | K60: 51 | L60: 0 | M60: 51 | N60: 62 | O60: 62 | P60: 0 | Q60: 33 | R60: 0 | S60: 0 | T60: 0 | U60: 9 | V60: 2 | W60: 0 | X60: 16 | Y60: 1 | Z60: 2 | AA60: 0 | AB60: 13 | AC60: 0 | AD60: 1 | AE60: 0 | AF60: 1 | AG60: 0 | AH60: 9 | AI60: 4 | AJ60: 48 | AK60: 0 | AL60: 40 | AM60: 7 | AN60: 0 | AO60: 1 | AP60: 3 | AQ60: 0 | AR60: 0 | AS60: 0 | AT60: 3 | AU60: 5 | AV60: 5 | AW60: 0 | AX60: 0 | AY60: 0 | AZ60: 58 | BA60: 5 | BB60: 0 | BC60: 0 | BD60: 10 | BE60: 0 | BF60: 0 | BG60: 20 | BH60: 1 | BI60: 0 | BJ60: 2 | BK60: 0 | BL60: 0 | BM60: 0 | BN60: 0 | BO60: 0 | BP60: 0 | BQ60: 2 | BR60: 0 | BS60: 0 | BT60: 0 | BU60: 0 | BV60: 1 | BW60: 0 | BX60: 65
A61: 新竹市 | B61: 計 | C61: 2406 | D61: 426 | E61: 0 | F61: 357 | G61: 2 | H61: 67 | I61: 7 | J61: 11 | K61: 339 | L61: 0 | M61: 339 | N61: 422 | O61: 422 | P61: 0 | Q61: 103 | R61: 8 | S61: 8 | T61: 0 | U61: 77 | V61: 12 | W61: 2 | X61: 243 | Y61: 0 | Z61: 0 | AA61: 20 | AB61: 223 | AC61: 0 | AD61: 20 | AE61: 0 | AF61: 20 | AG61: 0 | AH61: 32 | AI61: 16 | AJ61: 136 | AK61: 1 | AL61: 58 | AM61: 72 | AN61: 0 | AO61: 5 | AP61: 84 | AQ61: 6 | AR61: 1 | AS61: 0 | AT61: 13 | AU61: 1 | AV61: 0 | AW61: 1 | AX61: 0 | AY61: 0 | AZ61: 131 | BA61: 0 | BB61: 0 | BC61: 0 | BD61: 93 | BE61: 0 | BF61: 0 | BG61: 71 | BH61: 0 | BI61: 14 | BJ61: 0 | BK61: 0 | BL61: 0 | BM61: 0 | BN61: 0 | BO61: 0 | BP61: 0 | BQ61: 0 | BR61: 0 | BS61: 0 | BT61: 0 | BU61: 0 | BV61: 21 | BW61: 0 | BX61: 117
B62: 男 | C62: 1990 | D62: 354 | E62: 0 | F62: 289 | G62: 2 | H62: 63 | I62: 5 | J62: 11 | K62: 288 | L62: 0 | M62: 288 | N62: 337 | O62: 337 | P62: 0 | Q62: 80 | R62: 6 | S62: 6 | T62: 0 | U62: 61 | V62: 11 | W62: 1 | X62: 222 | Y62: 0 | Z62: 0 | AA62: 20 | AB62: 202 | AC62: 0 | AD62: 17 | AE62: 0 | AF62: 17 | AG62: 0 | AH62: 23 | AI62: 10 | AJ62: 104 | AK62: 1 | AL62: 33 | AM62: 65 | AN62: 0 | AO62: 5 | AP62: 79 | AQ62: 5 | AR62: 1 | AS62: 0 | AT62: 9 | AU62: 1 | AV62: 0 | AW62: 1 | AX62: 0 | AY62: 0 | AZ62: 115 | BA62: 0 | BB62: 0 | BC62: 0 | BD62: 80 | BE62: 0 | BF62: 0 | BG62: 44 | BH62: 0 | BI62: 12 | BJ62: 0 | BK62: 0 | BL62: 0 | BM62: 0 | BN62: 0 | BO62: 0 | BP62: 0 | BQ62: 0 | BR62: 0 | BS62: 0 | BT62: 0 | BU62: 0 | BV62: 21 | BW62: 0 | BX62: 93
B63: 女 | C63: 416 | D63: 72 | E63: 0 | F63: 68 | G63: 0 | H63: 4 | I63: 2 | J63: 0 | K63: 51 | L63: 0 | M63: 51 | N63: 85 | O63: 85 | P63: 0 | Q63: 23 | R63: 2 | S63: 2 | T63: 0 | U63: 16 | V63: 1 | W63: 1 | X63: 21 | Y63: 0 | Z63: 0 | AA63: 0 | AB63: 21 | AC63: 0 | AD63: 3 | AE63: 0 | AF63: 3 | AG63: 0 | AH63: 9 | AI63: 6 | AJ63: 32 | AK63: 0 | AL63: 25 | AM63: 7 | AN63: 0 | AO63: 0 | AP63: 5 | AQ63: 1 | AR63: 0 | AS63: 0 | AT63: 4 | AU63: 0 | AV63: 0 | AW63: 0 | AX63: 0 | AY63: 0 | AZ63: 16 | BA63: 0 | BB63: 0 | BC63: 0 | BD63: 13 | BE63: 0 | BF63: 0 | BG63: 27 | BH63: 0 | BI63: 2 | BJ63: 0 | BK63: 0 | BL63: 0 | BM63: 0 | BN63: 0 | BO63: 0 | BP63: 0 | BQ63: 0 | BR63: 0 | BS63: 0 | BT63: 0 | BU63: 0 | BV63: 0 | BW63: 0 | BX63: 24
A64: 嘉義市 | B64: 計 | C64: 1639 | D64: 309 | E64: 0 | F64: 281 | G64: 0 | H64: 28 | I64: 0 | J64: 34 | K64: 141 | L64: 0 | M64: 141 | N64: 224 | O64: 224 | P64: 0 | Q64: 68 | R64: 0 | S64: 0 | T64: 0 | U64: 4 | V64: 0 | W64: 0 | X64: 99 | Y64: 22 | Z64: 0 | AA64: 1 | AB64: 76 | AC64: 0 | AD64: 0 | AE64: 0 | AF64: 0 | AG64: 0 | AH64: 20 | AI64: 9 | AJ64: 231 | AK64: 1 | AL64: 79 | AM64: 151 | AN64: 0 | AO64: 0 | AP64: 23 | AQ64: 0 | AR64: 1 | AS64: 0 | AT64: 17 | AU64: 7 | AV64: 4 | AW64: 3 | AX64: 0 | AY64: 0 | AZ64: 169 | BA64: 0 | BB64: 0 | BC64: 0 | BD64: 51 | BE64: 0 | BF64: 7 | BG64: 34 | BH64: 0 | BI64: 6 | BJ64: 0 | BK64: 0 | BL64: 0 | BM64: 0 | BN64: 0 | BO64: 0 | BP64: 0 | BQ64: 0 | BR64: 0 | BS64: 0 | BT64: 0 | BU64: 0 | BV64: 3 | BW64: 0 | BX64: 182
B65: 男 | C65: 1396 | D65: 267 | E65: 0 | F65: 242 | G65: 0 | H65: 25 | I65: 0 | J65: 28 | K65: 126 | L65: 0 | M65: 126 | N65: 182 | O65: 182 | P65: 0 | Q65: 59 | R65: 0 | S65: 0 | T65: 0 | U65: 4 | V65: 0 | W65: 0 | X65: 93 | Y65: 21 | Z65: 0 | AA65: 1 | AB65: 71 | AC65: 0 | AD65: 0 | AE65: 0 | AF65: 0 | AG65: 0 | AH65: 11 | AI65: 6 | AJ65: 196 | AK65: 1 | AL65: 55 | AM65: 140 | AN65: 0 | AO65: 0 | AP65: 21 | AQ65: 0 | AR65: 0 | AS65: 0 | AT65: 16 | AU65: 7 | AV65: 4 | AW65: 3 | AX65: 0 | AY65: 0 | AZ65: 152 | BA65: 0 | BB65: 0 | BC65: 0 | BD65: 43 | BE65: 0 | BF65: 7 | BG65: 24 | BH65: 0 | BI65: 6 | BJ65: 0 | BK65: 0 | BL65: 0 | BM65: 0 | BN65: 0 | BO65: 0 | BP65: 0 | BQ65: 0 | BR65: 0 | BS65: 0 | BT65: 0 | BU65: 0 | BV65: 3 | BW65: 0 | BX65: 145
B66: 女 | C66: 243 | D66: 42 | E66: 0 | F66: 39 | G66: 0 | H66: 3 | I66: 0 | J66: 6 | K66: 15 | L66: 0 | M66: 15 | N66: 42 | O66: 42 | P66: 0 | Q66: 9 | R66: 0 | S66: 0 | T66: 0 | U66: 0 | V66: 0 | W66: 0 | X66: 6 | Y66: 1 | Z66: 0 | AA66: 0 | AB66: 5 | AC66: 0 | AD66: 0 | AE66: 0 | AF66: 0 | AG66: 0 | AH66: 9 | AI66: 3 | AJ66: 35 | AK66: 0 | AL66: 24 | AM66: 11 | AN66: 0 | AO66: 0 | AP66: 2 | AQ66: 0 | AR66: 1 | AS66: 0 | AT66: 1 | AU66: 0 | AV66: 0 | AW66: 0 | AX66: 0 | AY66: 0 | AZ66: 17 | BA66: 0 | BB66: 0 | BC66: 0 | BD66: 8 | BE66: 0 | BF66: 0 | BG66: 10 | BH66: 0 | BI66: 0 | BJ66: 0 | BK66: 0 | BL66: 0 | BM66: 0 | BN66: 0 | BO66: 0 | BP66: 0 | BQ66: 0 | BR66: 0 | BS66: 0 | BT66: 0 | BU66: 0 | BV66: 0 | BW66: 0 | BX66: 37
A67: 金門縣 | B67: 計 | C67: 528 | D67: 102 | E67: 0 | F67: 80 | G67: 7 | H67: 15 | I67: 0 | J67: 48 | K67: 88 | L67: 0 | M67: 88 | N67: 59 | O67: 59 | P67: 0 | Q67: 14 | R67: 1 | S67: 1 | T67: 0 | U67: 16 | V67: 2 | W67: 4 | X67: 24 | Y67: 10 | Z67: 2 | AA67: 2 | AB67: 10 | AC67: 0 | AD67: 8 | AE67: 0 | AF67: 8 | AG67: 0 | AH67: 3 | AI67: 2 | AJ67: 51 | AK67: 0 | AL67: 40 | AM67: 10 | AN67: 0 | AO67: 1 | AP67: 19 | AQ67: 2 | AR67: 0 | AS67: 1 | AT67: 5 | AU67: 0 | AV67: 0 | AW67: 0 | AX67: 1 | AY67: 1 | AZ67: 9 | BA67: 2 | BB67: 0 | BC67: 0 | BD67: 13 | BE67: 0 | BF67: 0 | BG67: 18 | BH67: 0 | BI67: 2 | BJ67: 0 | BK67: 0 | BL67: 1 | BM67: 0 | BN67: 0 | BO67: 0 | BP67: 0 | BQ67: 0 | BR67: 0 | BS67: 0 | BT67: 0 | BU67: 1 | BV67: 1 | BW67: 0 | BX67: 30
B68: 男 | C68: 440 | D68: 85 | E68: 0 | F68: 68 | G68: 5 | H68: 12 | I68: 0 | J68: 47 | K68: 86 | L68: 0 | M68: 86 | N68: 31 | O68: 31 | P68: 0 | Q68: 13 | R68: 1 | S68: 1 | T68: 0 | U68: 12 | V68: 2 | W68: 2 | X68: 24 | Y68: 10 | Z68: 2 | AA68: 2 | AB68: 10 | AC68: 0 | AD68: 8 | AE68: 0 | AF68: 8 | AG68: 0 | AH68: 3 | AI68: 1 | AJ68: 32 | AK68: 0 | AL68: 24 | AM68: 8 | AN68: 0 | AO68: 0 | AP68: 19 | AQ68: 2 | AR68: 0 | AS68: 1 | AT68: 5 | AU68: 0 | AV68: 0 | AW68: 0 | AX68: 1 | AY68: 1 | AZ68: 8 | BA68: 0 | BB68: 0 | BC68: 0 | BD68: 13 | BE68: 0 | BF68: 0 | BG68: 12 | BH68: 0 | BI68: 0 | BJ68: 0 | BK68: 0 | BL68: 1 | BM68: 0 | BN68: 0 | BO68: 0 | BP68: 0 | BQ68: 0 | BR68: 0 | BS68: 0 | BT68: 0 | BU68: 0 | BV68: 1 | BW68: 0 | BX68: 29
B69: 女 | C69: 88 | D69: 17 | E69: 0 | F69: 12 | G69: 2 | H69: 3 | I69: 0 | J69: 1 | K69: 2 | L69: 0 | M69: 2 | N69: 28 | O69: 28 | P69: 0 | Q69: 1 | R69: 0 | S69: 0 | T69: 0 | U69: 4 | V69: 0 | W69: 2 | X69: 0 | Y69: 0 | Z69: 0 | AA69: 0 | AB69: 0 | AC69: 0 | AD69: 0 | AE69: 0 | AF69: 0 | AG69: 0 | AH69: 0 | AI69: 1 | AJ69: 19 | AK69: 0 | AL69: 16 | AM69: 2 | AN69: 0 | AO69: 1 | AP69: 0 | AQ69: 0 | AR69: 0 | AS69: 0 | AT69: 0 | AU69: 0 | AV69: 0 | AW69: 0 | AX69: 0 | AY69: 0 | AZ69: 1 | BA69: 2 | BB69: 0 | BC69: 0 | BD69: 0 | BE69: 0 | BF69: 0 | BG69: 6 | BH69: 0 | BI69: 2 | BJ69: 0 | BK69: 0 | BL69: 0 | BM69: 0 | BN69: 0 | BO69: 0 | BP69: 0 | BQ69: 0 | BR69: 0 | BS69: 0 | BT69: 0 | BU69: 1 | BV69: 0 | BW69: 0 | BX69: 1
A70: 連江縣 | B70: 計 | C70: 41 | D70: 5 | E70: 0 | F70: 0 | G70: 0 | H70: 5 | I70: 0 | J70: 0 | K70: 4 | L70: 0 | M70: 4 | N70: 8 | O70: 8 | P70: 0 | Q70: 5 | R70: 0 | S70: 0 | T70: 0 | U70: 3 | V70: 0 | W70: 0 | X70: 5 | Y70: 0 | Z70: 0 | AA70: 0 | AB70: 5 | AC70: 0 | AD70: 0 | AE70: 0 | AF70: 0 | AG70: 0 | AH70: 1 | AI70: 0 | AJ70: 0 | AK70: 0 | AL70: 0 | AM70: 0 | AN70: 0 | AO70: 0 | AP70: 2 | AQ70: 0 | AR70: 0 | AS70: 0 | AT70: 0 | AU70: 0 | AV70: 0 | AW70: 0 | AX70: 0 | AY70: 0 | AZ70: 1 | BA70: 0 | BB70: 0 | BC70: 0 | BD70: 0 | BE70: 0 | BF70: 0 | BG70: 3 | BH70: 0 | BI70: 0 | BJ70: 0 | BK70: 0 | BL70: 0 | BM70: 0 | BN70: 0 | BO70: 0 | BP70: 0 | BQ70: 0 | BR70: 0 | BS70: 0 | BT70: 0 | BU70: 0 | BV70: 0 | BW70: 0 | BX70: 4
B71: 男 | C71: 35 | D71: 5 | E71: 0 | F71: 0 | G71: 0 | H71: 5 | I71: 0 | J71: 0 | K71: 3 | L71: 0 | M71: 3 | N71: 5 | O71: 5 | P71: 0 | Q71: 5 | R71: 0 | S71: 0 | T71: 0 | U71: 2 | V71: 0 | W71: 0 | X71: 4 | Y71: 0 | Z71: 0 | AA71: 0 | AB71: 4 | AC71: 0 | AD71: 0 | AE71: 0 | AF71: 0 | AG71: 0 | AH71: 1 | AI71: 0 | AJ71: 0 | AK71: 0 | AL71: 0 | AM71: 0 | AN71: 0 | AO71: 0 | AP71: 2 | AQ71: 0 | AR71: 0 | AS71: 0 | AT71: 0 | AU71: 0 | AV71: 0 | AW71: 0 | AX71: 0 | AY71: 0 | AZ71: 1 | BA71: 0 | BB71: 0 | BC71: 0 | BD71: 0 | BE71: 0 | BF71: 0 | BG71: 3 | BH71: 0 | BI71: 0 | BJ71: 0 | BK71: 0 | BL71: 0 | BM71: 0 | BN71: 0 | BO71: 0 | BP71: 0 | BQ71: 0 | BR71: 0 | BS71: 0 | BT71: 0 | BU71: 0 | BV71: 0 | BW71: 0 | BX71: 4
B72: 女 | C72: 6 | D72: 0 | E72: 0 | F72: 0 | G72: 0 | H72: 0 | I72: 0 | J72: 0 | K72: 1 | L72: 0 | M72: 1 | N72: 3 | O72: 3 | P72: 0 | Q72: 0 | R72: 0 | S72: 0 | T72: 0 | U72: 1 | V72: 0 | W72: 0 | X72: 1 | Y72: 0 | Z72: 0 | AA72: 0 | AB72: 1 | AC72: 0 | AD72: 0 | AE72: 0 | AF72: 0 | AG72: 0 | AH72: 0 | AI72: 0 | AJ72: 0 | AK72: 0 | AL72: 0 | AM72: 0 | AN72: 0 | AO72: 0 | AP72: 0 | AQ72: 0 | AR72: 0 | AS72: 0 | AT72: 0 | AU72: 0 | AV72: 0 | AW72: 0 | AX72: 0 | AY72: 0 | AZ72: 0 | BA72: 0 | BB72: 0 | BC72: 0 | BD72: 0 | BE72: 0 | BF72: 0 | BG72: 0 | BH72: 0 | BI72: 0 | BJ72: 0 | BK72: 0 | BL72: 0 | BM72: 0 | BN72: 0 | BO72: 0 | BP72: 0 | BQ72: 0 | BR72: 0 | BS72: 0 | BT72: 0 | BU72: 0 | BV72: 0 | BW72: 0 | BX72: 0
A73: 說明:109年6月19日起12歲以下兒童刑法除罪化，故自109年6月19日起刑事案件不包含12歲以下兒童偏差行為，特此敘明。

Sheet 刑案嫌疑犯人數總計
A1: 2016年至2025年各案類兒少嫌疑犯人數(續)
A2: 刑案嫌疑犯人數統計
D3: 單位：人
A4: 年度 | B4: 全年齡 | C4: 6-11歲 | D4: 12-17歲
A5: 2016 | B5: 272817 | C5: 440 | D5: 9775
A6: 2017 | B6: 287294 | C6: 448 | D6: 10499
A7: 2018 | B7: 291621 | C7: 383 | D7: 8893
A8: 2019 | B8: 277664 | C8: 430 | D8: 9441
A9: 2020 | B9: 281811 | C9: 219 | D9: 10226
A10: 2021 | B10: 265221 | C10: 0 | D10: 9627 | G10: =
A11: 2022 | B11: 291891 | C11: 0 | D11: 9554
A12: 2023 | B12: 296458 | C12: 0 | D12: 10770
A13: 2024 | B13: 287597 | C13: 0 | D13: 11277
A14: 2025 | B14: 428438 | C14: 0 | D14: 14959
A15: 說明：配合「少年事件處理法」修正，兒童全面去刑罰化，自109年6月19日起兒童嫌疑犯(0-11歲)不列入統計。

Sheet 工作表4
A1: 105-110各案類少年嫌疑犯人數
C2: 總計 | D2: 竊盜 | I2: 贓物 | J2: 賭博 | K2: 傷害 | N2: 詐欺背信 | Q2: 妨害自由 | R2: 殺人 | U2: 駕駛過失 | V2: 妨害婚姻及家庭 | W2: 妨害風化 | X2: 妨害性自主罪 | AC2: 內亂 | AD2: 恐嚇取財 | AG2: 擄人勒贖 | AH2: 侵占 | AI2: 偽造文書印文 | AJ2: 違反毒品危害防制條例 | AP2: 毀棄損壞 | AQ2: 妨害公務 | AR2: 違反著作權法 | AS2: 違反商標法 | AT2: 妨害電腦使用 | AU2: 強盜搶奪 | AX2: 竊佔 | AY2: 偽造有價證券 | AZ2: 妨害秩序 | BA2: 違反藥事法 | BB2: 違反國家總動員法 | BC2: 違反森林法 | BD2: 公共危險 | BE2: 侵害墳墓屍體 | BF2: 重利 | BG2: 妨害名譽 | BH2: 違反選罷法 | BI2: 妨害祕密 | BJ2: 遺棄 | BK2: 違反貪污治罪條例 | BL2: 懲治走私條例 | BM2: 妨害兵役 | BN2: 偽造貨幣 | BO2: 偽造度量衡 | BP2: 偽證 | BQ2: 誣告 | BR2: 湮滅證據 | BS2: 瀆職 | BT2: 脫逃 | BU2: 藏匿頂替 | BV2: 違反槍砲彈藥刀械管制條例 | BW2: 違反就業服務法 | BX2: 其他
D3: 計 | E3: 重大竊盜 | F3: 普通竊盜 | G3: 汽車竊盜 | H3: 機車竊盜 | K3: 計 | L3: 重傷害 | M3: 一般傷害 | N3: 計 | O3: 詐欺 | P3: 背信 | R3: 計 | S3: 故意殺人 | T3: 過失致死 | X3: 計 | Y3: 強制性交 | Z3: 共同強制性交 | AA3: 對幼性交 | AB3: 性交猥褻 | AD3: 計 | AE3: 重大恐嚇取財 | AF3: 一般恐嚇取財 | AJ3: 計 | AK3: 第一級毒品 | AL3: 第二級毒品 | AM3: 第三級毒品 | AN3: 第四級毒品 | AO3: 其他 | AU3: 計 | AV3: 強盜 | AW3: 搶奪
A4: 總計 | B4: 計 | C4: =SUM(C5:C6) -> 58461 | D4: =SUM(E4:H4) -> 10377 | E4: =SUM(E5:E6) -> 4 | F4: =SUM(F5:F6) -> 8414 | G4: =SUM(G5:G6) -> 136 | H4: =SUM(H5:H6) -> 1823 | I4: =SUM(I5:I6) -> 51 | J4: =SUM(J5:J6) -> 943 | K4: =SUM(K5:K6) -> 6632 | L4: =SUM(L5:L6) -> 5 | M4: =SUM(M5:M6) -> 6627 | N4: =SUM(O4:P4) -> 8619 | O4: =SUM(O5:O6) -> 8568 | P4: =SUM(P5:P6) -> 51 | Q4: =SUM(Q5:Q6) -> 2272 | R4: =SUM(S4:T4) -> 347 | S4: =SUM(S5:S6) -> 336 | T4: =SUM(T5:T6) -> 11 | U4: =SUM(U5:U6) -> 1778 | V4: =SUM(V5:V6) -> 204 | W4: =SUM(W5:W6) -> 80 | X4: =SUM(Y4:AB4) -> 4177 | Y4: =SUM(Y5:Y6) -> 221 | Z4: =SUM(Z5:Z6) -> 51 | AA4: =SUM(AA5:AA6) -> 362 | AB4: =SUM(AB5:AB6) -> 3543 | AC4: =SUM(AC5:AC6) -> 0 | AD4: =SUM(AD5:AD6) -> 567 | AE4: =SUM(AE5:AE6) -> 1 | AF4: =SUM(AF5:AF6) -> 566 | ... AN4: =SUM(AN5:AN6) -> 15 | AO4: =SUM(AJ4)-SUM(AK4:AN4) -> 42 | AP4: =SUM(AP5:AP6) -> 1078 | AQ4: =SUM(AQ5:AQ6) -> 178 | AR4: =SUM(AR5:AR6) -> 82 | AS4: =SUM(AS5:AS6) -> 124 | AT4: =SUM(AT5:AT6) -> 252 | AU4: =SUM(AV4:AW4) -> 216 | AV4: =SUM(AV5:AV6) -> 158 | AW4: =SUM(AW5:AW6) -> 58 | AX4: =SUM(AX5:AX6) -> 9 | AY4: =SUM(AY5:AY6) -> 8 | AZ4: =SUM(AZ5:AZ6) -> 2727 | BA4: =SUM(BA5:BA6) -> 38 | BB4: =SUM(BB5:BB6) -> 0 | BC4: =SUM(BC5:BC6) -> 12 | ... BW4: =SUM(BW5:BW6) -> 3 | BX4: =SUM(C4)-SUM(D4,I4:K4,N4,Q4:R4,U4:X4,AC4:AD4,AG4:AJ4,AP4:AU4,AX4:BW4) -> 4322
B5: 男 | C5: 50088 | D5: =SUM(E5:H5) -> 9009 | E5: 1 | F5: 7182 | G5: 122 | H5: 1704 | I5: 44 | J5: 891 | K5: 5946 | L5: 5 | M5: 5941 | N5: =SUM(O5:P5) -> 7062 | O5: 7024 | P5: 38 | Q5: 2009 | R5: =SUM(S5:T5) -> 329 | S5: 319 | T5: 10 | U5: 1412 | V5: 171 | W5: 69 | X5: =SUM(Y5:AB5) -> 3927 | Y5: 211 | Z5: 49 | AA5: 345 | AB5: 3322 | AC5: 0 | AD5: 508 | AE5: 1 | AF5: 507 | AG5: 8 | AH5: 472 | AI5: 197 | AJ5: 5769 | AK5: 67 | AL5: 3371 | AM5: 2279 | AN5: 13 | AO5: =SUM(AJ5)-SUM(AK5:AN5) -> 39 | AP5: 1004 | AQ5: 170 | AR5: 52 | AS5: 46 | AT5: 225 | AU5: =SUM(AV5:AW5) -> 193 | AV5: 137 | AW5: 56 | AX5: 8 | AY5: 7 | AZ5: 2477 | BA5: 18 | BB5: 0 | BC5: 11 | BD5: 2913 | BE5: 1 | BF5: 101 | BG5: 1009 | BH5: 19 | BI5: 172 | BJ5: 10 | BK5: 0 | BL5: 0 | BM5: 0 | BN5: 11 | BO5: 0 | BP5: 2 | BQ5: 28 | BR5: 1 | BS5: 0 | BT5: 7 | BU5: 3 | BV5: 239 | BW5: 2 | BX5: =SUM(C5)-SUM(D5,I5:K5,N5,Q5:R5,U5:X5,AC5:AD5,AG5:AJ5,AP5:AU5,AX5:BW5) -> 3536
B6: 女 | C6: 8373 | D6: =SUM(E6:H6) -> 1368 | E6: 3 | F6: 1232 | G6: 14 | H6: 119 | I6: 7 | J6: 52 | K6: 686 | L6: 0 | M6: 686 | N6: =SUM(O6:P6) -> 1557 | O6: 1544 | P6: 13 | Q6: 263 | R6: =SUM(S6:T6) -> 18 | S6: 17 | T6: 1 | U6: 366 | V6: 33 | W6: 11 | X6: =SUM(Y6:AB6) -> 250 | Y6: 10 | Z6: 2 | AA6: 17 | AB6: 221 | AC6: 0 | AD6: 59 | AE6: 0 | AF6: 59 | AG6: 0 | AH6: 119 | AI6: 128 | AJ6: 1248 | AK6: 34 | AL6: 933 | AM6: 276 | AN6: 2 | AO6: =SUM(AJ6)-SUM(AK6:AN6) -> 3 | AP6: 74 | AQ6: 8 | AR6: 30 | AS6: 78 | AT6: 27 | AU6: =SUM(AV6:AW6) -> 23 | AV6: 21 | AW6: 2 | AX6: 1 | AY6: 1 | AZ6: 250 | BA6: 20 | BB6: 0 | BC6: 1 | BD6: 506 | BE6: 0 | BF6: 11 | BG6: 336 | BH6: 1 | BI6: 19 | BJ6: 7 | BK6: 0 | BL6: 0 | BM6: 0 | BN6: 3 | BO6: 0 | BP6: 1 | BQ6: 12 | BR6: 2 | BS6: 0 | BT6: 1 | BU6: 2 | BV6: 7 | BW6: 1 | BX6: =SUM(C6)-SUM(D6,I6:K6,N6,Q6:R6,U6:X6,AC6:AD6,AG6:AJ6,AP6:AU6,AX6:BW6) -> 786
A7: 新北市 | B7: 計 | C7: =SUM(C8:C9) -> 7907 | D7: =SUM(E7:H7) -> 1155 | E7: =SUM(E8:E9) -> 0 | F7: =SUM(F8:F9) -> 871 | G7: =SUM(G8:G9) -> 9 | H7: =SUM(H8:H9) -> 275 | I7: =SUM(I8:I9) -> 6 | J7: =SUM(J8:J9) -> 106 | K7: =SUM(K8:K9) -> 772 | L7: =SUM(L8:L9) -> 1 | M7: =SUM(M8:M9) -> 771 | N7: =SUM(O7:P7) -> 1027 | O7: =SUM(O8:O9) -> 1013 | P7: =SUM(P8:P9) -> 14 | Q7: =SUM(Q8:Q9) -> 301 | R7: =SUM(S7:T7) -> 47 | S7: =SUM(S8:S9) -> 47 | T7: =SUM(T8:T9) -> 0 | U7: =SUM(U8:U9) -> 151 | V7: =SUM(V8:V9) -> 35 | W7: =SUM(W8:W9) -> 9 | X7: =SUM(Y7:AB7) -> 465 | Y7: =SUM(Y8:Y9) -> 23 | Z7: =SUM(Z8:Z9) -> 9 | AA7: =SUM(AA8:AA9) -> 7 | AB7: =SUM(AB8:AB9) -> 426 | AC7: =SUM(AC8:AC9) -> 0 | AD7: =SUM(AD8:AD9) -> 48 | AE7: =SUM(AE8:AE9) -> 0 | AF7: =SUM(AF8:AF9) -> 48 | ... AN7: =SUM(AN8:AN9) -> 2 | AO7: =SUM(AJ7)-SUM(AK7:AN7) -> 8 | AP7: =SUM(AP8:AP9) -> 126 | AQ7: =SUM(AQ8:AQ9) -> 49 | AR7: =SUM(AR8:AR9) -> 4 | AS7: =SUM(AS8:AS9) -> 1 | AT7: =SUM(AT8:AT9) -> 33 | AU7: =SUM(AV7:AW7) -> 16 | AV7: =SUM(AV8:AV9) -> 12 | AW7: =SUM(AW8:AW9) -> 4 | AX7: =SUM(AX8:AX9) -> 2 | AY7: =SUM(AY8:AY9) -> 6 | AZ7: =SUM(AZ8:AZ9) -> 608 | BA7: =SUM(BA8:BA9) -> 3 | BB7: =SUM(BB8:BB9) -> 0 | BC7: =SUM(BC8:BC9) -> 0 | ... BW7: =SUM(BW8:BW9) -> 0 | BX7: =SUM(C7)-SUM(D7,I7:K7,N7,Q7:R7,U7:X7,AC7:AD7,AG7:AJ7,AP7:AU7,AX7:BW7) -> 309
B8: 男 | C8: 6817 | D8: =SUM(E8:H8) -> 989 | E8: 0 | F8: 721 | G8: 8 | H8: 260 | I8: 5 | J8: 102 | K8: 678 | L8: 1 | M8: 677 | N8: =SUM(O8:P8) -> 868 | O8: 858 | P8: 10 | Q8: 263 | R8: =SUM(S8:T8) -> 47 | S8: 47 | T8: 0 | U8: 130 | V8: 31 | W8: 9 | X8: =SUM(Y8:AB8) -> 446 | Y8: 22 | Z8: 9 | AA8: 7 | AB8: 408 | AC8: 0 | AD8: 44 | AE8: 0 | AF8: 44 | AG8: 4 | AH8: 75 | AI8: 23 | AJ8: 1616 | AK8: 13 | AL8: 958 | AM8: 636 | AN8: 2 | AO8: =SUM(AJ8)-SUM(AK8:AN8) -> 7 | AP8: 119 | AQ8: 47 | AR8: 2 | AS8: 0 | AT8: 32 | AU8: =SUM(AV8:AW8) -> 16 | AV8: 12 | AW8: 4 | AX8: 1 | AY8: 6 | AZ8: 552 | BA8: 2 | BB8: 0 | BC8: 0 | BD8: 251 | BE8: 1 | BF8: 5 | BG8: 141 | BH8: 0 | BI8: 22 | BJ8: 1 | BK8: 0 | BL8: 0 | BM8: 0 | BN8: 0 | BO8: 0 | BP8: 0 | BQ8: 1 | BR8: 0 | BS8: 0 | BT8: 0 | BU8: 1 | BV8: 36 | BW8: 0 | BX8: =SUM(C8)-SUM(D8,I8:K8,N8,Q8:R8,U8:X8,AC8:AD8,AG8:AJ8,AP8:AU8,AX8:BW8) -> 251
B9: 女 | C9: 1090 | D9: =SUM(E9:H9) -> 166 | E9: 0 | F9: 150 | G9: 1 | H9: 15 | I9: 1 | J9: 4 | K9: 94 | L9: 0 | M9: 94 | N9: =SUM(O9:P9) -> 159 | O9: 155 | P9: 4 | Q9: 38 | R9: =SUM(S9:T9) -> 0 | S9: 0 | T9: 0 | U9: 21 | V9: 4 | W9: 0 | X9: =SUM(Y9:AB9) -> 19 | Y9: 1 | Z9: 0 | AA9: 0 | AB9: 18 | AC9: 0 | AD9: 4 | AE9: 0 | AF9: 4 | AG9: 0 | AH9: 20 | AI9: 16 | AJ9: 327 | AK9: 10 | AL9: 229 | AM9: 87 | AN9: 0 | AO9: =SUM(AJ9)-SUM(AK9:AN9) -> 1 | AP9: 7 | AQ9: 2 | AR9: 2 | AS9: 1 | AT9: 1 | AU9: =SUM(AV9:AW9) -> 0 | AV9: 0 | AW9: 0 | AX9: 1 | AY9: 0 | AZ9: 56 | BA9: 1 | BB9: 0 | BC9: 0 | BD9: 33 | BE9: 0 | BF9: 1 | BG9: 49 | BH9: 0 | BI9: 3 | BJ9: 1 | BK9: 0 | BL9: 0 | BM9: 0 | BN9: 0 | BO9: 0 | BP9: 0 | BQ9: 0 | BR9: 0 | BS9: 0 | BT9: 0 | BU9: 0 | BV9: 1 | BW9: 0 | BX9: =SUM(C9)-SUM(D9,I9:K9,N9,Q9:R9,U9:X9,AC9:AD9,AG9:AJ9,AP9:AU9,AX9:BW9) -> 58
A10: 臺北市 | B10: 計 | C10: =SUM(C11:C12) -> 7100 | D10: =SUM(E10:H10) -> 902 | E10: =SUM(E11:E12) -> 0 | F10: =SUM(F11:F12) -> 747 | G10: =SUM(G11:G12) -> 3 | H10: =SUM(H11:H12) -> 152 | I10: =SUM(I11:I12) -> 8 | J10: =SUM(J11:J12) -> 148 | K10: =SUM(K11:K12) -> 845 | L10: =SUM(L11:L12) -> 1 | M10: =SUM(M11:M12) -> 844 | N10: =SUM(O10:P10) -> 1572 | O10: =SUM(O11:O12) -> 1558 | P10: =SUM(P11:P12) -> 14 | Q10: =SUM(Q11:Q12) -> 295 | R10: =SUM(S10:T10) -> 61 | S10: =SUM(S11:S12) -> 60 | T10: =SUM(T11:T12) -> 1 | U10: =SUM(U11:U12) -> 178 | V10: =SUM(V11:V12) -> 32 | W10: =SUM(W11:W12) -> 9 | X10: =SUM(Y10:AB10) -> 302 | Y10: =SUM(Y11:Y12) -> 13 | Z10: =SUM(Z11:Z12) -> 6 | AA10: =SUM(AA11:AA12) -> 23 | AB10: =SUM(AB11:AB12) -> 260 | AC10: =SUM(AC11:AC12) -> 0 | AD10: =SUM(AD11:AD12) -> 67 | AE10: =SUM(AE11:AE12) -> 0 | AF10: =SUM(AF11:AF12) -> 67 | ... AN10: =SUM(AN11:AN12) -> 1 | AO10: =SUM(AJ10)-SUM(AK10:AN10) -> 5 | AP10: =SUM(AP11:AP12) -> 143 | AQ10: =SUM(AQ11:AQ12) -> 20 | AR10: =SUM(AR11:AR12) -> 28 | AS10: =SUM(AS11:AS12) -> 17 | AT10: =SUM(AT11:AT12) -> 52 | AU10: =SUM(AV10:AW10) -> 36 | AV10: =SUM(AV11:AV12) -> 25 | AW10: =SUM(AW11:AW12) -> 11 | AX10: =SUM(AX11:AX12) -> 2 | AY10: =SUM(AY11:AY12) -> 0 | AZ10: =SUM(AZ11:AZ12) -> 181 | BA10: =SUM(BA11:BA12) -> 2 | BB10: =SUM(BB11:BB12) -> 0 | BC10: =SUM(BC11:BC12) -> 0 | ... BW10: =SUM(BW11:BW12) -> 0 | BX10: =SUM(C10)-SUM(D10,I10:K10,N10,Q10:R10,U10:X10,AC10:AD10,AG10:AJ10,AP10:AU10,AX10:BW10) -> 750
B11: 男 | C11: 6145 | D11: =SUM(E11:H11) -> 753 | E11: 0 | F11: 607 | G11: 2 | H11: 144 | I11: 8 | J11: 143 | K11: 742 | L11: 1 | M11: 741 | N11: =SUM(O11:P11) -> 1391 | O11: 1378 | P11: 13 | Q11: 266 | R11: =SUM(S11:T11) -> 57 | S11: 56 | T11: 1 | U11: 155 | V11: 25 | W11: 8 | X11: =SUM(Y11:AB11) -> 287 | Y11: 13 | Z11: 6 | AA11: 21 | AB11: 247 | AC11: 0 | AD11: 61 | AE11: 0 | AF11: 61 | AG11: 1 | AH11: 97 | AI11: 47 | AJ11: 508 | AK11: 5 | AL11: 308 | AM11: 189 | AN11: 1 | AO11: =SUM(AJ11)-SUM(AK11:AN11) -> 5 | AP11: 132 | AQ11: 20 | AR11: 27 | AS11: 9 | AT11: 46 | AU11: =SUM(AV11:AW11) -> 32 | AV11: 22 | AW11: 10 | AX11: 2 | AY11: 0 | AZ11: 157 | BA11: 2 | BB11: 0 | BC11: 0 | BD11: 167 | BE11: 0 | BF11: 8 | BG11: 288 | BH11: 1 | BI11: 41 | BJ11: 2 | BK11: 0 | BL11: 0 | BM11: 0 | BN11: 0 | BO11: 0 | BP11: 0 | BQ11: 2 | BR11: 0 | BS11: 0 | BT11: 1 | BU11: 0 | BV11: 23 | BW11: 0 | BX11: =SUM(C11)-SUM(D11,I11:K11,N11,Q11:R11,U11:X11,AC11:AD11,AG11:AJ11,AP11:AU11,AX11:BW11) -> 636
B12: 女 | C12: 955 | D12: =SUM(E12:H12) -> 149 | E12: 0 | F12: 140 | G12: 1 | H12: 8 | I12: 0 | J12: 5 | K12: 103 | L12: 0 | M12: 103 | N12: =SUM(O12:P12) -> 181 | O12: 180 | P12: 1 | Q12: 29 | R12: =SUM(S12:T12) -> 4 | S12: 4 | T12: 0 | U12: 23 | V12: 7 | W12: 1 | X12: =SUM(Y12:AB12) -> 15 | Y12: 0 | Z12: 0 | AA12: 2 | AB12: 13 | AC12: 0 | AD12: 6 | AE12: 0 | AF12: 6 | AG12: 0 | AH12: 23 | AI12: 22 | AJ12: 114 | AK12: 3 | AL12: 93 | AM12: 18 | AN12: 0 | AO12: =SUM(AJ12)-SUM(AK12:AN12) -> 0 | AP12: 11 | AQ12: 0 | AR12: 1 | AS12: 8 | AT12: 6 | AU12: =SUM(AV12:AW12) -> 4 | AV12: 3 | AW12: 1 | AX12: 0 | AY12: 0 | AZ12: 24 | BA12: 0 | BB12: 0 | BC12: 0 | BD12: 22 | BE12: 0 | BF12: 0 | BG12: 75 | BH12: 0 | BI12: 5 | BJ12: 1 | BK12: 0 | BL12: 0 | BM12: 0 | BN12: 0 | BO12: 0 | BP12: 0 | BQ12: 2 | BR12: 0 | BS12: 0 | BT12: 0 | BU12: 0 | BV12: 0 | BW12: 0 | BX12: =SUM(C12)-SUM(D12,I12:K12,N12,Q12:R12,U12:X12,AC12:AD12,AG12:AJ12,AP12:AU12,AX12:BW12) -> 114
A13: 桃園市 | B13: 計 | C13: =SUM(C14:C15) -> 3605 | D13: =SUM(E13:H13) -> 753 | E13: =SUM(E14:E15) -> 0 | F13: =SUM(F14:F15) -> 548 | G13: =SUM(G14:G15) -> 13 | H13: =SUM(H14:H15) -> 192 | I13: =SUM(I14:I15) -> 8 | J13: =SUM(J14:J15) -> 69 | K13: =SUM(K14:K15) -> 142 | L13: =SUM(L14:L15) -> 0 | M13: =SUM(M14:M15) -> 142 | N13: =SUM(O13:P13) -> 413 | O13: =SUM(O14:O15) -> 413 | P13: =SUM(P14:P15) -> 0 | Q13: =SUM(Q14:Q15) -> 82 | R13: =SUM(S13:T13) -> 25 | S13: =SUM(S14:S15) -> 25 | T13: =SUM(T14:T15) -> 0 | U13: =SUM(U14:U15) -> 48 | V13: =SUM(V14:V15) -> 5 | W13: =SUM(W14:W15) -> 3 | X13: =SUM(Y13:AB13) -> 336 | Y13: =SUM(Y14:Y15) -> 8 | Z13: =SUM(Z14:Z15) -> 2 | AA13: =SUM(AA14:AA15) -> 5 | AB13: =SUM(AB14:AB15) -> 321 | AC13: =SUM(AC14:AC15) -> 0 | AD13: =SUM(AD14:AD15) -> 20 | AE13: =SUM(AE14:AE15) -> 0 | AF13: =SUM(AF14:AF15) -> 20 | ... AN13: =SUM(AN14:AN15) -> 1 | AO13: =SUM(AJ13)-SUM(AK13:AN13) -> 5 | AP13: =SUM(AP14:AP15) -> 40 | AQ13: =SUM(AQ14:AQ15) -> 8 | AR13: =SUM(AR14:AR15) -> 1 | AS13: =SUM(AS14:AS15) -> 0 | AT13: =SUM(AT14:AT15) -> 7 | AU13: =SUM(AV13:AW13) -> 9 | AV13: =SUM(AV14:AV15) -> 3 | AW13: =SUM(AW14:AW15) -> 6 | AX13: =SUM(AX14:AX15) -> 0 | AY13: =SUM(AY14:AY15) -> 0 | AZ13: =SUM(AZ14:AZ15) -> 37 | BA13: =SUM(BA14:BA15) -> 1 | BB13: =SUM(BB14:BB15) -> 0 | BC13: =SUM(BC14:BC15) -> 2 | ... BW13: =SUM(BW14:BW15) -> 0 | BX13: =SUM(C13)-SUM(D13,I13:K13,N13,Q13:R13,U13:X13,AC13:AD13,AG13:AJ13,AP13:AU13,AX13:BW13) -> 293
B14: 男 | C14: 3051 | D14: =SUM(E14:H14) -> 621 | E14: 0 | F14: 442 | G14: 10 | H14: 169 | I14: 6 | J14: 63 | K14: 136 | L14: 0 | M14: 136 | N14: =SUM(O14:P14) -> 345 | O14: 345 | P14: 0 | Q14: 73 | R14: =SUM(S14:T14) -> 23 | S14: 23 | T14: 0 | U14: 41 | V14: 5 | W14: 3 | X14: =SUM(Y14:AB14) -> 324 | Y14: 8 | Z14: 2 | AA14: 5 | AB14: 309 | AC14: 0 | AD14: 17 | AE14: 0 | AF14: 17 | AG14: 0 | AH14: 24 | AI14: 12 | AJ14: 742 | AK14: 14 | AL14: 464 | AM14: 258 | AN14: 1 | AO14: =SUM(AJ14)-SUM(AK14:AN14) -> 5 | AP14: 37 | AQ14: 8 | AR14: 0 | AS14: 0 | AT14: 6 | AU14: =SUM(AV14:AW14) -> 8 | AV14: 2 | AW14: 6 | AX14: 0 | AY14: 0 | AZ14: 29 | BA14: 0 | BB14: 0 | BC14: 2 | BD14: 252 | BE14: 0 | BF14: 1 | BG14: 25 | BH14: 0 | BI14: 1 | BJ14: 0 | BK14: 0 | BL14: 0 | BM14: 0 | BN14: 1 | BO14: 0 | BP14: 0 | BQ14: 1 | BR14: 0 | BS14: 0 | BT14: 0 | BU14: 0 | BV14: 20 | BW14: 0 | BX14: =SUM(C14)-SUM(D14,I14:K14,N14,Q14:R14,U14:X14,AC14:AD14,AG14:AJ14,AP14:AU14,AX14:BW14) -> 225
B15: 女 | C15: 554 | D15: =SUM(E15:H15) -> 132 | E15: 0 | F15: 106 | G15: 3 | H15: 23 | I15: 2 | J15: 6 | K15: 6 | L15: 0 | M15: 6 | N15: =SUM(O15:P15) -> 68 | O15: 68 | P15: 0 | Q15: 9 | R15: =SUM(S15:T15) -> 2 | S15: 2 | T15: 0 | U15: 7 | V15: 0 | W15: 0 | X15: =SUM(Y15:AB15) -> 12 | Y15: 0 | Z15: 0 | AA15: 0 | AB15: 12 | AC15: 0 | AD15: 3 | AE15: 0 | AF15: 3 | AG15: 0 | AH15: 3 | AI15: 2 | AJ15: 175 | AK15: 5 | AL15: 139 | AM15: 31 | AN15: 0 | AO15: =SUM(AJ15)-SUM(AK15:AN15) -> 0 | AP15: 3 | AQ15: 0 | AR15: 1 | AS15: 0 | AT15: 1 | AU15: =SUM(AV15:AW15) -> 1 | AV15: 1 | AW15: 0 | AX15: 0 | AY15: 0 | AZ15: 8 | BA15: 1 | BB15: 0 | BC15: 0 | BD15: 37 | BE15: 0 | BF15: 0 | BG15: 5 | BH15: 0 | BI15: 0 | BJ15: 0 | BK15: 0 | BL15: 0 | BM15: 0 | BN15: 0 | BO15: 0 | BP15: 0 | BQ15: 0 | BR15: 0 | BS15: 0 | BT15: 0 | BU15: 0 | BV15: 2 | BW15: 0 | BX15: =SUM(C15)-SUM(D15,I15:K15,N15,Q15:R15,U15:X15,AC15:AD15,AG15:AJ15,AP15:AU15,AX15:BW15) -> 68
A16: 臺中市 | B16: 計 | C16: =SUM(C17:C18) -> 6159 | D16: =SUM(E16:H16) -> 1214 | E16: =SUM(E17:E18) -> 0 | F16: =SUM(F17:F18) -> 965 | G16: =SUM(G17:G18) -> 12 | H16: =SUM(H17:H18) -> 237 | I16: =SUM(I17:I18) -> 4 | J16: =SUM(J17:J18) -> 258 | K16: =SUM(K17:K18) -> 508 | L16: =SUM(L17:L18) -> 1 | M16: =SUM(M17:M18) -> 507 | N16: =SUM(O16:P16) -> 1161 | O16: =SUM(O17:O18) -> 1148 | P16: =SUM(P17:P18) -> 13 | Q16: =SUM(Q17:Q18) -> 260 | R16: =SUM(S16:T16) -> 29 | S16: =SUM(S17:S18) -> 27 | T16: =SUM(T17:T18) -> 2 | U16: =SUM(U17:U18) -> 41 | V16: =SUM(V17:V18) -> 13 | W16: =SUM(W17:W18) -> 11 | X16: =SUM(Y16:AB16) -> 509 | Y16: =SUM(Y17:Y18) -> 7 | Z16: =SUM(Z17:Z18) -> 1 | AA16: =SUM(AA17:AA18) -> 48 | AB16: =SUM(AB17:AB18) -> 453 | AC16: =SUM(AC17:AC18) -> 0 | AD16: =SUM(AD17:AD18) -> 74 | AE16: =SUM(AE17:AE18) -> 0 | AF16: =SUM(AF17:AF18) -> 74 | ... AN16: =SUM(AN17:AN18) -> 0 | AO16: =SUM(AJ16)-SUM(AK16:AN16) -> 1 | AP16: =SUM(AP17:AP18) -> 90 | AQ16: =SUM(AQ17:AQ18) -> 16 | AR16: =SUM(AR17:AR18) -> 2 | AS16: =SUM(AS17:AS18) -> 2 | AT16: =SUM(AT17:AT18) -> 34 | AU16: =SUM(AV16:AW16) -> 24 | AV16: =SUM(AV17:AV18) -> 20 | AW16: =SUM(AW17:AW18) -> 4 | AX16: =SUM(AX17:AX18) -> 0 | AY16: =SUM(AY17:AY18) -> 0 | AZ16: =SUM(AZ17:AZ18) -> 345 | BA16: =SUM(BA17:BA18) -> 0 | BB16: =SUM(BB17:BB18) -> 0 | BC16: =SUM(BC17:BC18) -> 1 | ... BW16: =SUM(BW17:BW18) -> 0 | BX16: =SUM(C16)-SUM(D16,I16:K16,N16,Q16:R16,U16:X16,AC16:AD16,AG16:AJ16,AP16:AU16,AX16:BW16) -> 291
B17: 男 | C17: 5315 | D17: =SUM(E17:H17) -> 1047 | E17: 0 | F17: 812 | G17: 12 | H17: 223 | I17: 4 | J17: 246 | K17: 470 | L17: 1 | M17: 469 | N17: =SUM(O17:P17) -> 983 | O17: 973 | P17: 10 | Q17: 231 | R17: =SUM(S17:T17) -> 25 | S17: 23 | T17: 2 | U17: 38 | V17: 11 | W17: 7 | X17: =SUM(Y17:AB17) -> 486 | Y17: 7 | Z17: 1 | AA17: 47 | AB17: 431 | AC17: 0 | AD17: 67 | AE17: 0 | AF17: 67 | AG17: 0 | AH17: 53 | AI17: 12 | AJ17: 606 | AK17: 6 | AL17: 425 | AM17: 174 | AN17: 0 | AO17: =SUM(AJ17)-SUM(AK17:AN17) -> 1 | AP17: 80 | AQ17: 15 | AR17: 0 | AS17: 1 | AT17: 30 | AU17: =SUM(AV17:AW17) -> 23 | AV17: 19 | AW17: 4 | AX17: 0 | AY17: 0 | AZ17: 313 | BA17: 0 | BB17: 0 | BC17: 1 | BD17: 205 | BE17: 0 | BF17: 6 | BG17: 104 | BH17: 0 | BI17: 12 | BJ17: 3 | BK17: 0 | BL17: 0 | BM17: 0 | BN17: 3 | BO17: 0 | BP17: 0 | BQ17: 3 | BR17: 0 | BS17: 0 | BT17: 0 | BU17: 0 | BV17: 11 | BW17: 0 | BX17: =SUM(C17)-SUM(D17,I17:K17,N17,Q17:R17,U17:X17,AC17:AD17,AG17:AJ17,AP17:AU17,AX17:BW17) -> 219
B18: 女 | C18: 844 | D18: =SUM(E18:H18) -> 167 | E18: 0 | F18: 153 | G18: 0 | H18: 14 | I18: 0 | J18: 12 | K18: 38 | L18: 0 | M18: 38 | N18: =SUM(O18:P18) -> 178 | O18: 175 | P18: 3 | Q18: 29 | R18: =SUM(S18:T18) -> 4 | S18: 4 | T18: 0 | U18: 3 | V18: 2 | W18: 4 | X18: =SUM(Y18:AB18) -> 23 | Y18: 0 | Z18: 0 | AA18: 1 | AB18: 22 | AC18: 0 | AD18: 7 | AE18: 0 | AF18: 7 | AG18: 0 | AH18: 12 | AI18: 12 | AJ18: 161 | AK18: 2 | AL18: 133 | AM18: 26 | AN18: 0 | AO18: =SUM(AJ18)-SUM(AK18:AN18) -> 0 | AP18: 10 | AQ18: 1 | AR18: 2 | AS18: 1 | AT18: 4 | AU18: =SUM(AV18:AW18) -> 1 | AV18: 1 | AW18: 0 | AX18: 0 | AY18: 0 | AZ18: 32 | BA18: 0 | BB18: 0 | BC18: 0 | BD18: 32 | BE18: 0 | BF18: 0 | BG18: 33 | BH18: 0 | BI18: 0 | BJ18: 0 | BK18: 0 | BL18: 0 | BM18: 0 | BN18: 1 | BO18: 0 | BP18: 0 | BQ18: 2 | BR18: 0 | BS18: 0 | BT18: 0 | BU18: 0 | BV18: 1 | BW18: 0 | BX18: =SUM(C18)-SUM(D18,I18:K18,N18,Q18:R18,U18:X18,AC18:AD18,AG18:AJ18,AP18:AU18,AX18:BW18) -> 72
A19: 臺南市 | B19: 計 | C19: =SUM(C20:C21) -> 4239 | D19: =SUM(E19:H19) -> 740 | E19: =SUM(E20:E21) -> 0 | F19: =SUM(F20:F21) -> 635 | G19: =SUM(G20:G21) -> 8 | H19: =SUM(H20:H21) -> 97 | I19: =SUM(I20:I21) -> 2 | J19: =SUM(J20:J21) -> 39 | K19: =SUM(K20:K21) -> 582 | L19: =SUM(L20:L21) -> 0 | M19: =SUM(M20:M21) -> 582 | N19: =SUM(O19:P19) -> 688 | O19: =SUM(O20:O21) -> 688 | P19: =SUM(P20:P21) -> 0 | Q19: =SUM(Q20:Q21) -> 203 | R19: =SUM(S19:T19) -> 27 | S19: =SUM(S20:S21) -> 27 | T19: =SUM(T20:T21) -> 0 | U19: =SUM(U20:U21) -> 288 | V19: =SUM(V20:V21) -> 17 | W19: =SUM(W20:W21) -> 8 | X19: =SUM(Y19:AB19) -> 255 | Y19: =SUM(Y20:Y21) -> 7 | Z19: =SUM(Z20:Z21) -> 6 | AA19: =SUM(AA20:AA21) -> 74 | AB19: =SUM(AB20:AB21) -> 168 | AC19: =SUM(AC20:AC21) -> 0 | AD19: =SUM(AD20:AD21) -> 45 | AE19: =SUM(AE20:AE21) -> 0 | AF19: =SUM(AF20:AF21) -> 45 | ... AN19: =SUM(AN20:AN21) -> 4 | AO19: =SUM(AJ19)-SUM(AK19:AN19) -> 0 | AP19: =SUM(AP20:AP21) -> 125 | AQ19: =SUM(AQ20:AQ21) -> 7 | AR19: =SUM(AR20:AR21) -> 2 | AS19: =SUM(AS20:AS21) -> 8 | AT19: =SUM(AT20:AT21) -> 33 | AU19: =SUM(AV19:AW19) -> 27 | AV19: =SUM(AV20:AV21) -> 26 | AW19: =SUM(AW20:AW21) -> 1 | AX19: =SUM(AX20:AX21) -> 1 | AY19: =SUM(AY20:AY21) -> 0 | AZ19: =SUM(AZ20:AZ21) -> 159 | BA19: =SUM(BA20:BA21) -> 1 | BB19: =SUM(BB20:BB21) -> 0 | BC19: =SUM(BC20:BC21) -> 0 | ... BW19: =SUM(BW20:BW21) -> 3 | BX19: =SUM(C19)-SUM(D19,I19:K19,N19,Q19:R19,U19:X19,AC19:AD19,AG19:AJ19,AP19:AU19,AX19:BW19) -> 263
B20: 男 | C20: 3544 | D20: =SUM(E20:H20) -> 630 | E20: 0 | F20: 539 | G20: 8 | H20: 83 | I20: 2 | J20: 33 | K20: 521 | L20: 0 | M20: 521 | N20: =SUM(O20:P20) -> 529 | O20: 529 | P20: 0 | Q20: 175 | R20: =SUM(S20:T20) -> 26 | S20: 26 | T20: 0 | U20: 203 | V20: 14 | W20: 8 | X20: =SUM(Y20:AB20) -> 238 | Y20: 7 | Z20: 6 | AA20: 70 | AB20: 155 | AC20: 0 | AD20: 42 | AE20: 0 | AF20: 42 | AG20: 1 | AH20: 24 | AI20: 9 | AJ20: 193 | AK20: 1 | AL20: 93 | AM20: 95 | AN20: 4 | AO20: =SUM(AJ20)-SUM(AK20:AN20) -> 0 | AP20: 117 | AQ20: 7 | AR20: 1 | AS20: 2 | AT20: 26 | AU20: =SUM(AV20:AW20) -> 24 | AV20: 23 | AW20: 1 | AX20: 1 | AY20: 0 | AZ20: 142 | BA20: 0 | BB20: 0 | BC20: 0 | BD20: 222 | BE20: 0 | BF20: 5 | BG20: 78 | BH20: 3 | BI20: 14 | BJ20: 1 | BK20: 0 | BL20: 0 | BM20: 0 | BN20: 3 | BO20: 0 | BP20: 0 | BQ20: 6 | BR20: 0 | BS20: 0 | BT20: 0 | BU20: 0 | BV20: 17 | BW20: 2 | BX20: =SUM(C20)-SUM(D20,I20:K20,N20,Q20:R20,U20:X20,AC20:AD20,AG20:AJ20,AP20:AU20,AX20:BW20) -> 225
B21: 女 | C21: 695 | D21: =SUM(E21:H21) -> 110 | E21: 0 | F21: 96 | G21: 0 | H21: 14 | I21: 0 | J21: 6 | K21: 61 | L21: 0 | M21: 61 | N21: =SUM(O21:P21) -> 159 | O21: 159 | P21: 0 | Q21: 28 | R21: =SUM(S21:T21) -> 1 | S21: 1 | T21: 0 | U21: 85 | V21: 3 | W21: 0 | X21: =SUM(Y21:AB21) -> 17 | Y21: 0 | Z21: 0 | AA21: 4 | AB21: 13 | AC21: 0 | AD21: 3 | AE21: 0 | AF21: 3 | AG21: 0 | AH21: 8 | AI21: 7 | AJ21: 29 | AK21: 1 | AL21: 19 | AM21: 9 | AN21: 0 | AO21: =SUM(AJ21)-SUM(AK21:AN21) -> 0 | AP21: 8 | AQ21: 0 | AR21: 1 | AS21: 6 | AT21: 7 | AU21: =SUM(AV21:AW21) -> 3 | AV21: 3 | AW21: 0 | AX21: 0 | AY21: 0 | AZ21: 17 | BA21: 1 | BB21: 0 | BC21: 0 | BD21: 48 | BE21: 0 | BF21: 0 | BG21: 40 | BH21: 1 | BI21: 5 | BJ21: 0 | BK21: 0 | BL21: 0 | BM21: 0 | BN21: 0 | BO21: 0 | BP21: 1 | BQ21: 1 | BR21: 0 | BS21: 0 | BT21: 0 | BU21: 0 | BV21: 0 | BW21: 1 | BX21: =SUM(C21)-SUM(D21,I21:K21,N21,Q21:R21,U21:X21,AC21:AD21,AG21:AJ21,AP21:AU21,AX21:BW21) -> 38
A22: 高雄市 | B22: 計 | C22: =SUM(C23:C24) -> 6678 | D22: =SUM(E22:H22) -> 1338 | E22: =SUM(E23:E24) -> 2 | F22: =SUM(F23:F24) -> 1170 | G22: =SUM(G23:G24) -> 9 | H22: =SUM(H23:H24) -> 157 | I22: =SUM(I23:I24) -> 6 | J22: =SUM(J23:J24) -> 90 | K22: =SUM(K23:K24) -> 714 | L22: =SUM(L23:L24) -> 0 | M22: =SUM(M23:M24) -> 714 | N22: =SUM(O22:P22) -> 1028 | O22: =SUM(O23:O24) -> 1027 | P22: =SUM(P23:P24) -> 1 | Q22: =SUM(Q23:Q24) -> 222 | R22: =SUM(S22:T22) -> 25 | S22: =SUM(S23:S24) -> 25 | T22: =SUM(T23:T24) -> 0 | U22: =SUM(U23:U24) -> 351 | V22: =SUM(V23:V24) -> 22 | W22: =SUM(W23:W24) -> 8 | X22: =SUM(Y22:AB22) -> 358 | Y22: =SUM(Y23:Y24) -> 9 | Z22: =SUM(Z23:Z24) -> 0 | AA22: =SUM(AA23:AA24) -> 88 | AB22: =SUM(AB23:AB24) -> 261 | AC22: =SUM(AC23:AC24) -> 0 | AD22: =SUM(AD23:AD24) -> 56 | AE22: =SUM(AE23:AE24) -> 0 | AF22: =SUM(AF23:AF24) -> 56 | ... AN22: =SUM(AN23:AN24) -> 0 | AO22: =SUM(AJ22)-SUM(AK22:AN22) -> 1 | AP22: =SUM(AP23:AP24) -> 162 | AQ22: =SUM(AQ23:AQ24) -> 26 | AR22: =SUM(AR23:AR24) -> 5 | AS22: =SUM(AS23:AS24) -> 6 | AT22: =SUM(AT23:AT24) -> 18 | AU22: =SUM(AV22:AW22) -> 20 | AV22: =SUM(AV23:AV24) -> 6 | AW22: =SUM(AW23:AW24) -> 14 | AX22: =SUM(AX23:AX24) -> 1 | AY22: =SUM(AY23:AY24) -> 0 | AZ22: =SUM(AZ23:AZ24) -> 286 | BA22: =SUM(BA23:BA24) -> 0 | BB22: =SUM(BB23:BB24) -> 0 | BC22: =SUM(BC23:BC24) -> 0 | ... BW22: =SUM(BW23:BW24) -> 0 | BX22: =SUM(C22)-SUM(D22,I22:K22,N22,Q22:R22,U22:X22,AC22:AD22,AG22:AJ22,AP22:AU22,AX22:BW22) -> 482
B23: 男 | C23: 5640 | D23: =SUM(E23:H23) -> 1172 | E23: 0 | F23: 1018 | G23: 9 | H23: 145 | I23: 5 | J23: 79 | K23: 625 | L23: 0 | M23: 625 | N23: =SUM(O23:P23) -> 801 | O23: 800 | P23: 1 | Q23: 195 | R23: =SUM(S23:T23) -> 25 | S23: 25 | T23: 0 | U23: 263 | V23: 17 | W23: 8 | X23: =SUM(Y23:AB23) -> 341 | Y23: 9 | Z23: 0 | AA23: 83 | AB23: 249 | AC23: 0 | AD23: 51 | AE23: 0 | AF23: 51 | AG23: 0 | AH23: 51 | AI23: 28 | AJ23: 413 | AK23: 1 | AL23: 248 | AM23: 163 | AN23: 0 | AO23: =SUM(AJ23)-SUM(AK23:AN23) -> 1 | AP23: 150 | AQ23: 22 | AR23: 3 | AS23: 2 | AT23: 16 | AU23: =SUM(AV23:AW23) -> 19 | AV23: 6 | AW23: 13 | AX23: 1 | AY23: 0 | AZ23: 261 | BA23: 0 | BB23: 0 | BC23: 0 | BD23: 510 | BE23: 0 | BF23: 20 | BG23: 108 | BH23: 2 | BI23: 16 | BJ23: 1 | BK23: 0 | BL23: 0 | BM23: 0 | BN23: 2 | BO23: 0 | BP23: 0 | BQ23: 4 | BR23: 1 | BS23: 0 | BT23: 0 | BU23: 2 | BV23: 20 | BW23: 0 | BX23: =SUM(C23)-SUM(D23,I23:K23,N23,Q23:R23,U23:X23,AC23:AD23,AG23:AJ23,AP23:AU23,AX23:BW23) -> 406
B24: 女 | C24: 1038 | D24: =SUM(E24:H24) -> 166 | E24: 2 | F24: 152 | G24: 0 | H24: 12 | I24: 1 | J24: 11 | K24: 89 | L24: 0 | M24: 89 | N24: =SUM(O24:P24) -> 227 | O24: 227 | P24: 0 | Q24: 27 | R24: =SUM(S24:T24) -> 0 | S24: 0 | T24: 0 | U24: 88 | V24: 5 | W24: 0 | X24: =SUM(Y24:AB24) -> 17 | Y24: 0 | Z24: 0 | AA24: 5 | AB24: 12 | AC24: 0 | AD24: 5 | AE24: 0 | AF24: 5 | AG24: 0 | AH24: 16 | AI24: 18 | AJ24: 129 | AK24: 8 | AL24: 92 | AM24: 29 | AN24: 0 | AO24: =SUM(AJ24)-SUM(AK24:AN24) -> 0 | AP24: 12 | AQ24: 4 | AR24: 2 | AS24: 4 | AT24: 2 | AU24: =SUM(AV24:AW24) -> 1 | AV24: 0 | AW24: 1 | AX24: 0 | AY24: 0 | AZ24: 25 | BA24: 0 | BB24: 0 | BC24: 0 | BD24: 73 | BE24: 0 | BF24: 5 | BG24: 33 | BH24: 0 | BI24: 0 | BJ24: 1 | BK24: 0 | BL24: 0 | BM24: 0 | BN24: 1 | BO24: 0 | BP24: 0 | BQ24: 0 | BR24: 0 | BS24: 0 | BT24: 0 | BU24: 0 | BV24: 0 | BW24: 0 | BX24: =SUM(C24)-SUM(D24,I24:K24,N24,Q24:R24,U24:X24,AC24:AD24,AG24:AJ24,AP24:AU24,AX24:BW24) -> 76
A25: 宜蘭縣 | B25: 計 | C25: =SUM(C26:C27) -> 1959 | D25: =SUM(E25:H25) -> 292 | E25: =SUM(E26:E27) -> 0 | F25: =SUM(F26:F27) -> 240 | G25: =SUM(G26:G27) -> 13 | H25: =SUM(H26:H27) -> 39 | I25: =SUM(I26:I27) -> 0 | J25: =SUM(J26:J27) -> 2 | K25: =SUM(K26:K27) -> 337 | L25: =SUM(L26:L27) -> 0 | M25: =SUM(M26:M27) -> 337 | N25: =SUM(O25:P25) -> 190 | O25: =SUM(O26:O27) -> 190 | P25: =SUM(P26:P27) -> 0 | Q25: =SUM(Q26:Q27) -> 118 | R25: =SUM(S25:T25) -> 4 | S25: =SUM(S26:S27) -> 3 | T25: =SUM(T26:T27) -> 1 | U25: =SUM(U26:U27) -> 104 | V25: =SUM(V26:V27) -> 15 | W25: =SUM(W26:W27) -> 3 | X25: =SUM(Y25:AB25) -> 164 | Y25: =SUM(Y26:Y27) -> 11 | Z25: =SUM(Z26:Z27) -> 7 | AA25: =SUM(AA26:AA27) -> 1 | AB25: =SUM(AB26:AB27) -> 145 | AC25: =SUM(AC26:AC27) -> 0 | AD25: =SUM(AD26:AD27) -> 48 | AE25: =SUM(AE26:AE27) -> 0 | AF25: =SUM(AF26:AF27) -> 48 | ... AN25: =SUM(AN26:AN27) -> 0 | AO25: =SUM(AJ25)-SUM(AK25:AN25) -> 0 | AP25: =SUM(AP26:AP27) -> 41 | AQ25: =SUM(AQ26:AQ27) -> 4 | AR25: =SUM(AR26:AR27) -> 1 | AS25: =SUM(AS26:AS27) -> 0 | AT25: =SUM(AT26:AT27) -> 3 | AU25: =SUM(AV25:AW25) -> 1 | AV25: =SUM(AV26:AV27) -> 1 | AW25: =SUM(AW26:AW27) -> 0 | AX25: =SUM(AX26:AX27) -> 0 | AY25: =SUM(AY26:AY27) -> 1 | AZ25: =SUM(AZ26:AZ27) -> 102 | BA25: =SUM(BA26:BA27) -> 0 | BB25: =SUM(BB26:BB27) -> 0 | BC25: =SUM(BC26:BC27) -> 3 | ... BW25: =SUM(BW26:BW27) -> 0 | BX25: =SUM(C25)-SUM(D25,I25:K25,N25,Q25:R25,U25:X25,AC25:AD25,AG25:AJ25,AP25:AU25,AX25:BW25) -> 78
B26: 男 | C26: 1681 | D26: =SUM(E26:H26) -> 251 | E26: 0 | F26: 202 | G26: 10 | H26: 39 | I26: 0 | J26: 2 | K26: 301 | L26: 0 | M26: 301 | N26: =SUM(O26:P26) -> 151 | O26: 151 | P26: 0 | Q26: 107 | R26: =SUM(S26:T26) -> 4 | S26: 3 | T26: 1 | U26: 81 | V26: 11 | W26: 3 | X26: =SUM(Y26:AB26) -> 149 | Y26: 11 | Z26: 6 | AA26: 1 | AB26: 131 | AC26: 0 | AD26: 41 | AE26: 0 | AF26: 41 | AG26: 0 | AH26: 15 | AI26: 5 | AJ26: 154 | AK26: 1 | AL26: 42 | AM26: 111 | AN26: 0 | AO26: =SUM(AJ26)-SUM(AK26:AN26) -> 0 | AP26: 38 | AQ26: 4 | AR26: 0 | AS26: 0 | AT26: 2 | AU26: =SUM(AV26:AW26) -> 1 | AV26: 1 | AW26: 0 | AX26: 0 | AY26: 0 | AZ26: 95 | BA26: 0 | BB26: 0 | BC26: 3 | BD26: 158 | BE26: 0 | BF26: 6 | BG26: 21 | BH26: 3 | BI26: 1 | BJ26: 2 | BK26: 0 | BL26: 0 | BM26: 0 | BN26: 0 | BO26: 0 | BP26: 0 | BQ26: 2 | BR26: 0 | BS26: 0 | BT26: 4 | BU26: 0 | BV26: 9 | BW26: 0 | BX26: =SUM(C26)-SUM(D26,I26:K26,N26,Q26:R26,U26:X26,AC26:AD26,AG26:AJ26,AP26:AU26,AX26:BW26) -> 57
B27: 女 | C27: 278 | D27: =SUM(E27:H27) -> 41 | E27: 0 | F27: 38 | G27: 3 | H27: 0 | I27: 0 | J27: 0 | K27: 36 | L27: 0 | M27: 36 | N27: =SUM(O27:P27) -> 39 | O27: 39 | P27: 0 | Q27: 11 | R27: =SUM(S27:T27) -> 0 | S27: 0 | T27: 0 | U27: 23 | V27: 4 | W27: 0 | X27: =SUM(Y27:AB27) -> 15 | Y27: 0 | Z27: 1 | AA27: 0 | AB27: 14 | AC27: 0 | AD27: 7 | AE27: 0 | AF27: 7 | AG27: 0 | AH27: 2 | AI27: 4 | AJ27: 15 | AK27: 2 | AL27: 5 | AM27: 8 | AN27: 0 | AO27: =SUM(AJ27)-SUM(AK27:AN27) -> 0 | AP27: 3 | AQ27: 0 | AR27: 1 | AS27: 0 | AT27: 1 | AU27: =SUM(AV27:AW27) -> 0 | AV27: 0 | AW27: 0 | AX27: 0 | AY27: 1 | AZ27: 7 | BA27: 0 | BB27: 0 | BC27: 0 | BD27: 35 | BE27: 0 | BF27: 0 | BG27: 10 | BH27: 0 | BI27: 0 | BJ27: 1 | BK27: 0 | BL27: 0 | BM27: 0 | BN27: 0 | BO27: 0 | BP27: 0 | BQ27: 0 | BR27: 1 | BS27: 0 | BT27: 0 | BU27: 0 | BV27: 0 | BW27: 0 | BX27: =SUM(C27)-SUM(D27,I27:K27,N27,Q27:R27,U27:X27,AC27:AD27,AG27:AJ27,AP27:AU27,AX27:BW27) -> 21
A28: 新竹縣 | B28: 計 | C28: =SUM(C29:C30) -> 1785 | D28: =SUM(E28:H28) -> 350 | E28: =SUM(E29:E30) -> 0 | F28: =SUM(F29:F30) -> 267 | G28: =SUM(G29:G30) -> 10 | H28: =SUM(H29:H30) -> 73 | I28: =SUM(I29:I30) -> 0 | J28: =SUM(J29:J30) -> 1 | K28: =SUM(K29:K30) -> 231 | L28: =SUM(L29:L30) -> 0 | M28: =SUM(M29:M30) -> 231 | N28: =SUM(O28:P28) -> 195 | O28: =SUM(O29:O30) -> 194 | P28: =SUM(P29:P30) -> 1 | Q28: =SUM(Q29:Q30) -> 98 | R28: =SUM(S28:T28) -> 9 | S28: =SUM(S29:S30) -> 9 | T28: =SUM(T29:T30) -> 0 | U28: =SUM(U29:U30) -> 72 | V28: =SUM(V29:V30) -> 10 | W28: =SUM(W29:W30) -> 3 | X28: =SUM(Y28:AB28) -> 202 | Y28: =SUM(Y29:Y30) -> 7 | Z28: =SUM(Z29:Z30) -> 0 | AA28: =SUM(AA29:AA30) -> 12 | AB28: =SUM(AB29:AB30) -> 183 | AC28: =SUM(AC29:AC30) -> 0 | AD28: =SUM(AD29:AD30) -> 46 | AE28: =SUM(AE29:AE30) -> 0 | AF28: =SUM(AF29:AF30) -> 46 | ... AN28: =SUM(AN29:AN30) -> 1 | AO28: =SUM(AJ28)-SUM(AK28:AN28) -> 3 | AP28: =SUM(AP29:AP30) -> 41 | AQ28: =SUM(AQ29:AQ30) -> 3 | AR28: =SUM(AR29:AR30) -> 0 | AS28: =SUM(AS29:AS30) -> 2 | AT28: =SUM(AT29:AT30) -> 5 | AU28: =SUM(AV28:AW28) -> 15 | AV28: =SUM(AV29:AV30) -> 10 | AW28: =SUM(AW29:AW30) -> 5 | AX28: =SUM(AX29:AX30) -> 0 | AY28: =SUM(AY29:AY30) -> 0 | AZ28: =SUM(AZ29:AZ30) -> 47 | BA28: =SUM(BA29:BA30) -> 0 | BB28: =SUM(BB29:BB30) -> 0 | BC28: =SUM(BC29:BC30) -> 0 | ... BW28: =SUM(BW29:BW30) -> 0 | BX28: =SUM(C28)-SUM(D28,I28:K28,N28,Q28:R28,U28:X28,AC28:AD28,AG28:AJ28,AP28:AU28,AX28:BW28) -> 137
B29: 男 | C29: 1568 | D29: =SUM(E29:H29) -> 310 | E29: 0 | F29: 231 | G29: 10 | H29: 69 | I29: 0 | J29: 1 | K29: 201 | L29: 0 | M29: 201 | N29: =SUM(O29:P29) -> 168 | O29: 167 | P29: 1 | Q29: 91 | R29: =SUM(S29:T29) -> 9 | S29: 9 | T29: 0 | U29: 62 | V29: 7 | W29: 3 | X29: =SUM(Y29:AB29) -> 189 | Y29: 7 | Z29: 0 | AA29: 10 | AB29: 172 | AC29: 0 | AD29: 44 | AE29: 0 | AF29: 44 | AG29: 0 | AH29: 12 | AI29: 4 | AJ29: 98 | AK29: 2 | AL29: 46 | AM29: 46 | AN29: 1 | AO29: =SUM(AJ29)-SUM(AK29:AN29) -> 3 | AP29: 39 | AQ29: 3 | AR29: 0 | AS29: 0 | AT29: 5 | AU29: =SUM(AV29:AW29) -> 13 | AV29: 8 | AW29: 5 | AX29: 0 | AY29: 0 | AZ29: 41 | BA29: 0 | BB29: 0 | BC29: 0 | BD29: 128 | BE29: 0 | BF29: 1 | BG29: 18 | BH29: 0 | BI29: 2 | BJ29: 0 | BK29: 0 | BL29: 0 | BM29: 0 | BN29: 0 | BO29: 0 | BP29: 0 | BQ29: 1 | BR29: 0 | BS29: 0 | BT29: 0 | BU29: 0 | BV29: 11 | BW29: 0 | BX29: =SUM(C29)-SUM(D29,I29:K29,N29,Q29:R29,U29:X29,AC29:AD29,AG29:AJ29,AP29:AU29,AX29:BW29) -> 107
B30: 女 | C30: 217 | D30: =SUM(E30:H30) -> 40 | E30: 0 | F30: 36 | G30: 0 | H30: 4 | I30: 0 | J30: 0 | K30: 30 | L30: 0 | M30: 30 | N30: =SUM(O30:P30) -> 27 | O30: 27 | P30: 0 | Q30: 7 | R30: =SUM(S30:T30) -> 0 | S30: 0 | T30: 0 | U30: 10 | V30: 3 | W30: 0 | X30: =SUM(Y30:AB30) -> 13 | Y30: 0 | Z30: 0 | AA30: 2 | AB30: 11 | AC30: 0 | AD30: 2 | AE30: 0 | AF30: 2 | AG30: 0 | AH30: 3 | AI30: 0 | AJ30: 13 | AK30: 0 | AL30: 7 | AM30: 6 | AN30: 0 | AO30: =SUM(AJ30)-SUM(AK30:AN30) -> 0 | AP30: 2 | AQ30: 0 | AR30: 0 | AS30: 2 | AT30: 0 | AU30: =SUM(AV30:AW30) -> 2 | AV30: 2 | AW30: 0 | AX30: 0 | AY30: 0 | AZ30: 6 | BA30: 0 | BB30: 0 | BC30: 0 | BD30: 25 | BE30: 0 | BF30: 0 | BG30: 1 | BH30: 0 | BI30: 0 | BJ30: 1 | BK30: 0 | BL30: 0 | BM30: 0 | BN30: 0 | BO30: 0 | BP30: 0 | BQ30: 0 | BR30: 0 | BS30: 0 | BT30: 0 | BU30: 0 | BV30: 0 | BW30: 0 | BX30: =SUM(C30)-SUM(D30,I30:K30,N30,Q30:R30,U30:X30,AC30:AD30,AG30:AJ30,AP30:AU30,AX30:BW30) -> 30
A31: 苗栗縣 | B31: 計 | C31: =SUM(C32:C33) -> 1189 | D31: =SUM(E31:H31) -> 347 | E31: =SUM(E32:E33) -> 1 | F31: =SUM(F32:F33) -> 302 | G31: =SUM(G32:G33) -> 2 | H31: =SUM(H32:H33) -> 42 | I31: =SUM(I32:I33) -> 0 | J31: =SUM(J32:J33) -> 0 | K31: =SUM(K32:K33) -> 136 | L31: =SUM(L32:L33) -> 0 | M31: =SUM(M32:M33) -> 136 | N31: =SUM(O31:P31) -> 114 | O31: =SUM(O32:O33) -> 111 | P31: =SUM(P32:P33) -> 3 | Q31: =SUM(Q32:Q33) -> 28 | R31: =SUM(S31:T31) -> 0 | S31: =SUM(S32:S33) -> 0 | T31: =SUM(T32:T33) -> 0 | U31: =SUM(U32:U33) -> 30 | V31: =SUM(V32:V33) -> 1 | W31: =SUM(W32:W33) -> 0 | X31: =SUM(Y31:AB31) -> 113 | Y31: =SUM(Y32:Y33) -> 9 | Z31: =SUM(Z32:Z33) -> 0 | AA31: =SUM(AA32:AA33) -> 11 | AB31: =SUM(AB32:AB33) -> 93 | AC31: =SUM(AC32:AC33) -> 0 | AD31: =SUM(AD32:AD33) -> 6 | AE31: =SUM(AE32:AE33) -> 1 | AF31: =SUM(AF32:AF33) -> 5 | ... AN31: =SUM(AN32:AN33) -> 0 | AO31: =SUM(AJ31)-SUM(AK31:AN31) -> 5 | AP31: =SUM(AP32:AP33) -> 19 | AQ31: =SUM(AQ32:AQ33) -> 1 | AR31: =SUM(AR32:AR33) -> 1 | AS31: =SUM(AS32:AS33) -> 0 | AT31: =SUM(AT32:AT33) -> 2 | AU31: =SUM(AV31:AW31) -> 6 | AV31: =SUM(AV32:AV33) -> 5 | AW31: =SUM(AW32:AW33) -> 1 | AX31: =SUM(AX32:AX33) -> 0 | AY31: =SUM(AY32:AY33) -> 0 | AZ31: =SUM(AZ32:AZ33) -> 34 | BA31: =SUM(BA32:BA33) -> 0 | BB31: =SUM(BB32:BB33) -> 0 | BC31: =SUM(BC32:BC33) -> 0 | ... BW31: =SUM(BW32:BW33) -> 0 | BX31: =SUM(C31)-SUM(D31,I31:K31,N31,Q31:R31,U31:X31,AC31:AD31,AG31:AJ31,AP31:AU31,AX31:BW31) -> 77
B32: 男 | C32: 1036 | D32: =SUM(E32:H32) -> 293 | E32: 0 | F32: 251 | G32: 2 | H32: 40 | I32: 0 | J32: 0 | K32: 126 | L32: 0 | M32: 126 | N32: =SUM(O32:P32) -> 91 | O32: 90 | P32: 1 | Q32: 25 | R32: =SUM(S32:T32) -> 0 | S32: 0 | T32: 0 | U32: 25 | V32: 1 | W32: 0 | X32: =SUM(Y32:AB32) -> 109 | Y32: 8 | Z32: 0 | AA32: 11 | AB32: 90 | AC32: 0 | AD32: 6 | AE32: 1 | AF32: 5 | AG32: 0 | AH32: 3 | AI32: 1 | AJ32: 112 | AK32: 1 | AL32: 60 | AM32: 47 | AN32: 0 | AO32: =SUM(AJ32)-SUM(AK32:AN32) -> 4 | AP32: 19 | AQ32: 1 | AR32: 1 | AS32: 0 | AT32: 2 | AU32: =SUM(AV32:AW32) -> 5 | AV32: 4 | AW32: 1 | AX32: 0 | AY32: 0 | AZ32: 32 | BA32: 0 | BB32: 0 | BC32: 0 | BD32: 98 | BE32: 0 | BF32: 7 | BG32: 12 | BH32: 0 | BI32: 1 | BJ32: 0 | BK32: 0 | BL32: 0 | BM32: 0 | BN32: 0 | BO32: 0 | BP32: 0 | BQ32: 0 | BR32: 0 | BS32: 0 | BT32: 0 | BU32: 0 | BV32: 1 | BW32: 0 | BX32: =SUM(C32)-SUM(D32,I32:K32,N32,Q32:R32,U32:X32,AC32:AD32,AG32:AJ32,AP32:AU32,AX32:BW32) -> 65
B33: 女 | C33: 153 | D33: =SUM(E33:H33) -> 54 | E33: 1 | F33: 51 | G33: 0 | H33: 2 | I33: 0 | J33: 0 | K33: 10 | L33: 0 | M33: 10 | N33: =SUM(O33:P33) -> 23 | O33: 21 | P33: 2 | Q33: 3 | R33: =SUM(S33:T33) -> 0 | S33: 0 | T33: 0 | U33: 5 | V33: 0 | W33: 0 | X33: =SUM(Y33:AB33) -> 4 | Y33: 1 | Z33: 0 | AA33: 0 | AB33: 3 | AC33: 0 | AD33: 0 | AE33: 0 | AF33: 0 | AG33: 0 | AH33: 1 | AI33: 1 | AJ33: 21 | AK33: 1 | AL33: 15 | AM33: 4 | AN33: 0 | AO33: =SUM(AJ33)-SUM(AK33:AN33) -> 1 | AP33: 0 | AQ33: 0 | AR33: 0 | AS33: 0 | AT33: 0 | AU33: =SUM(AV33:AW33) -> 1 | AV33: 1 | AW33: 0 | AX33: 0 | AY33: 0 | AZ33: 2 | BA33: 0 | BB33: 0 | BC33: 0 | BD33: 12 | BE33: 0 | BF33: 1 | BG33: 3 | BH33: 0 | BI33: 0 | BJ33: 0 | BK33: 0 | BL33: 0 | BM33: 0 | BN33: 0 | BO33: 0 | BP33: 0 | BQ33: 0 | BR33: 0 | BS33: 0 | BT33: 0 | BU33: 0 | BV33: 0 | BW33: 0 | BX33: =SUM(C33)-SUM(D33,I33:K33,N33,Q33:R33,U33:X33,AC33:AD33,AG33:AJ33,AP33:AU33,AX33:BW33) -> 12
A34: 彰化縣 | B34: 計 | C34: =SUM(C35:C36) -> 3490 | D34: =SUM(E34:H34) -> 551 | E34: =SUM(E35:E36) -> 0 | F34: =SUM(F35:F36) -> 444 | G34: =SUM(G35:G36) -> 11 | H34: =SUM(H35:H36) -> 96 | I34: =SUM(I35:I36) -> 2 | J34: =SUM(J35:J36) -> 10 | K34: =SUM(K35:K36) -> 646 | L34: =SUM(L35:L36) -> 1 | M34: =SUM(M35:M36) -> 645 | N34: =SUM(O34:P34) -> 545 | O34: =SUM(O35:O36) -> 545 | P34: =SUM(P35:P36) -> 0 | Q34: =SUM(Q35:Q36) -> 149 | R34: =SUM(S34:T34) -> 6 | S34: =SUM(S35:S36) -> 4 | T34: =SUM(T35:T36) -> 2 | U34: =SUM(U35:U36) -> 150 | V34: =SUM(V35:V36) -> 14 | W34: =SUM(W35:W36) -> 17 | X34: =SUM(Y34:AB34) -> 297 | Y34: =SUM(Y35:Y36) -> 12 | Z34: =SUM(Z35:Z36) -> 3 | AA34: =SUM(AA35:AA36) -> 27 | AB34: =SUM(AB35:AB36) -> 255 | AC34: =SUM(AC35:AC36) -> 0 | AD34: =SUM(AD35:AD36) -> 37 | AE34: =SUM(AE35:AE36) -> 0 | AF34: =SUM(AF35:AF36) -> 37 | ... AN34: =SUM(AN35:AN36) -> 2 | AO34: =SUM(AJ34)-SUM(AK34:AN34) -> 0 | AP34: =SUM(AP35:AP36) -> 55 | AQ34: =SUM(AQ35:AQ36) -> 6 | AR34: =SUM(AR35:AR36) -> 2 | AS34: =SUM(AS35:AS36) -> 12 | AT34: =SUM(AT35:AT36) -> 14 | AU34: =SUM(AV34:AW34) -> 6 | AV34: =SUM(AV35:AV36) -> 5 | AW34: =SUM(AW35:AW36) -> 1 | AX34: =SUM(AX35:AX36) -> 0 | AY34: =SUM(AY35:AY36) -> 0 | AZ34: =SUM(AZ35:AZ36) -> 157 | BA34: =SUM(BA35:BA36) -> 0 | BB34: =SUM(BB35:BB36) -> 0 | BC34: =SUM(BC35:BC36) -> 0 | ... BW34: =SUM(BW35:BW36) -> 0 | BX34: =SUM(C34)-SUM(D34,I34:K34,N34,Q34:R34,U34:X34,AC34:AD34,AG34:AJ34,AP34:AU34,AX34:BW34) -> 270
B35: 男 | C35: 3010 | D35: =SUM(E35:H35) -> 494 | E35: 0 | F35: 392 | G35: 10 | H35: 92 | I35: 2 | J35: 10 | K35: 583 | L35: 1 | M35: 582 | N35: =SUM(O35:P35) -> 456 | O35: 456 | P35: 0 | Q35: 139 | R35: =SUM(S35:T35) -> 5 | S35: 4 | T35: 1 | U35: 121 | V35: 13 | W35: 14 | X35: =SUM(Y35:AB35) -> 273 | Y35: 7 | Z35: 3 | AA35: 27 | AB35: 236 | AC35: 0 | AD35: 32 | AE35: 0 | AF35: 32 | AG35: 0 | AH35: 35 | AI35: 13 | AJ35: 208 | AK35: 3 | AL35: 110 | AM35: 94 | AN35: 1 | AO35: =SUM(AJ35)-SUM(AK35:AN35) -> 0 | AP35: 49 | AQ35: 6 | AR35: 2 | AS35: 2 | AT35: 14 | AU35: =SUM(AV35:AW35) -> 5 | AV35: 4 | AW35: 1 | AX35: 0 | AY35: 0 | AZ35: 141 | BA35: 0 | BB35: 0 | BC35: 0 | BD35: 120 | BE35: 0 | BF35: 12 | BG35: 44 | BH35: 1 | BI35: 8 | BJ35: 0 | BK35: 0 | BL35: 0 | BM35: 0 | BN35: 1 | BO35: 0 | BP35: 0 | BQ35: 3 | BR35: 0 | BS35: 0 | BT35: 0 | BU35: 0 | BV35: 6 | BW35: 0 | BX35: =SUM(C35)-SUM(D35,I35:K35,N35,Q35:R35,U35:X35,AC35:AD35,AG35:AJ35,AP35:AU35,AX35:BW35) -> 198
B36: 女 | C36: 480 | D36: =SUM(E36:H36) -> 57 | E36: 0 | F36: 52 | G36: 1 | H36: 4 | I36: 0 | J36: 0 | K36: 63 | L36: 0 | M36: 63 | N36: =SUM(O36:P36) -> 89 | O36: 89 | P36: 0 | Q36: 10 | R36: =SUM(S36:T36) -> 1 | S36: 0 | T36: 1 | U36: 29 | V36: 1 | W36: 3 | X36: =SUM(Y36:AB36) -> 24 | Y36: 5 | Z36: 0 | AA36: 0 | AB36: 19 | AC36: 0 | AD36: 5 | AE36: 0 | AF36: 5 | AG36: 0 | AH36: 8 | AI36: 6 | AJ36: 36 | AK36: 0 | AL36: 22 | AM36: 13 | AN36: 1 | AO36: =SUM(AJ36)-SUM(AK36:AN36) -> 0 | AP36: 6 | AQ36: 0 | AR36: 0 | AS36: 10 | AT36: 0 | AU36: =SUM(AV36:AW36) -> 1 | AV36: 1 | AW36: 0 | AX36: 0 | AY36: 0 | AZ36: 16 | BA36: 0 | BB36: 0 | BC36: 0 | BD36: 17 | BE36: 0 | BF36: 1 | BG36: 22 | BH36: 0 | BI36: 2 | BJ36: 0 | BK36: 0 | BL36: 0 | BM36: 0 | BN36: 0 | BO36: 0 | BP36: 0 | BQ36: 1 | BR36: 0 | BS36: 0 | BT36: 0 | BU36: 0 | BV36: 0 | BW36: 0 | BX36: =SUM(C36)-SUM(D36,I36:K36,N36,Q36:R36,U36:X36,AC36:AD36,AG36:AJ36,AP36:AU36,AX36:BW36) -> 72
A37: 南投縣 | B37: 計 | C37: =SUM(C38:C39) -> 1811 | D37: =SUM(E37:H37) -> 347 | E37: =SUM(E38:E39) -> 0 | F37: =SUM(F38:F39) -> 287 | G37: =SUM(G38:G39) -> 2 | H37: =SUM(H38:H39) -> 58 | I37: =SUM(I38:I39) -> 2 | J37: =SUM(J38:J39) -> 28 | K37: =SUM(K38:K39) -> 263 | L37: =SUM(L38:L39) -> 1 | M37: =SUM(M38:M39) -> 262 | N37: =SUM(O37:P37) -> 306 | O37: =SUM(O38:O39) -> 306 | P37: =SUM(P38:P39) -> 0 | Q37: =SUM(Q38:Q39) -> 69 | R37: =SUM(S37:T37) -> 15 | S37: =SUM(S38:S39) -> 11 | T37: =SUM(T38:T39) -> 4 | U37: =SUM(U38:U39) -> 47 | V37: =SUM(V38:V39) -> 3 | W37: =SUM(W38:W39) -> 1 | X37: =SUM(Y37:AB37) -> 143 | Y37: =SUM(Y38:Y39) -> 34 | Z37: =SUM(Z38:Z39) -> 12 | AA37: =SUM(AA38:AA39) -> 8 | AB37: =SUM(AB38:AB39) -> 89 | AC37: =SUM(AC38:AC39) -> 0 | AD37: =SUM(AD38:AD39) -> 33 | AE37: =SUM(AE38:AE39) -> 0 | AF37: =SUM(AF38:AF39) -> 33 | ... AN37: =SUM(AN38:AN39) -> 0 | AO37: =SUM(AJ37)-SUM(AK37:AN37) -> 5 | AP37: =SUM(AP38:AP39) -> 35 | AQ37: =SUM(AQ38:AQ39) -> 4 | AR37: =SUM(AR38:AR39) -> 0 | AS37: =SUM(AS38:AS39) -> 0 | AT37: =SUM(AT38:AT39) -> 10 | AU37: =SUM(AV37:AW37) -> 8 | AV37: =SUM(AV38:AV39) -> 8 | AW37: =SUM(AW38:AW39) -> 0 | AX37: =SUM(AX38:AX39) -> 0 | AY37: =SUM(AY38:AY39) -> 0 | AZ37: =SUM(AZ38:AZ39) -> 100 | BA37: =SUM(BA38:BA39) -> 0 | BB37: =SUM(BB38:BB39) -> 0 | BC37: =SUM(BC38:BC39) -> 0 | ... BW37: =SUM(BW38:BW39) -> 0 | BX37: =SUM(C37)-SUM(D37,I37:K37,N37,Q37:R37,U37:X37,AC37:AD37,AG37:AJ37,AP37:AU37,AX37:BW37) -> 110
B38: 男 | C38: 1567 | D38: =SUM(E38:H38) -> 324 | E38: 0 | F38: 265 | G38: 1 | H38: 58 | I38: 0 | J38: 27 | K38: 243 | L38: 1 | M38: 242 | N38: =SUM(O38:P38) -> 238 | O38: 238 | P38: 0 | Q38: 54 | R38: =SUM(S38:T38) -> 13 | S38: 9 | T38: 4 | U38: 37 | V38: 2 | W38: 0 | X38: =SUM(Y38:AB38) -> 133 | Y38: 34 | Z38: 11 | AA38: 7 | AB38: 81 | AC38: 0 | AD38: 28 | AE38: 0 | AF38: 28 | AG38: 0 | AH38: 7 | AI38: 2 | AJ38: 73 | AK38: 3 | AL38: 39 | AM38: 26 | AN38: 0 | AO38: =SUM(AJ38)-SUM(AK38:AN38) -> 5 | AP38: 31 | AQ38: 4 | AR38: 0 | AS38: 0 | AT38: 9 | AU38: =SUM(AV38:AW38) -> 8 | AV38: 8 | AW38: 0 | AX38: 0 | AY38: 0 | AZ38: 88 | BA38: 0 | BB38: 0 | BC38: 0 | BD38: 111 | BE38: 0 | BF38: 0 | BG38: 24 | BH38: 1 | BI38: 4 | BJ38: 0 | BK38: 0 | BL38: 0 | BM38: 0 | BN38: 0 | BO38: 0 | BP38: 1 | BQ38: 2 | BR38: 0 | BS38: 0 | BT38: 0 | BU38: 0 | BV38: 4 | BW38: 0 | BX38: =SUM(C38)-SUM(D38,I38:K38,N38,Q38:R38,U38:X38,AC38:AD38,AG38:AJ38,AP38:AU38,AX38:BW38) -> 99
B39: 女 | C39: 244 | D39: =SUM(E39:H39) -> 23 | E39: 0 | F39: 22 | G39: 1 | H39: 0 | I39: 2 | J39: 1 | K39: 20 | L39: 0 | M39: 20 | N39: =SUM(O39:P39) -> 68 | O39: 68 | P39: 0 | Q39: 15 | R39: =SUM(S39:T39) -> 2 | S39: 2 | T39: 0 | U39: 10 | V39: 1 | W39: 1 | X39: =SUM(Y39:AB39) -> 10 | Y39: 0 | Z39: 1 | AA39: 1 | AB39: 8 | AC39: 0 | AD39: 5 | AE39: 0 | AF39: 5 | AG39: 0 | AH39: 1 | AI39: 10 | AJ39: 11 | AK39: 0 | AL39: 8 | AM39: 3 | AN39: 0 | AO39: =SUM(AJ39)-SUM(AK39:AN39) -> 0 | AP39: 4 | AQ39: 0 | AR39: 0 | AS39: 0 | AT39: 1 | AU39: =SUM(AV39:AW39) -> 0 | AV39: 0 | AW39: 0 | AX39: 0 | AY39: 0 | AZ39: 12 | BA39: 0 | BB39: 0 | BC39: 0 | BD39: 22 | BE39: 0 | BF39: 0 | BG39: 8 | BH39: 0 | BI39: 1 | BJ39: 0 | BK39: 0 | BL39: 0 | BM39: 0 | BN39: 0 | BO39: 0 | BP39: 0 | BQ39: 2 | BR39: 1 | BS39: 0 | BT39: 0 | BU39: 1 | BV39: 1 | BW39: 0 | BX39: =SUM(C39)-SUM(D39,I39:K39,N39,Q39:R39,U39:X39,AC39:AD39,AG39:AJ39,AP39:AU39,AX39:BW39) -> 11
A40: 雲林縣 | B40: 計 | C40: =SUM(C41:C42) -> 1512 | D40: =SUM(E40:H40) -> 272 | E40: =SUM(E41:E42) -> 0 | F40: =SUM(F41:F42) -> 224 | G40: =SUM(G41:G42) -> 6 | H40: =SUM(H41:H42) -> 42 | I40: =SUM(I41:I42) -> 0 | J40: =SUM(J41:J42) -> 65 | K40: =SUM(K41:K42) -> 123 | L40: =SUM(L41:L42) -> 0 | M40: =SUM(M41:M42) -> 123 | N40: =SUM(O40:P40) -> 209 | O40: =SUM(O41:O42) -> 204 | P40: =SUM(P41:P42) -> 5 | Q40: =SUM(Q41:Q42) -> 80 | R40: =SUM(S40:T40) -> 1 | S40: =SUM(S41:S42) -> 0 | T40: =SUM(T41:T42) -> 1 | U40: =SUM(U41:U42) -> 51 | V40: =SUM(V41:V42) -> 8 | W40: =SUM(W41:W42) -> 2 | X40: =SUM(Y40:AB40) -> 98 | Y40: =SUM(Y41:Y42) -> 2 | Z40: =SUM(Z41:Z42) -> 0 | AA40: =SUM(AA41:AA42) -> 10 | AB40: =SUM(AB41:AB42) -> 86 | AC40: =SUM(AC41:AC42) -> 0 | AD40: =SUM(AD41:AD42) -> 15 | AE40: =SUM(AE41:AE42) -> 0 | AF40: =SUM(AF41:AF42) -> 15 | ... AN40: =SUM(AN41:AN42) -> 1 | AO40: =SUM(AJ40)-SUM(AK40:AN40) -> 1 | AP40: =SUM(AP41:AP42) -> 11 | AQ40: =SUM(AQ41:AQ42) -> 7 | AR40: =SUM(AR41:AR42) -> 1 | AS40: =SUM(AS41:AS42) -> 0 | AT40: =SUM(AT41:AT42) -> 5 | AU40: =SUM(AV40:AW40) -> 8 | AV40: =SUM(AV41:AV42) -> 8 | AW40: =SUM(AW41:AW42) -> 0 | AX40: =SUM(AX41:AX42) -> 0 | AY40: =SUM(AY41:AY42) -> 0 | AZ40: =SUM(AZ41:AZ42) -> 135 | BA40: =SUM(BA41:BA42) -> 0 | BB40: =SUM(BB41:BB42) -> 0 | BC40: =SUM(BC41:BC42) -> 0 | ... BW40: =SUM(BW41:BW42) -> 0 | BX40: =SUM(C40)-SUM(D40,I40:K40,N40,Q40:R40,U40:X40,AC40:AD40,AG40:AJ40,AP40:AU40,AX40:BW40) -> 193
B41: 男 | C41: 1315 | D41: =SUM(E41:H41) -> 246 | E41: 0 | F41: 200 | G41: 6 | H41: 40 | I41: 0 | J41: 64 | K41: 109 | L41: 0 | M41: 109 | N41: =SUM(O41:P41) -> 156 | O41: 154 | P41: 2 | Q41: 72 | R41: =SUM(S41:T41) -> 1 | S41: 0 | T41: 1 | U41: 44 | V41: 7 | W41: 1 | X41: =SUM(Y41:AB41) -> 89 | Y41: 2 | Z41: 0 | AA41: 8 | AB41: 79 | AC41: 0 | AD41: 14 | AE41: 0 | AF41: 14 | AG41: 0 | AH41: 6 | AI41: 6 | AJ41: 96 | AK41: 1 | AL41: 60 | AM41: 35 | AN41: 0 | AO41: =SUM(AJ41)-SUM(AK41:AN41) -> 0 | AP41: 11 | AQ41: 7 | AR41: 1 | AS41: 0 | AT41: 5 | AU41: =SUM(AV41:AW41) -> 6 | AV41: 6 | AW41: 0 | AX41: 0 | AY41: 0 | AZ41: 125 | BA41: 0 | BB41: 0 | BC41: 0 | BD41: 56 | BE41: 0 | BF41: 3 | BG41: 17 | BH41: 0 | BI41: 3 | BJ41: 0 | BK41: 0 | BL41: 0 | BM41: 0 | BN41: 1 | BO41: 0 | BP41: 0 | BQ41: 0 | BR41: 0 | BS41: 0 | BT41: 1 | BU41: 0 | BV41: 4 | BW41: 0 | BX41: =SUM(C41)-SUM(D41,I41:K41,N41,Q41:R41,U41:X41,AC41:AD41,AG41:AJ41,AP41:AU41,AX41:BW41) -> 164
B42: 女 | C42: 197 | D42: =SUM(E42:H42) -> 26 | E42: 0 | F42: 24 | G42: 0 | H42: 2 | I42: 0 | J42: 1 | K42: 14 | L42: 0 | M42: 14 | N42: =SUM(O42:P42) -> 53 | O42: 50 | P42: 3 | Q42: 8 | R42: =SUM(S42:T42) -> 0 | S42: 0 | T42: 0 | U42: 7 | V42: 1 | W42: 1 | X42: =SUM(Y42:AB42) -> 9 | Y42: 0 | Z42: 0 | AA42: 2 | AB42: 7 | AC42: 0 | AD42: 1 | AE42: 0 | AF42: 1 | AG42: 0 | AH42: 0 | AI42: 2 | AJ42: 16 | AK42: 2 | AL42: 8 | AM42: 4 | AN42: 1 | AO42: =SUM(AJ42)-SUM(AK42:AN42) -> 1 | AP42: 0 | AQ42: 0 | AR42: 0 | AS42: 0 | AT42: 0 | AU42: =SUM(AV42:AW42) -> 2 | AV42: 2 | AW42: 0 | AX42: 0 | AY42: 0 | AZ42: 10 | BA42: 0 | BB42: 0 | BC42: 0 | BD42: 9 | BE42: 0 | BF42: 1 | BG42: 6 | BH42: 0 | BI42: 0 | BJ42: 0 | BK42: 0 | BL42: 0 | BM42: 0 | BN42: 0 | BO42: 0 | BP42: 0 | BQ42: 0 | BR42: 0 | BS42: 0 | BT42: 1 | BU42: 0 | BV42: 0 | BW42: 0 | BX42: =SUM(C42)-SUM(D42,I42:K42,N42,Q42:R42,U42:X42,AC42:AD42,AG42:AJ42,AP42:AU42,AX42:BW42) -> 29
A43: 嘉義縣 | B43: 計 | C43: =SUM(C44:C45) -> 1400 | D43: =SUM(E43:H43) -> 245 | E43: =SUM(E44:E45) -> 0 | F43: =SUM(F44:F45) -> 219 | G43: =SUM(G44:G45) -> 6 | H43: =SUM(H44:H45) -> 20 | I43: =SUM(I44:I45) -> 1 | J43: =SUM(J44:J45) -> 14 | K43: =SUM(K44:K45) -> 151 | L43: =SUM(L44:L45) -> 0 | M43: =SUM(M44:M45) -> 151 | N43: =SUM(O43:P43) -> 300 | O43: =SUM(O44:O45) -> 300 | P43: =SUM(P44:P45) -> 0 | Q43: =SUM(Q44:Q45) -> 61 | R43: =SUM(S43:T43) -> 8 | S43: =SUM(S44:S45) -> 8 | T43: =SUM(T44:T45) -> 0 | U43: =SUM(U44:U45) -> 56 | V43: =SUM(V44:V45) -> 6 | W43: =SUM(W44:W45) -> 0 | X43: =SUM(Y43:AB43) -> 101 | Y43: =SUM(Y44:Y45) -> 13 | Z43: =SUM(Z44:Z45) -> 0 | AA43: =SUM(AA44:AA45) -> 3 | AB43: =SUM(AB44:AB45) -> 85 | AC43: =SUM(AC44:AC45) -> 0 | AD43: =SUM(AD44:AD45) -> 4 | AE43: =SUM(AE44:AE45) -> 0 | AF43: =SUM(AF44:AF45) -> 4 | ... AN43: =SUM(AN44:AN45) -> 0 | AO43: =SUM(AJ43)-SUM(AK43:AN43) -> 2 | AP43: =SUM(AP44:AP45) -> 34 | AQ43: =SUM(AQ44:AQ45) -> 1 | AR43: =SUM(AR44:AR45) -> 0 | AS43: =SUM(AS44:AS45) -> 0 | AT43: =SUM(AT44:AT45) -> 7 | AU43: =SUM(AV43:AW43) -> 0 | AV43: =SUM(AV44:AV45) -> 0 | AW43: =SUM(AW44:AW45) -> 0 | AX43: =SUM(AX44:AX45) -> 1 | AY43: =SUM(AY44:AY45) -> 0 | AZ43: =SUM(AZ44:AZ45) -> 45 | BA43: =SUM(BA44:BA45) -> 1 | BB43: =SUM(BB44:BB45) -> 0 | BC43: =SUM(BC44:BC45) -> 0 | ... BW43: =SUM(BW44:BW45) -> 0 | BX43: =SUM(C43)-SUM(D43,I43:K43,N43,Q43:R43,U43:X43,AC43:AD43,AG43:AJ43,AP43:AU43,AX43:BW43) -> 127
B44: 男 | C44: 1191 | D44: =SUM(E44:H44) -> 220 | E44: 0 | F44: 195 | G44: 6 | H44: 19 | I44: 1 | J44: 14 | K44: 142 | L44: 0 | M44: 142 | N44: =SUM(O44:P44) -> 217 | O44: 217 | P44: 0 | Q44: 51 | R44: =SUM(S44:T44) -> 7 | S44: 7 | T44: 0 | U44: 40 | V44: 6 | W44: 0 | X44: =SUM(Y44:AB44) -> 96 | Y44: 13 | Z44: 0 | AA44: 3 | AB44: 80 | AC44: 0 | AD44: 3 | AE44: 0 | AF44: 3 | AG44: 0 | AH44: 2 | AI44: 3 | AJ44: 142 | AK44: 3 | AL44: 44 | AM44: 93 | AN44: 0 | AO44: =SUM(AJ44)-SUM(AK44:AN44) -> 2 | AP44: 33 | AQ44: 1 | AR44: 0 | AS44: 0 | AT44: 5 | AU44: =SUM(AV44:AW44) -> 0 | AV44: 0 | AW44: 0 | AX44: 1 | AY44: 0 | AZ44: 39 | BA44: 0 | BB44: 0 | BC44: 0 | BD44: 37 | BE44: 0 | BF44: 3 | BG44: 7 | BH44: 3 | BI44: 1 | BJ44: 0 | BK44: 0 | BL44: 0 | BM44: 0 | BN44: 0 | BO44: 0 | BP44: 0 | BQ44: 1 | BR44: 0 | BS44: 0 | BT44: 0 | BU44: 0 | BV44: 4 | BW44: 0 | BX44: =SUM(C44)-SUM(D44,I44:K44,N44,Q44:R44,U44:X44,AC44:AD44,AG44:AJ44,AP44:AU44,AX44:BW44) -> 112
B45: 女 | C45: 209 | D45: =SUM(E45:H45) -> 25 | E45: 0 | F45: 24 | G45: 0 | H45: 1 | I45: 0 | J45: 0 | K45: 9 | L45: 0 | M45: 9 | N45: =SUM(O45:P45) -> 83 | O45: 83 | P45: 0 | Q45: 10 | R45: =SUM(S45:T45) -> 1 | S45: 1 | T45: 0 | U45: 16 | V45: 0 | W45: 0 | X45: =SUM(Y45:AB45) -> 5 | Y45: 0 | Z45: 0 | AA45: 0 | AB45: 5 | AC45: 0 | AD45: 1 | AE45: 0 | AF45: 1 | AG45: 0 | AH45: 1 | AI45: 2 | AJ45: 17 | AK45: 0 | AL45: 9 | AM45: 8 | AN45: 0 | AO45: =SUM(AJ45)-SUM(AK45:AN45) -> 0 | AP45: 1 | AQ45: 0 | AR45: 0 | AS45: 0 | AT45: 2 | AU45: =SUM(AV45:AW45) -> 0 | AV45: 0 | AW45: 0 | AX45: 0 | AY45: 0 | AZ45: 6 | BA45: 1 | BB45: 0 | BC45: 0 | BD45: 4 | BE45: 0 | BF45: 1 | BG45: 8 | BH45: 0 | BI45: 0 | BJ45: 0 | BK45: 0 | BL45: 0 | BM45: 0 | BN45: 1 | BO45: 0 | BP45: 0 | BQ45: 0 | BR45: 0 | BS45: 0 | BT45: 0 | BU45: 0 | BV45: 0 | BW45: 0 | BX45: =SUM(C45)-SUM(D45,I45:K45,N45,Q45:R45,U45:X45,AC45:AD45,AG45:AJ45,AP45:AU45,AX45:BW45) -> 15
A46: 屏東縣 | B46: 計 | C46: =SUM(C47:C48) -> 2110 | D46: =SUM(E46:H46) -> 395 | E46: =SUM(E47:E48) -> 0 | F46: =SUM(F47:F48) -> 318 | G46: =SUM(G47:G48) -> 7 | H46: =SUM(H47:H48) -> 70 | I46: =SUM(I47:I48) -> 1 | J46: =SUM(J47:J48) -> 21 | K46: =SUM(K47:K48) -> 255 | L46: =SUM(L47:L48) -> 0 | M46: =SUM(M47:M48) -> 255 | N46: =SUM(O46:P46) -> 128 | O46: =SUM(O47:O48) -> 128 | P46: =SUM(P47:P48) -> 0 | Q46: =SUM(Q47:Q48) -> 61 | R46: =SUM(S46:T46) -> 15 | S46: =SUM(S47:S48) -> 15 | T46: =SUM(T47:T48) -> 0 | U46: =SUM(U47:U48) -> 57 | V46: =SUM(V47:V48) -> 3 | W46: =SUM(W47:W48) -> 1 | X46: =SUM(Y46:AB46) -> 197 | Y46: =SUM(Y47:Y48) -> 3 | Z46: =SUM(Z47:Z48) -> 0 | AA46: =SUM(AA47:AA48) -> 11 | AB46: =SUM(AB47:AB48) -> 183 | AC46: =SUM(AC47:AC48) -> 0 | AD46: =SUM(AD47:AD48) -> 24 | AE46: =SUM(AE47:AE48) -> 0 | AF46: =SUM(AF47:AF48) -> 24 | ... AN46: =SUM(AN47:AN48) -> 1 | AO46: =SUM(AJ46)-SUM(AK46:AN46) -> 0 | AP46: =SUM(AP47:AP48) -> 38 | AQ46: =SUM(AQ47:AQ48) -> 8 | AR46: =SUM(AR47:AR48) -> 1 | AS46: =SUM(AS47:AS48) -> 0 | AT46: =SUM(AT47:AT48) -> 2 | AU46: =SUM(AV46:AW46) -> 6 | AV46: =SUM(AV47:AV48) -> 3 | AW46: =SUM(AW47:AW48) -> 3 | AX46: =SUM(AX47:AX48) -> 1 | AY46: =SUM(AY47:AY48) -> 1 | AZ46: =SUM(AZ47:AZ48) -> 107 | BA46: =SUM(BA47:BA48) -> 0 | BB46: =SUM(BB47:BB48) -> 0 | BC46: =SUM(BC47:BC48) -> 0 | ... BW46: =SUM(BW47:BW48) -> 0 | BX46: =SUM(C46)-SUM(D46,I46:K46,N46,Q46:R46,U46:X46,AC46:AD46,AG46:AJ46,AP46:AU46,AX46:BW46) -> 260
B47: 男 | C47: 1842 | D47: =SUM(E47:H47) -> 344 | E47: 0 | F47: 271 | G47: 7 | H47: 66 | I47: 1 | J47: 21 | K47: 240 | L47: 0 | M47: 240 | N47: =SUM(O47:P47) -> 101 | O47: 101 | P47: 0 | Q47: 55 | R47: =SUM(S47:T47) -> 15 | S47: 15 | T47: 0 | U47: 49 | V47: 3 | W47: 1 | X47: =SUM(Y47:AB47) -> 176 | Y47: 3 | Z47: 0 | AA47: 11 | AB47: 162 | AC47: 0 | AD47: 20 | AE47: 0 | AF47: 20 | AG47: 0 | AH47: 7 | AI47: 4 | AJ47: 232 | AK47: 1 | AL47: 166 | AM47: 64 | AN47: 1 | AO47: =SUM(AJ47)-SUM(AK47:AN47) -> 0 | AP47: 37 | AQ47: 8 | AR47: 1 | AS47: 0 | AT47: 2 | AU47: =SUM(AV47:AW47) -> 5 | AV47: 2 | AW47: 3 | AX47: 1 | AY47: 1 | AZ47: 103 | BA47: 0 | BB47: 0 | BC47: 0 | BD47: 163 | BE47: 0 | BF47: 14 | BG47: 20 | BH47: 4 | BI47: 7 | BJ47: 0 | BK47: 0 | BL47: 0 | BM47: 0 | BN47: 0 | BO47: 0 | BP47: 1 | BQ47: 2 | BR47: 0 | BS47: 0 | BT47: 0 | BU47: 0 | BV47: 5 | BW47: 0 | BX47: =SUM(C47)-SUM(D47,I47:K47,N47,Q47:R47,U47:X47,AC47:AD47,AG47:AJ47,AP47:AU47,AX47:BW47) -> 199
B48: 女 | C48: 268 | D48: =SUM(E48:H48) -> 51 | E48: 0 | F48: 47 | G48: 0 | H48: 4 | I48: 0 | J48: 0 | K48: 15 | L48: 0 | M48: 15 | N48: =SUM(O48:P48) -> 27 | O48: 27 | P48: 0 | Q48: 6 | R48: =SUM(S48:T48) -> 0 | S48: 0 | T48: 0 | U48: 8 | V48: 0 | W48: 0 | X48: =SUM(Y48:AB48) -> 21 | Y48: 0 | Z48: 0 | AA48: 0 | AB48: 21 | AC48: 0 | AD48: 4 | AE48: 0 | AF48: 4 | AG48: 0 | AH48: 3 | AI48: 4 | AJ48: 37 | AK48: 0 | AL48: 33 | AM48: 4 | AN48: 0 | AO48: =SUM(AJ48)-SUM(AK48:AN48) -> 0 | AP48: 1 | AQ48: 0 | AR48: 0 | AS48: 0 | AT48: 0 | AU48: =SUM(AV48:AW48) -> 1 | AV48: 1 | AW48: 0 | AX48: 0 | AY48: 0 | AZ48: 4 | BA48: 0 | BB48: 0 | BC48: 0 | BD48: 24 | BE48: 0 | BF48: 1 | BG48: 0 | BH48: 0 | BI48: 0 | BJ48: 0 | BK48: 0 | BL48: 0 | BM48: 0 | BN48: 0 | BO48: 0 | BP48: 0 | BQ48: 0 | BR48: 0 | BS48: 0 | BT48: 0 | BU48: 0 | BV48: 0 | BW48: 0 | BX48: =SUM(C48)-SUM(D48,I48:K48,N48,Q48:R48,U48:X48,AC48:AD48,AG48:AJ48,AP48:AU48,AX48:BW48) -> 61
A49: 臺東縣 | B49: 計 | C49: =SUM(C50:C51) -> 724 | D49: =SUM(E49:H49) -> 111 | E49: =SUM(E50:E51) -> 0 | F49: =SUM(F50:F51) -> 83 | G49: =SUM(G50:G51) -> 5 | H49: =SUM(H50:H51) -> 23 | I49: =SUM(I50:I51) -> 1 | J49: =SUM(J50:J51) -> 0 | K49: =SUM(K50:K51) -> 81 | L49: =SUM(L50:L51) -> 0 | M49: =SUM(M50:M51) -> 81 | N49: =SUM(O49:P49) -> 39 | O49: =SUM(O50:O51) -> 39 | P49: =SUM(P50:P51) -> 0 | Q49: =SUM(Q50:Q51) -> 11 | R49: =SUM(S49:T49) -> 1 | S49: =SUM(S50:S51) -> 1 | T49: =SUM(T50:T51) -> 0 | U49: =SUM(U50:U51) -> 15 | V49: =SUM(V50:V51) -> 0 | W49: =SUM(W50:W51) -> 0 | X49: =SUM(Y49:AB49) -> 132 | Y49: =SUM(Y50:Y51) -> 1 | Z49: =SUM(Z50:Z51) -> 0 | AA49: =SUM(AA50:AA51) -> 5 | AB49: =SUM(AB50:AB51) -> 126 | AC49: =SUM(AC50:AC51) -> 0 | AD49: =SUM(AD50:AD51) -> 1 | AE49: =SUM(AE50:AE51) -> 0 | AF49: =SUM(AF50:AF51) -> 1 | ... AN49: =SUM(AN50:AN51) -> 0 | AO49: =SUM(AJ49)-SUM(AK49:AN49) -> 0 | AP49: =SUM(AP50:AP51) -> 4 | AQ49: =SUM(AQ50:AQ51) -> 3 | AR49: =SUM(AR50:AR51) -> 0 | AS49: =SUM(AS50:AS51) -> 0 | AT49: =SUM(AT50:AT51) -> 1 | AU49: =SUM(AV49:AW49) -> 3 | AV49: =SUM(AV50:AV51) -> 3 | AW49: =SUM(AW50:AW51) -> 0 | AX49: =SUM(AX50:AX51) -> 0 | AY49: =SUM(AY50:AY51) -> 0 | AZ49: =SUM(AZ50:AZ51) -> 12 | BA49: =SUM(BA50:BA51) -> 0 | BB49: =SUM(BB50:BB51) -> 0 | BC49: =SUM(BC50:BC51) -> 1 | ... BW49: =SUM(BW50:BW51) -> 0 | BX49: =SUM(C49)-SUM(D49,I49:K49,N49,Q49:R49,U49:X49,AC49:AD49,AG49:AJ49,AP49:AU49,AX49:BW49) -> 125
B50: 男 | C50: 607 | D50: =SUM(E50:H50) -> 104 | E50: 0 | F50: 78 | G50: 4 | H50: 22 | I50: 1 | J50: 0 | K50: 72 | L50: 0 | M50: 72 | N50: =SUM(O50:P50) -> 22 | O50: 22 | P50: 0 | Q50: 10 | R50: =SUM(S50:T50) -> 1 | S50: 1 | T50: 0 | U50: 12 | V50: 0 | W50: 0 | X50: =SUM(Y50:AB50) -> 116 | Y50: 1 | Z50: 0 | AA50: 5 | AB50: 110 | AC50: 0 | AD50: 1 | AE50: 0 | AF50: 1 | AG50: 2 | AH50: 1 | AI50: 1 | AJ50: 30 | AK50: 0 | AL50: 25 | AM50: 5 | AN50: 0 | AO50: =SUM(AJ50)-SUM(AK50:AN50) -> 0 | AP50: 4 | AQ50: 3 | AR50: 0 | AS50: 0 | AT50: 1 | AU50: =SUM(AV50:AW50) -> 3 | AV50: 3 | AW50: 0 | AX50: 0 | AY50: 0 | AZ50: 12 | BA50: 0 | BB50: 0 | BC50: 1 | BD50: 88 | BE50: 0 | BF50: 1 | BG50: 2 | BH50: 0 | BI50: 3 | BJ50: 0 | BK50: 0 | BL50: 0 | BM50: 0 | BN50: 0 | BO50: 0 | BP50: 0 | BQ50: 0 | BR50: 0 | BS50: 0 | BT50: 0 | BU50: 0 | BV50: 6 | BW50: 0 | BX50: =SUM(C50)-SUM(D50,I50:K50,N50,Q50:R50,U50:X50,AC50:AD50,AG50:AJ50,AP50:AU50,AX50:BW50) -> 110
B51: 女 | C51: 117 | D51: =SUM(E51:H51) -> 7 | E51: 0 | F51: 5 | G51: 1 | H51: 1 | I51: 0 | J51: 0 | K51: 9 | L51: 0 | M51: 9 | N51: =SUM(O51:P51) -> 17 | O51: 17 | P51: 0 | Q51: 1 | R51: =SUM(S51:T51) -> 0 | S51: 0 | T51: 0 | U51: 3 | V51: 0 | W51: 0 | X51: =SUM(Y51:AB51) -> 16 | Y51: 0 | Z51: 0 | AA51: 0 | AB51: 16 | AC51: 0 | AD51: 0 | AE51: 0 | AF51: 0 | AG51: 0 | AH51: 0 | AI51: 2 | AJ51: 14 | AK51: 0 | AL51: 14 | AM51: 0 | AN51: 0 | AO51: =SUM(AJ51)-SUM(AK51:AN51) -> 0 | AP51: 0 | AQ51: 0 | AR51: 0 | AS51: 0 | AT51: 0 | AU51: =SUM(AV51:AW51) -> 0 | AV51: 0 | AW51: 0 | AX51: 0 | AY51: 0 | AZ51: 0 | BA51: 0 | BB51: 0 | BC51: 0 | BD51: 30 | BE51: 0 | BF51: 0 | BG51: 2 | BH51: 0 | BI51: 0 | BJ51: 0 | BK51: 0 | BL51: 0 | BM51: 0 | BN51: 0 | BO51: 0 | BP51: 0 | BQ51: 1 | BR51: 0 | BS51: 0 | BT51: 0 | BU51: 0 | BV51: 0 | BW51: 0 | BX51: =SUM(C51)-SUM(D51,I51:K51,N51,Q51:R51,U51:X51,AC51:AD51,AG51:AJ51,AP51:AU51,AX51:BW51) -> 15
A52: 花蓮縣 | B52: 計 | C52: =SUM(C53:C54) -> 1607 | D52: =SUM(E52:H52) -> 388 | E52: =SUM(E53:E54) -> 0 | F52: =SUM(F53:F54) -> 331 | G52: =SUM(G53:G54) -> 6 | H52: =SUM(H53:H54) -> 51 | I52: =SUM(I53:I54) -> 4 | J52: =SUM(J53:J54) -> 5 | K52: =SUM(K53:K54) -> 207 | L52: =SUM(L53:L54) -> 0 | M52: =SUM(M53:M54) -> 207 | N52: =SUM(O52:P52) -> 89 | O52: =SUM(O53:O54) -> 89 | P52: =SUM(P53:P54) -> 0 | Q52: =SUM(Q53:Q54) -> 64 | R52: =SUM(S52:T52) -> 39 | S52: =SUM(S53:S54) -> 39 | T52: =SUM(T53:T54) -> 0 | U52: =SUM(U53:U54) -> 30 | V52: =SUM(V53:V54) -> 3 | W52: =SUM(W53:W54) -> 2 | X52: =SUM(Y52:AB52) -> 143 | Y52: =SUM(Y53:Y54) -> 12 | Z52: =SUM(Z53:Z54) -> 1 | AA52: =SUM(AA53:AA54) -> 11 | AB52: =SUM(AB53:AB54) -> 119 | AC52: =SUM(AC53:AC54) -> 0 | AD52: =SUM(AD53:AD54) -> 7 | AE52: =SUM(AE53:AE54) -> 0 | AF52: =SUM(AF53:AF54) -> 7 | ... AN52: =SUM(AN53:AN54) -> 2 | AO52: =SUM(AJ52)-SUM(AK52:AN52) -> 1 | AP52: =SUM(AP53:AP54) -> 28 | AQ52: =SUM(AQ53:AQ54) -> 3 | AR52: =SUM(AR53:AR54) -> 0 | AS52: =SUM(AS53:AS54) -> 0 | AT52: =SUM(AT53:AT54) -> 7 | AU52: =SUM(AV52:AW52) -> 16 | AV52: =SUM(AV53:AV54) -> 10 | AW52: =SUM(AW53:AW54) -> 6 | AX52: =SUM(AX53:AX54) -> 0 | AY52: =SUM(AY53:AY54) -> 0 | AZ52: =SUM(AZ53:AZ54) -> 39 | BA52: =SUM(BA53:BA54) -> 2 | BB52: =SUM(BB53:BB54) -> 0 | BC52: =SUM(BC53:BC54) -> 0 | ... BW52: =SUM(BW53:BW54) -> 0 | BX52: =SUM(C52)-SUM(D52,I52:K52,N52,Q52:R52,U52:X52,AC52:AD52,AG52:AJ52,AP52:AU52,AX52:BW52) -> 147
B53: 男 | C53: 1377 | D53: =SUM(E53:H53) -> 346 | E53: 0 | F53: 293 | G53: 6 | H53: 47 | I53: 4 | J53: 5 | K53: 191 | L53: 0 | M53: 191 | N53: =SUM(O53:P53) -> 56 | O53: 56 | P53: 0 | Q53: 62 | R53: =SUM(S53:T53) -> 38 | S53: 38 | T53: 0 | U53: 19 | V53: 2 | W53: 2 | X53: =SUM(Y53:AB53) -> 133 | Y53: 11 | Z53: 1 | AA53: 11 | AB53: 110 | AC53: 0 | AD53: 5 | AE53: 0 | AF53: 5 | AG53: 0 | AH53: 6 | AI53: 3 | AJ53: 100 | AK53: 0 | AL53: 68 | AM53: 29 | AN53: 2 | AO53: =SUM(AJ53)-SUM(AK53:AN53) -> 1 | AP53: 28 | AQ53: 3 | AR53: 0 | AS53: 0 | AT53: 7 | AU53: =SUM(AV53:AW53) -> 15 | AV53: 9 | AW53: 6 | AX53: 0 | AY53: 0 | AZ53: 39 | BA53: 0 | BB53: 0 | BC53: 0 | BD53: 157 | BE53: 0 | BF53: 2 | BG53: 18 | BH53: 1 | BI53: 2 | BJ53: 0 | BK53: 0 | BL53: 0 | BM53: 0 | BN53: 0 | BO53: 0 | BP53: 0 | BQ53: 0 | BR53: 0 | BS53: 0 | BT53: 1 | BU53: 0 | BV53: 5 | BW53: 0 | BX53: =SUM(C53)-SUM(D53,I53:K53,N53,Q53:R53,U53:X53,AC53:AD53,AG53:AJ53,AP53:AU53,AX53:BW53) -> 127
B54: 女 | C54: 230 | D54: =SUM(E54:H54) -> 42 | E54: 0 | F54: 38 | G54: 0 | H54: 4 | I54: 0 | J54: 0 | K54: 16 | L54: 0 | M54: 16 | N54: =SUM(O54:P54) -> 33 | O54: 33 | P54: 0 | Q54: 2 | R54: =SUM(S54:T54) -> 1 | S54: 1 | T54: 0 | U54: 11 | V54: 1 | W54: 0 | X54: =SUM(Y54:AB54) -> 10 | Y54: 1 | Z54: 0 | AA54: 0 | AB54: 9 | AC54: 0 | AD54: 2 | AE54: 0 | AF54: 2 | AG54: 0 | AH54: 1 | AI54: 2 | AJ54: 23 | AK54: 0 | AL54: 20 | AM54: 3 | AN54: 0 | AO54: =SUM(AJ54)-SUM(AK54:AN54) -> 0 | AP54: 0 | AQ54: 0 | AR54: 0 | AS54: 0 | AT54: 0 | AU54: =SUM(AV54:AW54) -> 1 | AV54: 1 | AW54: 0 | AX54: 0 | AY54: 0 | AZ54: 0 | BA54: 2 | BB54: 0 | BC54: 0 | BD54: 54 | BE54: 0 | BF54: 0 | BG54: 6 | BH54: 0 | BI54: 1 | BJ54: 0 | BK54: 0 | BL54: 0 | BM54: 0 | BN54: 0 | BO54: 0 | BP54: 0 | BQ54: 2 | BR54: 0 | BS54: 0 | BT54: 0 | BU54: 0 | BV54: 0 | BW54: 0 | BX54: =SUM(C54)-SUM(D54,I54:K54,N54,Q54:R54,U54:X54,AC54:AD54,AG54:AJ54,AP54:AU54,AX54:BW54) -> 20
A55: 澎湖縣 | B55: 計 | C55: =SUM(C56:C57) -> 420 | D55: =SUM(E55:H55) -> 131 | E55: =SUM(E56:E57) -> 1 | F55: =SUM(F56:F57) -> 102 | G55: =SUM(G56:G57) -> 8 | H55: =SUM(H56:H57) -> 20 | I55: =SUM(I56:I57) -> 1 | J55: =SUM(J56:J57) -> 0 | K55: =SUM(K56:K57) -> 102 | L55: =SUM(L56:L57) -> 0 | M55: =SUM(M56:M57) -> 102 | N55: =SUM(O55:P55) -> 18 | O55: =SUM(O56:O57) -> 18 | P55: =SUM(P56:P57) -> 0 | Q55: =SUM(Q56:Q57) -> 10 | R55: =SUM(S55:T55) -> 2 | S55: =SUM(S56:S57) -> 2 | T55: =SUM(T56:T57) -> 0 | U55: =SUM(U56:U57) -> 3 | V55: =SUM(V56:V57) -> 1 | W55: =SUM(W56:W57) -> 0 | X55: =SUM(Y55:AB55) -> 13 | Y55: =SUM(Y56:Y57) -> 5 | Z55: =SUM(Z56:Z57) -> 0 | AA55: =SUM(AA56:AA57) -> 0 | AB55: =SUM(AB56:AB57) -> 8 | AC55: =SUM(AC56:AC57) -> 0 | AD55: =SUM(AD56:AD57) -> 3 | AE55: =SUM(AE56:AE57) -> 0 | AF55: =SUM(AF56:AF57) -> 3 | ... AN55: =SUM(AN56:AN57) -> 0 | AO55: =SUM(AJ55)-SUM(AK55:AN55) -> 0 | AP55: =SUM(AP56:AP57) -> 8 | AQ55: =SUM(AQ56:AQ57) -> 0 | AR55: =SUM(AR56:AR57) -> 0 | AS55: =SUM(AS56:AS57) -> 1 | AT55: =SUM(AT56:AT57) -> 2 | AU55: =SUM(AV55:AW55) -> 0 | AV55: =SUM(AV56:AV57) -> 0 | AW55: =SUM(AW56:AW57) -> 0 | AX55: =SUM(AX56:AX57) -> 0 | AY55: =SUM(AY56:AY57) -> 0 | AZ55: =SUM(AZ56:AZ57) -> 3 | BA55: =SUM(BA56:BA57) -> 0 | BB55: =SUM(BB56:BB57) -> 0 | BC55: =SUM(BC56:BC57) -> 0 | ... BW55: =SUM(BW56:BW57) -> 0 | BX55: =SUM(C55)-SUM(D55,I55:K55,N55,Q55:R55,U55:X55,AC55:AD55,AG55:AJ55,AP55:AU55,AX55:BW55) -> 37
B56: 男 | C56: 373 | D56: =SUM(E56:H56) -> 120 | E56: 1 | F56: 92 | G56: 7 | H56: 20 | I56: 1 | J56: 0 | K56: 92 | L56: 0 | M56: 92 | N56: =SUM(O56:P56) -> 15 | O56: 15 | P56: 0 | Q56: 8 | R56: =SUM(S56:T56) -> 2 | S56: 2 | T56: 0 | U56: 2 | V56: 1 | W56: 0 | X56: =SUM(Y56:AB56) -> 13 | Y56: 5 | Z56: 0 | AA56: 0 | AB56: 8 | AC56: 0 | AD56: 3 | AE56: 0 | AF56: 3 | AG56: 0 | AH56: 0 | AI56: 1 | AJ56: 21 | AK56: 0 | AL56: 15 | AM56: 6 | AN56: 0 | AO56: =SUM(AJ56)-SUM(AK56:AN56) -> 0 | AP56: 8 | AQ56: 0 | AR56: 0 | AS56: 0 | AT56: 1 | AU56: =SUM(AV56:AW56) -> 0 | AV56: 0 | AW56: 0 | AX56: 0 | AY56: 0 | AZ56: 3 | BA56: 0 | BB56: 0 | BC56: 0 | BD56: 28 | BE56: 0 | BF56: 0 | BG56: 14 | BH56: 0 | BI56: 8 | BJ56: 0 | BK56: 0 | BL56: 0 | BM56: 0 | BN56: 0 | BO56: 0 | BP56: 0 | BQ56: 0 | BR56: 0 | BS56: 0 | BT56: 0 | BU56: 0 | BV56: 0 | BW56: 0 | BX56: =SUM(C56)-SUM(D56,I56:K56,N56,Q56:R56,U56:X56,AC56:AD56,AG56:AJ56,AP56:AU56,AX56:BW56) -> 32
B57: 女 | C57: 47 | D57: =SUM(E57:H57) -> 11 | E57: 0 | F57: 10 | G57: 1 | H57: 0 | I57: 0 | J57: 0 | K57: 10 | L57: 0 | M57: 10 | N57: =SUM(O57:P57) -> 3 | O57: 3 | P57: 0 | Q57: 2 | R57: =SUM(S57:T57) -> 0 | S57: 0 | T57: 0 | U57: 1 | V57: 0 | W57: 0 | X57: =SUM(Y57:AB57) -> 0 | Y57: 0 | Z57: 0 | AA57: 0 | AB57: 0 | AC57: 0 | AD57: 0 | AE57: 0 | AF57: 0 | AG57: 0 | AH57: 0 | AI57: 1 | AJ57: 0 | AK57: 0 | AL57: 0 | AM57: 0 | AN57: 0 | AO57: =SUM(AJ57)-SUM(AK57:AN57) -> 0 | AP57: 0 | AQ57: 0 | AR57: 0 | AS57: 1 | AT57: 1 | AU57: =SUM(AV57:AW57) -> 0 | AV57: 0 | AW57: 0 | AX57: 0 | AY57: 0 | AZ57: 0 | BA57: 0 | BB57: 0 | BC57: 0 | BD57: 7 | BE57: 0 | BF57: 0 | BG57: 3 | BH57: 0 | BI57: 2 | BJ57: 0 | BK57: 0 | BL57: 0 | BM57: 0 | BN57: 0 | BO57: 0 | BP57: 0 | BQ57: 0 | BR57: 0 | BS57: 0 | BT57: 0 | BU57: 0 | BV57: 0 | BW57: 0 | BX57: =SUM(C57)-SUM(D57,I57:K57,N57,Q57:R57,U57:X57,AC57:AD57,AG57:AJ57,AP57:AU57,AX57:BW57) -> 5
A58: 基隆市 | B58: 計 | C58: =SUM(C59:C60) -> 1768 | D58: =SUM(E58:H58) -> 295 | E58: =SUM(E59:E60) -> 0 | F58: =SUM(F59:F60) -> 217 | G58: =SUM(G59:G60) -> 2 | H58: =SUM(H59:H60) -> 76 | I58: =SUM(I59:I60) -> 0 | J58: =SUM(J59:J60) -> 23 | K58: =SUM(K59:K60) -> 210 | L58: =SUM(L59:L60) -> 0 | M58: =SUM(M59:M60) -> 210 | N58: =SUM(O58:P58) -> 192 | O58: =SUM(O59:O60) -> 192 | P58: =SUM(P59:P60) -> 0 | Q58: =SUM(Q59:Q60) -> 85 | R58: =SUM(S58:T58) -> 26 | S58: =SUM(S59:S60) -> 26 | T58: =SUM(T59:T60) -> 0 | U58: =SUM(U59:U60) -> 46 | V58: =SUM(V59:V60) -> 10 | W58: =SUM(W59:W60) -> 1 | X58: =SUM(Y58:AB58) -> 127 | Y58: =SUM(Y59:Y60) -> 20 | Z58: =SUM(Z59:Z60) -> 2 | AA58: =SUM(AA59:AA60) -> 1 | AB58: =SUM(AB59:AB60) -> 104 | AC58: =SUM(AC59:AC60) -> 0 | AD58: =SUM(AD59:AD60) -> 7 | AE58: =SUM(AE59:AE60) -> 0 | AF58: =SUM(AF59:AF60) -> 7 | ... AN58: =SUM(AN59:AN60) -> 0 | AO58: =SUM(AJ58)-SUM(AK58:AN58) -> 1 | AP58: =SUM(AP59:AP60) -> 17 | AQ58: =SUM(AQ59:AQ60) -> 6 | AR58: =SUM(AR59:AR60) -> 1 | AS58: =SUM(AS59:AS60) -> 0 | AT58: =SUM(AT59:AT60) -> 6 | AU58: =SUM(AV58:AW58) -> 11 | AV58: =SUM(AV59:AV60) -> 11 | AW58: =SUM(AW59:AW60) -> 0 | AX58: =SUM(AX59:AX60) -> 0 | AY58: =SUM(AY59:AY60) -> 0 | AZ58: =SUM(AZ59:AZ60) -> 184 | BA58: =SUM(BA59:BA60) -> 7 | BB58: =SUM(BB59:BB60) -> 0 | BC58: =SUM(BC59:BC60) -> 0 | ... BW58: =SUM(BW59:BW60) -> 0 | BX58: =SUM(C58)-SUM(D58,I58:K58,N58,Q58:R58,U58:X58,AC58:AD58,AG58:AJ58,AP58:AU58,AX58:BW58) -> 174
B59: 男 | C59: 1517 | D59: =SUM(E59:H59) -> 268 | E59: 0 | F59: 195 | G59: 1 | H59: 72 | I59: 0 | J59: 23 | K59: 186 | L59: 0 | M59: 186 | N59: =SUM(O59:P59) -> 157 | O59: 157 | P59: 0 | Q59: 69 | R59: =SUM(S59:T59) -> 26 | S59: 26 | T59: 0 | U59: 40 | V59: 9 | W59: 1 | X59: =SUM(Y59:AB59) -> 120 | Y59: 19 | Z59: 2 | AA59: 1 | AB59: 98 | AC59: 0 | AD59: 6 | AE59: 0 | AF59: 6 | AG59: 0 | AH59: 18 | AI59: 6 | AJ59: 158 | AK59: 9 | AL59: 106 | AM59: 42 | AN59: 0 | AO59: =SUM(AJ59)-SUM(AK59:AN59) -> 1 | AP59: 17 | AQ59: 6 | AR59: 1 | AS59: 0 | AT59: 6 | AU59: =SUM(AV59:AW59) -> 6 | AV59: 6 | AW59: 0 | AX59: 0 | AY59: 0 | AZ59: 164 | BA59: 2 | BB59: 0 | BC59: 0 | BD59: 53 | BE59: 0 | BF59: 1 | BG59: 21 | BH59: 0 | BI59: 11 | BJ59: 0 | BK59: 0 | BL59: 0 | BM59: 0 | BN59: 0 | BO59: 0 | BP59: 0 | BQ59: 0 | BR59: 0 | BS59: 0 | BT59: 0 | BU59: 0 | BV59: 3 | BW59: 0 | BX59: =SUM(C59)-SUM(D59,I59:K59,N59,Q59:R59,U59:X59,AC59:AD59,AG59:AJ59,AP59:AU59,AX59:BW59) -> 139
B60: 女 | C60: 251 | D60: =SUM(E60:H60) -> 27 | E60: 0 | F60: 22 | G60: 1 | H60: 4 | I60: 0 | J60: 0 | K60: 24 | L60: 0 | M60: 24 | N60: =SUM(O60:P60) -> 35 | O60: 35 | P60: 0 | Q60: 16 | R60: =SUM(S60:T60) -> 0 | S60: 0 | T60: 0 | U60: 6 | V60: 1 | W60: 0 | X60: =SUM(Y60:AB60) -> 7 | Y60: 1 | Z60: 0 | AA60: 0 | AB60: 6 | AC60: 0 | AD60: 1 | AE60: 0 | AF60: 1 | AG60: 0 | AH60: 2 | AI60: 3 | AJ60: 38 | AK60: 0 | AL60: 32 | AM60: 6 | AN60: 0 | AO60: =SUM(AJ60)-SUM(AK60:AN60) -> 0 | AP60: 0 | AQ60: 0 | AR60: 0 | AS60: 0 | AT60: 0 | AU60: =SUM(AV60:AW60) -> 5 | AV60: 5 | AW60: 0 | AX60: 0 | AY60: 0 | AZ60: 20 | BA60: 5 | BB60: 0 | BC60: 0 | BD60: 9 | BE60: 0 | BF60: 0 | BG60: 13 | BH60: 0 | BI60: 0 | BJ60: 2 | BK60: 0 | BL60: 0 | BM60: 0 | BN60: 0 | BO60: 0 | BP60: 0 | BQ60: 1 | BR60: 0 | BS60: 0 | BT60: 0 | BU60: 0 | BV60: 1 | BW60: 0 | BX60: =SUM(C60)-SUM(D60,I60:K60,N60,Q60:R60,U60:X60,AC60:AD60,AG60:AJ60,AP60:AU60,AX60:BW60) -> 35
A61: 新竹市 | B61: 計 | C61: =SUM(C62:C63) -> 1276 | D61: =SUM(E61:H61) -> 227 | E61: =SUM(E62:E63) -> 0 | F61: =SUM(F62:F63) -> 168 | G61: =SUM(G62:G63) -> 1 | H61: =SUM(H62:H63) -> 58 | I61: =SUM(I62:I63) -> 5 | J61: =SUM(J62:J63) -> 10 | K61: =SUM(K62:K63) -> 176 | L61: =SUM(L62:L63) -> 0 | M61: =SUM(M62:M63) -> 176 | N61: =SUM(O61:P61) -> 209 | O61: =SUM(O62:O63) -> 209 | P61: =SUM(P62:P63) -> 0 | Q61: =SUM(Q62:Q63) -> 35 | R61: =SUM(S61:T61) -> 6 | S61: =SUM(S62:S63) -> 6 | T61: =SUM(T62:T63) -> 0 | U61: =SUM(U62:U63) -> 39 | V61: =SUM(V62:V63) -> 5 | W61: =SUM(W62:W63) -> 2 | X61: =SUM(Y61:AB61) -> 144 | Y61: =SUM(Y62:Y63) -> 0 | Z61: =SUM(Z62:Z63) -> 0 | AA61: =SUM(AA62:AA63) -> 17 | AB61: =SUM(AB62:AB63) -> 127 | AC61: =SUM(AC62:AC63) -> 0 | AD61: =SUM(AD62:AD63) -> 19 | AE61: =SUM(AE62:AE63) -> 0 | AF61: =SUM(AF62:AF63) -> 19 | ... AN61: =SUM(AN62:AN63) -> 0 | AO61: =SUM(AJ61)-SUM(AK61:AN61) -> 4 | AP61: =SUM(AP62:AP63) -> 40 | AQ61: =SUM(AQ62:AQ63) -> 4 | AR61: =SUM(AR62:AR63) -> 1 | AS61: =SUM(AS62:AS63) -> 0 | AT61: =SUM(AT62:AT63) -> 1 | AU61: =SUM(AV61:AW61) -> 1 | AV61: =SUM(AV62:AV63) -> 0 | AW61: =SUM(AW62:AW63) -> 1 | AX61: =SUM(AX62:AX63) -> 0 | AY61: =SUM(AY62:AY63) -> 0 | AZ61: =SUM(AZ62:AZ63) -> 45 | BA61: =SUM(BA62:BA63) -> 0 | BB61: =SUM(BB62:BB63) -> 0 | BC61: =SUM(BC62:BC63) -> 0 | ... BW61: =SUM(BW62:BW63) -> 0 | BX61: =SUM(C61)-SUM(D61,I61:K61,N61,Q61:R61,U61:X61,AC61:AD61,AG61:AJ61,AP61:AU61,AX61:BW61) -> 53
B62: 男 | C62: 1064 | D62: =SUM(E62:H62) -> 192 | E62: 0 | F62: 137 | G62: 1 | H62: 54 | I62: 4 | J62: 10 | K62: 150 | L62: 0 | M62: 150 | N62: =SUM(O62:P62) -> 162 | O62: 162 | P62: 0 | Q62: 28 | R62: =SUM(S62:T62) -> 4 | S62: 4 | T62: 0 | U62: 33 | V62: 5 | W62: 1 | X62: =SUM(Y62:AB62) -> 137 | Y62: 0 | Z62: 0 | AA62: 17 | AB62: 120 | AC62: 0 | AD62: 16 | AE62: 0 | AF62: 16 | AG62: 0 | AH62: 10 | AI62: 3 | AJ62: 75 | AK62: 1 | AL62: 21 | AM62: 49 | AN62: 0 | AO62: =SUM(AJ62)-SUM(AK62:AN62) -> 4 | AP62: 36 | AQ62: 3 | AR62: 1 | AS62: 0 | AT62: 0 | AU62: =SUM(AV62:AW62) -> 1 | AV62: 0 | AW62: 1 | AX62: 0 | AY62: 0 | AZ62: 44 | BA62: 0 | BB62: 0 | BC62: 0 | BD62: 61 | BE62: 0 | BF62: 0 | BG62: 27 | BH62: 0 | BI62: 6 | BJ62: 0 | BK62: 0 | BL62: 0 | BM62: 0 | BN62: 0 | BO62: 0 | BP62: 0 | BQ62: 0 | BR62: 0 | BS62: 0 | BT62: 0 | BU62: 0 | BV62: 12 | BW62: 0 | BX62: =SUM(C62)-SUM(D62,I62:K62,N62,Q62:R62,U62:X62,AC62:AD62,AG62:AJ62,AP62:AU62,AX62:BW62) -> 43
B63: 女 | C63: 212 | D63: =SUM(E63:H63) -> 35 | E63: 0 | F63: 31 | G63: 0 | H63: 4 | I63: 1 | J63: 0 | K63: 26 | L63: 0 | M63: 26 | N63: =SUM(O63:P63) -> 47 | O63: 47 | P63: 0 | Q63: 7 | R63: =SUM(S63:T63) -> 2 | S63: 2 | T63: 0 | U63: 6 | V63: 0 | W63: 1 | X63: =SUM(Y63:AB63) -> 7 | Y63: 0 | Z63: 0 | AA63: 0 | AB63: 7 | AC63: 0 | AD63: 3 | AE63: 0 | AF63: 3 | AG63: 0 | AH63: 4 | AI63: 6 | AJ63: 27 | AK63: 0 | AL63: 22 | AM63: 5 | AN63: 0 | AO63: =SUM(AJ63)-SUM(AK63:AN63) -> 0 | AP63: 4 | AQ63: 1 | AR63: 0 | AS63: 0 | AT63: 1 | AU63: =SUM(AV63:AW63) -> 0 | AV63: 0 | AW63: 0 | AX63: 0 | AY63: 0 | AZ63: 1 | BA63: 0 | BB63: 0 | BC63: 0 | BD63: 10 | BE63: 0 | BF63: 0 | BG63: 13 | BH63: 0 | BI63: 0 | BJ63: 0 | BK63: 0 | BL63: 0 | BM63: 0 | BN63: 0 | BO63: 0 | BP63: 0 | BQ63: 0 | BR63: 0 | BS63: 0 | BT63: 0 | BU63: 0 | BV63: 0 | BW63: 0 | BX63: =SUM(C63)-SUM(D63,I63:K63,N63,Q63:R63,U63:X63,AC63:AD63,AG63:AJ63,AP63:AU63,AX63:BW63) -> 10
A64: 嘉義市 | B64: 計 | C64: =SUM(C65:C66) -> 941 | D64: =SUM(E64:H64) -> 195 | E64: =SUM(E65:E66) -> 0 | F64: =SUM(F65:F66) -> 173 | G64: =SUM(G65:G66) -> 0 | H64: =SUM(H65:H66) -> 22 | I64: =SUM(I65:I66) -> 0 | J64: =SUM(J65:J66) -> 20 | K64: =SUM(K65:K66) -> 89 | L64: =SUM(L65:L66) -> 0 | M64: =SUM(M65:M66) -> 89 | N64: =SUM(O64:P64) -> 104 | O64: =SUM(O65:O66) -> 104 | P64: =SUM(P65:P66) -> 0 | Q64: =SUM(Q65:Q66) -> 27 | R64: =SUM(S64:T64) -> 0 | S64: =SUM(S65:S66) -> 0 | T64: =SUM(T65:T66) -> 0 | U64: =SUM(U65:U66) -> 2 | V64: =SUM(V65:V66) -> 0 | W64: =SUM(W65:W66) -> 0 | X64: =SUM(Y64:AB64) -> 53 | Y64: =SUM(Y65:Y66) -> 19 | Z64: =SUM(Z65:Z66) -> 0 | AA64: =SUM(AA65:AA66) -> 0 | AB64: =SUM(AB65:AB66) -> 34 | AC64: =SUM(AC65:AC66) -> 0 | AD64: =SUM(AD65:AD66) -> 0 | AE64: =SUM(AE65:AE66) -> 0 | AF64: =SUM(AF65:AF66) -> 0 | ... AN64: =SUM(AN65:AN66) -> 0 | AO64: =SUM(AJ64)-SUM(AK64:AN64) -> 0 | AP64: =SUM(AP65:AP66) -> 11 | AQ64: =SUM(AQ65:AQ66) -> 0 | AR64: =SUM(AR65:AR66) -> 1 | AS64: =SUM(AS65:AS66) -> 0 | AT64: =SUM(AT65:AT66) -> 8 | AU64: =SUM(AV64:AW64) -> 2 | AV64: =SUM(AV65:AV66) -> 1 | AW64: =SUM(AW65:AW66) -> 1 | AX64: =SUM(AX65:AX66) -> 0 | AY64: =SUM(AY65:AY66) -> 0 | AZ64: =SUM(AZ65:AZ66) -> 93 | BA64: =SUM(BA65:BA66) -> 0 | BB64: =SUM(BB65:BB66) -> 0 | BC64: =SUM(BC65:BC66) -> 0 | ... BW64: =SUM(BW65:BW66) -> 0 | BX64: =SUM(C64)-SUM(D64,I64:K64,N64,Q64:R64,U64:X64,AC64:AD64,AG64:AJ64,AP64:AU64,AX64:BW64) -> 92
B65: 男 | C65: 805 | D65: =SUM(E65:H65) -> 169 | E65: 0 | F65: 149 | G65: 0 | H65: 20 | I65: 0 | J65: 15 | K65: 76 | L65: 0 | M65: 76 | N65: =SUM(O65:P65) -> 88 | O65: 88 | P65: 0 | Q65: 22 | R65: =SUM(S65:T65) -> 0 | S65: 0 | T65: 0 | U65: 2 | V65: 0 | W65: 0 | X65: =SUM(Y65:AB65) -> 49 | Y65: 18 | Z65: 0 | AA65: 0 | AB65: 31 | AC65: 0 | AD65: 0 | AE65: 0 | AF65: 0 | AG65: 0 | AH65: 7 | AI65: 3 | AJ65: 149 | AK65: 1 | AL65: 39 | AM65: 109 | AN65: 0 | AO65: =SUM(AJ65)-SUM(AK65:AN65) -> 0 | AP65: 9 | AQ65: 0 | AR65: 0 | AS65: 0 | AT65: 8 | AU65: =SUM(AV65:AW65) -> 2 | AV65: 1 | AW65: 1 | AX65: 0 | AY65: 0 | AZ65: 89 | BA65: 0 | BB65: 0 | BC65: 0 | BD65: 22 | BE65: 0 | BF65: 6 | BG65: 11 | BH65: 0 | BI65: 4 | BJ65: 0 | BK65: 0 | BL65: 0 | BM65: 0 | BN65: 0 | BO65: 0 | BP65: 0 | BQ65: 0 | BR65: 0 | BS65: 0 | BT65: 0 | BU65: 0 | BV65: 3 | BW65: 0 | BX65: =SUM(C65)-SUM(D65,I65:K65,N65,Q65:R65,U65:X65,AC65:AD65,AG65:AJ65,AP65:AU65,AX65:BW65) -> 71
B66: 女 | C66: 136 | D66: =SUM(E66:H66) -> 26 | E66: 0 | F66: 24 | G66: 0 | H66: 2 | I66: 0 | J66: 5 | K66: 13 | L66: 0 | M66: 13 | N66: =SUM(O66:P66) -> 16 | O66: 16 | P66: 0 | Q66: 5 | R66: =SUM(S66:T66) -> 0 | S66: 0 | T66: 0 | U66: 0 | V66: 0 | W66: 0 | X66: =SUM(Y66:AB66) -> 4 | Y66: 1 | Z66: 0 | AA66: 0 | AB66: 3 | AC66: 0 | AD66: 0 | AE66: 0 | AF66: 0 | AG66: 0 | AH66: 5 | AI66: 2 | AJ66: 27 | AK66: 0 | AL66: 16 | AM66: 11 | AN66: 0 | AO66: =SUM(AJ66)-SUM(AK66:AN66) -> 0 | AP66: 2 | AQ66: 0 | AR66: 1 | AS66: 0 | AT66: 0 | AU66: =SUM(AV66:AW66) -> 0 | AV66: 0 | AW66: 0 | AX66: 0 | AY66: 0 | AZ66: 4 | BA66: 0 | BB66: 0 | BC66: 0 | BD66: 2 | BE66: 0 | BF66: 0 | BG66: 3 | BH66: 0 | BI66: 0 | BJ66: 0 | BK66: 0 | BL66: 0 | BM66: 0 | BN66: 0 | BO66: 0 | BP66: 0 | BQ66: 0 | BR66: 0 | BS66: 0 | BT66: 0 | BU66: 0 | BV66: 0 | BW66: 0 | BX66: =SUM(C66)-SUM(D66,I66:K66,N66,Q66:R66,U66:X66,AC66:AD66,AG66:AJ66,AP66:AU66,AX66:BW66) -> 21
A67: 金門縣 | B67: 計 | C67: =SUM(C68:C69) -> 291 | D67: =SUM(E67:H67) -> 53 | E67: =SUM(E68:E69) -> 0 | F67: =SUM(F68:F69) -> 43 | G67: =SUM(G68:G69) -> 0 | H67: =SUM(H68:H69) -> 10 | I67: =SUM(I68:I69) -> 0 | J67: =SUM(J68:J69) -> 34 | K67: =SUM(K68:K69) -> 44 | L67: =SUM(L68:L69) -> 0 | M67: =SUM(M68:M69) -> 44 | N67: =SUM(O67:P67) -> 36 | O67: =SUM(O68:O69) -> 36 | P67: =SUM(P68:P69) -> 0 | Q67: =SUM(Q68:Q69) -> 6 | R67: =SUM(S67:T67) -> 1 | S67: =SUM(S68:S69) -> 1 | T67: =SUM(T68:T69) -> 0 | U67: =SUM(U68:U69) -> 10 | V67: =SUM(V68:V69) -> 1 | W67: =SUM(W68:W69) -> 0 | X67: =SUM(Y67:AB67) -> 12 | Y67: =SUM(Y68:Y69) -> 5 | Z67: =SUM(Z68:Z69) -> 2 | AA67: =SUM(AA68:AA69) -> 0 | AB67: =SUM(AB68:AB69) -> 5 | AC67: =SUM(AC68:AC69) -> 0 | AD67: =SUM(AD68:AD69) -> 7 | AE67: =SUM(AE68:AE69) -> 0 | AF67: =SUM(AF68:AF69) -> 7 | ... AN67: =SUM(AN68:AN69) -> 0 | AO67: =SUM(AJ67)-SUM(AK67:AN67) -> 0 | AP67: =SUM(AP68:AP69) -> 5 | AQ67: =SUM(AQ68:AQ69) -> 2 | AR67: =SUM(AR68:AR69) -> 0 | AS67: =SUM(AS68:AS69) -> 0 | AT67: =SUM(AT68:AT69) -> 1 | AU67: =SUM(AV67:AW67) -> 0 | AV67: =SUM(AV68:AV69) -> 0 | AW67: =SUM(AW68:AW69) -> 0 | AX67: =SUM(AX68:AX69) -> 1 | AY67: =SUM(AY68:AY69) -> 0 | AZ67: =SUM(AZ68:AZ69) -> 1 | BA67: =SUM(BA68:BA69) -> 0 | BB67: =SUM(BB68:BB69) -> 0 | BC67: =SUM(BC68:BC69) -> 0 | ... BW67: =SUM(BW68:BW69) -> 0 | BX67: =SUM(C67)-SUM(D67,I67:K67,N67,Q67:R67,U67:X67,AC67:AD67,AG67:AJ67,AP67:AU67,AX67:BW67) -> 20
B68: 男 | C68: 245 | D68: =SUM(E68:H68) -> 49 | E68: 0 | F68: 40 | G68: 0 | H68: 9 | I68: 0 | J68: 33 | K68: 44 | L68: 0 | M68: 44 | N68: =SUM(O68:P68) -> 18 | O68: 18 | P68: 0 | Q68: 6 | R68: =SUM(S68:T68) -> 1 | S68: 1 | T68: 0 | U68: 7 | V68: 1 | W68: 0 | X68: =SUM(Y68:AB68) -> 12 | Y68: 5 | Z68: 2 | AA68: 0 | AB68: 5 | AC68: 0 | AD68: 7 | AE68: 0 | AF68: 7 | AG68: 0 | AH68: 1 | AI68: 1 | AJ68: 23 | AK68: 0 | AL68: 20 | AM68: 3 | AN68: 0 | AO68: =SUM(AJ68)-SUM(AK68:AN68) -> 0 | AP68: 5 | AQ68: 2 | AR68: 0 | AS68: 0 | AT68: 1 | AU68: =SUM(AV68:AW68) -> 0 | AV68: 0 | AW68: 0 | AX68: 1 | AY68: 0 | AZ68: 1 | BA68: 0 | BB68: 0 | BC68: 0 | BD68: 8 | BE68: 0 | BF68: 0 | BG68: 4 | BH68: 0 | BI68: 0 | BJ68: 0 | BK68: 0 | BL68: 0 | BM68: 0 | BN68: 0 | BO68: 0 | BP68: 0 | BQ68: 0 | BR68: 0 | BS68: 0 | BT68: 0 | BU68: 0 | BV68: 0 | BW68: 0 | BX68: =SUM(C68)-SUM(D68,I68:K68,N68,Q68:R68,U68:X68,AC68:AD68,AG68:AJ68,AP68:AU68,AX68:BW68) -> 20
B69: 女 | C69: 46 | D69: =SUM(E69:H69) -> 4 | E69: 0 | F69: 3 | G69: 0 | H69: 1 | I69: 0 | J69: 1 | K69: 0 | L69: 0 | M69: 0 | N69: =SUM(O69:P69) -> 18 | O69: 18 | P69: 0 | Q69: 0 | R69: =SUM(S69:T69) -> 0 | S69: 0 | T69: 0 | U69: 3 | V69: 0 | W69: 0 | X69: =SUM(Y69:AB69) -> 0 | Y69: 0 | Z69: 0 | AA69: 0 | AB69: 0 | AC69: 0 | AD69: 0 | AE69: 0 | AF69: 0 | AG69: 0 | AH69: 0 | AI69: 1 | AJ69: 17 | AK69: 0 | AL69: 16 | AM69: 1 | AN69: 0 | AO69: =SUM(AJ69)-SUM(AK69:AN69) -> 0 | AP69: 0 | AQ69: 0 | AR69: 0 | AS69: 0 | AT69: 0 | AU69: =SUM(AV69:AW69) -> 0 | AV69: 0 | AW69: 0 | AX69: 0 | AY69: 0 | AZ69: 0 | BA69: 0 | BB69: 0 | BC69: 0 | BD69: 0 | BE69: 0 | BF69: 0 | BG69: 1 | BH69: 0 | BI69: 0 | BJ69: 0 | BK69: 0 | BL69: 0 | BM69: 0 | BN69: 0 | BO69: 0 | BP69: 0 | BQ69: 0 | BR69: 0 | BS69: 0 | BT69: 0 | BU69: 1 | BV69: 0 | BW69: 0 | BX69: =SUM(C69)-SUM(D69,I69:K69,N69,Q69:R69,U69:X69,AC69:AD69,AG69:AJ69,AP69:AU69,AX69:BW69) -> 0
A70: 連江縣 | B70: 計 | C70: =SUM(C71:C72) -> 21 | D70: =SUM(E70:H70) -> 4 | E70: =SUM(E71:E72) -> 0 | F70: =SUM(F71:F72) -> 0 | G70: =SUM(G71:G72) -> 0 | H70: =SUM(H71:H72) -> 4 | I70: =SUM(I71:I72) -> 0 | J70: =SUM(J71:J72) -> 0 | K70: =SUM(K71:K72) -> 3 | L70: =SUM(L71:L72) -> 0 | M70: =SUM(M71:M72) -> 3 | N70: =SUM(O70:P70) -> 1 | O70: =SUM(O71:O72) -> 1 | P70: =SUM(P71:P72) -> 0 | Q70: =SUM(Q71:Q72) -> 2 | R70: =SUM(S70:T70) -> 0 | S70: =SUM(S71:S72) -> 0 | T70: =SUM(T71:T72) -> 0 | U70: =SUM(U71:U72) -> 2 | V70: =SUM(V71:V72) -> 0 | W70: =SUM(W71:W72) -> 0 | X70: =SUM(Y70:AB70) -> 3 | Y70: =SUM(Y71:Y72) -> 0 | Z70: =SUM(Z71:Z72) -> 0 | AA70: =SUM(AA71:AA72) -> 0 | AB70: =SUM(AB71:AB72) -> 3 | AC70: =SUM(AC71:AC72) -> 0 | AD70: =SUM(AD71:AD72) -> 0 | AE70: =SUM(AE71:AE72) -> 0 | AF70: =SUM(AF71:AF72) -> 0 | ... AN70: =SUM(AN71:AN72) -> 0 | AO70: =SUM(AJ70)-SUM(AK70:AN70) -> 0 | AP70: =SUM(AP71:AP72) -> 1 | AQ70: =SUM(AQ71:AQ72) -> 0 | AR70: =SUM(AR71:AR72) -> 0 | AS70: =SUM(AS71:AS72) -> 0 | AT70: =SUM(AT71:AT72) -> 0 | AU70: =SUM(AV70:AW70) -> 0 | AV70: =SUM(AV71:AV72) -> 0 | AW70: =SUM(AW71:AW72) -> 0 | AX70: =SUM(AX71:AX72) -> 0 | AY70: =SUM(AY71:AY72) -> 0 | AZ70: =SUM(AZ71:AZ72) -> 1 | BA70: =SUM(BA71:BA72) -> 0 | BB70: =SUM(BB71:BB72) -> 0 | BC70: =SUM(BC71:BC72) -> 0 | ... BW70: =SUM(BW71:BW72) -> 0 | BX70: =SUM(C70)-SUM(D70,I70:K70,N70,Q70:R70,U70:X70,AC70:AD70,AG70:AJ70,AP70:AU70,AX70:BW70) -> 2
B71: 男 | C71: 20 | D71: =SUM(E71:H71) -> 4 | E71: 0 | F71: 0 | G71: 0 | H71: 4 | I71: 0 | J71: 0 | K71: 3 | L71: 0 | M71: 3 | N71: =SUM(O71:P71) -> 1 | O71: 1 | P71: 0 | Q71: 2 | R71: =SUM(S71:T71) -> 0 | S71: 0 | T71: 0 | U71: 1 | V71: 0 | W71: 0 | X71: =SUM(Y71:AB71) -> 3 | Y71: 0 | Z71: 0 | AA71: 0 | AB71: 3 | AC71: 0 | AD71: 0 | AE71: 0 | AF71: 0 | AG71: 0 | AH71: 0 | AI71: 0 | AJ71: 0 | AK71: 0 | AL71: 0 | AM71: 0 | AN71: 0 | AO71: =SUM(AJ71)-SUM(AK71:AN71) -> 0 | AP71: 1 | AQ71: 0 | AR71: 0 | AS71: 0 | AT71: 0 | AU71: =SUM(AV71:AW71) -> 0 | AV71: 0 | AW71: 0 | AX71: 0 | AY71: 0 | AZ71: 1 | BA71: 0 | BB71: 0 | BC71: 0 | BD71: 0 | BE71: 0 | BF71: 0 | BG71: 2 | BH71: 0 | BI71: 0 | BJ71: 0 | BK71: 0 | BL71: 0 | BM71: 0 | BN71: 0 | BO71: 0 | BP71: 0 | BQ71: 0 | BR71: 0 | BS71: 0 | BT71: 0 | BU71: 0 | BV71: 0 | BW71: 0 | BX71: =SUM(C71)-SUM(D71,I71:K71,N71,Q71:R71,U71:X71,AC71:AD71,AG71:AJ71,AP71:AU71,AX71:BW71) -> 2
B72: 女 | C72: 1 | D72: =SUM(E72:H72) -> 0 | E72: 0 | F72: 0 | G72: 0 | H72: 0 | I72: 0 | J72: 0 | K72: 0 | L72: 0 | M72: 0 | N72: =SUM(O72:P72) -> 0 | O72: 0 | P72: 0 | Q72: 0 | R72: =SUM(S72:T72) -> 0 | S72: 0 | T72: 0 | U72: 1 | V72: 0 | W72: 0 | X72: =SUM(Y72:AB72) -> 0 | Y72: 0 | Z72: 0 | AA72: 0 | AB72: 0 | AC72: 0 | AD72: 0 | AE72: 0 | AF72: 0 | AG72: 0 | AH72: 0 | AI72: 0 | AJ72: 0 | AK72: 0 | AL72: 0 | AM72: 0 | AN72: 0 | AO72: =SUM(AJ72)-SUM(AK72:AN72) -> 0 | AP72: 0 | AQ72: 0 | AR72: 0 | AS72: 0 | AT72: 0 | AU72: =SUM(AV72:AW72) -> 0 | AV72: 0 | AW72: 0 | AX72: 0 | AY72: 0 | AZ72: 0 | BA72: 0 | BB72: 0 | BC72: 0 | BD72: 0 | BE72: 0 | BF72: 0 | BG72: 0 | BH72: 0 | BI72: 0 | BJ72: 0 | BK72: 0 | BL72: 0 | BM72: 0 | BN72: 0 | BO72: 0 | BP72: 0 | BQ72: 0 | BR72: 0 | BS72: 0 | BT72: 0 | BU72: 0 | BV72: 0 | BW72: 0 | BX72: =SUM(C72)-SUM(D72,I72:K72,N72,Q72:R72,U72:X72,AC72:AD72,AG72:AJ72,AP72:AU72,AX72:BW72) -> 0

Sheet 工作表5
A1: 105-110各案類兒童嫌疑犯人數
C2: 總計 | D2: 竊盜 | I2: 贓物 | J2: 賭博 | K2: 傷害 | N2: 詐欺背信 | Q2: 妨害自由 | R2: 殺人 | U2: 駕駛過失 | V2: 妨害婚姻及家庭 | W2: 妨害風化 | X2: 妨害性自主罪 | AC2: 內亂 | AD2: 恐嚇取財 | AG2: 擄人勒贖 | AH2: 侵占 | AI2: 偽造文書印文 | AJ2: 違反毒品危害防制條例 | AP2: 毀棄損壞 | AQ2: 妨害公務 | AR2: 違反著作權法 | AS2: 違反商標法 | AT2: 妨害電腦使用 | AU2: 強盜搶奪 | AX2: 竊佔 | AY2: 偽造有價證券 | AZ2: 妨害秩序 | BA2: 違反藥事法 | BB2: 違反國家總動員法 | BC2: 違反森林法 | BD2: 公共危險 | BE2: 侵害墳墓屍體 | BF2: 重利 | BG2: 妨害名譽 | BH2: 違反選罷法 | BI2: 妨害祕密 | BJ2: 遺棄 | BK2: 違反貪污治罪條例 | BL2: 懲治走私條例 | BM2: 妨害兵役 | BN2: 偽造貨幣 | BO2: 偽造度量衡 | BP2: 偽證 | BQ2: 誣告 | BR2: 湮滅證據 | BS2: 瀆職 | BT2: 脫逃 | BU2: 藏匿頂替 | BV2: 違反槍砲彈藥刀械管制條例 | BW2: 違反就業服務法 | BX2: 其他
D3: 計 | E3: 重大竊盜 | F3: 普通竊盜 | G3: 汽車竊盜 | H3: 機車竊盜 | K3: 計 | L3: 重傷害 | M3: 一般傷害 | N3: 計 | O3: 詐欺 | P3: 背信 | R3: 計 | S3: 故意殺人 | T3: 過失致死 | X3: 計 | Y3: 強制性交 | Z3: 共同強制性交 | AA3: 對幼性交 | AB3: 性交猥褻 | AD3: 計 | AE3: 重大恐嚇取財 | AF3: 一般恐嚇取財 | AJ3: 計 | AK3: 第一級毒品 | AL3: 第二級毒品 | AM3: 第三級毒品 | AN3: 第四級毒品 | AO3: 其他 | AU3: 計 | AV3: 強盜 | AW3: 搶奪
A4: 總計 | B4: 計 | C4: =SUM(C5:C6) -> 1920 | D4: =SUM(E4:H4) -> 978 | E4: =SUM(E5:E6) -> 0 | F4: =SUM(F5:F6) -> 941 | G4: =SUM(G5:G6) -> 4 | H4: =SUM(H5:H6) -> 33 | I4: =SUM(I5:I6) -> 1 | J4: =SUM(J5:J6) -> 0 | K4: =SUM(K5:K6) -> 237 | L4: =SUM(L5:L6) -> 1 | M4: =SUM(M5:M6) -> 236 | N4: =SUM(O4:P4) -> 42 | O4: =SUM(O5:O6) -> 41 | P4: =SUM(P5:P6) -> 1 | Q4: =SUM(Q5:Q6) -> 21 | R4: =SUM(S4:T4) -> 0 | S4: =SUM(S5:S6) -> 0 | T4: =SUM(T5:T6) -> 0 | U4: =SUM(U5:U6) -> 52 | V4: =SUM(V5:V6) -> 2 | W4: =SUM(W5:W6) -> 6 | X4: =SUM(Y4:AB4) -> 310 | Y4: =SUM(Y5:Y6) -> 13 | Z4: =SUM(Z5:Z6) -> 13 | AA4: =SUM(AA5:AA6) -> 43 | AB4: =SUM(AB5:AB6) -> 241 | AC4: =SUM(AC5:AC6) -> 0 | AD4: =SUM(AD5:AD6) -> 10 | AE4: =SUM(AE5:AE6) -> 0 | AF4: =SUM(AF5:AF6) -> 10 | ... AN4: =SUM(AN5:AN6) -> 0 | AO4: =SUM(AJ4)-SUM(AK4:AN4) -> 0 | AP4: =SUM(AP5:AP6) -> 38 | AQ4: =SUM(AQ5:AQ6) -> 0 | AR4: =SUM(AR5:AR6) -> 4 | AS4: =SUM(AS5:AS6) -> 2 | AT4: =SUM(AT5:AT6) -> 19 | AU4: =SUM(AV4:AW4) -> 0 | AV4: =SUM(AV5:AV6) -> 0 | AW4: =SUM(AW5:AW6) -> 0 | AX4: =SUM(AX5:AX6) -> 2 | AY4: =SUM(AY5:AY6) -> 0 | AZ4: =SUM(AZ5:AZ6) -> 0 | BA4: =SUM(BA5:BA6) -> 0 | BB4: =SUM(BB5:BB6) -> 0 | BC4: =SUM(BC5:BC6) -> 0 | ... BW4: =SUM(BW5:BW6) -> 0 | BX4: =SUM(C4)-SUM(D4,I4:K4,N4,Q4:R4,U4:X4,AC4:AD4,AG4:AJ4,AP4:AU4,AX4:BW4) -> 92
B5: 男 | C5: 1568 | D5: =SUM(E5:H5) -> 768 | E5: 0 | F5: 734 | G5: 4 | H5: 30 | I5: 1 | J5: 0 | K5: 210 | L5: 1 | M5: 209 | N5: =SUM(O5:P5) -> 30 | O5: 29 | P5: 1 | Q5: 14 | R5: =SUM(S5:T5) -> 0 | S5: 0 | T5: 0 | U5: 41 | V5: 1 | W5: 6 | X5: =SUM(Y5:AB5) -> 289 | Y5: 13 | Z5: 13 | AA5: 41 | AB5: 222 | AC5: 0 | AD5: 9 | AE5: 0 | AF5: 9 | AG5: 0 | AH5: 17 | AI5: 4 | AJ5: 5 | AK5: 2 | AL5: 3 | AM5: 0 | AN5: 0 | AO5: =SUM(AJ5)-SUM(AK5:AN5) -> 0 | AP5: 27 | AQ5: 0 | AR5: 3 | AS5: 0 | AT5: 17 | AU5: =SUM(AV5:AW5) -> 0 | AV5: 0 | AW5: 0 | AX5: 2 | AY5: 0 | AZ5: 0 | BA5: 0 | BB5: 0 | BC5: 0 | BD5: 25 | BE5: 0 | BF5: 0 | BG5: 19 | BH5: 3 | BI5: 3 | BJ5: 1 | BK5: 0 | BL5: 0 | BM5: 0 | BN5: 0 | BO5: 0 | BP5: 0 | BQ5: 2 | BR5: 0 | BS5: 0 | BT5: 0 | BU5: 0 | BV5: 1 | BW5: 0 | BX5: =SUM(C5)-SUM(D5,I5:K5,N5,Q5:R5,U5:X5,AC5:AD5,AG5:AJ5,AP5:AU5,AX5:BW5) -> 70
B6: 女 | C6: 352 | D6: =SUM(E6:H6) -> 210 | E6: 0 | F6: 207 | G6: 0 | H6: 3 | I6: 0 | J6: 0 | K6: 27 | L6: 0 | M6: 27 | N6: =SUM(O6:P6) -> 12 | O6: 12 | P6: 0 | Q6: 7 | R6: =SUM(S6:T6) -> 0 | S6: 0 | T6: 0 | U6: 11 | V6: 1 | W6: 0 | X6: =SUM(Y6:AB6) -> 21 | Y6: 0 | Z6: 0 | AA6: 2 | AB6: 19 | AC6: 0 | AD6: 1 | AE6: 0 | AF6: 1 | AG6: 0 | AH6: 7 | AI6: 0 | AJ6: 1 | AK6: 0 | AL6: 1 | AM6: 0 | AN6: 0 | AO6: =SUM(AJ6)-SUM(AK6:AN6) -> 0 | AP6: 11 | AQ6: 0 | AR6: 1 | AS6: 2 | AT6: 2 | AU6: =SUM(AV6:AW6) -> 0 | AV6: 0 | AW6: 0 | AX6: 0 | AY6: 0 | AZ6: 0 | BA6: 0 | BB6: 0 | BC6: 0 | BD6: 1 | BE6: 0 | BF6: 0 | BG6: 10 | BH6: 0 | BI6: 2 | BJ6: 1 | BK6: 0 | BL6: 0 | BM6: 0 | BN6: 0 | BO6: 0 | BP6: 0 | BQ6: 1 | BR6: 0 | BS6: 0 | BT6: 0 | BU6: 0 | BV6: 1 | BW6: 0 | BX6: =SUM(C6)-SUM(D6,I6:K6,N6,Q6:R6,U6:X6,AC6:AD6,AG6:AJ6,AP6:AU6,AX6:BW6) -> 22
A7: 新北市 | B7: 計 | C7: =SUM(C8:C9) -> 292 | D7: =SUM(E7:H7) -> 175 | E7: =SUM(E8:E9) -> 0 | F7: =SUM(F8:F9) -> 171 | G7: =SUM(G8:G9) -> 0 | H7: =SUM(H8:H9) -> 4 | I7: =SUM(I8:I9) -> 1 | J7: =SUM(J8:J9) -> 0 | K7: =SUM(K8:K9) -> 34 | L7: =SUM(L8:L9) -> 0 | M7: =SUM(M8:M9) -> 34 | N7: =SUM(O7:P7) -> 2 | O7: =SUM(O8:O9) -> 2 | P7: =SUM(P8:P9) -> 0 | Q7: =SUM(Q8:Q9) -> 1 | R7: =SUM(S7:T7) -> 0 | S7: =SUM(S8:S9) -> 0 | T7: =SUM(T8:T9) -> 0 | U7: =SUM(U8:U9) -> 6 | V7: =SUM(V8:V9) -> 0 | W7: =SUM(W8:W9) -> 0 | X7: =SUM(Y7:AB7) -> 42 | Y7: =SUM(Y8:Y9) -> 3 | Z7: =SUM(Z8:Z9) -> 2 | AA7: =SUM(AA8:AA9) -> 1 | AB7: =SUM(AB8:AB9) -> 36 | AC7: =SUM(AC8:AC9) -> 0 | AD7: =SUM(AD8:AD9) -> 3 | AE7: =SUM(AE8:AE9) -> 0 | AF7: =SUM(AF8:AF9) -> 3 | ... AN7: =SUM(AN8:AN9) -> 0 | AO7: =SUM(AJ7)-SUM(AK7:AN7) -> 0 | AP7: =SUM(AP8:AP9) -> 6 | AQ7: =SUM(AQ8:AQ9) -> 0 | AR7: =SUM(AR8:AR9) -> 0 | AS7: =SUM(AS8:AS9) -> 0 | AT7: =SUM(AT8:AT9) -> 0 | AU7: =SUM(AV7:AW7) -> 0 | AV7: =SUM(AV8:AV9) -> 0 | AW7: =SUM(AW8:AW9) -> 0 | AX7: =SUM(AX8:AX9) -> 0 | AY7: =SUM(AY8:AY9) -> 0 | AZ7: =SUM(AZ8:AZ9) -> 0 | BA7: =SUM(BA8:BA9) -> 0 | BB7: =SUM(BB8:BB9) -> 0 | BC7: =SUM(BC8:BC9) -> 0 | ... BW7: =SUM(BW8:BW9) -> 0 | BX7: =SUM(C7)-SUM(D7,I7:K7,N7,Q7:R7,U7:X7,AC7:AD7,AG7:AJ7,AP7:AU7,AX7:BW7) -> 9
B8: 男 | C8: 244 | D8: =SUM(E8:H8) -> 139 | E8: 0 | F8: 135 | G8: 0 | H8: 4 | I8: 1 | J8: 0 | K8: 31 | L8: 0 | M8: 31 | N8: =SUM(O8:P8) -> 2 | O8: 2 | P8: 0 | Q8: 0 | R8: =SUM(S8:T8) -> 0 | S8: 0 | T8: 0 | U8: 5 | V8: 0 | W8: 0 | X8: =SUM(Y8:AB8) -> 41 | Y8: 3 | Z8: 2 | AA8: 1 | AB8: 35 | AC8: 0 | AD8: 2 | AE8: 0 | AF8: 2 | AG8: 0 | AH8: 3 | AI8: 0 | AJ8: 0 | AK8: 0 | AL8: 0 | AM8: 0 | AN8: 0 | AO8: =SUM(AJ8)-SUM(AK8:AN8) -> 0 | AP8: 6 | AQ8: 0 | AR8: 0 | AS8: 0 | AT8: 0 | AU8: =SUM(AV8:AW8) -> 0 | AV8: 0 | AW8: 0 | AX8: 0 | AY8: 0 | AZ8: 0 | BA8: 0 | BB8: 0 | BC8: 0 | BD8: 4 | BE8: 0 | BF8: 0 | BG8: 3 | BH8: 0 | BI8: 0 | BJ8: 0 | BK8: 0 | BL8: 0 | BM8: 0 | BN8: 0 | BO8: 0 | BP8: 0 | BQ8: 0 | BR8: 0 | BS8: 0 | BT8: 0 | BU8: 0 | BV8: 0 | BW8: 0 | BX8: =SUM(C8)-SUM(D8,I8:K8,N8,Q8:R8,U8:X8,AC8:AD8,AG8:AJ8,AP8:AU8,AX8:BW8) -> 7
B9: 女 | C9: 48 | D9: =SUM(E9:H9) -> 36 | E9: 0 | F9: 36 | G9: 0 | H9: 0 | I9: 0 | J9: 0 | K9: 3 | L9: 0 | M9: 3 | N9: =SUM(O9:P9) -> 0 | O9: 0 | P9: 0 | Q9: 1 | R9: =SUM(S9:T9) -> 0 | S9: 0 | T9: 0 | U9: 1 | V9: 0 | W9: 0 | X9: =SUM(Y9:AB9) -> 1 | Y9: 0 | Z9: 0 | AA9: 0 | AB9: 1 | AC9: 0 | AD9: 1 | AE9: 0 | AF9: 1 | AG9: 0 | AH9: 2 | AI9: 0 | AJ9: 1 | AK9: 0 | AL9: 1 | AM9: 0 | AN9: 0 | AO9: =SUM(AJ9)-SUM(AK9:AN9) -> 0 | AP9: 0 | AQ9: 0 | AR9: 0 | AS9: 0 | AT9: 0 | AU9: =SUM(AV9:AW9) -> 0 | AV9: 0 | AW9: 0 | AX9: 0 | AY9: 0 | AZ9: 0 | BA9: 0 | BB9: 0 | BC9: 0 | BD9: 0 | BE9: 0 | BF9: 0 | BG9: 0 | BH9: 0 | BI9: 0 | BJ9: 0 | BK9: 0 | BL9: 0 | BM9: 0 | BN9: 0 | BO9: 0 | BP9: 0 | BQ9: 0 | BR9: 0 | BS9: 0 | BT9: 0 | BU9: 0 | BV9: 0 | BW9: 0 | BX9: =SUM(C9)-SUM(D9,I9:K9,N9,Q9:R9,U9:X9,AC9:AD9,AG9:AJ9,AP9:AU9,AX9:BW9) -> 2
A10: 臺北市 | B10: 計 | C10: =SUM(C11:C12) -> 199 | D10: =SUM(E10:H10) -> 56 | E10: =SUM(E11:E12) -> 0 | F10: =SUM(F11:F12) -> 56 | G10: =SUM(G11:G12) -> 0 | H10: =SUM(H11:H12) -> 0 | I10: =SUM(I11:I12) -> 0 | J10: =SUM(J11:J12) -> 0 | K10: =SUM(K11:K12) -> 65 | L10: =SUM(L11:L12) -> 0 | M10: =SUM(M11:M12) -> 65 | N10: =SUM(O10:P10) -> 4 | O10: =SUM(O11:O12) -> 4 | P10: =SUM(P11:P12) -> 0 | Q10: =SUM(Q11:Q12) -> 3 | R10: =SUM(S10:T10) -> 0 | S10: =SUM(S11:S12) -> 0 | T10: =SUM(T11:T12) -> 0 | U10: =SUM(U11:U12) -> 5 | V10: =SUM(V11:V12) -> 2 | W10: =SUM(W11:W12) -> 0 | X10: =SUM(Y10:AB10) -> 22 | Y10: =SUM(Y11:Y12) -> 1 | Z10: =SUM(Z11:Z12) -> 0 | AA10: =SUM(AA11:AA12) -> 1 | AB10: =SUM(AB11:AB12) -> 20 | AC10: =SUM(AC11:AC12) -> 0 | AD10: =SUM(AD11:AD12) -> 0 | AE10: =SUM(AE11:AE12) -> 0 | AF10: =SUM(AF11:AF12) -> 0 | ... AN10: =SUM(AN11:AN12) -> 0 | AO10: =SUM(AJ10)-SUM(AK10:AN10) -> 0 | AP10: =SUM(AP11:AP12) -> 6 | AQ10: =SUM(AQ11:AQ12) -> 0 | AR10: =SUM(AR11:AR12) -> 1 | AS10: =SUM(AS11:AS12) -> 0 | AT10: =SUM(AT11:AT12) -> 6 | AU10: =SUM(AV10:AW10) -> 0 | AV10: =SUM(AV11:AV12) -> 0 | AW10: =SUM(AW11:AW12) -> 0 | AX10: =SUM(AX11:AX12) -> 0 | AY10: =SUM(AY11:AY12) -> 0 | AZ10: =SUM(AZ11:AZ12) -> 0 | BA10: =SUM(BA11:BA12) -> 0 | BB10: =SUM(BB11:BB12) -> 0 | BC10: =SUM(BC11:BC12) -> 0 | ... BW10: =SUM(BW11:BW12) -> 0 | BX10: =SUM(C10)-SUM(D10,I10:K10,N10,Q10:R10,U10:X10,AC10:AD10,AG10:AJ10,AP10:AU10,AX10:BW10) -> 10
B11: 男 | C11: 163 | D11: =SUM(E11:H11) -> 41 | E11: 0 | F11: 41 | G11: 0 | H11: 0 | I11: 0 | J11: 0 | K11: 59 | L11: 0 | M11: 59 | N11: =SUM(O11:P11) -> 3 | O11: 3 | P11: 0 | Q11: 3 | R11: =SUM(S11:T11) -> 0 | S11: 0 | T11: 0 | U11: 4 | V11: 1 | W11: 0 | X11: =SUM(Y11:AB11) -> 20 | Y11: 1 | Z11: 0 | AA11: 1 | AB11: 18 | AC11: 0 | AD11: 0 | AE11: 0 | AF11: 0 | AG11: 0 | AH11: 6 | AI11: 1 | AJ11: 0 | AK11: 0 | AL11: 0 | AM11: 0 | AN11: 0 | AO11: =SUM(AJ11)-SUM(AK11:AN11) -> 0 | AP11: 4 | AQ11: 0 | AR11: 0 | AS11: 0 | AT11: 4 | AU11: =SUM(AV11:AW11) -> 0 | AV11: 0 | AW11: 0 | AX11: 0 | AY11: 0 | AZ11: 0 | BA11: 0 | BB11: 0 | BC11: 0 | BD11: 3 | BE11: 0 | BF11: 0 | BG11: 4 | BH11: 0 | BI11: 0 | BJ11: 1 | BK11: 0 | BL11: 0 | BM11: 0 | BN11: 0 | BO11: 0 | BP11: 0 | BQ11: 1 | BR11: 0 | BS11: 0 | BT11: 0 | BU11: 0 | BV11: 1 | BW11: 0 | BX11: =SUM(C11)-SUM(D11,I11:K11,N11,Q11:R11,U11:X11,AC11:AD11,AG11:AJ11,AP11:AU11,AX11:BW11) -> 7
B12: 女 | C12: 36 | D12: =SUM(E12:H12) -> 15 | E12: 0 | F12: 15 | G12: 0 | H12: 0 | I12: 0 | J12: 0 | K12: 6 | L12: 0 | M12: 6 | N12: =SUM(O12:P12) -> 1 | O12: 1 | P12: 0 | Q12: 0 | R12: =SUM(S12:T12) -> 0 | S12: 0 | T12: 0 | U12: 1 | V12: 1 | W12: 0 | X12: =SUM(Y12:AB12) -> 2 | Y12: 0 | Z12: 0 | AA12: 0 | AB12: 2 | AC12: 0 | AD12: 0 | AE12: 0 | AF12: 0 | AG12: 0 | AH12: 1 | AI12: 0 | AJ12: 0 | AK12: 0 | AL12: 0 | AM12: 0 | AN12: 0 | AO12: =SUM(AJ12)-SUM(AK12:AN12) -> 0 | AP12: 2 | AQ12: 0 | AR12: 1 | AS12: 0 | AT12: 2 | AU12: =SUM(AV12:AW12) -> 0 | AV12: 0 | AW12: 0 | AX12: 0 | AY12: 0 | AZ12: 0 | BA12: 0 | BB12: 0 | BC12: 0 | BD12: 0 | BE12: 0 | BF12: 0 | BG12: 1 | BH12: 0 | BI12: 0 | BJ12: 0 | BK12: 0 | BL12: 0 | BM12: 0 | BN12: 0 | BO12: 0 | BP12: 0 | BQ12: 0 | BR12: 0 | BS12: 0 | BT12: 0 | BU12: 0 | BV12: 0 | BW12: 0 | BX12: =SUM(C12)-SUM(D12,I12:K12,N12,Q12:R12,U12:X12,AC12:AD12,AG12:AJ12,AP12:AU12,AX12:BW12) -> 3
A13: 桃園市 | B13: 計 | C13: =SUM(C14:C15) -> 106 | D13: =SUM(E13:H13) -> 82 | E13: =SUM(E14:E15) -> 0 | F13: =SUM(F14:F15) -> 74 | G13: =SUM(G14:G15) -> 1 | H13: =SUM(H14:H15) -> 7 | I13: =SUM(I14:I15) -> 0 | J13: =SUM(J14:J15) -> 0 | K13: =SUM(K14:K15) -> 3 | L13: =SUM(L14:L15) -> 0 | M13: =SUM(M14:M15) -> 3 | N13: =SUM(O13:P13) -> 1 | O13: =SUM(O14:O15) -> 1 | P13: =SUM(P14:P15) -> 0 | Q13: =SUM(Q14:Q15) -> 0 | R13: =SUM(S13:T13) -> 0 | S13: =SUM(S14:S15) -> 0 | T13: =SUM(T14:T15) -> 0 | U13: =SUM(U14:U15) -> 2 | V13: =SUM(V14:V15) -> 0 | W13: =SUM(W14:W15) -> 0 | X13: =SUM(Y13:AB13) -> 13 | Y13: =SUM(Y14:Y15) -> 0 | Z13: =SUM(Z14:Z15) -> 0 | AA13: =SUM(AA14:AA15) -> 0 | AB13: =SUM(AB14:AB15) -> 13 | AC13: =SUM(AC14:AC15) -> 0 | AD13: =SUM(AD14:AD15) -> 0 | AE13: =SUM(AE14:AE15) -> 0 | AF13: =SUM(AF14:AF15) -> 0 | ... AN13: =SUM(AN14:AN15) -> 0 | AO13: =SUM(AJ13)-SUM(AK13:AN13) -> 0 | AP13: =SUM(AP14:AP15) -> 0 | AQ13: =SUM(AQ14:AQ15) -> 0 | AR13: =SUM(AR14:AR15) -> 0 | AS13: =SUM(AS14:AS15) -> 0 | AT13: =SUM(AT14:AT15) -> 1 | AU13: =SUM(AV13:AW13) -> 0 | AV13: =SUM(AV14:AV15) -> 0 | AW13: =SUM(AW14:AW15) -> 0 | AX13: =SUM(AX14:AX15) -> 0 | AY13: =SUM(AY14:AY15) -> 0 | AZ13: =SUM(AZ14:AZ15) -> 0 | BA13: =SUM(BA14:BA15) -> 0 | BB13: =SUM(BB14:BB15) -> 0 | BC13: =SUM(BC14:BC15) -> 0 | ... BW13: =SUM(BW14:BW15) -> 0 | BX13: =SUM(C13)-SUM(D13,I13:K13,N13,Q13:R13,U13:X13,AC13:AD13,AG13:AJ13,AP13:AU13,AX13:BW13) -> 2
B14: 男 | C14: 90 | D14: =SUM(E14:H14) -> 69 | E14: 0 | F14: 62 | G14: 1 | H14: 6 | I14: 0 | J14: 0 | K14: 1 | L14: 0 | M14: 1 | N14: =SUM(O14:P14) -> 1 | O14: 1 | P14: 0 | Q14: 0 | R14: =SUM(S14:T14) -> 0 | S14: 0 | T14: 0 | U14: 2 | V14: 0 | W14: 0 | X14: =SUM(Y14:AB14) -> 12 | Y14: 0 | Z14: 0 | AA14: 0 | AB14: 12 | AC14: 0 | AD14: 0 | AE14: 0 | AF14: 0 | AG14: 0 | AH14: 0 | AI14: 0 | AJ14: 0 | AK14: 0 | AL14: 0 | AM14: 0 | AN14: 0 | AO14: =SUM(AJ14)-SUM(AK14:AN14) -> 0 | AP14: 0 | AQ14: 0 | AR14: 0 | AS14: 0 | AT14: 1 | AU14: =SUM(AV14:AW14) -> 0 | AV14: 0 | AW14: 0 | AX14: 0 | AY14: 0 | AZ14: 0 | BA14: 0 | BB14: 0 | BC14: 0 | BD14: 1 | BE14: 0 | BF14: 0 | BG14: 1 | BH14: 0 | BI14: 0 | BJ14: 0 | BK14: 0 | BL14: 0 | BM14: 0 | BN14: 0 | BO14: 0 | BP14: 0 | BQ14: 0 | BR14: 0 | BS14: 0 | BT14: 0 | BU14: 0 | BV14: 0 | BW14: 0 | BX14: =SUM(C14)-SUM(D14,I14:K14,N14,Q14:R14,U14:X14,AC14:AD14,AG14:AJ14,AP14:AU14,AX14:BW14) -> 2
B15: 女 | C15: 16 | D15: =SUM(E15:H15) -> 13 | E15: 0 | F15: 12 | G15: 0 | H15: 1 | I15: 0 | J15: 0 | K15: 2 | L15: 0 | M15: 2 | N15: =SUM(O15:P15) -> 0 | O15: 0 | P15: 0 | Q15: 0 | R15: =SUM(S15:T15) -> 0 | S15: 0 | T15: 0 | U15: 0 | V15: 0 | W15: 0 | X15: =SUM(Y15:AB15) -> 1 | Y15: 0 | Z15: 0 | AA15: 0 | AB15: 1 | AC15: 0 | AD15: 0 | AE15: 0 | AF15: 0 | AG15: 0 | AH15: 0 | AI15: 0 | AJ15: 0 | AK15: 0 | AL15: 0 | AM15: 0 | AN15: 0 | AO15: =SUM(AJ15)-SUM(AK15:AN15) -> 0 | AP15: 0 | AQ15: 0 | AR15: 0 | AS15: 0 | AT15: 0 | AU15: =SUM(AV15:AW15) -> 0 | AV15: 0 | AW15: 0 | AX15: 0 | AY15: 0 | AZ15: 0 | BA15: 0 | BB15: 0 | BC15: 0 | BD15: 0 | BE15: 0 | BF15: 0 | BG15: 0 | BH15: 0 | BI15: 0 | BJ15: 0 | BK15: 0 | BL15: 0 | BM15: 0 | BN15: 0 | BO15: 0 | BP15: 0 | BQ15: 0 | BR15: 0 | BS15: 0 | BT15: 0 | BU15: 0 | BV15: 0 | BW15: 0 | BX15: =SUM(C15)-SUM(D15,I15:K15,N15,Q15:R15,U15:X15,AC15:AD15,AG15:AJ15,AP15:AU15,AX15:BW15) -> 0
A16: 臺中市 | B16: 計 | C16: =SUM(C17:C18) -> 181 | D16: =SUM(E16:H16) -> 90 | E16: =SUM(E17:E18) -> 0 | F16: =SUM(F17:F18) -> 90 | G16: =SUM(G17:G18) -> 0 | H16: =SUM(H17:H18) -> 0 | I16: =SUM(I17:I18) -> 0 | J16: =SUM(J17:J18) -> 0 | K16: =SUM(K17:K18) -> 19 | L16: =SUM(L17:L18) -> 0 | M16: =SUM(M17:M18) -> 19 | N16: =SUM(O16:P16) -> 7 | O16: =SUM(O17:O18) -> 6 | P16: =SUM(P17:P18) -> 1 | Q16: =SUM(Q17:Q18) -> 3 | R16: =SUM(S16:T16) -> 0 | S16: =SUM(S17:S18) -> 0 | T16: =SUM(T17:T18) -> 0 | U16: =SUM(U17:U18) -> 4 | V16: =SUM(V17:V18) -> 0 | W16: =SUM(W17:W18) -> 0 | X16: =SUM(Y16:AB16) -> 30 | Y16: =SUM(Y17:Y18) -> 0 | Z16: =SUM(Z17:Z18) -> 0 | AA16: =SUM(AA17:AA18) -> 3 | AB16: =SUM(AB17:AB18) -> 27 | AC16: =SUM(AC17:AC18) -> 0 | AD16: =SUM(AD17:AD18) -> 0 | AE16: =SUM(AE17:AE18) -> 0 | AF16: =SUM(AF17:AF18) -> 0 | ... AN16: =SUM(AN17:AN18) -> 0 | AO16: =SUM(AJ16)-SUM(AK16:AN16) -> 0 | AP16: =SUM(AP17:AP18) -> 5 | AQ16: =SUM(AQ17:AQ18) -> 0 | AR16: =SUM(AR17:AR18) -> 1 | AS16: =SUM(AS17:AS18) -> 2 | AT16: =SUM(AT17:AT18) -> 2 | AU16: =SUM(AV16:AW16) -> 0 | AV16: =SUM(AV17:AV18) -> 0 | AW16: =SUM(AW17:AW18) -> 0 | AX16: =SUM(AX17:AX18) -> 0 | AY16: =SUM(AY17:AY18) -> 0 | AZ16: =SUM(AZ17:AZ18) -> 0 | BA16: =SUM(BA17:BA18) -> 0 | BB16: =SUM(BB17:BB18) -> 0 | BC16: =SUM(BC17:BC18) -> 0 | ... BW16: =SUM(BW17:BW18) -> 0 | BX16: =SUM(C16)-SUM(D16,I16:K16,N16,Q16:R16,U16:X16,AC16:AD16,AG16:AJ16,AP16:AU16,AX16:BW16) -> 6
B17: 男 | C17: 153 | D17: =SUM(E17:H17) -> 74 | E17: 0 | F17: 74 | G17: 0 | H17: 0 | I17: 0 | J17: 0 | K17: 17 | L17: 0 | M17: 17 | N17: =SUM(O17:P17) -> 6 | O17: 5 | P17: 1 | Q17: 2 | R17: =SUM(S17:T17) -> 0 | S17: 0 | T17: 0 | U17: 4 | V17: 0 | W17: 0 | X17: =SUM(Y17:AB17) -> 28 | Y17: 0 | Z17: 0 | AA17: 3 | AB17: 25 | AC17: 0 | AD17: 0 | AE17: 0 | AF17: 0 | AG17: 0 | AH17: 1 | AI17: 0 | AJ17: 5 | AK17: 2 | AL17: 3 | AM17: 0 | AN17: 0 | AO17: =SUM(AJ17)-SUM(AK17:AN17) -> 0 | AP17: 5 | AQ17: 0 | AR17: 1 | AS17: 0 | AT17: 2 | AU17: =SUM(AV17:AW17) -> 0 | AV17: 0 | AW17: 0 | AX17: 0 | AY17: 0 | AZ17: 0 | BA17: 0 | BB17: 0 | BC17: 0 | BD17: 3 | BE17: 0 | BF17: 0 | BG17: 1 | BH17: 0 | BI17: 0 | BJ17: 0 | BK17: 0 | BL17: 0 | BM17: 0 | BN17: 0 | BO17: 0 | BP17: 0 | BQ17: 1 | BR17: 0 | BS17: 0 | BT17: 0 | BU17: 0 | BV17: 0 | BW17: 0 | BX17: =SUM(C17)-SUM(D17,I17:K17,N17,Q17:R17,U17:X17,AC17:AD17,AG17:AJ17,AP17:AU17,AX17:BW17) -> 3
B18: 女 | C18: 28 | D18: =SUM(E18:H18) -> 16 | E18: 0 | F18: 16 | G18: 0 | H18: 0 | I18: 0 | J18: 0 | K18: 2 | L18: 0 | M18: 2 | N18: =SUM(O18:P18) -> 1 | O18: 1 | P18: 0 | Q18: 1 | R18: =SUM(S18:T18) -> 0 | S18: 0 | T18: 0 | U18: 0 | V18: 0 | W18: 0 | X18: =SUM(Y18:AB18) -> 2 | Y18: 0 | Z18: 0 | AA18: 0 | AB18: 2 | AC18: 0 | AD18: 0 | AE18: 0 | AF18: 0 | AG18: 0 | AH18: 1 | AI18: 0 | AJ18: 0 | AK18: 0 | AL18: 0 | AM18: 0 | AN18: 0 | AO18: =SUM(AJ18)-SUM(AK18:AN18) -> 0 | AP18: 0 | AQ18: 0 | AR18: 0 | AS18: 2 | AT18: 0 | AU18: =SUM(AV18:AW18) -> 0 | AV18: 0 | AW18: 0 | AX18: 0 | AY18: 0 | AZ18: 0 | BA18: 0 | BB18: 0 | BC18: 0 | BD18: 0 | BE18: 0 | BF18: 0 | BG18: 0 | BH18: 0 | BI18: 0 | BJ18: 0 | BK18: 0 | BL18: 0 | BM18: 0 | BN18: 0 | BO18: 0 | BP18: 0 | BQ18: 0 | BR18: 0 | BS18: 0 | BT18: 0 | BU18: 0 | BV18: 0 | BW18: 0 | BX18: =SUM(C18)-SUM(D18,I18:K18,N18,Q18:R18,U18:X18,AC18:AD18,AG18:AJ18,AP18:AU18,AX18:BW18) -> 3
A19: 臺南市 | B19: 計 | C19: =SUM(C20:C21) -> 158 | D19: =SUM(E19:H19) -> 76 | E19: =SUM(E20:E21) -> 0 | F19: =SUM(F20:F21) -> 75 | G19: =SUM(G20:G21) -> 0 | H19: =SUM(H20:H21) -> 1 | I19: =SUM(I20:I21) -> 0 | J19: =SUM(J20:J21) -> 0 | K19: =SUM(K20:K21) -> 21 | L19: =SUM(L20:L21) -> 0 | M19: =SUM(M20:M21) -> 21 | N19: =SUM(O19:P19) -> 3 | O19: =SUM(O20:O21) -> 3 | P19: =SUM(P20:P21) -> 0 | Q19: =SUM(Q20:Q21) -> 1 | R19: =SUM(S19:T19) -> 0 | S19: =SUM(S20:S21) -> 0 | T19: =SUM(T20:T21) -> 0 | U19: =SUM(U20:U21) -> 9 | V19: =SUM(V20:V21) -> 0 | W19: =SUM(W20:W21) -> 5 | X19: =SUM(Y19:AB19) -> 26 | Y19: =SUM(Y20:Y21) -> 1 | Z19: =SUM(Z20:Z21) -> 0 | AA19: =SUM(AA20:AA21) -> 14 | AB19: =SUM(AB20:AB21) -> 11 | AC19: =SUM(AC20:AC21) -> 0 | AD19: =SUM(AD20:AD21) -> 5 | AE19: =SUM(AE20:AE21) -> 0 | AF19: =SUM(AF20:AF21) -> 5 | ... AN19: =SUM(AN20:AN21) -> 0 | AO19: =SUM(AJ19)-SUM(AK19:AN19) -> 0 | AP19: =SUM(AP20:AP21) -> 1 | AQ19: =SUM(AQ20:AQ21) -> 0 | AR19: =SUM(AR20:AR21) -> 0 | AS19: =SUM(AS20:AS21) -> 0 | AT19: =SUM(AT20:AT21) -> 2 | AU19: =SUM(AV19:AW19) -> 0 | AV19: =SUM(AV20:AV21) -> 0 | AW19: =SUM(AW20:AW21) -> 0 | AX19: =SUM(AX20:AX21) -> 0 | AY19: =SUM(AY20:AY21) -> 0 | AZ19: =SUM(AZ20:AZ21) -> 0 | BA19: =SUM(BA20:BA21) -> 0 | BB19: =SUM(BB20:BB21) -> 0 | BC19: =SUM(BC20:BC21) -> 0 | ... BW19: =SUM(BW20:BW21) -> 0 | BX19: =SUM(C19)-SUM(D19,I19:K19,N19,Q19:R19,U19:X19,AC19:AD19,AG19:AJ19,AP19:AU19,AX19:BW19) -> 1
B20: 男 | C20: 126 | D20: =SUM(E20:H20) -> 54 | E20: 0 | F20: 53 | G20: 0 | H20: 1 | I20: 0 | J20: 0 | K20: 19 | L20: 0 | M20: 19 | N20: =SUM(O20:P20) -> 2 | O20: 2 | P20: 0 | Q20: 0 | R20: =SUM(S20:T20) -> 0 | S20: 0 | T20: 0 | U20: 6 | V20: 0 | W20: 5 | X20: =SUM(Y20:AB20) -> 24 | Y20: 1 | Z20: 0 | AA20: 14 | AB20: 9 | AC20: 0 | AD20: 5 | AE20: 0 | AF20: 5 | AG20: 0 | AH20: 0 | AI20: 0 | AJ20: 0 | AK20: 0 | AL20: 0 | AM20: 0 | AN20: 0 | AO20: =SUM(AJ20)-SUM(AK20:AN20) -> 0 | AP20: 1 | AQ20: 0 | AR20: 0 | AS20: 0 | AT20: 2 | AU20: =SUM(AV20:AW20) -> 0 | AV20: 0 | AW20: 0 | AX20: 0 | AY20: 0 | AZ20: 0 | BA20: 0 | BB20: 0 | BC20: 0 | BD20: 3 | BE20: 0 | BF20: 0 | BG20: 4 | BH20: 0 | BI20: 0 | BJ20: 0 | BK20: 0 | BL20: 0 | BM20: 0 | BN20: 0 | BO20: 0 | BP20: 0 | BQ20: 0 | BR20: 0 | BS20: 0 | BT20: 0 | BU20: 0 | BV20: 0 | BW20: 0 | BX20: =SUM(C20)-SUM(D20,I20:K20,N20,Q20:R20,U20:X20,AC20:AD20,AG20:AJ20,AP20:AU20,AX20:BW20) -> 1
B21: 女 | C21: 32 | D21: =SUM(E21:H21) -> 22 | E21: 0 | F21: 22 | G21: 0 | H21: 0 | I21: 0 | J21: 0 | K21: 2 | L21: 0 | M21: 2 | N21: =SUM(O21:P21) -> 1 | O21: 1 | P21: 0 | Q21: 1 | R21: =SUM(S21:T21) -> 0 | S21: 0 | T21: 0 | U21: 3 | V21: 0 | W21: 0 | X21: =SUM(Y21:AB21) -> 2 | Y21: 0 | Z21: 0 | AA21: 0 | AB21: 2 | AC21: 0 | AD21: 0 | AE21: 0 | AF21: 0 | AG21: 0 | AH21: 0 | AI21: 0 | AJ21: 0 | AK21: 0 | AL21: 0 | AM21: 0 | AN21: 0 | AO21: =SUM(AJ21)-SUM(AK21:AN21) -> 0 | AP21: 0 | AQ21: 0 | AR21: 0 | AS21: 0 | AT21: 0 | AU21: =SUM(AV21:AW21) -> 0 | AV21: 0 | AW21: 0 | AX21: 0 | AY21: 0 | AZ21: 0 | BA21: 0 | BB21: 0 | BC21: 0 | BD21: 0 | BE21: 0 | BF21: 0 | BG21: 1 | BH21: 0 | BI21: 0 | BJ21: 0 | BK21: 0 | BL21: 0 | BM21: 0 | BN21: 0 | BO21: 0 | BP21: 0 | BQ21: 0 | BR21: 0 | BS21: 0 | BT21: 0 | BU21: 0 | BV21: 0 | BW21: 0 | BX21: =SUM(C21)-SUM(D21,I21:K21,N21,Q21:R21,U21:X21,AC21:AD21,AG21:AJ21,AP21:AU21,AX21:BW21) -> 0
A22: 高雄市 | B22: 計 | C22: =SUM(C23:C24) -> 211 | D22: =SUM(E22:H22) -> 105 | E22: =SUM(E23:E24) -> 0 | F22: =SUM(F23:F24) -> 102 | G22: =SUM(G23:G24) -> 0 | H22: =SUM(H23:H24) -> 3 | I22: =SUM(I23:I24) -> 0 | J22: =SUM(J23:J24) -> 0 | K22: =SUM(K23:K24) -> 27 | L22: =SUM(L23:L24) -> 0 | M22: =SUM(M23:M24) -> 27 | N22: =SUM(O22:P22) -> 10 | O22: =SUM(O23:O24) -> 10 | P22: =SUM(P23:P24) -> 0 | Q22: =SUM(Q23:Q24) -> 5 | R22: =SUM(S22:T22) -> 0 | S22: =SUM(S23:S24) -> 0 | T22: =SUM(T23:T24) -> 0 | U22: =SUM(U23:U24) -> 14 | V22: =SUM(V23:V24) -> 0 | W22: =SUM(W23:W24) -> 0 | X22: =SUM(Y22:AB22) -> 20 | Y22: =SUM(Y23:Y24) -> 0 | Z22: =SUM(Z23:Z24) -> 0 | AA22: =SUM(AA23:AA24) -> 6 | AB22: =SUM(AB23:AB24) -> 14 | AC22: =SUM(AC23:AC24) -> 0 | AD22: =SUM(AD23:AD24) -> 0 | AE22: =SUM(AE23:AE24) -> 0 | AF22: =SUM(AF23:AF24) -> 0 | ... AN22: =SUM(AN23:AN24) -> 0 | AO22: =SUM(AJ22)-SUM(AK22:AN22) -> 0 | AP22: =SUM(AP23:AP24) -> 5 | AQ22: =SUM(AQ23:AQ24) -> 0 | AR22: =SUM(AR23:AR24) -> 0 | AS22: =SUM(AS23:AS24) -> 0 | AT22: =SUM(AT23:AT24) -> 1 | AU22: =SUM(AV22:AW22) -> 0 | AV22: =SUM(AV23:AV24) -> 0 | AW22: =SUM(AW23:AW24) -> 0 | AX22: =SUM(AX23:AX24) -> 1 | AY22: =SUM(AY23:AY24) -> 0 | AZ22: =SUM(AZ23:AZ24) -> 0 | BA22: =SUM(BA23:BA24) -> 0 | BB22: =SUM(BB23:BB24) -> 0 | BC22: =SUM(BC23:BC24) -> 0 | ... BW22: =SUM(BW23:BW24) -> 0 | BX22: =SUM(C22)-SUM(D22,I22:K22,N22,Q22:R22,U22:X22,AC22:AD22,AG22:AJ22,AP22:AU22,AX22:BW22) -> 17
B23: 男 | C23: 167 | D23: =SUM(E23:H23) -> 78 | E23: 0 | F23: 76 | G23: 0 | H23: 2 | I23: 0 | J23: 0 | K23: 24 | L23: 0 | M23: 24 | N23: =SUM(O23:P23) -> 7 | O23: 7 | P23: 0 | Q23: 3 | R23: =SUM(S23:T23) -> 0 | S23: 0 | T23: 0 | U23: 10 | V23: 0 | W23: 0 | X23: =SUM(Y23:AB23) -> 19 | Y23: 0 | Z23: 0 | AA23: 5 | AB23: 14 | AC23: 0 | AD23: 0 | AE23: 0 | AF23: 0 | AG23: 0 | AH23: 1 | AI23: 1 | AJ23: 0 | AK23: 0 | AL23: 0 | AM23: 0 | AN23: 0 | AO23: =SUM(AJ23)-SUM(AK23:AN23) -> 0 | AP23: 5 | AQ23: 0 | AR23: 0 | AS23: 0 | AT23: 1 | AU23: =SUM(AV23:AW23) -> 0 | AV23: 0 | AW23: 0 | AX23: 1 | AY23: 0 | AZ23: 0 | BA23: 0 | BB23: 0 | BC23: 0 | BD23: 0 | BE23: 0 | BF23: 0 | BG23: 3 | BH23: 0 | BI23: 0 | BJ23: 0 | BK23: 0 | BL23: 0 | BM23: 0 | BN23: 0 | BO23: 0 | BP23: 0 | BQ23: 0 | BR23: 0 | BS23: 0 | BT23: 0 | BU23: 0 | BV23: 0 | BW23: 0 | BX23: =SUM(C23)-SUM(D23,I23:K23,N23,Q23:R23,U23:X23,AC23:AD23,AG23:AJ23,AP23:AU23,AX23:BW23) -> 14
B24: 女 | C24: 44 | D24: =SUM(E24:H24) -> 27 | E24: 0 | F24: 26 | G24: 0 | H24: 1 | I24: 0 | J24: 0 | K24: 3 | L24: 0 | M24: 3 | N24: =SUM(O24:P24) -> 3 | O24: 3 | P24: 0 | Q24: 2 | R24: =SUM(S24:T24) -> 0 | S24: 0 | T24: 0 | U24: 4 | V24: 0 | W24: 0 | X24: =SUM(Y24:AB24) -> 1 | Y24: 0 | Z24: 0 | AA24: 1 | AB24: 0 | AC24: 0 | AD24: 0 | AE24: 0 | AF24: 0 | AG24: 0 | AH24: 0 | AI24: 0 | AJ24: 0 | AK24: 0 | AL24: 0 | AM24: 0 | AN24: 0 | AO24: =SUM(AJ24)-SUM(AK24:AN24) -> 0 | AP24: 0 | AQ24: 0 | AR24: 0 | AS24: 0 | AT24: 0 | AU24: =SUM(AV24:AW24) -> 0 | AV24: 0 | AW24: 0 | AX24: 0 | AY24: 0 | AZ24: 0 | BA24: 0 | BB24: 0 | BC24: 0 | BD24: 0 | BE24: 0 | BF24: 0 | BG24: 1 | BH24: 0 | BI24: 0 | BJ24: 0 | BK24: 0 | BL24: 0 | BM24: 0 | BN24: 0 | BO24: 0 | BP24: 0 | BQ24: 0 | BR24: 0 | BS24: 0 | BT24: 0 | BU24: 0 | BV24: 0 | BW24: 0 | BX24: =SUM(C24)-SUM(D24,I24:K24,N24,Q24:R24,U24:X24,AC24:AD24,AG24:AJ24,AP24:AU24,AX24:BW24) -> 3
A25: 宜蘭縣 | B25: 計 | C25: =SUM(C26:C27) -> 51 | D25: =SUM(E25:H25) -> 27 | E25: =SUM(E26:E27) -> 0 | F25: =SUM(F26:F27) -> 26 | G25: =SUM(G26:G27) -> 1 | H25: =SUM(H26:H27) -> 0 | I25: =SUM(I26:I27) -> 0 | J25: =SUM(J26:J27) -> 0 | K25: =SUM(K26:K27) -> 7 | L25: =SUM(L26:L27) -> 0 | M25: =SUM(M26:M27) -> 7 | N25: =SUM(O25:P25) -> 0 | O25: =SUM(O26:O27) -> 0 | P25: =SUM(P26:P27) -> 0 | Q25: =SUM(Q26:Q27) -> 0 | R25: =SUM(S25:T25) -> 0 | S25: =SUM(S26:S27) -> 0 | T25: =SUM(T26:T27) -> 0 | U25: =SUM(U26:U27) -> 2 | V25: =SUM(V26:V27) -> 0 | W25: =SUM(W26:W27) -> 0 | X25: =SUM(Y25:AB25) -> 8 | Y25: =SUM(Y26:Y27) -> 0 | Z25: =SUM(Z26:Z27) -> 0 | AA25: =SUM(AA26:AA27) -> 0 | AB25: =SUM(AB26:AB27) -> 8 | AC25: =SUM(AC26:AC27) -> 0 | AD25: =SUM(AD26:AD27) -> 0 | AE25: =SUM(AE26:AE27) -> 0 | AF25: =SUM(AF26:AF27) -> 0 | ... AN25: =SUM(AN26:AN27) -> 0 | AO25: =SUM(AJ25)-SUM(AK25:AN25) -> 0 | AP25: =SUM(AP26:AP27) -> 0 | AQ25: =SUM(AQ26:AQ27) -> 0 | AR25: =SUM(AR26:AR27) -> 0 | AS25: =SUM(AS26:AS27) -> 0 | AT25: =SUM(AT26:AT27) -> 1 | AU25: =SUM(AV25:AW25) -> 0 | AV25: =SUM(AV26:AV27) -> 0 | AW25: =SUM(AW26:AW27) -> 0 | AX25: =SUM(AX26:AX27) -> 0 | AY25: =SUM(AY26:AY27) -> 0 | AZ25: =SUM(AZ26:AZ27) -> 0 | BA25: =SUM(BA26:BA27) -> 0 | BB25: =SUM(BB26:BB27) -> 0 | BC25: =SUM(BC26:BC27) -> 0 | ... BW25: =SUM(BW26:BW27) -> 0 | BX25: =SUM(C25)-SUM(D25,I25:K25,N25,Q25:R25,U25:X25,AC25:AD25,AG25:AJ25,AP25:AU25,AX25:BW25) -> 3
B26: 男 | C26: 44 | D26: =SUM(E26:H26) -> 25 | E26: 0 | F26: 24 | G26: 1 | H26: 0 | I26: 0 | J26: 0 | K26: 5 | L26: 0 | M26: 5 | N26: =SUM(O26:P26) -> 0 | O26: 0 | P26: 0 | Q26: 0 | R26: =SUM(S26:T26) -> 0 | S26: 0 | T26: 0 | U26: 2 | V26: 0 | W26: 0 | X26: =SUM(Y26:AB26) -> 6 | Y26: 0 | Z26: 0 | AA26: 0 | AB26: 6 | AC26: 0 | AD26: 0 | AE26: 0 | AF26: 0 | AG26: 0 | AH26: 0 | AI26: 1 | AJ26: 0 | AK26: 0 | AL26: 0 | AM26: 0 | AN26: 0 | AO26: =SUM(AJ26)-SUM(AK26:AN26) -> 0 | AP26: 0 | AQ26: 0 | AR26: 0 | AS26: 0 | AT26: 1 | AU26: =SUM(AV26:AW26) -> 0 | AV26: 0 | AW26: 0 | AX26: 0 | AY26: 0 | AZ26: 0 | BA26: 0 | BB26: 0 | BC26: 0 | BD26: 1 | BE26: 0 | BF26: 0 | BG26: 0 | BH26: 0 | BI26: 0 | BJ26: 0 | BK26: 0 | BL26: 0 | BM26: 0 | BN26: 0 | BO26: 0 | BP26: 0 | BQ26: 0 | BR26: 0 | BS26: 0 | BT26: 0 | BU26: 0 | BV26: 0 | BW26: 0 | BX26: =SUM(C26)-SUM(D26,I26:K26,N26,Q26:R26,U26:X26,AC26:AD26,AG26:AJ26,AP26:AU26,AX26:BW26) -> 3
B27: 女 | C27: 7 | D27: =SUM(E27:H27) -> 2 | E27: 0 | F27: 2 | G27: 0 | H27: 0 | I27: 0 | J27: 0 | K27: 2 | L27: 0 | M27: 2 | N27: =SUM(O27:P27) -> 0 | O27: 0 | P27: 0 | Q27: 0 | R27: =SUM(S27:T27) -> 0 | S27: 0 | T27: 0 | U27: 0 | V27: 0 | W27: 0 | X27: =SUM(Y27:AB27) -> 2 | Y27: 0 | Z27: 0 | AA27: 0 | AB27: 2 | AC27: 0 | AD27: 0 | AE27: 0 | AF27: 0 | AG27: 0 | AH27: 0 | AI27: 0 | AJ27: 0 | AK27: 0 | AL27: 0 | AM27: 0 | AN27: 0 | AO27: =SUM(AJ27)-SUM(AK27:AN27) -> 0 | AP27: 0 | AQ27: 0 | AR27: 0 | AS27: 0 | AT27: 0 | AU27: =SUM(AV27:AW27) -> 0 | AV27: 0 | AW27: 0 | AX27: 0 | AY27: 0 | AZ27: 0 | BA27: 0 | BB27: 0 | BC27: 0 | BD27: 0 | BE27: 0 | BF27: 0 | BG27: 0 | BH27: 0 | BI27: 0 | BJ27: 1 | BK27: 0 | BL27: 0 | BM27: 0 | BN27: 0 | BO27: 0 | BP27: 0 | BQ27: 0 | BR27: 0 | BS27: 0 | BT27: 0 | BU27: 0 | BV27: 0 | BW27: 0 | BX27: =SUM(C27)-SUM(D27,I27:K27,N27,Q27:R27,U27:X27,AC27:AD27,AG27:AJ27,AP27:AU27,AX27:BW27) -> 0
A28: 新竹縣 | B28: 計 | C28: =SUM(C29:C30) -> 84 | D28: =SUM(E28:H28) -> 34 | E28: =SUM(E29:E30) -> 0 | F28: =SUM(F29:F30) -> 33 | G28: =SUM(G29:G30) -> 0 | H28: =SUM(H29:H30) -> 1 | I28: =SUM(I29:I30) -> 0 | J28: =SUM(J29:J30) -> 0 | K28: =SUM(K29:K30) -> 9 | L28: =SUM(L29:L30) -> 0 | M28: =SUM(M29:M30) -> 9 | N28: =SUM(O28:P28) -> 0 | O28: =SUM(O29:O30) -> 0 | P28: =SUM(P29:P30) -> 0 | Q28: =SUM(Q29:Q30) -> 2 | R28: =SUM(S28:T28) -> 0 | S28: =SUM(S29:S30) -> 0 | T28: =SUM(T29:T30) -> 0 | U28: =SUM(U29:U30) -> 2 | V28: =SUM(V29:V30) -> 0 | W28: =SUM(W29:W30) -> 0 | X28: =SUM(Y28:AB28) -> 23 | Y28: =SUM(Y29:Y30) -> 0 | Z28: =SUM(Z29:Z30) -> 0 | AA28: =SUM(AA29:AA30) -> 6 | AB28: =SUM(AB29:AB30) -> 17 | AC28: =SUM(AC29:AC30) -> 0 | AD28: =SUM(AD29:AD30) -> 0 | AE28: =SUM(AE29:AE30) -> 0 | AF28: =SUM(AF29:AF30) -> 0 | ... AN28: =SUM(AN29:AN30) -> 0 | AO28: =SUM(AJ28)-SUM(AK28:AN28) -> 0 | AP28: =SUM(AP29:AP30) -> 0 | AQ28: =SUM(AQ29:AQ30) -> 0 | AR28: =SUM(AR29:AR30) -> 0 | AS28: =SUM(AS29:AS30) -> 0 | AT28: =SUM(AT29:AT30) -> 0 | AU28: =SUM(AV28:AW28) -> 0 | AV28: =SUM(AV29:AV30) -> 0 | AW28: =SUM(AW29:AW30) -> 0 | AX28: =SUM(AX29:AX30) -> 0 | AY28: =SUM(AY29:AY30) -> 0 | AZ28: =SUM(AZ29:AZ30) -> 0 | BA28: =SUM(BA29:BA30) -> 0 | BB28: =SUM(BB29:BB30) -> 0 | BC28: =SUM(BC29:BC30) -> 0 | ... BW28: =SUM(BW29:BW30) -> 0 | BX28: =SUM(C28)-SUM(D28,I28:K28,N28,Q28:R28,U28:X28,AC28:AD28,AG28:AJ28,AP28:AU28,AX28:BW28) -> 14
B29: 男 | C29: 69 | D29: =SUM(E29:H29) -> 23 | E29: 0 | F29: 23 | G29: 0 | H29: 0 | I29: 0 | J29: 0 | K29: 9 | L29: 0 | M29: 9 | N29: =SUM(O29:P29) -> 0 | O29: 0 | P29: 0 | Q29: 2 | R29: =SUM(S29:T29) -> 0 | S29: 0 | T29: 0 | U29: 2 | V29: 0 | W29: 0 | X29: =SUM(Y29:AB29) -> 23 | Y29: 0 | Z29: 0 | AA29: 6 | AB29: 17 | AC29: 0 | AD29: 0 | AE29: 0 | AF29: 0 | AG29: 0 | AH29: 0 | AI29: 0 | AJ29: 0 | AK29: 0 | AL29: 0 | AM29: 0 | AN29: 0 | AO29: =SUM(AJ29)-SUM(AK29:AN29) -> 0 | AP29: 0 | AQ29: 0 | AR29: 0 | AS29: 0 | AT29: 0 | AU29: =SUM(AV29:AW29) -> 0 | AV29: 0 | AW29: 0 | AX29: 0 | AY29: 0 | AZ29: 0 | BA29: 0 | BB29: 0 | BC29: 0 | BD29: 0 | BE29: 0 | BF29: 0 | BG29: 0 | BH29: 0 | BI29: 0 | BJ29: 0 | BK29: 0 | BL29: 0 | BM29: 0 | BN29: 0 | BO29: 0 | BP29: 0 | BQ29: 0 | BR29: 0 | BS29: 0 | BT29: 0 | BU29: 0 | BV29: 0 | BW29: 0 | BX29: =SUM(C29)-SUM(D29,I29:K29,N29,Q29:R29,U29:X29,AC29:AD29,AG29:AJ29,AP29:AU29,AX29:BW29) -> 10
B30: 女 | C30: 15 | D30: =SUM(E30:H30) -> 11 | E30: 0 | F30: 10 | G30: 0 | H30: 1 | I30: 0 | J30: 0 | K30: 0 | L30: 0 | M30: 0 | N30: =SUM(O30:P30) -> 0 | O30: 0 | P30: 0 | Q30: 0 | R30: =SUM(S30:T30) -> 0 | S30: 0 | T30: 0 | U30: 0 | V30: 0 | W30: 0 | X30: =SUM(Y30:AB30) -> 0 | Y30: 0 | Z30: 0 | AA30: 0 | AB30: 0 | AC30: 0 | AD30: 0 | AE30: 0 | AF30: 0 | AG30: 0 | AH30: 0 | AI30: 0 | AJ30: 0 | AK30: 0 | AL30: 0 | AM30: 0 | AN30: 0 | AO30: =SUM(AJ30)-SUM(AK30:AN30) -> 0 | AP30: 0 | AQ30: 0 | AR30: 0 | AS30: 0 | AT30: 0 | AU30: =SUM(AV30:AW30) -> 0 | AV30: 0 | AW30: 0 | AX30: 0 | AY30: 0 | AZ30: 0 | BA30: 0 | BB30: 0 | BC30: 0 | BD30: 0 | BE30: 0 | BF30: 0 | BG30: 0 | BH30: 0 | BI30: 0 | BJ30: 0 | BK30: 0 | BL30: 0 | BM30: 0 | BN30: 0 | BO30: 0 | BP30: 0 | BQ30: 0 | BR30: 0 | BS30: 0 | BT30: 0 | BU30: 0 | BV30: 0 | BW30: 0 | BX30: =SUM(C30)-SUM(D30,I30:K30,N30,Q30:R30,U30:X30,AC30:AD30,AG30:AJ30,AP30:AU30,AX30:BW30) -> 4
A31: 苗栗縣 | B31: 計 | C31: =SUM(C32:C33) -> 50 | D31: =SUM(E31:H31) -> 37 | E31: =SUM(E32:E33) -> 0 | F31: =SUM(F32:F33) -> 31 | G31: =SUM(G32:G33) -> 0 | H31: =SUM(H32:H33) -> 6 | I31: =SUM(I32:I33) -> 0 | J31: =SUM(J32:J33) -> 0 | K31: =SUM(K32:K33) -> 4 | L31: =SUM(L32:L33) -> 1 | M31: =SUM(M32:M33) -> 3 | N31: =SUM(O31:P31) -> 1 | O31: =SUM(O32:O33) -> 1 | P31: =SUM(P32:P33) -> 0 | Q31: =SUM(Q32:Q33) -> 0 | R31: =SUM(S31:T31) -> 0 | S31: =SUM(S32:S33) -> 0 | T31: =SUM(T32:T33) -> 0 | U31: =SUM(U32:U33) -> 0 | V31: =SUM(V32:V33) -> 0 | W31: =SUM(W32:W33) -> 0 | X31: =SUM(Y31:AB31) -> 5 | Y31: =SUM(Y32:Y33) -> 2 | Z31: =SUM(Z32:Z33) -> 0 | AA31: =SUM(AA32:AA33) -> 0 | AB31: =SUM(AB32:AB33) -> 3 | AC31: =SUM(AC32:AC33) -> 0 | AD31: =SUM(AD32:AD33) -> 0 | AE31: =SUM(AE32:AE33) -> 0 | AF31: =SUM(AF32:AF33) -> 0 | ... AN31: =SUM(AN32:AN33) -> 0 | AO31: =SUM(AJ31)-SUM(AK31:AN31) -> 0 | AP31: =SUM(AP32:AP33) -> 1 | AQ31: =SUM(AQ32:AQ33) -> 0 | AR31: =SUM(AR32:AR33) -> 0 | AS31: =SUM(AS32:AS33) -> 0 | AT31: =SUM(AT32:AT33) -> 0 | AU31: =SUM(AV31:AW31) -> 0 | AV31: =SUM(AV32:AV33) -> 0 | AW31: =SUM(AW32:AW33) -> 0 | AX31: =SUM(AX32:AX33) -> 0 | AY31: =SUM(AY32:AY33) -> 0 | AZ31: =SUM(AZ32:AZ33) -> 0 | BA31: =SUM(BA32:BA33) -> 0 | BB31: =SUM(BB32:BB33) -> 0 | BC31: =SUM(BC32:BC33) -> 0 | ... BW31: =SUM(BW32:BW33) -> 0 | BX31: =SUM(C31)-SUM(D31,I31:K31,N31,Q31:R31,U31:X31,AC31:AD31,AG31:AJ31,AP31:AU31,AX31:BW31) -> 2
B32: 男 | C32: 45 | D32: =SUM(E32:H32) -> 32 | E32: 0 | F32: 26 | G32: 0 | H32: 6 | I32: 0 | J32: 0 | K32: 4 | L32: 1 | M32: 3 | N32: =SUM(O32:P32) -> 1 | O32: 1 | P32: 0 | Q32: 0 | R32: =SUM(S32:T32) -> 0 | S32: 0 | T32: 0 | U32: 0 | V32: 0 | W32: 0 | X32: =SUM(Y32:AB32) -> 5 | Y32: 2 | Z32: 0 | AA32: 0 | AB32: 3 | AC32: 0 | AD32: 0 | AE32: 0 | AF32: 0 | AG32: 0 | AH32: 0 | AI32: 0 | AJ32: 0 | AK32: 0 | AL32: 0 | AM32: 0 | AN32: 0 | AO32: =SUM(AJ32)-SUM(AK32:AN32) -> 0 | AP32: 1 | AQ32: 0 | AR32: 0 | AS32: 0 | AT32: 0 | AU32: =SUM(AV32:AW32) -> 0 | AV32: 0 | AW32: 0 | AX32: 0 | AY32: 0 | AZ32: 0 | BA32: 0 | BB32: 0 | BC32: 0 | BD32: 0 | BE32: 0 | BF32: 0 | BG32: 0 | BH32: 0 | BI32: 0 | BJ32: 0 | BK32: 0 | BL32: 0 | BM32: 0 | BN32: 0 | BO32: 0 | BP32: 0 | BQ32: 0 | BR32: 0 | BS32: 0 | BT32: 0 | BU32: 0 | BV32: 0 | BW32: 0 | BX32: =SUM(C32)-SUM(D32,I32:K32,N32,Q32:R32,U32:X32,AC32:AD32,AG32:AJ32,AP32:AU32,AX32:BW32) -> 2
B33: 女 | C33: 5 | D33: =SUM(E33:H33) -> 5 | E33: 0 | F33: 5 | G33: 0 | H33: 0 | I33: 0 | J33: 0 | K33: 0 | L33: 0 | M33: 0 | N33: =SUM(O33:P33) -> 0 | O33: 0 | P33: 0 | Q33: 0 | R33: =SUM(S33:T33) -> 0 | S33: 0 | T33: 0 | U33: 0 | V33: 0 | W33: 0 | X33: =SUM(Y33:AB33) -> 0 | Y33: 0 | Z33: 0 | AA33: 0 | AB33: 0 | AC33: 0 | AD33: 0 | AE33: 0 | AF33: 0 | AG33: 0 | AH33: 0 | AI33: 0 | AJ33: 0 | AK33: 0 | AL33: 0 | AM33: 0 | AN33: 0 | AO33: =SUM(AJ33)-SUM(AK33:AN33) -> 0 | AP33: 0 | AQ33: 0 | AR33: 0 | AS33: 0 | AT33: 0 | AU33: =SUM(AV33:AW33) -> 0 | AV33: 0 | AW33: 0 | AX33: 0 | AY33: 0 | AZ33: 0 | BA33: 0 | BB33: 0 | BC33: 0 | BD33: 0 | BE33: 0 | BF33: 0 | BG33: 0 | BH33: 0 | BI33: 0 | BJ33: 0 | BK33: 0 | BL33: 0 | BM33: 0 | BN33: 0 | BO33: 0 | BP33: 0 | BQ33: 0 | BR33: 0 | BS33: 0 | BT33: 0 | BU33: 0 | BV33: 0 | BW33: 0 | BX33: =SUM(C33)-SUM(D33,I33:K33,N33,Q33:R33,U33:X33,AC33:AD33,AG33:AJ33,AP33:AU33,AX33:BW33) -> 0
A34: 彰化縣 | B34: 計 | C34: =SUM(C35:C36) -> 112 | D34: =SUM(E34:H34) -> 72 | E34: =SUM(E35:E36) -> 0 | F34: =SUM(F35:F36) -> 71 | G34: =SUM(G35:G36) -> 0 | H34: =SUM(H35:H36) -> 1 | I34: =SUM(I35:I36) -> 0 | J34: =SUM(J35:J36) -> 0 | K34: =SUM(K35:K36) -> 7 | L34: =SUM(L35:L36) -> 0 | M34: =SUM(M35:M36) -> 7 | N34: =SUM(O34:P34) -> 2 | O34: =SUM(O35:O36) -> 2 | P34: =SUM(P35:P36) -> 0 | Q34: =SUM(Q35:Q36) -> 1 | R34: =SUM(S34:T34) -> 0 | S34: =SUM(S35:S36) -> 0 | T34: =SUM(T35:T36) -> 0 | U34: =SUM(U35:U36) -> 2 | V34: =SUM(V35:V36) -> 0 | W34: =SUM(W35:W36) -> 0 | X34: =SUM(Y34:AB34) -> 20 | Y34: =SUM(Y35:Y36) -> 0 | Z34: =SUM(Z35:Z36) -> 0 | AA34: =SUM(AA35:AA36) -> 4 | AB34: =SUM(AB35:AB36) -> 16 | AC34: =SUM(AC35:AC36) -> 0 | AD34: =SUM(AD35:AD36) -> 0 | AE34: =SUM(AE35:AE36) -> 0 | AF34: =SUM(AF35:AF36) -> 0 | ... AN34: =SUM(AN35:AN36) -> 0 | AO34: =SUM(AJ34)-SUM(AK34:AN34) -> 0 | AP34: =SUM(AP35:AP36) -> 0 | AQ34: =SUM(AQ35:AQ36) -> 0 | AR34: =SUM(AR35:AR36) -> 0 | AS34: =SUM(AS35:AS36) -> 0 | AT34: =SUM(AT35:AT36) -> 1 | AU34: =SUM(AV34:AW34) -> 0 | AV34: =SUM(AV35:AV36) -> 0 | AW34: =SUM(AW35:AW36) -> 0 | AX34: =SUM(AX35:AX36) -> 0 | AY34: =SUM(AY35:AY36) -> 0 | AZ34: =SUM(AZ35:AZ36) -> 0 | BA34: =SUM(BA35:BA36) -> 0 | BB34: =SUM(BB35:BB36) -> 0 | BC34: =SUM(BC35:BC36) -> 0 | ... BW34: =SUM(BW35:BW36) -> 0 | BX34: =SUM(C34)-SUM(D34,I34:K34,N34,Q34:R34,U34:X34,AC34:AD34,AG34:AJ34,AP34:AU34,AX34:BW34) -> 2
B35: 男 | C35: 94 | D35: =SUM(E35:H35) -> 58 | E35: 0 | F35: 57 | G35: 0 | H35: 1 | I35: 0 | J35: 0 | K35: 7 | L35: 0 | M35: 7 | N35: =SUM(O35:P35) -> 1 | O35: 1 | P35: 0 | Q35: 1 | R35: =SUM(S35:T35) -> 0 | S35: 0 | T35: 0 | U35: 2 | V35: 0 | W35: 0 | X35: =SUM(Y35:AB35) -> 20 | Y35: 0 | Z35: 0 | AA35: 4 | AB35: 16 | AC35: 0 | AD35: 0 | AE35: 0 | AF35: 0 | AG35: 0 | AH35: 2 | AI35: 0 | AJ35: 0 | AK35: 0 | AL35: 0 | AM35: 0 | AN35: 0 | AO35: =SUM(AJ35)-SUM(AK35:AN35) -> 0 | AP35: 0 | AQ35: 0 | AR35: 0 | AS35: 0 | AT35: 1 | AU35: =SUM(AV35:AW35) -> 0 | AV35: 0 | AW35: 0 | AX35: 0 | AY35: 0 | AZ35: 0 | BA35: 0 | BB35: 0 | BC35: 0 | BD35: 1 | BE35: 0 | BF35: 0 | BG35: 0 | BH35: 0 | BI35: 0 | BJ35: 0 | BK35: 0 | BL35: 0 | BM35: 0 | BN35: 0 | BO35: 0 | BP35: 0 | BQ35: 0 | BR35: 0 | BS35: 0 | BT35: 0 | BU35: 0 | BV35: 0 | BW35: 0 | BX35: =SUM(C35)-SUM(D35,I35:K35,N35,Q35:R35,U35:X35,AC35:AD35,AG35:AJ35,AP35:AU35,AX35:BW35) -> 1
B36: 女 | C36: 18 | D36: =SUM(E36:H36) -> 14 | E36: 0 | F36: 14 | G36: 0 | H36: 0 | I36: 0 | J36: 0 | K36: 0 | L36: 0 | M36: 0 | N36: =SUM(O36:P36) -> 1 | O36: 1 | P36: 0 | Q36: 0 | R36: =SUM(S36:T36) -> 0 | S36: 0 | T36: 0 | U36: 0 | V36: 0 | W36: 0 | X36: =SUM(Y36:AB36) -> 0 | Y36: 0 | Z36: 0 | AA36: 0 | AB36: 0 | AC36: 0 | AD36: 0 | AE36: 0 | AF36: 0 | AG36: 0 | AH36: 2 | AI36: 0 | AJ36: 0 | AK36: 0 | AL36: 0 | AM36: 0 | AN36: 0 | AO36: =SUM(AJ36)-SUM(AK36:AN36) -> 0 | AP36: 0 | AQ36: 0 | AR36: 0 | AS36: 0 | AT36: 0 | AU36: =SUM(AV36:AW36) -> 0 | AV36: 0 | AW36: 0 | AX36: 0 | AY36: 0 | AZ36: 0 | BA36: 0 | BB36: 0 | BC36: 0 | BD36: 0 | BE36: 0 | BF36: 0 | BG36: 0 | BH36: 0 | BI36: 0 | BJ36: 0 | BK36: 0 | BL36: 0 | BM36: 0 | BN36: 0 | BO36: 0 | BP36: 0 | BQ36: 0 | BR36: 0 | BS36: 0 | BT36: 0 | BU36: 0 | BV36: 0 | BW36: 0 | BX36: =SUM(C36)-SUM(D36,I36:K36,N36,Q36:R36,U36:X36,AC36:AD36,AG36:AJ36,AP36:AU36,AX36:BW36) -> 1
A37: 南投縣 | B37: 計 | C37: =SUM(C38:C39) -> 51 | D37: =SUM(E37:H37) -> 29 | E37: =SUM(E38:E39) -> 0 | F37: =SUM(F38:F39) -> 26 | G37: =SUM(G38:G39) -> 0 | H37: =SUM(H38:H39) -> 3 | I37: =SUM(I38:I39) -> 0 | J37: =SUM(J38:J39) -> 0 | K37: =SUM(K38:K39) -> 2 | L37: =SUM(L38:L39) -> 0 | M37: =SUM(M38:M39) -> 2 | N37: =SUM(O37:P37) -> 1 | O37: =SUM(O38:O39) -> 1 | P37: =SUM(P38:P39) -> 0 | Q37: =SUM(Q38:Q39) -> 1 | R37: =SUM(S37:T37) -> 0 | S37: =SUM(S38:S39) -> 0 | T37: =SUM(T38:T39) -> 0 | U37: =SUM(U38:U39) -> 0 | V37: =SUM(V38:V39) -> 0 | W37: =SUM(W38:W39) -> 0 | X37: =SUM(Y37:AB37) -> 13 | Y37: =SUM(Y38:Y39) -> 1 | Z37: =SUM(Z38:Z39) -> 9 | AA37: =SUM(AA38:AA39) -> 0 | AB37: =SUM(AB38:AB39) -> 3 | AC37: =SUM(AC38:AC39) -> 0 | AD37: =SUM(AD38:AD39) -> 0 | AE37: =SUM(AE38:AE39) -> 0 | AF37: =SUM(AF38:AF39) -> 0 | ... AN37: =SUM(AN38:AN39) -> 0 | AO37: =SUM(AJ37)-SUM(AK37:AN37) -> 0 | AP37: =SUM(AP38:AP39) -> 0 | AQ37: =SUM(AQ38:AQ39) -> 0 | AR37: =SUM(AR38:AR39) -> 0 | AS37: =SUM(AS38:AS39) -> 0 | AT37: =SUM(AT38:AT39) -> 0 | AU37: =SUM(AV37:AW37) -> 0 | AV37: =SUM(AV38:AV39) -> 0 | AW37: =SUM(AW38:AW39) -> 0 | AX37: =SUM(AX38:AX39) -> 0 | AY37: =SUM(AY38:AY39) -> 0 | AZ37: =SUM(AZ38:AZ39) -> 0 | BA37: =SUM(BA38:BA39) -> 0 | BB37: =SUM(BB38:BB39) -> 0 | BC37: =SUM(BC38:BC39) -> 0 | ... BW37: =SUM(BW38:BW39) -> 0 | BX37: =SUM(C37)-SUM(D37,I37:K37,N37,Q37:R37,U37:X37,AC37:AD37,AG37:AJ37,AP37:AU37,AX37:BW37) -> 0
B38: 男 | C38: 44 | D38: =SUM(E38:H38) -> 24 | E38: 0 | F38: 21 | G38: 0 | H38: 3 | I38: 0 | J38: 0 | K38: 2 | L38: 0 | M38: 2 | N38: =SUM(O38:P38) -> 0 | O38: 0 | P38: 0 | Q38: 0 | R38: =SUM(S38:T38) -> 0 | S38: 0 | T38: 0 | U38: 0 | V38: 0 | W38: 0 | X38: =SUM(Y38:AB38) -> 13 | Y38: 1 | Z38: 9 | AA38: 0 | AB38: 3 | AC38: 0 | AD38: 0 | AE38: 0 | AF38: 0 | AG38: 0 | AH38: 0 | AI38: 1 | AJ38: 0 | AK38: 0 | AL38: 0 | AM38: 0 | AN38: 0 | AO38: =SUM(AJ38)-SUM(AK38:AN38) -> 0 | AP38: 0 | AQ38: 0 | AR38: 0 | AS38: 0 | AT38: 0 | AU38: =SUM(AV38:AW38) -> 0 | AV38: 0 | AW38: 0 | AX38: 0 | AY38: 0 | AZ38: 0 | BA38: 0 | BB38: 0 | BC38: 0 | BD38: 0 | BE38: 0 | BF38: 0 | BG38: 1 | BH38: 3 | BI38: 0 | BJ38: 0 | BK38: 0 | BL38: 0 | BM38: 0 | BN38: 0 | BO38: 0 | BP38: 0 | BQ38: 0 | BR38: 0 | BS38: 0 | BT38: 0 | BU38: 0 | BV38: 0 | BW38: 0 | BX38: =SUM(C38)-SUM(D38,I38:K38,N38,Q38:R38,U38:X38,AC38:AD38,AG38:AJ38,AP38:AU38,AX38:BW38) -> 0
B39: 女 | C39: 7 | D39: =SUM(E39:H39) -> 5 | E39: 0 | F39: 5 | G39: 0 | H39: 0 | I39: 0 | J39: 0 | K39: 0 | L39: 0 | M39: 0 | N39: =SUM(O39:P39) -> 1 | O39: 1 | P39: 0 | Q39: 1 | R39: =SUM(S39:T39) -> 0 | S39: 0 | T39: 0 | U39: 0 | V39: 0 | W39: 0 | X39: =SUM(Y39:AB39) -> 0 | Y39: 0 | Z39: 0 | AA39: 0 | AB39: 0 | AC39: 0 | AD39: 0 | AE39: 0 | AF39: 0 | AG39: 0 | AH39: 0 | AI39: 0 | AJ39: 0 | AK39: 0 | AL39: 0 | AM39: 0 | AN39: 0 | AO39: =SUM(AJ39)-SUM(AK39:AN39) -> 0 | AP39: 0 | AQ39: 0 | AR39: 0 | AS39: 0 | AT39: 0 | AU39: =SUM(AV39:AW39) -> 0 | AV39: 0 | AW39: 0 | AX39: 0 | AY39: 0 | AZ39: 0 | BA39: 0 | BB39: 0 | BC39: 0 | BD39: 0 | BE39: 0 | BF39: 0 | BG39: 0 | BH39: 0 | BI39: 0 | BJ39: 0 | BK39: 0 | BL39: 0 | BM39: 0 | BN39: 0 | BO39: 0 | BP39: 0 | BQ39: 0 | BR39: 0 | BS39: 0 | BT39: 0 | BU39: 0 | BV39: 0 | BW39: 0 | BX39: =SUM(C39)-SUM(D39,I39:K39,N39,Q39:R39,U39:X39,AC39:AD39,AG39:AJ39,AP39:AU39,AX39:BW39) -> 0
A40: 雲林縣 | B40: 計 | C40: =SUM(C41:C42) -> 60 | D40: =SUM(E40:H40) -> 34 | E40: =SUM(E41:E42) -> 0 | F40: =SUM(F41:F42) -> 34 | G40: =SUM(G41:G42) -> 0 | H40: =SUM(H41:H42) -> 0 | I40: =SUM(I41:I42) -> 0 | J40: =SUM(J41:J42) -> 0 | K40: =SUM(K41:K42) -> 1 | L40: =SUM(L41:L42) -> 0 | M40: =SUM(M41:M42) -> 1 | N40: =SUM(O40:P40) -> 5 | O40: =SUM(O41:O42) -> 5 | P40: =SUM(P41:P42) -> 0 | Q40: =SUM(Q41:Q42) -> 0 | R40: =SUM(S40:T40) -> 0 | S40: =SUM(S41:S42) -> 0 | T40: =SUM(T41:T42) -> 0 | U40: =SUM(U41:U42) -> 2 | V40: =SUM(V41:V42) -> 0 | W40: =SUM(W41:W42) -> 0 | X40: =SUM(Y40:AB40) -> 7 | Y40: =SUM(Y41:Y42) -> 0 | Z40: =SUM(Z41:Z42) -> 0 | AA40: =SUM(AA41:AA42) -> 2 | AB40: =SUM(AB41:AB42) -> 5 | AC40: =SUM(AC41:AC42) -> 0 | AD40: =SUM(AD41:AD42) -> 1 | AE40: =SUM(AE41:AE42) -> 0 | AF40: =SUM(AF41:AF42) -> 1 | ... AN40: =SUM(AN41:AN42) -> 0 | AO40: =SUM(AJ40)-SUM(AK40:AN40) -> 0 | AP40: =SUM(AP41:AP42) -> 0 | AQ40: =SUM(AQ41:AQ42) -> 0 | AR40: =SUM(AR41:AR42) -> 0 | AS40: =SUM(AS41:AS42) -> 0 | AT40: =SUM(AT41:AT42) -> 0 | AU40: =SUM(AV40:AW40) -> 0 | AV40: =SUM(AV41:AV42) -> 0 | AW40: =SUM(AW41:AW42) -> 0 | AX40: =SUM(AX41:AX42) -> 0 | AY40: =SUM(AY41:AY42) -> 0 | AZ40: =SUM(AZ41:AZ42) -> 0 | BA40: =SUM(BA41:BA42) -> 0 | BB40: =SUM(BB41:BB42) -> 0 | BC40: =SUM(BC41:BC42) -> 0 | ... BW40: =SUM(BW41:BW42) -> 0 | BX40: =SUM(C40)-SUM(D40,I40:K40,N40,Q40:R40,U40:X40,AC40:AD40,AG40:AJ40,AP40:AU40,AX40:BW40) -> 4
B41: 男 | C41: 38 | D41: =SUM(E41:H41) -> 22 | E41: 0 | F41: 22 | G41: 0 | H41: 0 | I41: 0 | J41: 0 | K41: 1 | L41: 0 | M41: 1 | N41: =SUM(O41:P41) -> 3 | O41: 3 | P41: 0 | Q41: 0 | R41: =SUM(S41:T41) -> 0 | S41: 0 | T41: 0 | U41: 1 | V41: 0 | W41: 0 | X41: =SUM(Y41:AB41) -> 6 | Y41: 0 | Z41: 0 | AA41: 1 | AB41: 5 | AC41: 0 | AD41: 1 | AE41: 0 | AF41: 1 | AG41: 0 | AH41: 1 | AI41: 0 | AJ41: 0 | AK41: 0 | AL41: 0 | AM41: 0 | AN41: 0 | AO41: =SUM(AJ41)-SUM(AK41:AN41) -> 0 | AP41: 0 | AQ41: 0 | AR41: 0 | AS41: 0 | AT41: 0 | AU41: =SUM(AV41:AW41) -> 0 | AV41: 0 | AW41: 0 | AX41: 0 | AY41: 0 | AZ41: 0 | BA41: 0 | BB41: 0 | BC41: 0 | BD41: 0 | BE41: 0 | BF41: 0 | BG41: 0 | BH41: 0 | BI41: 0 | BJ41: 0 | BK41: 0 | BL41: 0 | BM41: 0 | BN41: 0 | BO41: 0 | BP41: 0 | BQ41: 0 | BR41: 0 | BS41: 0 | BT41: 0 | BU41: 0 | BV41: 0 | BW41: 0 | BX41: =SUM(C41)-SUM(D41,I41:K41,N41,Q41:R41,U41:X41,AC41:AD41,AG41:AJ41,AP41:AU41,AX41:BW41) -> 3
B42: 女 | C42: 22 | D42: =SUM(E42:H42) -> 12 | E42: 0 | F42: 12 | G42: 0 | H42: 0 | I42: 0 | J42: 0 | K42: 0 | L42: 0 | M42: 0 | N42: =SUM(O42:P42) -> 2 | O42: 2 | P42: 0 | Q42: 0 | R42: =SUM(S42:T42) -> 0 | S42: 0 | T42: 0 | U42: 1 | V42: 0 | W42: 0 | X42: =SUM(Y42:AB42) -> 1 | Y42: 0 | Z42: 0 | AA42: 1 | AB42: 0 | AC42: 0 | AD42: 0 | AE42: 0 | AF42: 0 | AG42: 0 | AH42: 1 | AI42: 0 | AJ42: 0 | AK42: 0 | AL42: 0 | AM42: 0 | AN42: 0 | AO42: =SUM(AJ42)-SUM(AK42:AN42) -> 0 | AP42: 0 | AQ42: 0 | AR42: 0 | AS42: 0 | AT42: 0 | AU42: =SUM(AV42:AW42) -> 0 | AV42: 0 | AW42: 0 | AX42: 0 | AY42: 0 | AZ42: 0 | BA42: 0 | BB42: 0 | BC42: 0 | BD42: 1 | BE42: 0 | BF42: 0 | BG42: 2 | BH42: 0 | BI42: 0 | BJ42: 0 | BK42: 0 | BL42: 0 | BM42: 0 | BN42: 0 | BO42: 0 | BP42: 0 | BQ42: 1 | BR42: 0 | BS42: 0 | BT42: 0 | BU42: 0 | BV42: 0 | BW42: 0 | BX42: =SUM(C42)-SUM(D42,I42:K42,N42,Q42:R42,U42:X42,AC42:AD42,AG42:AJ42,AP42:AU42,AX42:BW42) -> 1
A43: 嘉義縣 | B43: 計 | C43: =SUM(C44:C45) -> 39 | D43: =SUM(E43:H43) -> 10 | E43: =SUM(E44:E45) -> 0 | F43: =SUM(F44:F45) -> 8 | G43: =SUM(G44:G45) -> 2 | H43: =SUM(H44:H45) -> 0 | I43: =SUM(I44:I45) -> 0 | J43: =SUM(J44:J45) -> 0 | K43: =SUM(K44:K45) -> 6 | L43: =SUM(L44:L45) -> 0 | M43: =SUM(M44:M45) -> 6 | N43: =SUM(O43:P43) -> 1 | O43: =SUM(O44:O45) -> 1 | P43: =SUM(P44:P45) -> 0 | Q43: =SUM(Q44:Q45) -> 1 | R43: =SUM(S43:T43) -> 0 | S43: =SUM(S44:S45) -> 0 | T43: =SUM(T44:T45) -> 0 | U43: =SUM(U44:U45) -> 1 | V43: =SUM(V44:V45) -> 0 | W43: =SUM(W44:W45) -> 0 | X43: =SUM(Y43:AB43) -> 10 | Y43: =SUM(Y44:Y45) -> 0 | Z43: =SUM(Z44:Z45) -> 0 | AA43: =SUM(AA44:AA45) -> 1 | AB43: =SUM(AB44:AB45) -> 9 | AC43: =SUM(AC44:AC45) -> 0 | AD43: =SUM(AD44:AD45) -> 0 | AE43: =SUM(AE44:AE45) -> 0 | AF43: =SUM(AF44:AF45) -> 0 | ... AN43: =SUM(AN44:AN45) -> 0 | AO43: =SUM(AJ43)-SUM(AK43:AN43) -> 0 | AP43: =SUM(AP44:AP45) -> 0 | AQ43: =SUM(AQ44:AQ45) -> 0 | AR43: =SUM(AR44:AR45) -> 1 | AS43: =SUM(AS44:AS45) -> 0 | AT43: =SUM(AT44:AT45) -> 3 | AU43: =SUM(AV43:AW43) -> 0 | AV43: =SUM(AV44:AV45) -> 0 | AW43: =SUM(AW44:AW45) -> 0 | AX43: =SUM(AX44:AX45) -> 0 | AY43: =SUM(AY44:AY45) -> 0 | AZ43: =SUM(AZ44:AZ45) -> 0 | BA43: =SUM(BA44:BA45) -> 0 | BB43: =SUM(BB44:BB45) -> 0 | BC43: =SUM(BC44:BC45) -> 0 | ... BW43: =SUM(BW44:BW45) -> 0 | BX43: =SUM(C43)-SUM(D43,I43:K43,N43,Q43:R43,U43:X43,AC43:AD43,AG43:AJ43,AP43:AU43,AX43:BW43) -> 5
B44: 男 | C44: 35 | D44: =SUM(E44:H44) -> 7 | E44: 0 | F44: 5 | G44: 2 | H44: 0 | I44: 0 | J44: 0 | K44: 6 | L44: 0 | M44: 6 | N44: =SUM(O44:P44) -> 1 | O44: 1 | P44: 0 | Q44: 1 | R44: =SUM(S44:T44) -> 0 | S44: 0 | T44: 0 | U44: 1 | V44: 0 | W44: 0 | X44: =SUM(Y44:AB44) -> 9 | Y44: 0 | Z44: 0 | AA44: 1 | AB44: 8 | AC44: 0 | AD44: 0 | AE44: 0 | AF44: 0 | AG44: 0 | AH44: 0 | AI44: 0 | AJ44: 0 | AK44: 0 | AL44: 0 | AM44: 0 | AN44: 0 | AO44: =SUM(AJ44)-SUM(AK44:AN44) -> 0 | AP44: 0 | AQ44: 0 | AR44: 1 | AS44: 0 | AT44: 3 | AU44: =SUM(AV44:AW44) -> 0 | AV44: 0 | AW44: 0 | AX44: 0 | AY44: 0 | AZ44: 0 | BA44: 0 | BB44: 0 | BC44: 0 | BD44: 0 | BE44: 0 | BF44: 0 | BG44: 1 | BH44: 0 | BI44: 0 | BJ44: 0 | BK44: 0 | BL44: 0 | BM44: 0 | BN44: 0 | BO44: 0 | BP44: 0 | BQ44: 0 | BR44: 0 | BS44: 0 | BT44: 0 | BU44: 0 | BV44: 0 | BW44: 0 | BX44: =SUM(C44)-SUM(D44,I44:K44,N44,Q44:R44,U44:X44,AC44:AD44,AG44:AJ44,AP44:AU44,AX44:BW44) -> 5
B45: 女 | C45: 4 | D45: =SUM(E45:H45) -> 3 | E45: 0 | F45: 3 | G45: 0 | H45: 0 | I45: 0 | J45: 0 | K45: 0 | L45: 0 | M45: 0 | N45: =SUM(O45:P45) -> 0 | O45: 0 | P45: 0 | Q45: 0 | R45: =SUM(S45:T45) -> 0 | S45: 0 | T45: 0 | U45: 0 | V45: 0 | W45: 0 | X45: =SUM(Y45:AB45) -> 1 | Y45: 0 | Z45: 0 | AA45: 0 | AB45: 1 | AC45: 0 | AD45: 0 | AE45: 0 | AF45: 0 | AG45: 0 | AH45: 0 | AI45: 0 | AJ45: 0 | AK45: 0 | AL45: 0 | AM45: 0 | AN45: 0 | AO45: =SUM(AJ45)-SUM(AK45:AN45) -> 0 | AP45: 0 | AQ45: 0 | AR45: 0 | AS45: 0 | AT45: 0 | AU45: =SUM(AV45:AW45) -> 0 | AV45: 0 | AW45: 0 | AX45: 0 | AY45: 0 | AZ45: 0 | BA45: 0 | BB45: 0 | BC45: 0 | BD45: 0 | BE45: 0 | BF45: 0 | BG45: 0 | BH45: 0 | BI45: 0 | BJ45: 0 | BK45: 0 | BL45: 0 | BM45: 0 | BN45: 0 | BO45: 0 | BP45: 0 | BQ45: 0 | BR45: 0 | BS45: 0 | BT45: 0 | BU45: 0 | BV45: 0 | BW45: 0 | BX45: =SUM(C45)-SUM(D45,I45:K45,N45,Q45:R45,U45:X45,AC45:AD45,AG45:AJ45,AP45:AU45,AX45:BW45) -> 0
A46: 屏東縣 | B46: 計 | C46: =SUM(C47:C48) -> 83 | D46: =SUM(E46:H46) -> 29 | E46: =SUM(E47:E48) -> 0 | F46: =SUM(F47:F48) -> 23 | G46: =SUM(G47:G48) -> 0 | H46: =SUM(H47:H48) -> 6 | I46: =SUM(I47:I48) -> 0 | J46: =SUM(J47:J48) -> 0 | K46: =SUM(K47:K48) -> 9 | L46: =SUM(L47:L48) -> 0 | M46: =SUM(M47:M48) -> 9 | N46: =SUM(O46:P46) -> 1 | O46: =SUM(O47:O48) -> 1 | P46: =SUM(P47:P48) -> 0 | Q46: =SUM(Q47:Q48) -> 0 | R46: =SUM(S46:T46) -> 0 | S46: =SUM(S47:S48) -> 0 | T46: =SUM(T47:T48) -> 0 | U46: =SUM(U47:U48) -> 0 | V46: =SUM(V47:V48) -> 0 | W46: =SUM(W47:W48) -> 0 | X46: =SUM(Y46:AB46) -> 30 | Y46: =SUM(Y47:Y48) -> 0 | Z46: =SUM(Z47:Z48) -> 0 | AA46: =SUM(AA47:AA48) -> 3 | AB46: =SUM(AB47:AB48) -> 27 | AC46: =SUM(AC47:AC48) -> 0 | AD46: =SUM(AD47:AD48) -> 0 | AE46: =SUM(AE47:AE48) -> 0 | AF46: =SUM(AF47:AF48) -> 0 | ... AN46: =SUM(AN47:AN48) -> 0 | AO46: =SUM(AJ46)-SUM(AK46:AN46) -> 0 | AP46: =SUM(AP47:AP48) -> 1 | AQ46: =SUM(AQ47:AQ48) -> 0 | AR46: =SUM(AR47:AR48) -> 0 | AS46: =SUM(AS47:AS48) -> 0 | AT46: =SUM(AT47:AT48) -> 0 | AU46: =SUM(AV46:AW46) -> 0 | AV46: =SUM(AV47:AV48) -> 0 | AW46: =SUM(AW47:AW48) -> 0 | AX46: =SUM(AX47:AX48) -> 0 | AY46: =SUM(AY47:AY48) -> 0 | AZ46: =SUM(AZ47:AZ48) -> 0 | BA46: =SUM(BA47:BA48) -> 0 | BB46: =SUM(BB47:BB48) -> 0 | BC46: =SUM(BC47:BC48) -> 0 | ... BW46: =SUM(BW47:BW48) -> 0 | BX46: =SUM(C46)-SUM(D46,I46:K46,N46,Q46:R46,U46:X46,AC46:AD46,AG46:AJ46,AP46:AU46,AX46:BW46) -> 4
B47: 男 | C47: 66 | D47: =SUM(E47:H47) -> 20 | E47: 0 | F47: 14 | G47: 0 | H47: 6 | I47: 0 | J47: 0 | K47: 8 | L47: 0 | M47: 8 | N47: =SUM(O47:P47) -> 1 | O47: 1 | P47: 0 | Q47: 0 | R47: =SUM(S47:T47) -> 0 | S47: 0 | T47: 0 | U47: 0 | V47: 0 | W47: 0 | X47: =SUM(Y47:AB47) -> 28 | Y47: 0 | Z47: 0 | AA47: 3 | AB47: 25 | AC47: 0 | AD47: 0 | AE47: 0 | AF47: 0 | AG47: 0 | AH47: 0 | AI47: 0 | AJ47: 0 | AK47: 0 | AL47: 0 | AM47: 0 | AN47: 0 | AO47: =SUM(AJ47)-SUM(AK47:AN47) -> 0 | AP47: 0 | AQ47: 0 | AR47: 0 | AS47: 0 | AT47: 0 | AU47: =SUM(AV47:AW47) -> 0 | AV47: 0 | AW47: 0 | AX47: 0 | AY47: 0 | AZ47: 0 | BA47: 0 | BB47: 0 | BC47: 0 | BD47: 6 | BE47: 0 | BF47: 0 | BG47: 1 | BH47: 0 | BI47: 0 | BJ47: 0 | BK47: 0 | BL47: 0 | BM47: 0 | BN47: 0 | BO47: 0 | BP47: 0 | BQ47: 0 | BR47: 0 | BS47: 0 | BT47: 0 | BU47: 0 | BV47: 0 | BW47: 0 | BX47: =SUM(C47)-SUM(D47,I47:K47,N47,Q47:R47,U47:X47,AC47:AD47,AG47:AJ47,AP47:AU47,AX47:BW47) -> 2
B48: 女 | C48: 17 | D48: =SUM(E48:H48) -> 9 | E48: 0 | F48: 9 | G48: 0 | H48: 0 | I48: 0 | J48: 0 | K48: 1 | L48: 0 | M48: 1 | N48: =SUM(O48:P48) -> 0 | O48: 0 | P48: 0 | Q48: 0 | R48: =SUM(S48:T48) -> 0 | S48: 0 | T48: 0 | U48: 0 | V48: 0 | W48: 0 | X48: =SUM(Y48:AB48) -> 2 | Y48: 0 | Z48: 0 | AA48: 0 | AB48: 2 | AC48: 0 | AD48: 0 | AE48: 0 | AF48: 0 | AG48: 0 | AH48: 0 | AI48: 0 | AJ48: 0 | AK48: 0 | AL48: 0 | AM48: 0 | AN48: 0 | AO48: =SUM(AJ48)-SUM(AK48:AN48) -> 0 | AP48: 1 | AQ48: 0 | AR48: 0 | AS48: 0 | AT48: 0 | AU48: =SUM(AV48:AW48) -> 0 | AV48: 0 | AW48: 0 | AX48: 0 | AY48: 0 | AZ48: 0 | BA48: 0 | BB48: 0 | BC48: 0 | BD48: 0 | BE48: 0 | BF48: 0 | BG48: 2 | BH48: 0 | BI48: 0 | BJ48: 0 | BK48: 0 | BL48: 0 | BM48: 0 | BN48: 0 | BO48: 0 | BP48: 0 | BQ48: 0 | BR48: 0 | BS48: 0 | BT48: 0 | BU48: 0 | BV48: 0 | BW48: 0 | BX48: =SUM(C48)-SUM(D48,I48:K48,N48,Q48:R48,U48:X48,AC48:AD48,AG48:AJ48,AP48:AU48,AX48:BW48) -> 2
A49: 臺東縣 | B49: 計 | C49: =SUM(C50:C51) -> 42 | D49: =SUM(E49:H49) -> 13 | E49: =SUM(E50:E51) -> 0 | F49: =SUM(F50:F51) -> 12 | G49: =SUM(G50:G51) -> 0 | H49: =SUM(H50:H51) -> 1 | I49: =SUM(I50:I51) -> 0 | J49: =SUM(J50:J51) -> 0 | K49: =SUM(K50:K51) -> 8 | L49: =SUM(L50:L51) -> 0 | M49: =SUM(M50:M51) -> 8 | N49: =SUM(O49:P49) -> 1 | O49: =SUM(O50:O51) -> 1 | P49: =SUM(P50:P51) -> 0 | Q49: =SUM(Q50:Q51) -> 0 | R49: =SUM(S49:T49) -> 0 | S49: =SUM(S50:S51) -> 0 | T49: =SUM(T50:T51) -> 0 | U49: =SUM(U50:U51) -> 0 | V49: =SUM(V50:V51) -> 0 | W49: =SUM(W50:W51) -> 1 | X49: =SUM(Y49:AB49) -> 6 | Y49: =SUM(Y50:Y51) -> 0 | Z49: =SUM(Z50:Z51) -> 0 | AA49: =SUM(AA50:AA51) -> 0 | AB49: =SUM(AB50:AB51) -> 6 | AC49: =SUM(AC50:AC51) -> 0 | AD49: =SUM(AD50:AD51) -> 0 | AE49: =SUM(AE50:AE51) -> 0 | AF49: =SUM(AF50:AF51) -> 0 | ... AN49: =SUM(AN50:AN51) -> 0 | AO49: =SUM(AJ49)-SUM(AK49:AN49) -> 0 | AP49: =SUM(AP50:AP51) -> 3 | AQ49: =SUM(AQ50:AQ51) -> 0 | AR49: =SUM(AR50:AR51) -> 0 | AS49: =SUM(AS50:AS51) -> 0 | AT49: =SUM(AT50:AT51) -> 0 | AU49: =SUM(AV49:AW49) -> 0 | AV49: =SUM(AV50:AV51) -> 0 | AW49: =SUM(AW50:AW51) -> 0 | AX49: =SUM(AX50:AX51) -> 0 | AY49: =SUM(AY50:AY51) -> 0 | AZ49: =SUM(AZ50:AZ51) -> 0 | BA49: =SUM(BA50:BA51) -> 0 | BB49: =SUM(BB50:BB51) -> 0 | BC49: =SUM(BC50:BC51) -> 0 | ... BW49: =SUM(BW50:BW51) -> 0 | BX49: =SUM(C49)-SUM(D49,I49:K49,N49,Q49:R49,U49:X49,AC49:AD49,AG49:AJ49,AP49:AU49,AX49:BW49) -> 4
B50: 男 | C50: 33 | D50: =SUM(E50:H50) -> 12 | E50: 0 | F50: 11 | G50: 0 | H50: 1 | I50: 0 | J50: 0 | K50: 6 | L50: 0 | M50: 6 | N50: =SUM(O50:P50) -> 0 | O50: 0 | P50: 0 | Q50: 0 | R50: =SUM(S50:T50) -> 0 | S50: 0 | T50: 0 | U50: 0 | V50: 0 | W50: 1 | X50: =SUM(Y50:AB50) -> 5 | Y50: 0 | Z50: 0 | AA50: 0 | AB50: 5 | AC50: 0 | AD50: 0 | AE50: 0 | AF50: 0 | AG50: 0 | AH50: 3 | AI50: 0 | AJ50: 0 | AK50: 0 | AL50: 0 | AM50: 0 | AN50: 0 | AO50: =SUM(AJ50)-SUM(AK50:AN50) -> 0 | AP50: 2 | AQ50: 0 | AR50: 0 | AS50: 0 | AT50: 0 | AU50: =SUM(AV50:AW50) -> 0 | AV50: 0 | AW50: 0 | AX50: 0 | AY50: 0 | AZ50: 0 | BA50: 0 | BB50: 0 | BC50: 0 | BD50: 0 | BE50: 0 | BF50: 0 | BG50: 0 | BH50: 0 | BI50: 0 | BJ50: 0 | BK50: 0 | BL50: 0 | BM50: 0 | BN50: 0 | BO50: 0 | BP50: 0 | BQ50: 0 | BR50: 0 | BS50: 0 | BT50: 0 | BU50: 0 | BV50: 0 | BW50: 0 | BX50: =SUM(C50)-SUM(D50,I50:K50,N50,Q50:R50,U50:X50,AC50:AD50,AG50:AJ50,AP50:AU50,AX50:BW50) -> 4
B51: 女 | C51: 9 | D51: =SUM(E51:H51) -> 1 | E51: 0 | F51: 1 | G51: 0 | H51: 0 | I51: 0 | J51: 0 | K51: 2 | L51: 0 | M51: 2 | N51: =SUM(O51:P51) -> 1 | O51: 1 | P51: 0 | Q51: 0 | R51: =SUM(S51:T51) -> 0 | S51: 0 | T51: 0 | U51: 0 | V51: 0 | W51: 0 | X51: =SUM(Y51:AB51) -> 1 | Y51: 0 | Z51: 0 | AA51: 0 | AB51: 1 | AC51: 0 | AD51: 0 | AE51: 0 | AF51: 0 | AG51: 0 | AH51: 0 | AI51: 0 | AJ51: 0 | AK51: 0 | AL51: 0 | AM51: 0 | AN51: 0 | AO51: =SUM(AJ51)-SUM(AK51:AN51) -> 0 | AP51: 1 | AQ51: 0 | AR51: 0 | AS51: 0 | AT51: 0 | AU51: =SUM(AV51:AW51) -> 0 | AV51: 0 | AW51: 0 | AX51: 0 | AY51: 0 | AZ51: 0 | BA51: 0 | BB51: 0 | BC51: 0 | BD51: 0 | BE51: 0 | BF51: 0 | BG51: 3 | BH51: 0 | BI51: 0 | BJ51: 0 | BK51: 0 | BL51: 0 | BM51: 0 | BN51: 0 | BO51: 0 | BP51: 0 | BQ51: 0 | BR51: 0 | BS51: 0 | BT51: 0 | BU51: 0 | BV51: 0 | BW51: 0 | BX51: =SUM(C51)-SUM(D51,I51:K51,N51,Q51:R51,U51:X51,AC51:AD51,AG51:AJ51,AP51:AU51,AX51:BW51) -> 0
A52: 花蓮縣 | B52: 計 | C52: =SUM(C53:C54) -> 74 | D52: =SUM(E52:H52) -> 35 | E52: =SUM(E53:E54) -> 0 | F52: =SUM(F53:F54) -> 35 | G52: =SUM(G53:G54) -> 0 | H52: =SUM(H53:H54) -> 0 | I52: =SUM(I53:I54) -> 0 | J52: =SUM(J53:J54) -> 0 | K52: =SUM(K53:K54) -> 1 | L52: =SUM(L53:L54) -> 0 | M52: =SUM(M53:M54) -> 1 | N52: =SUM(O52:P52) -> 2 | O52: =SUM(O53:O54) -> 2 | P52: =SUM(P53:P54) -> 0 | Q52: =SUM(Q53:Q54) -> 0 | R52: =SUM(S52:T52) -> 0 | S52: =SUM(S53:S54) -> 0 | T52: =SUM(T53:T54) -> 0 | U52: =SUM(U53:U54) -> 0 | V52: =SUM(V53:V54) -> 0 | W52: =SUM(W53:W54) -> 0 | X52: =SUM(Y52:AB52) -> 25 | Y52: =SUM(Y53:Y54) -> 4 | Z52: =SUM(Z53:Z54) -> 2 | AA52: =SUM(AA53:AA54) -> 1 | AB52: =SUM(AB53:AB54) -> 18 | AC52: =SUM(AC53:AC54) -> 0 | AD52: =SUM(AD53:AD54) -> 0 | AE52: =SUM(AE53:AE54) -> 0 | AF52: =SUM(AF53:AF54) -> 0 | ... AN52: =SUM(AN53:AN54) -> 0 | AO52: =SUM(AJ52)-SUM(AK52:AN52) -> 0 | AP52: =SUM(AP53:AP54) -> 7 | AQ52: =SUM(AQ53:AQ54) -> 0 | AR52: =SUM(AR53:AR54) -> 0 | AS52: =SUM(AS53:AS54) -> 0 | AT52: =SUM(AT53:AT54) -> 0 | AU52: =SUM(AV52:AW52) -> 0 | AV52: =SUM(AV53:AV54) -> 0 | AW52: =SUM(AW53:AW54) -> 0 | AX52: =SUM(AX53:AX54) -> 0 | AY52: =SUM(AY53:AY54) -> 0 | AZ52: =SUM(AZ53:AZ54) -> 0 | BA52: =SUM(BA53:BA54) -> 0 | BB52: =SUM(BB53:BB54) -> 0 | BC52: =SUM(BC53:BC54) -> 0 | ... BW52: =SUM(BW53:BW54) -> 0 | BX52: =SUM(C52)-SUM(D52,I52:K52,N52,Q52:R52,U52:X52,AC52:AD52,AG52:AJ52,AP52:AU52,AX52:BW52) -> 4
B53: 男 | C53: 53 | D53: =SUM(E53:H53) -> 26 | E53: 0 | F53: 26 | G53: 0 | H53: 0 | I53: 0 | J53: 0 | K53: 1 | L53: 0 | M53: 1 | N53: =SUM(O53:P53) -> 1 | O53: 1 | P53: 0 | Q53: 0 | R53: =SUM(S53:T53) -> 0 | S53: 0 | T53: 0 | U53: 0 | V53: 0 | W53: 0 | X53: =SUM(Y53:AB53) -> 21 | Y53: 4 | Z53: 2 | AA53: 1 | AB53: 14 | AC53: 0 | AD53: 0 | AE53: 0 | AF53: 0 | AG53: 0 | AH53: 0 | AI53: 0 | AJ53: 0 | AK53: 0 | AL53: 0 | AM53: 0 | AN53: 0 | AO53: =SUM(AJ53)-SUM(AK53:AN53) -> 0 | AP53: 2 | AQ53: 0 | AR53: 0 | AS53: 0 | AT53: 0 | AU53: =SUM(AV53:AW53) -> 0 | AV53: 0 | AW53: 0 | AX53: 0 | AY53: 0 | AZ53: 0 | BA53: 0 | BB53: 0 | BC53: 0 | BD53: 0 | BE53: 0 | BF53: 0 | BG53: 0 | BH53: 0 | BI53: 0 | BJ53: 0 | BK53: 0 | BL53: 0 | BM53: 0 | BN53: 0 | BO53: 0 | BP53: 0 | BQ53: 0 | BR53: 0 | BS53: 0 | BT53: 0 | BU53: 0 | BV53: 0 | BW53: 0 | BX53: =SUM(C53)-SUM(D53,I53:K53,N53,Q53:R53,U53:X53,AC53:AD53,AG53:AJ53,AP53:AU53,AX53:BW53) -> 2
B54: 女 | C54: 21 | D54: =SUM(E54:H54) -> 9 | E54: 0 | F54: 9 | G54: 0 | H54: 0 | I54: 0 | J54: 0 | K54: 0 | L54: 0 | M54: 0 | N54: =SUM(O54:P54) -> 1 | O54: 1 | P54: 0 | Q54: 0 | R54: =SUM(S54:T54) -> 0 | S54: 0 | T54: 0 | U54: 0 | V54: 0 | W54: 0 | X54: =SUM(Y54:AB54) -> 4 | Y54: 0 | Z54: 0 | AA54: 0 | AB54: 4 | AC54: 0 | AD54: 0 | AE54: 0 | AF54: 0 | AG54: 0 | AH54: 0 | AI54: 0 | AJ54: 0 | AK54: 0 | AL54: 0 | AM54: 0 | AN54: 0 | AO54: =SUM(AJ54)-SUM(AK54:AN54) -> 0 | AP54: 5 | AQ54: 0 | AR54: 0 | AS54: 0 | AT54: 0 | AU54: =SUM(AV54:AW54) -> 0 | AV54: 0 | AW54: 0 | AX54: 0 | AY54: 0 | AZ54: 0 | BA54: 0 | BB54: 0 | BC54: 0 | BD54: 0 | BE54: 0 | BF54: 0 | BG54: 0 | BH54: 0 | BI54: 0 | BJ54: 0 | BK54: 0 | BL54: 0 | BM54: 0 | BN54: 0 | BO54: 0 | BP54: 0 | BQ54: 0 | BR54: 0 | BS54: 0 | BT54: 0 | BU54: 0 | BV54: 0 | BW54: 0 | BX54: =SUM(C54)-SUM(D54,I54:K54,N54,Q54:R54,U54:X54,AC54:AD54,AG54:AJ54,AP54:AU54,AX54:BW54) -> 2
A55: 澎湖縣 | B55: 計 | C55: =SUM(C56:C57) -> 17 | D55: =SUM(E55:H55) -> 12 | E55: =SUM(E56:E57) -> 0 | F55: =SUM(F56:F57) -> 12 | G55: =SUM(G56:G57) -> 0 | H55: =SUM(H56:H57) -> 0 | I55: =SUM(I56:I57) -> 0 | J55: =SUM(J56:J57) -> 0 | K55: =SUM(K56:K57) -> 0 | L55: =SUM(L56:L57) -> 0 | M55: =SUM(M56:M57) -> 0 | N55: =SUM(O55:P55) -> 0 | O55: =SUM(O56:O57) -> 0 | P55: =SUM(P56:P57) -> 0 | Q55: =SUM(Q56:Q57) -> 1 | R55: =SUM(S55:T55) -> 0 | S55: =SUM(S56:S57) -> 0 | T55: =SUM(T56:T57) -> 0 | U55: =SUM(U56:U57) -> 0 | V55: =SUM(V56:V57) -> 0 | W55: =SUM(W56:W57) -> 0 | X55: =SUM(Y55:AB55) -> 0 | Y55: =SUM(Y56:Y57) -> 0 | Z55: =SUM(Z56:Z57) -> 0 | AA55: =SUM(AA56:AA57) -> 0 | AB55: =SUM(AB56:AB57) -> 0 | AC55: =SUM(AC56:AC57) -> 0 | AD55: =SUM(AD56:AD57) -> 0 | AE55: =SUM(AE56:AE57) -> 0 | AF55: =SUM(AF56:AF57) -> 0 | ... AN55: =SUM(AN56:AN57) -> 0 | AO55: =SUM(AJ55)-SUM(AK55:AN55) -> 0 | AP55: =SUM(AP56:AP57) -> 0 | AQ55: =SUM(AQ56:AQ57) -> 0 | AR55: =SUM(AR56:AR57) -> 0 | AS55: =SUM(AS56:AS57) -> 0 | AT55: =SUM(AT56:AT57) -> 1 | AU55: =SUM(AV55:AW55) -> 0 | AV55: =SUM(AV56:AV57) -> 0 | AW55: =SUM(AW56:AW57) -> 0 | AX55: =SUM(AX56:AX57) -> 1 | AY55: =SUM(AY56:AY57) -> 0 | AZ55: =SUM(AZ56:AZ57) -> 0 | BA55: =SUM(BA56:BA57) -> 0 | BB55: =SUM(BB56:BB57) -> 0 | BC55: =SUM(BC56:BC57) -> 0 | ... BW55: =SUM(BW56:BW57) -> 0 | BX55: =SUM(C55)-SUM(D55,I55:K55,N55,Q55:R55,U55:X55,AC55:AD55,AG55:AJ55,AP55:AU55,AX55:BW55) -> 0
B56: 男 | C56: 14 | D56: =SUM(E56:H56) -> 9 | E56: 0 | F56: 9 | G56: 0 | H56: 0 | I56: 0 | J56: 0 | K56: 0 | L56: 0 | M56: 0 | N56: =SUM(O56:P56) -> 0 | O56: 0 | P56: 0 | Q56: 1 | R56: =SUM(S56:T56) -> 0 | S56: 0 | T56: 0 | U56: 0 | V56: 0 | W56: 0 | X56: =SUM(Y56:AB56) -> 0 | Y56: 0 | Z56: 0 | AA56: 0 | AB56: 0 | AC56: 0 | AD56: 0 | AE56: 0 | AF56: 0 | AG56: 0 | AH56: 0 | AI56: 0 | AJ56: 0 | AK56: 0 | AL56: 0 | AM56: 0 | AN56: 0 | AO56: =SUM(AJ56)-SUM(AK56:AN56) -> 0 | AP56: 0 | AQ56: 0 | AR56: 0 | AS56: 0 | AT56: 1 | AU56: =SUM(AV56:AW56) -> 0 | AV56: 0 | AW56: 0 | AX56: 1 | AY56: 0 | AZ56: 0 | BA56: 0 | BB56: 0 | BC56: 0 | BD56: 0 | BE56: 0 | BF56: 0 | BG56: 0 | BH56: 0 | BI56: 2 | BJ56: 0 | BK56: 0 | BL56: 0 | BM56: 0 | BN56: 0 | BO56: 0 | BP56: 0 | BQ56: 0 | BR56: 0 | BS56: 0 | BT56: 0 | BU56: 0 | BV56: 0 | BW56: 0 | BX56: =SUM(C56)-SUM(D56,I56:K56,N56,Q56:R56,U56:X56,AC56:AD56,AG56:AJ56,AP56:AU56,AX56:BW56) -> 0
B57: 女 | C57: 3 | D57: =SUM(E57:H57) -> 3 | E57: 0 | F57: 3 | G57: 0 | H57: 0 | I57: 0 | J57: 0 | K57: 0 | L57: 0 | M57: 0 | N57: =SUM(O57:P57) -> 0 | O57: 0 | P57: 0 | Q57: 0 | R57: =SUM(S57:T57) -> 0 | S57: 0 | T57: 0 | U57: 0 | V57: 0 | W57: 0 | X57: =SUM(Y57:AB57) -> 0 | Y57: 0 | Z57: 0 | AA57: 0 | AB57: 0 | AC57: 0 | AD57: 0 | AE57: 0 | AF57: 0 | AG57: 0 | AH57: 0 | AI57: 0 | AJ57: 0 | AK57: 0 | AL57: 0 | AM57: 0 | AN57: 0 | AO57: =SUM(AJ57)-SUM(AK57:AN57) -> 0 | AP57: 0 | AQ57: 0 | AR57: 0 | AS57: 0 | AT57: 0 | AU57: =SUM(AV57:AW57) -> 0 | AV57: 0 | AW57: 0 | AX57: 0 | AY57: 0 | AZ57: 0 | BA57: 0 | BB57: 0 | BC57: 0 | BD57: 0 | BE57: 0 | BF57: 0 | BG57: 0 | BH57: 0 | BI57: 0 | BJ57: 0 | BK57: 0 | BL57: 0 | BM57: 0 | BN57: 0 | BO57: 0 | BP57: 0 | BQ57: 0 | BR57: 0 | BS57: 0 | BT57: 0 | BU57: 0 | BV57: 0 | BW57: 0 | BX57: =SUM(C57)-SUM(D57,I57:K57,N57,Q57:R57,U57:X57,AC57:AD57,AG57:AJ57,AP57:AU57,AX57:BW57) -> 0
A58: 基隆市 | B58: 計 | C58: =SUM(C59:C60) -> 38 | D58: =SUM(E58:H58) -> 19 | E58: =SUM(E59:E60) -> 0 | F58: =SUM(F59:F60) -> 19 | G58: =SUM(G59:G60) -> 0 | H58: =SUM(H59:H60) -> 0 | I58: =SUM(I59:I60) -> 0 | J58: =SUM(J59:J60) -> 0 | K58: =SUM(K59:K60) -> 5 | L58: =SUM(L59:L60) -> 0 | M58: =SUM(M59:M60) -> 5 | N58: =SUM(O58:P58) -> 1 | O58: =SUM(O59:O60) -> 1 | P58: =SUM(P59:P60) -> 0 | Q58: =SUM(Q59:Q60) -> 0 | R58: =SUM(S58:T58) -> 0 | S58: =SUM(S59:S60) -> 0 | T58: =SUM(T59:T60) -> 0 | U58: =SUM(U59:U60) -> 1 | V58: =SUM(V59:V60) -> 0 | W58: =SUM(W59:W60) -> 0 | X58: =SUM(Y58:AB58) -> 6 | Y58: =SUM(Y59:Y60) -> 0 | Z58: =SUM(Z59:Z60) -> 0 | AA58: =SUM(AA59:AA60) -> 0 | AB58: =SUM(AB59:AB60) -> 6 | AC58: =SUM(AC59:AC60) -> 0 | AD58: =SUM(AD59:AD60) -> 0 | AE58: =SUM(AE59:AE60) -> 0 | AF58: =SUM(AF59:AF60) -> 0 | ... AN58: =SUM(AN59:AN60) -> 0 | AO58: =SUM(AJ58)-SUM(AK58:AN58) -> 0 | AP58: =SUM(AP59:AP60) -> 0 | AQ58: =SUM(AQ59:AQ60) -> 0 | AR58: =SUM(AR59:AR60) -> 0 | AS58: =SUM(AS59:AS60) -> 0 | AT58: =SUM(AT59:AT60) -> 0 | AU58: =SUM(AV58:AW58) -> 0 | AV58: =SUM(AV59:AV60) -> 0 | AW58: =SUM(AW59:AW60) -> 0 | AX58: =SUM(AX59:AX60) -> 0 | AY58: =SUM(AY59:AY60) -> 0 | AZ58: =SUM(AZ59:AZ60) -> 0 | BA58: =SUM(BA59:BA60) -> 0 | BB58: =SUM(BB59:BB60) -> 0 | BC58: =SUM(BC59:BC60) -> 0 | ... BW58: =SUM(BW59:BW60) -> 0 | BX58: =SUM(C58)-SUM(D58,I58:K58,N58,Q58:R58,U58:X58,AC58:AD58,AG58:AJ58,AP58:AU58,AX58:BW58) -> 5
B59: 男 | C59: 27 | D59: =SUM(E59:H59) -> 14 | E59: 0 | F59: 14 | G59: 0 | H59: 0 | I59: 0 | J59: 0 | K59: 2 | L59: 0 | M59: 2 | N59: =SUM(O59:P59) -> 1 | O59: 1 | P59: 0 | Q59: 0 | R59: =SUM(S59:T59) -> 0 | S59: 0 | T59: 0 | U59: 0 | V59: 0 | W59: 0 | X59: =SUM(Y59:AB59) -> 5 | Y59: 0 | Z59: 0 | AA59: 0 | AB59: 5 | AC59: 0 | AD59: 0 | AE59: 0 | AF59: 0 | AG59: 0 | AH59: 0 | AI59: 0 | AJ59: 0 | AK59: 0 | AL59: 0 | AM59: 0 | AN59: 0 | AO59: =SUM(AJ59)-SUM(AK59:AN59) -> 0 | AP59: 0 | AQ59: 0 | AR59: 0 | AS59: 0 | AT59: 0 | AU59: =SUM(AV59:AW59) -> 0 | AV59: 0 | AW59: 0 | AX59: 0 | AY59: 0 | AZ59: 0 | BA59: 0 | BB59: 0 | BC59: 0 | BD59: 1 | BE59: 0 | BF59: 0 | BG59: 0 | BH59: 0 | BI59: 0 | BJ59: 0 | BK59: 0 | BL59: 0 | BM59: 0 | BN59: 0 | BO59: 0 | BP59: 0 | BQ59: 0 | BR59: 0 | BS59: 0 | BT59: 0 | BU59: 0 | BV59: 0 | BW59: 0 | BX59: =SUM(C59)-SUM(D59,I59:K59,N59,Q59:R59,U59:X59,AC59:AD59,AG59:AJ59,AP59:AU59,AX59:BW59) -> 4
B60: 女 | C60: 11 | D60: =SUM(E60:H60) -> 5 | E60: 0 | F60: 5 | G60: 0 | H60: 0 | I60: 0 | J60: 0 | K60: 3 | L60: 0 | M60: 3 | N60: =SUM(O60:P60) -> 0 | O60: 0 | P60: 0 | Q60: 0 | R60: =SUM(S60:T60) -> 0 | S60: 0 | T60: 0 | U60: 1 | V60: 0 | W60: 0 | X60: =SUM(Y60:AB60) -> 1 | Y60: 0 | Z60: 0 | AA60: 0 | AB60: 1 | AC60: 0 | AD60: 0 | AE60: 0 | AF60: 0 | AG60: 0 | AH60: 0 | AI60: 0 | AJ60: 0 | AK60: 0 | AL60: 0 | AM60: 0 | AN60: 0 | AO60: =SUM(AJ60)-SUM(AK60:AN60) -> 0 | AP60: 0 | AQ60: 0 | AR60: 0 | AS60: 0 | AT60: 0 | AU60: =SUM(AV60:AW60) -> 0 | AV60: 0 | AW60: 0 | AX60: 0 | AY60: 0 | AZ60: 0 | BA60: 0 | BB60: 0 | BC60: 0 | BD60: 0 | BE60: 0 | BF60: 0 | BG60: 0 | BH60: 0 | BI60: 0 | BJ60: 0 | BK60: 0 | BL60: 0 | BM60: 0 | BN60: 0 | BO60: 0 | BP60: 0 | BQ60: 0 | BR60: 0 | BS60: 0 | BT60: 0 | BU60: 0 | BV60: 0 | BW60: 0 | BX60: =SUM(C60)-SUM(D60,I60:K60,N60,Q60:R60,U60:X60,AC60:AD60,AG60:AJ60,AP60:AU60,AX60:BW60) -> 1
A61: 新竹市 | B61: 計 | C61: =SUM(C62:C63) -> 34 | D61: =SUM(E61:H61) -> 21 | E61: =SUM(E62:E63) -> 0 | F61: =SUM(F62:F63) -> 21 | G61: =SUM(G62:G63) -> 0 | H61: =SUM(H62:H63) -> 0 | I61: =SUM(I62:I63) -> 0 | J61: =SUM(J62:J63) -> 0 | K61: =SUM(K62:K63) -> 2 | L61: =SUM(L62:L63) -> 0 | M61: =SUM(M62:M63) -> 2 | N61: =SUM(O61:P61) -> 0 | O61: =SUM(O62:O63) -> 0 | P61: =SUM(P62:P63) -> 0 | Q61: =SUM(Q62:Q63) -> 1 | R61: =SUM(S61:T61) -> 0 | S61: =SUM(S62:S63) -> 0 | T61: =SUM(T62:T63) -> 0 | U61: =SUM(U62:U63) -> 2 | V61: =SUM(V62:V63) -> 0 | W61: =SUM(W62:W63) -> 0 | X61: =SUM(Y61:AB61) -> 2 | Y61: =SUM(Y62:Y63) -> 0 | Z61: =SUM(Z62:Z63) -> 0 | AA61: =SUM(AA62:AA63) -> 1 | AB61: =SUM(AB62:AB63) -> 1 | AC61: =SUM(AC62:AC63) -> 0 | AD61: =SUM(AD62:AD63) -> 0 | AE61: =SUM(AE62:AE63) -> 0 | AF61: =SUM(AF62:AF63) -> 0 | ... AN61: =SUM(AN62:AN63) -> 0 | AO61: =SUM(AJ61)-SUM(AK61:AN61) -> 0 | AP61: =SUM(AP62:AP63) -> 0 | AQ61: =SUM(AQ62:AQ63) -> 0 | AR61: =SUM(AR62:AR63) -> 0 | AS61: =SUM(AS62:AS63) -> 0 | AT61: =SUM(AT62:AT63) -> 1 | AU61: =SUM(AV61:AW61) -> 0 | AV61: =SUM(AV62:AV63) -> 0 | AW61: =SUM(AW62:AW63) -> 0 | AX61: =SUM(AX62:AX63) -> 0 | AY61: =SUM(AY62:AY63) -> 0 | AZ61: =SUM(AZ62:AZ63) -> 0 | BA61: =SUM(BA62:BA63) -> 0 | BB61: =SUM(BB62:BB63) -> 0 | BC61: =SUM(BC62:BC63) -> 0 | ... BW61: =SUM(BW62:BW63) -> 0 | BX61: =SUM(C61)-SUM(D61,I61:K61,N61,Q61:R61,U61:X61,AC61:AD61,AG61:AJ61,AP61:AU61,AX61:BW61) -> 0
B62: 男 | C62: 29 | D62: =SUM(E62:H62) -> 19 | E62: 0 | F62: 19 | G62: 0 | H62: 0 | I62: 0 | J62: 0 | K62: 1 | L62: 0 | M62: 1 | N62: =SUM(O62:P62) -> 0 | O62: 0 | P62: 0 | Q62: 1 | R62: =SUM(S62:T62) -> 0 | S62: 0 | T62: 0 | U62: 2 | V62: 0 | W62: 0 | X62: =SUM(Y62:AB62) -> 2 | Y62: 0 | Z62: 0 | AA62: 1 | AB62: 1 | AC62: 0 | AD62: 0 | AE62: 0 | AF62: 0 | AG62: 0 | AH62: 0 | AI62: 0 | AJ62: 0 | AK62: 0 | AL62: 0 | AM62: 0 | AN62: 0 | AO62: =SUM(AJ62)-SUM(AK62:AN62) -> 0 | AP62: 0 | AQ62: 0 | AR62: 0 | AS62: 0 | AT62: 1 | AU62: =SUM(AV62:AW62) -> 0 | AV62: 0 | AW62: 0 | AX62: 0 | AY62: 0 | AZ62: 0 | BA62: 0 | BB62: 0 | BC62: 0 | BD62: 2 | BE62: 0 | BF62: 0 | BG62: 0 | BH62: 0 | BI62: 1 | BJ62: 0 | BK62: 0 | BL62: 0 | BM62: 0 | BN62: 0 | BO62: 0 | BP62: 0 | BQ62: 0 | BR62: 0 | BS62: 0 | BT62: 0 | BU62: 0 | BV62: 0 | BW62: 0 | BX62: =SUM(C62)-SUM(D62,I62:K62,N62,Q62:R62,U62:X62,AC62:AD62,AG62:AJ62,AP62:AU62,AX62:BW62) -> 0
B63: 女 | C63: 5 | D63: =SUM(E63:H63) -> 2 | E63: 0 | F63: 2 | G63: 0 | H63: 0 | I63: 0 | J63: 0 | K63: 1 | L63: 0 | M63: 1 | N63: =SUM(O63:P63) -> 0 | O63: 0 | P63: 0 | Q63: 0 | R63: =SUM(S63:T63) -> 0 | S63: 0 | T63: 0 | U63: 0 | V63: 0 | W63: 0 | X63: =SUM(Y63:AB63) -> 0 | Y63: 0 | Z63: 0 | AA63: 0 | AB63: 0 | AC63: 0 | AD63: 0 | AE63: 0 | AF63: 0 | AG63: 0 | AH63: 0 | AI63: 0 | AJ63: 0 | AK63: 0 | AL63: 0 | AM63: 0 | AN63: 0 | AO63: =SUM(AJ63)-SUM(AK63:AN63) -> 0 | AP63: 0 | AQ63: 0 | AR63: 0 | AS63: 0 | AT63: 0 | AU63: =SUM(AV63:AW63) -> 0 | AV63: 0 | AW63: 0 | AX63: 0 | AY63: 0 | AZ63: 0 | BA63: 0 | BB63: 0 | BC63: 0 | BD63: 0 | BE63: 0 | BF63: 0 | BG63: 0 | BH63: 0 | BI63: 2 | BJ63: 0 | BK63: 0 | BL63: 0 | BM63: 0 | BN63: 0 | BO63: 0 | BP63: 0 | BQ63: 0 | BR63: 0 | BS63: 0 | BT63: 0 | BU63: 0 | BV63: 0 | BW63: 0 | BX63: =SUM(C63)-SUM(D63,I63:K63,N63,Q63:R63,U63:X63,AC63:AD63,AG63:AJ63,AP63:AU63,AX63:BW63) -> 0
A64: 嘉義市 | B64: 計 | C64: =SUM(C65:C66) -> 21 | D64: =SUM(E64:H64) -> 16 | E64: =SUM(E65:E66) -> 0 | F64: =SUM(F65:F66) -> 16 | G64: =SUM(G65:G66) -> 0 | H64: =SUM(H65:H66) -> 0 | I64: =SUM(I65:I66) -> 0 | J64: =SUM(J65:J66) -> 0 | K64: =SUM(K65:K66) -> 3 | L64: =SUM(L65:L66) -> 0 | M64: =SUM(M65:M66) -> 3 | N64: =SUM(O64:P64) -> 0 | O64: =SUM(O65:O66) -> 0 | P64: =SUM(P65:P66) -> 0 | Q64: =SUM(Q65:Q66) -> 1 | R64: =SUM(S64:T64) -> 0 | S64: =SUM(S65:S66) -> 0 | T64: =SUM(T65:T66) -> 0 | U64: =SUM(U65:U66) -> 0 | V64: =SUM(V65:V66) -> 0 | W64: =SUM(W65:W66) -> 0 | X64: =SUM(Y64:AB64) -> 1 | Y64: =SUM(Y65:Y66) -> 0 | Z64: =SUM(Z65:Z66) -> 0 | AA64: =SUM(AA65:AA66) -> 0 | AB64: =SUM(AB65:AB66) -> 1 | AC64: =SUM(AC65:AC66) -> 0 | AD64: =SUM(AD65:AD66) -> 0 | AE64: =SUM(AE65:AE66) -> 0 | AF64: =SUM(AF65:AF66) -> 0 | ... AN64: =SUM(AN65:AN66) -> 0 | AO64: =SUM(AJ64)-SUM(AK64:AN64) -> 0 | AP64: =SUM(AP65:AP66) -> 0 | AQ64: =SUM(AQ65:AQ66) -> 0 | AR64: =SUM(AR65:AR66) -> 0 | AS64: =SUM(AS65:AS66) -> 0 | AT64: =SUM(AT65:AT66) -> 0 | AU64: =SUM(AV64:AW64) -> 0 | AV64: =SUM(AV65:AV66) -> 0 | AW64: =SUM(AW65:AW66) -> 0 | AX64: =SUM(AX65:AX66) -> 0 | AY64: =SUM(AY65:AY66) -> 0 | AZ64: =SUM(AZ65:AZ66) -> 0 | BA64: =SUM(BA65:BA66) -> 0 | BB64: =SUM(BB65:BB66) -> 0 | BC64: =SUM(BC65:BC66) -> 0 | ... BW64: =SUM(BW65:BW66) -> 0 | BX64: =SUM(C64)-SUM(D64,I64:K64,N64,Q64:R64,U64:X64,AC64:AD64,AG64:AJ64,AP64:AU64,AX64:BW64) -> 0
