Workbook

Sheet 管理情形表
A1: 各場域附設兒童遊戲場設施安全管理情形調查表(截至114年12月31日)
A2: 主管機關 | B2: 場域 | C2: 備查情形 | F2: 稽查及改善情形 | Q2: 114年稽查目標值 | R2: 取得研習證書家數 | S2: 新設遊戲場兒少參與設計規劃會議或活動 | V2: 提供身心障礙兒童使用之遊戲設施
C3: 總家數 (A) | D3: 備查家數(B) | E3: 完成備查比率% (C=B/A) | F3: 113年 | H3: 114年 | O3: 113-114年 | S3: 場次 | T3: 兒童人數 | V3: 家數
F4: 稽查家數(D1) | G4: 不合格(E) | H4: 稽查家數(D2) | I4: 稽查率% (F=D2/A) | J4: 合格 (I) | K4: 不合格(J=D2-I) | L4: 合格率%(K=I/D2) | M4: 113年不合格 改善完成數(L) | N4: 改善率% (M=L/E) | O4: 重複稽查家數(G) | P4: 稽查涵蓋率%(H=(D1+D2-G)/A) | T4: 一般 | U4: 身心障礙
A5: 國教署 | B5: 公私立國小、幼兒園 | C5: 3991 | D5: 3990 | E5: =D5/C5 -> 0.99974944 | F5: 2497 | G5: 38 | H5: 2707 | I5: =H5/C5 -> 0.67827612 | J5: 2668 | K5: =H5-J5 -> 39 | L5: =J5/H5 -> 0.98559291 | M5: 32 | N5: =M5/G5 -> 0.84210526 | O5: 1481 | P5: =(F5+H5-O5)/C5 -> 0.93284891 | Q5: 0.35 | R5: 3536 | S5: 4 | T5: 50 | U5: 0 | V5: 357
A6: 教育部 | B6: 教育機構 | C6: 5 | D6: 5 | E6: =D6/C6 -> 1 | F6: 5 | G6: 0 | H6: 5 | I6: =H6/C6 -> 1 | J6: 5 | K6: =H6-J6 -> 0 | L6: =J6/H6 -> 1 | M6: 0 | N6: 0 | O6: 5 | P6: =(F6+H6-O6)/C6 -> 1 | Q6: 1 | R6: 4 | S6: 0 | T6: 0 | U6: 0 | V6: 1
A7: 內政部國土署 | B7: 公園 | C7: 3193 | D7: 3184 | E7: =D7/C7 -> 0.99718133 | F7: 2309 | G7: 257 | H7: 2778 | I7: =H7/C7 -> 0.87002819 | J7: 2523 | K7: =H7-J7 -> 255 | L7: =J7/H7 -> 0.90820734 | M7: 214 | N7: =M7/G7 -> 0.83268482 | O7: 2017 | P7: =(F7+H7-O7)/C7 -> 0.96147823 | Q7: 0.6 | R7: 3043 | S7: 34 | T7: 850 | U7: 31 | V7: 707
A8: 內政部宗教司 | B8: 宗教場所 | C8: 3 | D8: 2 | E8: =D8/C8 -> 0.66666667 | F8: 3 | G8: 1 | H8: 2 | I8: =H8/C8 -> 0.66666667 | J8: 2 | K8: =H8-J8 -> 0 | L8: =J8/H8 -> 1 | M8: 0 | N8: 0 | O8: 2 | P8: =(F8+H8-O8)/C8 -> 1 | Q8: 1 | R8: 2 | S8: 0 | T8: 0 | U8: 0 | V8: 0
A9: 文化部 | B9: 文化機構 | C9: 13 | D9: 13 | E9: =D9/C9 -> 1 | F9: 9 | G9: 0 | H9: 12 | I9: =H9/C9 -> 0.92307692 | J9: 12 | K9: =H9-J9 -> 0 | L9: =J9/H9 -> 1 | M9: 0 | N9: 0 | O9: 9 | P9: =(F9+H9-O9)/C9 -> 0.92307692 | Q9: 1 | R9: 12 | S9: 0 | T9: 0 | U9: 0 | V9: 3
A10: 故宮博物院 | B10: 文化機構 | C10: 1 | D10: 1 | E10: =D10/C10 -> 1 | F10: 1 | G10: 0 | H10: 1 | I10: =H10/C10 -> 1 | J10: 1 | K10: =H10-J10 -> 0 | L10: =J10/H10 -> 1 | M10: 0 | N10: 0 | O10: 1 | P10: =(F10+H10-O10)/C10 -> 1 | Q10: 1 | R10: 1 | S10: 0 | T10: 0 | U10: 0 | V10: 0
A11: 經濟部商業署 | B11: 專營、百貨 | C11: 46 | D11: 44 | E11: =D11/C11 -> 0.95652174 | F11: 49 | G11: 3 | H11: 45 | I11: =H11/C11 -> 0.97826087 | J11: 40 | K11: =H11-J11 -> 5 | L11: =J11/H11 -> 0.88888889 | M11: 1 | N11: =M11/G11 -> 0.33333333 | O11: 40 | P11: 1 | Q11: 1 | R11: 43 | S11: 1 | T11: 0 | U11: 0 | V11: 1
A12: 經濟部水利署 | B12: 水庫、水利 | C12: 47 | D12: 47 | E12: =D12/C12 -> 1 | F12: 45 | G12: 11 | H12: 45 | I12: =H12/C12 -> 0.95744681 | J12: 39 | K12: =H12-J12 -> 6 | L12: =J12/H12 -> 0.86666667 | M12: 7 | N12: =M12/G12 -> 0.63636364 | O12: 40 | P12: 1 | Q12: 1 | R12: 47 | S12: 0 | T12: 0 | U12: 0 | V12: 6
A13: 交通部 高速公路局 | B13: 高速公路服務區 | C13: 3 | D13: 3 | E13: =D13/C13 -> 1 | F13: 3 | G13: 0 | H13: 3 | I13: =H13/C13 -> 1 | J13: 3 | K13: 0 | L13: =J13/H13 -> 1 | M13: 0 | N13: 0 | O13: 3 | P13: =(F13+H13-O13)/C13 -> 1 | Q13: 1 | R13: 3 | S13: 0 | T13: 0 | U13: 0 | V13: 0
A14: 交通部觀光署 | B14: 樂園、飯店 | C14: 68 | D14: 68 | E14: =D14/C14 -> 1 | F14: 53 | G14: 3 | H14: 59 | I14: =H14/C14 -> 0.86764706 | J14: 58 | K14: 1 | L14: =J14/H14 -> 0.98305085 | M14: 2 | N14: =M14/G14 -> 0.66666667 | O14: 46 | P14: =(F14+H14-O14)/C14 -> 0.97058824 | Q14: 0.89 | R14: 64 | S14: 0 | T14: 0 | U14: 0 | V14: 0
A15: 衛福部食藥署 | B15: 餐飲業 | C15: 18 | D15: 18 | E15: =D15/C15 -> 1 | F15: 19 | G15: 1 | H15: 18 | I15: =H15/C15 -> 1 | J15: 18 | K15: =H15-J15 -> 0 | L15: =J15/H15 -> 1 | M15: 1 | N15: =M15/G15 -> 1 | O15: 16 | P15: 1 | Q15: 0.8 | R15: 17 | S15: 0 | T15: 0 | U15: 0 | V15: 0
A16: 衛福部醫事司 | B16: 醫療院所 | C16: 3 | D16: 3 | E16: =D16/C16 -> 1 | F16: 3 | G16: 0 | H16: 3 | I16: =H16/C16 -> 1 | J16: 3 | K16: 0 | L16: =J16/H16 -> 1 | M16: 0 | N16: 0 | O16: 3 | P16: =(F16+H16-O16)/C16 -> 1 | Q16: 1 | R16: 3 | S16: 0 | T16: 0 | U16: 0 | V16: 3
A17: 衛福部社家署 | B17: 社福機構 | C17: 38 | D17: 38 | E17: =D17/C17 -> 1 | F17: 36 | G17: 2 | H17: 37 | I17: =H17/C17 -> 0.97368421 | J17: 37 | K17: =H17-J17 -> 0 | L17: =J17/H17 -> 1 | M17: 2 | N17: =M17/G17 -> 1 | O17: 31 | P17: 1 | Q17: 1 | R17: 37 | S17: 0 | T17: 0 | U17: 0 | V17: 7
A18: 合計 | C18: =SUM(C5:C17) -> 7429 | D18: =SUM(D5:D17) -> 7416 | E18: =D18/C18 -> 0.9982501 | F18: =SUM(F5:F17) -> 5032 | G18: =SUM(G5:G17) -> 316 | H18: =SUM(H5:H17) -> 5715 | I18: =H18/C18 -> 0.76928254 | J18: =SUM(J5:J17) -> 5409 | K18: =SUM(K5:K17) -> 306 | L18: =J18/H18 -> 0.94645669 | M18: =SUM(M5:M17) -> 259 | N18: =M18/G18 -> 0.81962025 | O18: =SUM(O5:O17) -> 3694 | P18: =(F18+H18-O18)/C18 -> 0.94938754 | Q18: 0.47 | R18: =SUM(R5:R17) -> 6812 | S18: =SUM(S5:S17) -> 39 | T18: =SUM(T5:T17) -> 900 | U18: =SUM(U5:U17) -> 31 | V18: =SUM(V5:V17) -> 1085
A19: 一、備查情形(請填列截至114年6月30日止)： (一)總家數(A)：依兒童遊戲場設施安全管理規範(下稱本規範)第2點規定，無動力固定式，供2至12歲使用之非機械遊戲場設施。 (二)備查家數(B)：依本規範第7點規定，檢具合格檢驗報告等資料，向該遊戲場主管機關完成備查數。 二、稽查及改善情形： (一)114年稽查家數(D2)：依本規範第12點規定，遊戲場主管機關每年依「兒童遊戲設施稽查檢核表」進行遊戲場安全稽查家數。 (二)113年稽查家數(D1)、不合格(E)：相關數據業於113年12月31日統計完成(如附件)，數字請勿異動。 (三)合格(I)：遊戲場主管機關依「兒童遊戲設施稽查檢核表」內容進行稽查，檢查項目全數符合始可認列合格數。檢查項目含「合格檢驗報告書」，爰原則上稽查合格數應小於等於備查家數，倘稽查合格數高於備查家數，請敘明理由。 (四)113年不合格改善完成數(L)：113年稽查不合格數，在113年及114年改善完成總數。 (五)重複稽查家數(G)：統計113年、114年重複稽查家數。 三、稽查目標值：每年稽查家數/遊戲場總家數。 四、取得研習證書家數：「現任」遊戲場管理人員取得兒童遊戲場管理人員研習證書，且若1家遊戲場有2名以上管理人員取得兒童遊戲場管理人員研習證書者，仍以1家計。 五、提供身心障礙兒童使用之遊戲設施：該兒童遊戲場設有一個以上可提供身心障礙兒童使用之遊戲設施，即可列計。

Sheet 1學校
A1: 中央主管機關：教育部 公私立國小及幼兒園附設兒童遊戲場設施調查表
A2: 縣市別 | B2: 備查情形 | E2: 稽查情形 | P2: 取得研習證書家數 | Q2: 新設遊戲場兒少參與設計規劃會議或活動 | T2: 提供身心障礙兒童使用之遊戲設施
B3: 總家數(A) | C3: 備查家數(B) | D3: 完成備查比率%(C=B/A%) | E3: 113年 | G3: 114年 | N3: 113-114年 | Q3: 場次 | R3: 兒童人數 | T3: 家數
E4: 稽查家數(D1) | F4: 不合格(E) | G4: 稽查家數(D2) | H4: 稽查率(F=D2/A) | I4: 合格(I) | J4: 不合格(J=D2-I) | K4: 合格率%(K=I/D2) | L4: 113年不合格改善完成數(L) | M4: 改善率(M=L/E) | N4: 重複稽查家數(G) | O4: 稽查涵蓋率%(H=(D1+D2-G)/A) | R4: 一般 | S4: 身心障礙
A5: 全國性 | B5: 0 | C5: 0 | D5: 0 | E5: 0 | F5: 0 | G5: 0 | H5: 0 | I5: 0 | J5: =G5-I5 -> 0 | K5: 0 | L5: 0 | M5: 0 | N5: 0 | O5: 0 | P5: 0 | Q5: 0 | R5: 0 | S5: 0 | T5: 0
A6: 新北市政府 | B6: 319 | C6: 319 | D6: =C6/B6 -> 1 | E6: 167 | F6: 0 | G6: 136 | H6: =G6/B6 -> 0.42633229 | I6: 136 | J6: =G6-I6 -> 0 | K6: =I6/G6 -> 1 | L6: 0 | M6: 0 | N6: 41 | O6: =(E6+G6-N6)/B6 -> 0.82131661 | P6: 244 | Q6: 0 | R6: 0 | S6: 0 | T6: 37
A7: 臺北市政府 | B7: 229 | C7: 229 | D7: =C7/B7 -> 1 | E7: 116 | F7: 0 | G7: 87 | H7: =G7/B7 -> 0.37991266 | I7: 87 | J7: =G7-I7 -> 0 | K7: =I7/G7 -> 1 | L7: 0 | M7: 0 | N7: 8 | O7: =(E7+G7-N7)/B7 -> 0.85152838 | P7: 188 | Q7: 3 | R7: 5 | S7: 0 | T7: 28
A8: 桃園市政府 | B8: 339 | C8: 338 | D8: =C8/B8 -> 0.99705015 | E8: 234 | F8: 4 | G8: 250 | H8: =G8/B8 -> 0.73746313 | I8: 249 | J8: =G8-I8 -> 1 | K8: =I8/G8 -> 0.996 | L8: 3 | M8: =L8/F8 -> 0.75 | N8: 168 | O8: =(E8+G8-N8)/B8 -> 0.93215339 | P8: 339 | Q8: 0 | R8: 0 | S8: 0 | T8: 80
A9: 臺中市政府 | B9: 493 | C9: 493 | D9: =C9/B9 -> 1 | E9: 168 | F9: 0 | G9: 473 | H9: =G9/B9 -> 0.95943205 | I9: 473 | J9: =G9-I9 -> 0 | K9: =I9/G9 -> 1 | L9: 0 | M9: 0 | N9: 164 | O9: =(E9+G9-N9)/B9 -> 0.96754564 | P9: 491 | Q9: 0 | R9: 0 | S9: 0 | T9: 38
A10: 臺南市政府 | B10: 326 | C10: 326 | D10: =C10/B10 -> 1 | E10: 216 | F10: 0 | G10: 210 | H10: =G10/B10 -> 0.64417178 | I10: 210 | J10: =G10-I10 -> 0 | K10: =I10/G10 -> 1 | L10: 0 | M10: 0 | N10: 87 | O10: =(E10+G10-N10)/B10 -> 1.0398773 | P10: 326 | Q10: 0 | R10: 0 | S10: 0 | T10: 47
A11: 高雄市政府 | B11: 380 | C11: 380 | D11: =C11/B11 -> 1 | E11: 377 | F11: 0 | G11: 338 | H11: =G11/B11 -> 0.88947368 | I11: 338 | J11: =G11-I11 -> 0 | K11: =I11/G11 -> 1 | L11: 0 | M11: 0 | N11: 337 | O11: =(E11+G11-N11)/B11 -> 0.99473684 | P11: 380 | Q11: 0 | R11: 0 | S11: 0 | T11: 31
A12: 宜蘭縣政府 | B12: 105 | C12: 105 | D12: =C12/B12 -> 1 | E12: 55 | F12: 3 | G12: 82 | H12: =G12/B12 -> 0.78095238 | I12: 72 | J12: =G12-I12 -> 10 | K12: =I12/G12 -> 0.87804878 | L12: 2 | M12: =L12/F12 -> 0.66666667 | N12: 32 | O12: =(E12+G12-N12)/B12 -> 1 | P12: 104 | Q12: 0 | R12: 0 | S12: 0 | T12: 12
A13: 新竹縣政府 | B13: 148 | C13: 148 | D13: =C13/B13 -> 1 | E13: 44 | F13: 0 | G13: 51 | H13: =G13/B13 -> 0.34459459 | I13: 50 | J13: =G13-I13 -> 1 | K13: =I13/G13 -> 0.98039216 | L13: 0 | M13: 0 | N13: 1 | O13: =(E13+G13-N13)/B13 -> 0.63513514 | P13: 148 | Q13: 0 | R13: 0 | S13: 0 | T13: 1
A14: 苗栗縣政府 | B14: 163 | C14: 163 | D14: =C14/B14 -> 1 | E14: 70 | F14: 0 | G14: 49 | H14: =G14/B14 -> 0.3006135 | I14: 49 | J14: =G14-I14 -> 0 | K14: =I14/G14 -> 1 | L14: 0 | M14: 0 | N14: 0 | O14: =(E14+G14-N14)/B14 -> 0.73006135 | P14: 163 | Q14: 0 | R14: 0 | S14: 0 | T14: 0
A15: 彰化縣政府 | B15: 297 | C15: 297 | D15: =C15/B15 -> 1 | E15: 296 | F15: 7 | G15: 297 | H15: =G15/B15 -> 1 | I15: 297 | J15: =G15-I15 -> 0 | K15: =I15/G15 -> 1 | L15: 7 | M15: =L15/F15 -> 1 | N15: 296 | O15: =(E15+G15-N15)/B15 -> 1 | P15: 297 | Q15: 0 | R15: 0 | S15: 0 | T15: 8
A16: 南投縣政府 | B16: 180 | C16: 180 | D16: =C16/B16 -> 1 | E16: 139 | F16: 0 | G16: 128 | H16: =G16/B16 -> 0.71111111 | I16: 128 | J16: =G16-I16 -> 0 | K16: =I16/G16 -> 1 | L16: 0 | M16: 0 | N16: 47 | O16: 1 | P16: 129 | Q16: 0 | R16: 0 | S16: 0 | T16: 14
A17: 雲林縣政府 | B17: 220 | C17: 220 | D17: =C17/B17 -> 1 | E17: 95 | F17: 0 | G17: 114 | H17: =G17/B17 -> 0.51818182 | I17: 114 | J17: =G17-I17 -> 0 | K17: =I17/G17 -> 1 | L17: 0 | M17: 0 | N17: 27 | O17: =(E17+G17-N17)/B17 -> 0.82727273 | P17: 138 | Q17: 0 | R17: 0 | S17: 0 | T17: 14
A18: 嘉義縣政府 | B18: 147 | C18: 147 | D18: =C18/B18 -> 1 | E18: 145 | F18: 0 | G18: 80 | H18: =G18/B18 -> 0.54421769 | I18: 80 | J18: =G18-I18 -> 0 | K18: =I18/G18 -> 1 | L18: 0 | M18: 0 | N18: 80 | O18: =(E18+G18-N18)/B18 -> 0.98639456 | P18: 131 | Q18: 0 | R18: 0 | S18: 0 | T18: 26
A19: 屏東縣政府 | B19: 231 | C19: 231 | D19: =C19/B19 -> 1 | E19: 139 | F19: 7 | G19: 168 | H19: =G19/B19 -> 0.72727273 | I19: 165 | J19: =G19-I19 -> 3 | K19: =I19/G19 -> 0.98214286 | L19: 7 | M19: =L19/F19 -> 1 | N19: 84 | O19: =(E19+G19-N19)/B19 -> 0.96536797 | P19: 96 | Q19: 0 | R19: 0 | S19: 0 | T19: 0
A20: 臺東縣政府 | B20: 101 | C20: 101 | D20: =C20/B20 -> 1 | E20: 64 | F20: 0 | G20: 60 | H20: =G20/B20 -> 0.59405941 | I20: 60 | J20: =G20-I20 -> 0 | K20: =I20/G20 -> 1 | L20: 0 | M20: 0 | N20: 19 | O20: =(E20+G20-N20)/B20 -> 1.039604 | P20: 98 | Q20: 0 | R20: 0 | S20: 0 | T20: 0
A21: 花蓮縣政府 | B21: 116 | C21: 116 | D21: =C21/B21 -> 1 | E21: 25 | F21: 10 | G21: 45 | H21: =G21/B21 -> 0.38793103 | I21: 29 | J21: =G21-I21 -> 16 | K21: =I21/G21 -> 0.64444444 | L21: 10 | M21: =L21/F21 -> 1 | N21: 0 | O21: =(E21+G21-N21)/B21 -> 0.60344828 | P21: 83 | Q21: 0 | R21: 0 | S21: 0 | T21: 0
A22: 澎湖縣政府 | B22: 33 | C22: 33 | D22: =C22/B22 -> 1 | E22: 32 | F22: 7 | G22: 33 | H22: =G22/B22 -> 1 | I22: 28 | J22: =G22-I22 -> 5 | K22: =I22/G22 -> 0.84848485 | L22: 3 | M22: =L22/F22 -> 0.42857143 | N22: 32 | O22: =(E22+G22-N22)/B22 -> 1 | P22: 33 | Q22: 0 | R22: 0 | S22: 0 | T22: 6
A23: 基隆市政府 | B23: 44 | C23: 44 | D23: =C23/B23 -> 1 | E23: 45 | F23: 0 | G23: 25 | H23: =G23/B23 -> 0.56818182 | I23: 22 | J23: =G23-I23 -> 3 | K23: =I23/G23 -> 0.88 | L23: 0 | M23: 0 | N23: 8 | O23: =(E23+G23-N23)/B23 -> 1.4090909 | P23: 30 | Q23: 0 | R23: 0 | S23: 0 | T23: 0
A24: 新竹市政府 | B24: 58 | C24: 58 | D24: =C24/B24 -> 1 | E24: 6 | F24: 0 | G24: 31 | H24: =G24/B24 -> 0.53448276 | I24: 31 | J24: =G24-I24 -> 0 | K24: =I24/G24 -> 1 | L24: 0 | M24: 0 | N24: 0 | O24: =(E24+G24-N24)/B24 -> 0.63793103 | P24: 57 | Q24: 0 | R24: 0 | S24: 0 | T24: 13
A25: 嘉義市政府 | B25: 47 | C25: 47 | D25: =C25/B25 -> 1 | E25: 47 | F25: 0 | G25: 35 | H25: =G25/B25 -> 0.74468085 | I25: 35 | J25: =G25-I25 -> 0 | K25: =I25/G25 -> 1 | L25: 0 | M25: 0 | N25: 35 | O25: =(E25+G25-N25)/B25 -> 1 | P25: 47 | Q25: 0 | R25: 0 | S25: 0 | T25: 2
A26: 金門縣政府 | B26: 13 | C26: 13 | D26: =C26/B26 -> 1 | E26: 15 | F26: 0 | G26: 13 | H26: =G26/B26 -> 1 | I26: 13 | J26: =G26-I26 -> 0 | K26: =I26/G26 -> 1 | L26: 0 | M26: 0 | N26: 13 | O26: =(E26+G26-N26)/B26 -> 1.1538462 | P26: 12 | Q26: 0 | R26: 0 | S26: 0 | T26: 0
A27: 連江縣政府 | B27: 2 | C27: 2 | D27: =C27/B27 -> 1 | E27: 2 | F27: 0 | G27: 2 | H27: =G27/B27 -> 1 | I27: 2 | J27: =G27-I27 -> 0 | K27: =I27/G27 -> 1 | L27: 0 | M27: 0 | N27: 2 | O27: =(E27+G27-N27)/B27 -> 1 | P27: 2 | Q27: 1 | R27: 45 | S27: 0 | T27: 0
A28: 合計 | B28: =SUM(B5:B27) -> 3991 | C28: =SUM(C5:C27) -> 3990 | D28: =C28/B28 -> 0.99974944 | E28: =SUM(E5:E27) -> 2497 | F28: =SUM(F5:F27) -> 38 | G28: =SUM(G5:G27) -> 2707 | H28: =G28/B28 -> 0.67827612 | I28: =SUM(I5:I27) -> 2668 | J28: =SUM(J5:J27) -> 39 | K28: =I28/G28 -> 0.98559291 | L28: =SUM(L5:L27) -> 32 | M28: =L28/F28 -> 0.84210526 | N28: =SUM(N5:N27) -> 1481 | O28: =(E28+G28-N28)/B28 -> 0.93284891 | P28: =SUM(P5:P27) -> 3536 | Q28: =SUM(Q5:Q27) -> 4 | R28: =SUM(R5:R27) -> 50 | S28: =SUM(S5:S27) -> 0 | T28: =SUM(T5:T27) -> 357

Sheet 2教育
A1: 中央主管機關：教育部 教育機構附設兒童遊戲場設施調查表
A2: 縣市別 | B2: 備查情形 | E2: 稽查情形 | P2: 取得研習證書家數 | Q2: 新設遊戲場兒少參與設計規劃會議或活動 | T2: 提供身心障礙兒童使用之遊戲設施
B3: 總家數(A) | C3: 備查家數(B) | D3: 完成備查比率%(C=B/A%) | E3: 113年 | G3: 114年 | N3: 113-114年 | Q3: 場次 | R3: 兒童人數 | T3: 家數
E4: 稽查家數(D1) | F4: 不合格(E) | G4: 稽查家數(D2) | H4: 稽查率(F=D2/A) | I4: 合格(I) | J4: 不合格(J=D2-I) | K4: 合格率%(K=I/D2) | L4: 113年不合格改善完成數(L) | M4: 改善率(M=L/E) | N4: 重複稽查家數(G) | O4: 稽查涵蓋率%(H=(D1+D2-G)/A) | R4: 一般 | S4: 身心障礙
A5: 全國性 | B5: 3 | C5: 3 | D5: =C5/B5 -> 1 | E5: 3 | F5: 0 | G5: 3 | H5: =G5/B5 -> 1 | I5: 3 | J5: =G5-I5 -> 0 | K5: 0 | M5: 0 | N5: 3 | O5: =(E5+G5-N5)/B5 -> 1 | P5: 3 | Q5: 0 | R5: 0 | S5: 0 | T5: 0
A6: 新北市政府 | B6: 0 | C6: 0 | D6: 0 | E6: 0 | F6: 0 | G6: 0 | H6: 0 | I6: =F6-H6 -> 0 | J6: =G6-I6 -> 0 | K6: 0 | L6: =I6-K6 -> 0 | M6: 0 | N6: 0 | O6: 0 | P6: =M6-O6 -> 0 | Q6: =N6-P6 -> 0 | R6: =O6-Q6 -> 0 | S6: =P6-R6 -> 0 | T6: =Q6-S6 -> 0
A7: 臺北市政府 | B7: 1 | C7: 1 | D7: =C7/B7 -> 1 | E7: 1 | F7: 0 | G7: 1 | H7: =G7/B7 -> 1 | I7: 1 | J7: =G7-I7 -> 0 | K7: =I7/G7 -> 1 | L7: =I7-K7 -> 0 | M7: 0 | N7: 1 | O7: =(E7+G7-N7)/B7 -> 1 | P7: 1 | Q7: 0 | R7: 0 | S7: 0 | T7: 1
A8: 桃園市政府 | B8: 0 | C8: 0 | D8: 0 | E8: 0 | F8: 0 | G8: 0 | H8: 0 | I8: =F8-H8 -> 0 | J8: =G8-I8 -> 0 | K8: 0 | L8: =I8-K8 -> 0 | M8: 0 | N8: 0 | O8: 0 | P8: =M8-O8 -> 0 | Q8: =N8-P8 -> 0 | R8: =O8-Q8 -> 0 | S8: =P8-R8 -> 0 | T8: 0
A9: 臺中市政府 | B9: 0 | C9: 0 | D9: 0 | E9: 0 | F9: 0 | G9: 0 | H9: 0 | I9: =F9-H9 -> 0 | J9: =G9-I9 -> 0 | K9: 0 | L9: =I9-K9 -> 0 | M9: 0 | N9: 0 | O9: 0 | P9: =M9-O9 -> 0 | Q9: =N9-P9 -> 0 | R9: =O9-Q9 -> 0 | S9: =P9-R9 -> 0 | T9: =Q9-S9 -> 0
A10: 臺南市政府 | B10: 0 | C10: 0 | D10: 0 | E10: 0 | F10: 0 | G10: 0 | H10: 0 | I10: =F10-H10 -> 0 | J10: =G10-I10 -> 0 | K10: 0 | L10: =I10-K10 -> 0 | M10: 0 | N10: 0 | O10: 0 | P10: =M10-O10 -> 0 | Q10: =N10-P10 -> 0 | R10: =O10-Q10 -> 0 | S10: =P10-R10 -> 0 | T10: 0
A11: 高雄市政府 | B11: 0 | C11: 0 | D11: 0 | E11: 0 | F11: 0 | G11: 0 | H11: 0 | I11: =F11-H11 -> 0 | J11: =G11-I11 -> 0 | K11: 0 | L11: =I11-K11 -> 0 | M11: 0 | N11: 0 | O11: 0 | P11: =M11-O11 -> 0 | Q11: =N11-P11 -> 0 | R11: =O11-Q11 -> 0 | S11: =P11-R11 -> 0 | T11: =Q11-S11 -> 0
A12: 宜蘭縣政府 | B12: 0 | C12: 0 | D12: 0 | E12: 0 | F12: 0 | G12: 0 | H12: 0 | I12: =F12-H12 -> 0 | J12: =G12-I12 -> 0 | K12: 0 | L12: =I12-K12 -> 0 | M12: 0 | N12: 0 | O12: 0 | P12: =M12-O12 -> 0 | Q12: =N12-P12 -> 0 | R12: =O12-Q12 -> 0 | S12: =P12-R12 -> 0 | T12: =Q12-S12 -> 0
A13: 新竹縣政府 | B13: 0 | C13: 0 | D13: 0 | E13: 0 | F13: 0 | G13: 0 | H13: 0 | I13: =F13-H13 -> 0 | J13: =G13-I13 -> 0 | K13: 0 | L13: =I13-K13 -> 0 | M13: 0 | N13: 0 | O13: 0 | P13: =M13-O13 -> 0 | Q13: =N13-P13 -> 0 | R13: =O13-Q13 -> 0 | S13: =P13-R13 -> 0 | T13: =Q13-S13 -> 0
A14: 苗栗縣政府 | B14: 0 | C14: 0 | D14: 0 | E14: 0 | F14: 0 | G14: 0 | H14: 0 | I14: =F14-H14 -> 0 | J14: =G14-I14 -> 0 | K14: 0 | L14: =I14-K14 -> 0 | M14: 0 | N14: 0 | O14: 0 | P14: =M14-O14 -> 0 | Q14: =N14-P14 -> 0 | R14: =O14-Q14 -> 0 | S14: =P14-R14 -> 0 | T14: =Q14-S14 -> 0
A15: 彰化縣政府 | B15: 0 | C15: 0 | D15: 0 | E15: 0 | F15: 0 | G15: 0 | H15: 0 | I15: =F15-H15 -> 0 | J15: =G15-I15 -> 0 | K15: 0 | L15: =I15-K15 -> 0 | M15: 0 | N15: 0 | O15: 0 | P15: =M15-O15 -> 0 | Q15: 0 | R15: 0 | S15: 0 | T15: =Q15-S15 -> 0
A16: 南投縣政府 | B16: 0 | C16: 0 | D16: 0 | E16: 0 | F16: 0 | G16: 0 | H16: 0 | I16: =F16-H16 -> 0 | J16: =G16-I16 -> 0 | K16: 0 | L16: =I16-K16 -> 0 | M16: 0 | N16: 0 | O16: 0 | P16: =M16-O16 -> 0 | Q16: =N16-P16 -> 0 | R16: =O16-Q16 -> 0 | S16: =P16-R16 -> 0 | T16: =Q16-S16 -> 0
A17: 雲林縣政府 | B17: 1 | C17: 1 | D17: =C17/B17 -> 1 | E17: 1 | F17: 0 | G17: 1 | H17: =G17/B17 -> 1 | I17: 1 | J17: =G17-I17 -> 0 | K17: =I17/G17 -> 1 | L17: =I17-K17 -> 0 | M17: 0 | N17: 1 | O17: =(E17+G17-N17)/B17 -> 1 | P17: 0 | Q17: 0 | R17: 0 | S17: 0 | T17: =Q17-S17 -> 0
A18: 嘉義縣政府 | B18: 0 | C18: 0 | D18: 0 | E18: 0 | F18: 0 | G18: 0 | H18: 0 | I18: =F18-H18 -> 0 | J18: =G18-I18 -> 0 | K18: 0 | L18: =I18-K18 -> 0 | M18: 0 | N18: 0 | O18: 0 | P18: =M18-O18 -> 0 | Q18: =N18-P18 -> 0 | R18: =O18-Q18 -> 0 | S18: =P18-R18 -> 0 | T18: 0
A19: 屏東縣政府 | B19: 0 | C19: 0 | D19: 0 | E19: 0 | F19: 0 | G19: 0 | H19: 0 | I19: =F19-H19 -> 0 | J19: =G19-I19 -> 0 | K19: 0 | L19: =I19-K19 -> 0 | M19: 0 | N19: 0 | O19: 0 | P19: =M19-O19 -> 0 | Q19: =N19-P19 -> 0 | R19: =O19-Q19 -> 0 | S19: =P19-R19 -> 0 | T19: =Q19-S19 -> 0
A20: 臺東縣政府 | B20: 0 | C20: 0 | D20: 0 | E20: 0 | F20: 0 | G20: 0 | H20: 0 | I20: =F20-H20 -> 0 | J20: =G20-I20 -> 0 | K20: 0 | L20: =I20-K20 -> 0 | M20: 0 | N20: 0 | O20: 0 | P20: =M20-O20 -> 0 | Q20: =N20-P20 -> 0 | R20: =O20-Q20 -> 0 | S20: =P20-R20 -> 0 | T20: 0
A21: 花蓮縣政府 | B21: 0 | C21: 0 | D21: 0 | E21: 0 | F21: 0 | G21: 0 | H21: 0 | I21: =F21-H21 -> 0 | J21: =G21-I21 -> 0 | K21: 0 | L21: =I21-K21 -> 0 | M21: 0 | N21: 0 | O21: 0 | P21: =M21-O21 -> 0 | Q21: =N21-P21 -> 0 | R21: =O21-Q21 -> 0 | S21: =P21-R21 -> 0 | T21: =Q21-S21 -> 0
A22: 澎湖縣政府 | B22: 0 | C22: 0 | D22: 0 | E22: 0 | F22: 0 | G22: 0 | H22: 0 | I22: =F22-H22 -> 0 | J22: =G22-I22 -> 0 | K22: 0 | L22: =I22-K22 -> 0 | M22: 0 | N22: 0 | O22: 0 | P22: =M22-O22 -> 0 | Q22: =N22-P22 -> 0 | R22: =O22-Q22 -> 0 | S22: =P22-R22 -> 0 | T22: =Q22-S22 -> 0
A23: 基隆市政府 | B23: 0 | C23: 0 | D23: 0 | E23: 0 | F23: 0 | G23: 0 | H23: 0 | I23: =F23-H23 -> 0 | J23: =G23-I23 -> 0 | K23: 0 | L23: =I23-K23 -> 0 | M23: 0 | N23: 0 | O23: 0 | P23: =M23-O23 -> 0 | Q23: =N23-P23 -> 0 | R23: =O23-Q23 -> 0 | S23: =P23-R23 -> 0 | T23: =Q23-S23 -> 0
A24: 新竹市政府 | B24: 0 | C24: 0 | D24: 0 | E24: 0 | F24: 0 | G24: 0 | H24: 0 | I24: =F24-H24 -> 0 | J24: =G24-I24 -> 0 | K24: 0 | L24: =I24-K24 -> 0 | M24: 0 | N24: 0 | O24: 0 | P24: =M24-O24 -> 0 | Q24: =N24-P24 -> 0 | R24: =O24-Q24 -> 0 | S24: =P24-R24 -> 0 | T24: =Q24-S24 -> 0
A25: 嘉義市政府 | B25: 0 | C25: 0 | D25: 0 | E25: 0 | F25: 0 | G25: 0 | H25: 0 | I25: =F25-H25 -> 0 | J25: =G25-I25 -> 0 | K25: 0 | L25: =I25-K25 -> 0 | M25: 0 | N25: 0 | O25: 0 | P25: =M25-O25 -> 0 | Q25: =N25-P25 -> 0 | R25: =O25-Q25 -> 0 | S25: =P25-R25 -> 0 | T25: =Q25-S25 -> 0
A26: 金門縣政府 | B26: 0 | C26: 0 | D26: 0 | E26: 0 | F26: 0 | G26: 0 | H26: 0 | I26: =F26-H26 -> 0 | J26: =G26-I26 -> 0 | K26: 0 | L26: =I26-K26 -> 0 | M26: 0 | N26: 0 | O26: 0 | P26: =M26-O26 -> 0 | Q26: =N26-P26 -> 0 | R26: =O26-Q26 -> 0 | S26: =P26-R26 -> 0 | T26: =Q26-S26 -> 0
A27: 連江縣政府 | B27: 0 | C27: 0 | D27: 0 | E27: 0 | F27: 0 | G27: 0 | H27: 0 | I27: =F27-H27 -> 0 | J27: =G27-I27 -> 0 | K27: 0 | L27: =I27-K27 -> 0 | M27: 0 | N27: 0 | O27: 0 | P27: =M27-O27 -> 0 | Q27: =N27-P27 -> 0 | R27: =O27-Q27 -> 0 | S27: =P27-R27 -> 0 | T27: =Q27-S27 -> 0
A28: 合計 | B28: =SUM(B5:B27) -> 5 | C28: =SUM(C5:C27) -> 5 | D28: =C28/B28 -> 1 | E28: =SUM(E5:E27) -> 5 | F28: 0 | G28: =SUM(G5:G27) -> 5 | H28: =G28/B28 -> 1 | I28: =SUM(I5:I27) -> 5 | J28: =G28-I28 -> 0 | K28: =I28/G28 -> 1 | L28: =SUM(L5:L27) -> 0 | M28: 0 | N28: =SUM(N5:N27) -> 5 | O28: =(E28+G28-N28)/B28 -> 1 | P28: =SUM(P5:P27) -> 4 | Q28: =SUM(Q5:Q27) -> 0 | R28: =SUM(R5:R27) -> 0 | S28: =SUM(S5:S27) -> 0 | T28: =SUM(T5:T27) -> 1

Sheet 3公園
A1: 中央主管機關：內政部 公園附設兒童遊戲場設施調查表
A2: 縣市別 | B2: 備查情形 | E2: 稽查情形 | P2: 取得研習證書家數 | Q2: 新設遊戲場兒少參與設計規劃會議或活動 | T2: 提供身心障礙兒童使用之遊戲設施
B3: 總家數(A) | C3: 備查家數(B) | D3: 完成備查比率%(C=B/A%) | E3: 113年 | G3: 114年 | N3: 113-114年 | Q3: 場次 | R3: 兒童人數 | T3: 家數
E4: 稽查家數(D1) | F4: 不合格(E) | G4: 稽查家數(D2) | H4: 稽查率(F=D2/A) | I4: 合格(I) | J4: 不合格(J=D2-I) | K4: 合格率%(K=I/D2) | L4: 113年不合格改善完成數(L) | M4: 改善率(M=L/E) | N4: 重複稽查家數(G) | O4: 稽查涵蓋率%(H=(D1+D2-G)/A) | R4: 一般 | S4: 身心障礙
A5: 全國性 | B5: =[1]查復情形!B5 -> 2 | C5: =[1]查復情形!C5 -> 2 | D5: =C5/B5 -> 1 | E5: 1 | F5: 0 | G5: =[1]查復情形!G5 -> 1 | H5: =G5/B5 -> 0.5 | I5: 1 | J5: =G5-I5 -> 0 | K5: 0 | L5: 0 | M5: 0 | N5: 0 | O5: =(E5+G5-N5)/B5 -> 1 | P5: 1 | Q5: 0 | R5: 0 | S5: 0 | T5: 2
A6: 新北市政府 | B6: =[1]查復情形!B6 -> 464 | C6: =[1]查復情形!C6 -> 464 | D6: =C6/B6 -> 1 | E6: 364 | F6: 10 | G6: =[1]查復情形!G6 -> 464 | H6: =G6/B6 -> 1 | I6: 456 | J6: =G6-I6 -> 8 | K6: =I6/G6 -> 0.98275862 | L6: 10 | M6: =L6/F6 -> 1 | N6: 364 | O6: =(E6+G6-N6)/B6 -> 1 | P6: 646 | Q6: 0 | R6: 0 | S6: 0 | T6: 248
A7: 臺北市政府 | B7: 448 | C7: 448 | D7: =C7/B7 -> 1 | E7: 436 | F7: 28 | G7: 432 | H7: =G7/B7 -> 0.96428571 | I7: 416 | J7: =G7-I7 -> 16 | K7: =I7/G7 -> 0.96296296 | L7: 25 | M7: =L7/F7 -> 0.89285714 | N7: 429 | O7: =(E7+G7-N7)/B7 -> 0.97991071 | P7: 255 | Q7: 3 | R7: 126 | S7: 14 | T7: 85
A8: 桃園市政府 | B8: =[1]查復情形!B8 -> 390 | C8: =[1]查復情形!C8 -> 390 | D8: =C8/B8 -> 1 | E8: 340 | F8: 83 | G8: =[1]查復情形!G8 -> 356 | H8: =G8/B8 -> 0.91282051 | I8: 226 | J8: =G8-I8 -> 130 | K8: =I8/G8 -> 0.63483146 | L8: 81 | M8: =L8/F8 -> 0.97590361 | N8: 346 | O8: =(E8+G8-N8)/B8 -> 0.8974359 | P8: 390 | Q8: 7 | R8: 104 | S8: 0 | T8: 69
A9: 臺中市政府 | B9: =[1]查復情形!B9 -> 689 | C9: =[1]查復情形!C9 -> 689 | D9: =C9/B9 -> 1 | E9: 445 | F9: 79 | G9: =[1]查復情形!G9 -> 448 | H9: =G9/B9 -> 0.65021771 | I9: 401 | J9: =G9-I9 -> 47 | K9: =I9/G9 -> 0.89508929 | L9: 81 | M9: =L9/F9 -> 1.0253165 | N9: 202 | O9: =(E9+G9-N9)/B9 -> 1.0029028 | P9: 689 | Q9: 5 | R9: 125 | S9: 5 | T9: 79
A10: 臺南市政府 | B10: =[1]查復情形!B10 -> 296 | C10: =[1]查復情形!C10 -> 296 | D10: =C10/B10 -> 1 | E10: 296 | F10: 0 | G10: =[1]查復情形!G10 -> 296 | H10: =G10/B10 -> 1 | I10: 294 | J10: =G10-I10 -> 2 | K10: =I10/G10 -> 0.99324324 | L10: 0 | M10: 0 | N10: 296 | O10: =(E10+G10-N10)/B10 -> 1 | P10: 296 | Q10: 3 | R10: 353 | S10: 12 | T10: 63
A11: 高雄市政府 | B11: =[1]查復情形!B11 -> 432 | C11: =[1]查復情形!C11 -> 432 | D11: =C11/B11 -> 1 | E11: 85 | F11: 0 | G11: =[1]查復情形!G11 -> 432 | H11: =G11/B11 -> 1 | I11: 425 | J11: =G11-I11 -> 7 | K11: =I11/G11 -> 0.9837963 | L11: 0 | M11: 0 | N11: 85 | O11: =(E11+G11-N11)/B11 -> 1 | P11: 432 | Q11: 3 | R11: 8 | S11: 0 | T11: 24
A12: 宜蘭縣政府 | B12: =[1]查復情形!B12 -> 14 | C12: =[1]查復情形!C12 -> 14 | D12: =C12/B12 -> 1 | E12: 8 | F12: 0 | G12: =[1]查復情形!G12 -> 0 | H12: =G12/B12 -> 0 | I12: 0 | J12: =G12-I12 -> 0 | K12: 0 | L12: 0 | M12: 0 | N12: 0 | O12: =(E12+G12-N12)/B12 -> 0.57142857 | P12: 6 | Q12: 0 | R12: 0 | S12: 0 | T12: 4
A13: 新竹縣政府 | B13: =[1]查復情形!B13 -> 78 | C13: =[1]查復情形!C13 -> 76 | D13: =C13/B13 -> 0.97435897 | E13: 55 | F13: 23 | G13: =[1]查復情形!G13 -> 55 | H13: =G13/B13 -> 0.70512821 | I13: 55 | J13: =G13-I13 -> 0 | K13: 0 | L13: 0 | M13: =L13/F13 -> 0 | N13: 55 | O13: =(E13+G13-N13)/B13 -> 0.70512821 | P13: 11 | Q13: 0 | R13: 0 | S13: 0 | T13: 16
A14: 苗栗縣政府 | B14: =[1]查復情形!B14 -> 51 | C14: =[1]查復情形!C14 -> 46 | D14: =C14/B14 -> 0.90196078 | E14: 48 | F14: 12 | G14: =[1]查復情形!G14 -> 51 | H14: =G14/B14 -> 1 | I14: 46 | J14: =G14-I14 -> 5 | K14: =I14/G14 -> 0.90196078 | L14: 7 | M14: =L14/F14 -> 0.58333333 | N14: 48 | O14: =(E14+G14-N14)/B14 -> 1 | P14: 49 | Q14: 0 | R14: 0 | S14: 0 | T14: 0
A15: 彰化縣政府 | B15: =[1]查復情形!B15 -> 77 | C15: =[1]查復情形!C15 -> 77 | D15: =C15/B15 -> 1 | E15: 55 | F15: 3 | G15: =[1]查復情形!G15 -> 77 | H15: =G15/B15 -> 1 | I15: 61 | J15: =G15-I15 -> 16 | K15: =I15/G15 -> 0.79220779 | L15: 0 | M15: =L15/F15 -> 0 | N15: 55 | O15: =(E15+G15-N15)/B15 -> 1 | P15: 68 | Q15: 0 | R15: 0 | S15: 0 | T15: 31
A16: 南投縣政府 | B16: =[1]查復情形!B16 -> 17 | C16: =[1]查復情形!C16 -> 17 | D16: =C16/B16 -> 1 | E16: 16 | F16: 0 | G16: =[1]查復情形!G16 -> 17 | H16: =G16/B16 -> 1 | I16: 0 | J16: =G16-I16 -> 17 | K16: 0 | L16: 1 | M16: 0 | N16: 16 | O16: =(E16+G16-N16)/B16 -> 1 | P16: 0 | Q16: 1 | R16: 0 | S16: 0 | T16: 8
A17: 雲林縣政府 | B17: =[1]查復情形!B17 -> 31 | C17: =[1]查復情形!C17 -> 31 | D17: =C17/B17 -> 1 | E17: 27 | F17: 8 | G17: =[1]查復情形!G17 -> 25 | H17: =G17/B17 -> 0.80645161 | I17: 25 | J17: =G17-I17 -> 0 | K17: =I17/G17 -> 1 | L17: 4 | M17: =L17/F17 -> 0.5 | N17: 25 | O17: =(E17+G17-N17)/B17 -> 0.87096774 | P17: 31 | Q17: 1 | R17: 30 | S17: 0 | T17: 2
A18: 嘉義縣政府 | B18: =[1]查復情形!B18 -> 28 | C18: =[1]查復情形!C18 -> 28 | D18: =C18/B18 -> 1 | E18: 27 | F18: 0 | G18: =[1]查復情形!G18 -> 28 | H18: =G18/B18 -> 1 | I18: 28 | J18: =G18-I18 -> 0 | K18: =I18/G18 -> 1 | L18: 0 | M18: 0 | N18: 26 | O18: =(E18+G18-N18)/B18 -> 1.0357143 | P18: 26 | Q18: 0 | R18: 0 | S18: 0 | T18: 7
A19: 屏東縣政府 | B19: =[1]查復情形!B19 -> 35 | C19: =[1]查復情形!C19 -> 35 | D19: =C19/B19 -> 1 | E19: 34 | F19: 5 | G19: =[1]查復情形!G19 -> 20 | H19: =G19/B19 -> 0.57142857 | I19: 17 | J19: =G19-I19 -> 3 | K19: =I19/G19 -> 0.85 | L19: 1 | M19: =L19/F19 -> 0.2 | N19: 20 | O19: =(E19+G19-N19)/B19 -> 0.97142857 | P19: 34 | Q19: 0 | R19: 0 | S19: 0 | T19: 27
A20: 臺東縣政府 | B20: =[1]查復情形!B20 -> 7 | C20: =[1]查復情形!C20 -> 7 | D20: =C20/B20 -> 1 | E20: 7 | F20: 0 | G20: =[1]查復情形!G20 -> 7 | H20: =G20/B20 -> 1 | I20: 7 | J20: 0 | K20: =I20/G20 -> 1 | L20: 0 | M20: 0 | N20: 7 | O20: =(E20+G20-N20)/B20 -> 1 | P20: 0 | Q20: 0 | R20: 0 | S20: 0 | T20: 0
A21: 花蓮縣政府 | B21: =[1]查復情形!B21 -> 24 | C21: =[1]查復情形!C21 -> 24 | D21: =C21/B21 -> 1 | E21: 12 | F21: 2 | G21: =[1]查復情形!G21 -> 11 | H21: =G21/B21 -> 0.45833333 | I21: 11 | J21: =G21-I21 -> 0 | K21: =I21/G21 -> 1 | L21: 2 | M21: =L21/F21 -> 1 | N21: 3 | O21: =(E21+G21-N21)/B21 -> 0.83333333 | P21: 15 | Q21: 1 | R21: 2 | S21: 0 | T21: 6
A22: 澎湖縣政府 | B22: =[1]查復情形!B22 -> 11 | C22: =[1]查復情形!C22 -> 11 | D22: =C22/B22 -> 1 | E22: 10 | F22: 1 | G22: =[1]查復情形!G22 -> 11 | H22: =G22/B22 -> 1 | I22: 11 | J22: =G22-I22 -> 0 | K22: =I22/G22 -> 1 | L22: 1 | M22: =L22/F22 -> 1 | N22: 10 | O22: =(E22+G22-N22)/B22 -> 1 | P22: 1 | Q22: 0 | R22: 0 | S22: 0 | T22: 0
A23: 基隆市政府 | B23: =[1]查復情形!B23 -> 9 | C23: =[1]查復情形!C23 -> 8 | D23: =C23/B23 -> 0.88888889 | E23: 0 | F23: 0 | G23: =[1]查復情形!G23 -> 3 | H23: =G23/B23 -> 0.33333333 | I23: 3 | J23: =G23-I23 -> 0 | K23: =I23/G23 -> 1 | L23: 0 | M23: 0 | N23: 0 | O23: =(E23+G23-N23)/B23 -> 0.33333333 | P23: 6 | Q23: 7 | R23: 98 | S23: 0 | T23: 0
A24: 新竹市政府 | B24: =[1]查復情形!B24 -> 59 | C24: =[1]查復情形!C24 -> 58 | D24: =C24/B24 -> 0.98305085 | E24: 13 | F24: 1 | G24: =[1]查復情形!G24 -> 14 | H24: =G24/B24 -> 0.23728814 | I24: 12 | J24: =G24-I24 -> 2 | K24: =I24/G24 -> 0.85714286 | L24: 1 | M24: =L24/F24 -> 1 | N24: 0 | O24: =(E24+G24-N24)/B24 -> 0.45762712 | P24: 58 | Q24: 3 | R24: 4 | S24: 0 | T24: 31
A25: 嘉義市政府 | B25: =[1]查復情形!B25 -> 27 | C25: =[1]查復情形!C25 -> 27 | D25: =C25/B25 -> 1 | E25: 27 | F25: 2 | G25: =[1]查復情形!G25 -> 27 | H25: =G25/B25 -> 1 | I25: 25 | J25: =G25-I25 -> 2 | K25: =I25/G25 -> 0.92592593 | L25: 0 | M25: =L25/F25 -> 0 | N25: 27 | O25: =(E25+G25-N25)/B25 -> 1 | P25: 27 | Q25: 0 | R25: 0 | S25: 0 | T25: 4
A26: 金門縣政府 | B26: =[1]查復情形!B26 -> 3 | C26: =[1]查復情形!C26 -> 3 | D26: =C26/B26 -> 1 | E26: 3 | F26: 0 | G26: =[1]查復情形!G26 -> 3 | H26: =G26/B26 -> 1 | I26: 3 | J26: =G26-I26 -> 0 | K26: =I26/G26 -> 1 | L26: 0 | M26: 0 | N26: 3 | O26: =(E26+G26-N26)/B26 -> 1 | P26: 1 | Q26: 0 | R26: 0 | S26: 0 | T26: 0
A27: 連江縣政府 | B27: =[1]查復情形!B27 -> 1 | C27: =[1]查復情形!C27 -> 1 | D27: =C27/B27 -> 1 | E27: 0 | F27: 0 | G27: =[1]查復情形!G27 -> 0 | H27: =G27/B27 -> 0 | I27: 0 | J27: =G27-I27 -> 0 | K27: 0 | L27: 0 | M27: 0 | N27: 0 | O27: =(E27+G27-N27)/B27 -> 0 | P27: 1 | Q27: 0 | R27: 0 | S27: 0 | T27: 1
A28: 合計 | B28: =SUM(B5:B27) -> 3193 | C28: =SUM(C5:C27) -> 3184 | D28: =C28/B28 -> 0.99718133 | E28: =SUM(E5:E27) -> 2309 | F28: =SUM(F5:F27) -> 257 | G28: =SUM(G5:G27) -> 2778 | H28: =G28/B28 -> 0.87002819 | I28: =SUM(I5:I27) -> 2523 | J28: =G28-I28 -> 255 | K28: =I28/G28 -> 0.90820734 | L28: =SUM(L5:L27) -> 214 | M28: =L28/F28 -> 0.83268482 | N28: =SUM(N5:N27) -> 2017 | O28: =(E28+G28-N28)/B28 -> 0.96147823 | P28: =SUM(P5:P27) -> 3043 | Q28: =SUM(Q5:Q27) -> 34 | R28: =SUM(R5:R27) -> 850 | S28: =SUM(S5:S27) -> 31 | T28: =SUM(T5:T27) -> 707

Sheet 4宗教
A1: 中央主管機關：內政部 宗教場所附設兒童遊戲場設施調查表
A2: 縣市別 | B2: 備查情形 | E2: 稽查情形 | P2: 取得研習證書家數 | Q2: 新設遊戲場兒少參與設計規劃會議或活動 | T2: 提供身心障礙兒童使用之遊戲設施
B3: 總家數(A) | C3: 備查家數(B) | D3: 完成備查比率%(C=B/A%) | E3: 113年 | G3: 114年 | N3: 113-114年 | Q3: 場次 | R3: 兒童人數 | T3: 家數
E4: 稽查家數(D1) | F4: 不合格(E) | G4: 稽查家數(D2) | H4: 稽查率(F=D2/A) | I4: 合格(I) | J4: 不合格(J=D2-I) | K4: 合格率%(K=I/D2) | L4: 113年不合格改善完成數(L) | M4: 改善率(M=L/E) | N4: 重複稽查家數(G) | O4: 稽查涵蓋率%(H=(D1+D2-G)/A) | R4: 一般 | S4: 身心障礙
A5: 全國性 | B5: 0 | C5: 0 | D5: 0 | E5: 0 | F5: 0 | G5: 0 | H5: 0 | I5: 0 | J5: =G5-I5 -> 0 | K5: 0 | L5: =I5-K5 -> 0 | M5: 0 | N5: =K5-M5 -> 0 | O5: 0 | P5: 0 | Q5: 0 | R5: 0 | S5: 0 | T5: 0
A6: 新北市政府 | B6: 0 | C6: 0 | D6: 0 | E6: 0 | F6: 0 | G6: 0 | H6: 0 | I6: 0 | J6: =G6-I6 -> 0 | K6: 0 | L6: =I6-K6 -> 0 | M6: 0 | N6: =K6-M6 -> 0 | O6: 0 | P6: 0 | Q6: 0 | R6: 0 | S6: 0 | T6: 0
A7: 臺北市政府 | B7: 0 | C7: 0 | D7: 0 | E7: 0 | F7: 0 | G7: 0 | H7: 0 | I7: 0 | J7: =G7-I7 -> 0 | K7: 0 | L7: =I7-K7 -> 0 | M7: 0 | N7: =K7-M7 -> 0 | O7: 0 | P7: 0 | Q7: 0 | R7: 0 | S7: 0 | T7: 0
A8: 桃園市政府 | B8: 0 | C8: 0 | D8: 0 | E8: 0 | F8: 0 | G8: 0 | H8: 0 | I8: 0 | J8: =G8-I8 -> 0 | K8: 0 | L8: =I8-K8 -> 0 | M8: 0 | N8: =K8-M8 -> 0 | O8: 0 | P8: 0 | Q8: 0 | R8: 0 | S8: 0 | T8: 0
A9: 臺中市政府 | B9: 0 | C9: 0 | D9: 0 | E9: 0 | F9: 0 | G9: 0 | H9: 0 | I9: 0 | J9: =G9-I9 -> 0 | K9: 0 | L9: =I9-K9 -> 0 | M9: 0 | N9: =K9-M9 -> 0 | O9: 0 | P9: 0 | Q9: 0 | R9: 0 | S9: 0 | T9: 0
A10: 臺南市政府 | B10: 1 | C10: 1 | D10: =C10/B10 -> 1 | E10: 1 | F10: 0 | G10: 1 | H10: =G10/B10 -> 1 | I10: 1 | J10: =G10-I10 -> 0 | K10: =I10/G10 -> 1 | L10: 0 | M10: 0 | N10: 1 | O10: =(E10+G10-N10)/B10 -> 1 | P10: 1 | Q10: 0 | R10: 0 | S10: 0 | T10: 0
A11: 高雄市政府 | B11: 1 | C11: 1 | D11: =C11/B11 -> 1 | E11: 1 | F11: 0 | G11: 1 | H11: =G11/B11 -> 1 | I11: 1 | J11: =G11-I11 -> 0 | K11: =I11/G11 -> 1 | L11: 0 | M11: 0 | N11: 1 | O11: =(E11+G11-N11)/B11 -> 1 | P11: 1 | Q11: 0 | R11: 0 | S11: 0 | T11: 0
A12: 宜蘭縣政府 | B12: 0 | C12: 0 | D12: 0 | E12: 0 | F12: 0 | G12: 0 | H12: 0 | I12: 0 | J12: =G12-I12 -> 0 | K12: 0 | L12: 0 | M12: 0 | N12: =K12-M12 -> 0 | O12: 0 | P12: 0 | Q12: 0 | R12: 0 | S12: 0 | T12: 0
A13: 新竹縣政府 | B13: 0 | C13: 0 | D13: 0 | E13: 0 | F13: 0 | G13: 0 | H13: 0 | I13: 0 | J13: =G13-I13 -> 0 | K13: 0 | L13: 0 | M13: 0 | N13: 0 | O13: 0 | P13: 0 | Q13: 0 | R13: 0 | S13: 0 | T13: 0
A14: 苗栗縣政府 | B14: 1 | C14: 0 | D14: =C14/B14 -> 0 | E14: 1 | F14: 1 | G14: 0 | H14: =G14/B14 -> 0 | I14: 0 | J14: =G14-I14 -> 0 | K14: 0 | L14: =I14-K14 -> 0 | M14: =L14/F14 -> 0 | N14: 0 | O14: =(E14+G14-N14)/B14 -> 1 | P14: 0 | Q14: 0 | R14: 0 | S14: 0 | T14: 0
A15: 彰化縣政府 | B15: 0 | C15: 0 | D15: 0 | E15: 0 | F15: 0 | G15: 0 | H15: 0 | I15: 0 | J15: =G15-I15 -> 0 | K15: 0 | L15: =I15-K15 -> 0 | M15: 0 | N15: 0 | O15: 0 | P15: 0 | Q15: 0 | R15: 0 | S15: 0 | T15: 0
A16: 南投縣政府 | B16: 0 | C16: 0 | D16: 0 | E16: 0 | F16: 0 | G16: 0 | H16: 0 | I16: 0 | J16: =G16-I16 -> 0 | K16: 0 | L16: 0 | M16: 0 | N16: 0 | O16: 0 | P16: 0 | Q16: 0 | R16: 0 | S16: 0 | T16: 0
A17: 雲林縣政府 | B17: 0 | C17: 0 | D17: 0 | E17: 0 | F17: 0 | G17: 0 | H17: 0 | I17: 0 | J17: =G17-I17 -> 0 | K17: 0 | L17: 0 | M17: 0 | N17: =K17-M17 -> 0 | O17: 0 | P17: 0 | Q17: 0 | R17: 0 | S17: 0 | T17: 0
A18: 嘉義縣政府 | B18: 0 | C18: 0 | D18: 0 | E18: 0 | F18: 0 | G18: 0 | H18: 0 | I18: 0 | J18: =G18-I18 -> 0 | K18: 0 | L18: 0 | M18: 0 | N18: =K18-M18 -> 0 | O18: 0 | P18: 0 | Q18: 0 | R18: 0 | S18: 0 | T18: 0
A19: 屏東縣政府 | B19: 0 | C19: 0 | D19: 0 | E19: 0 | F19: 0 | G19: 0 | H19: 0 | I19: 0 | J19: =G19-I19 -> 0 | K19: 0 | L19: 0 | M19: 0 | N19: 0 | O19: 0 | P19: 0 | Q19: 0 | R19: 0 | S19: 0 | T19: 0
A20: 臺東縣政府 | B20: 0 | C20: 0 | D20: 0 | E20: 0 | F20: 0 | G20: 0 | H20: 0 | I20: 0 | J20: =G20-I20 -> 0 | K20: 0 | L20: =I20-K20 -> 0 | M20: 0 | N20: 0 | O20: 0 | P20: 0 | Q20: 0 | R20: 0 | S20: 0 | T20: 0
A21: 花蓮縣政府 | B21: 0 | C21: 0 | D21: 0 | E21: 0 | F21: 0 | G21: 0 | H21: 0 | I21: 0 | J21: =G21-I21 -> 0 | K21: 0 | L21: =I21-K21 -> 0 | M21: 0 | N21: 0 | O21: 0 | P21: 0 | Q21: 0 | R21: 0 | S21: 0 | T21: 0
A22: 澎湖縣政府 | B22: 0 | C22: 0 | D22: 0 | E22: 0 | F22: 0 | G22: 0 | H22: 0 | I22: 0 | J22: =G22-I22 -> 0 | K22: 0 | L22: 0 | M22: 0 | N22: 0 | O22: 0 | P22: 0 | Q22: 0 | R22: 0 | S22: 0 | T22: 0
A23: 基隆市政府 | B23: 0 | C23: 0 | D23: 0 | E23: 0 | F23: 0 | G23: 0 | H23: 0 | I23: 0 | J23: =G23-I23 -> 0 | K23: 0 | L23: 0 | M23: 0 | N23: =K23-M23 -> 0 | O23: 0 | P23: 0 | Q23: 0 | R23: 0 | S23: 0 | T23: 0
A24: 新竹市政府 | B24: 0 | C24: 0 | D24: 0 | E24: 0 | F24: 0 | G24: 0 | H24: 0 | I24: 0 | J24: =G24-I24 -> 0 | K24: 0 | L24: 0 | M24: 0 | N24: 0 | O24: 0 | P24: 0 | Q24: 0 | R24: 0 | S24: 0 | T24: 0
A25: 嘉義市政府 | B25: 0 | C25: 0 | D25: 0 | E25: 0 | F25: 0 | G25: 0 | H25: 0 | I25: 0 | J25: =G25-I25 -> 0 | K25: 0 | L25: 0 | M25: 0 | N25: 0 | O25: 0 | P25: 0 | Q25: 0 | R25: 0 | S25: 0 | T25: 0
A26: 金門縣政府 | B26: 0 | C26: 0 | D26: 0 | E26: 0 | F26: 0 | G26: 0 | H26: 0 | I26: 0 | J26: =G26-I26 -> 0 | K26: 0 | L26: 0 | M26: 0 | N26: 0 | O26: 0 | P26: 0 | Q26: 0 | R26: 0 | S26: 0 | T26: 0
A27: 連江縣政府 | B27: 0 | C27: 0 | D27: 0 | E27: 0 | F27: 0 | G27: 0 | H27: 0 | I27: 0 | J27: =G27-I27 -> 0 | K27: 0 | L27: 0 | M27: 0 | N27: 0 | O27: 0 | P27: 0 | Q27: 0 | R27: 0 | S27: 0 | T27: 0
A28: 合計 | B28: =SUM(B5:B27) -> 3 | C28: =SUM(C5:C27) -> 2 | D28: =C28/B28 -> 0.66666667 | E28: =SUM(E5:E27) -> 3 | F28: =SUM(F5:F27) -> 1 | G28: =SUM(G5:G27) -> 2 | H28: =G28/B28 -> 0.66666667 | I28: =SUM(I5:I27) -> 2 | J28: =G28-I28 -> 0 | K28: =I28/G28 -> 1 | L28: =SUM(L5:L27) -> 0 | M28: 0 | N28: =SUM(N5:N27) -> 2 | O28: =(E28+G28-N28)/B28 -> 1 | P28: =SUM(P5:P27) -> 2 | Q28: =SUM(Q5:Q27) -> 0 | R28: =SUM(R5:R27) -> 0 | S28: =SUM(S5:S27) -> 0 | T28: =SUM(T5:T27) -> 0

Sheet 5文化
A1: 中央主管機關：文化部 文化機構附設兒童遊戲場設施調查表
A2: 縣市別 | B2: 備查情形 | E2: 稽查情形 | P2: 取得研習證書家數 | Q2: 新設遊戲場兒少參與設計規劃會議或活動 | T2: 提供身心障礙兒童使用之遊戲設施
B3: 總家數(A) | C3: 備查家數(B) | D3: 完成備查比率%(C=B/A%) | E3: 113年 | G3: 114年 | N3: 113-114年 | Q3: 場次 | R3: 兒童人數 | T3: 家數
E4: 稽查家數(D1) | F4: 不合格(E) | G4: 稽查家數(D2) | H4: 稽查率(F=D2/A) | I4: 合格(I) | J4: 不合格(J=D2-I) | K4: 合格率%(K=I/D2) | L4: 113年不合格改善完成數(L) | M4: 改善率(M=L/E) | N4: 重複稽查家數(G) | O4: 稽查涵蓋率%(H=(D1+D2-G)/A) | R4: 一般 | S4: 身心障礙
A5: 全國性 | B5: 3 | C5: 3 | D5: =C5/B5 -> 1 | E5: 3 | F5: 0 | G5: 3 | H5: =G5/B5 -> 1 | I5: 3 | J5: =G5-I5 -> 0 | K5: =I5/G5 -> 1 | L5: 0 | M5: 0 | N5: 3 | O5: =(E5+G5-N5)/B5 -> 1 | P5: 3 | Q5: 0 | R5: 0 | S5: 0 | T5: 0
A6: 新北市政府 | B6: 2 | C6: 2 | D6: =C6/B6 -> 1 | E6: 0 | F6: 0 | G6: 2 | H6: =G6/B6 -> 1 | I6: 2 | J6: =G6-I6 -> 0 | K6: =I6/G6 -> 1 | L6: 0 | M6: 0 | N6: 1 | O6: =(E6+G6-N6)/B6 -> 0.5 | P6: 2 | Q6: 0 | R6: 0 | S6: 0 | T6: 1
A7: 臺北市政府 | B7: 0 | C7: 0 | D7: 0 | E7: 0 | F7: 0 | G7: 0 | H7: 0 | I7: =F7-H7 -> 0 | J7: =G7-I7 -> 0 | K7: 0 | L7: 0 | M7: 0 | N7: 0 | O7: 0 | P7: 0 | Q7: 0 | R7: 0 | S7: 0 | T7: 0
A8: 桃園市政府 | B8: 1 | C8: 1 | D8: =C8/B8 -> 1 | E8: 0 | F8: 0 | G8: 1 | H8: =G8/B8 -> 1 | I8: 1 | J8: =G8-I8 -> 0 | K8: =I8/G8 -> 1 | L8: 0 | M8: 0 | N8: 0 | O8: =(E8+G8-N8)/B8 -> 1 | P8: 1 | Q8: 0 | R8: 0 | S8: 0 | T8: 1
A9: 臺中市政府 | B9: 0 | C9: 0 | D9: 0 | E9: 0 | F9: 0 | G9: 0 | H9: 0 | I9: =F9-H9 -> 0 | J9: =G9-I9 -> 0 | K9: 0 | L9: 0 | M9: 0 | N9: 0 | O9: 0 | P9: 0 | Q9: 0 | R9: 0 | S9: 0 | T9: 0
A10: 臺南市政府 | B10: 4 | C10: 4 | D10: =C10/B10 -> 1 | E10: 3 | F10: 0 | G10: 4 | H10: =G10/B10 -> 1 | I10: 4 | J10: =G10-I10 -> 0 | K10: =I10/G10 -> 1 | L10: 0 | M10: 0 | N10: 3 | O10: =(E10+G10-N10)/B10 -> 1 | P10: 4 | Q10: 0 | R10: 0 | S10: 0 | T10: 1
A11: 高雄市政府 | B11: 1 | C11: 1 | D11: =C11/B11 -> 1 | E11: 1 | F11: 0 | G11: 1 | H11: =G11/B11 -> 1 | I11: 1 | J11: =G11-I11 -> 0 | K11: =I11/G11 -> 1 | L11: 0 | M11: 0 | N11: 1 | O11: =(E11+G11-N11)/B11 -> 1 | P11: 1 | Q11: 0 | R11: 0 | S11: 0 | T11: 0
A12: 宜蘭縣政府 | B12: 0 | C12: 0 | D12: 0 | E12: 0 | F12: 0 | G12: 0 | H12: 0 | I12: =F12-H12 -> 0 | J12: =G12-I12 -> 0 | K12: 0 | L12: 0 | M12: 0 | N12: 0 | O12: 0 | P12: 0 | Q12: 0 | R12: 0 | S12: 0 | T12: 0
A13: 新竹縣政府 | B13: 0 | C13: 0 | D13: 0 | E13: 0 | F13: 0 | G13: 0 | H13: 0 | I13: =F13-H13 -> 0 | J13: =G13-I13 -> 0 | K13: 0 | L13: 0 | M13: 0 | N13: 0 | O13: 0 | P13: 0 | Q13: 0 | R13: 0 | S13: 0 | T13: 0
A14: 苗栗縣政府 | B14: 0 | C14: 0 | D14: 0 | E14: 0 | F14: 0 | G14: 0 | H14: 0 | I14: =F14-H14 -> 0 | J14: =G14-I14 -> 0 | K14: 0 | L14: 0 | M14: 0 | N14: 0 | O14: 0 | P14: 0 | Q14: 0 | R14: 0 | S14: 0 | T14: 0
A15: 彰化縣政府 | B15: 0 | C15: 0 | D15: 0 | E15: 0 | F15: 0 | G15: 0 | H15: 0 | I15: =F15-H15 -> 0 | J15: =G15-I15 -> 0 | K15: 0 | L15: 0 | M15: 0 | N15: 0 | O15: 0 | P15: 0 | Q15: 0 | R15: 0 | S15: 0 | T15: 0
A16: 南投縣政府 | B16: 0 | C16: 0 | D16: 0 | E16: 0 | F16: 0 | G16: 0 | H16: 0 | I16: =F16-H16 -> 0 | J16: =G16-I16 -> 0 | K16: 0 | L16: 0 | M16: 0 | N16: 0 | O16: 0 | P16: 0 | Q16: 0 | R16: 0 | S16: 0 | T16: 0
A17: 雲林縣政府 | B17: 0 | C17: 0 | D17: 0 | E17: 0 | F17: 0 | G17: 0 | H17: 0 | I17: =F17-H17 -> 0 | J17: =G17-I17 -> 0 | K17: 0 | L17: 0 | M17: 0 | N17: 0 | O17: 0 | P17: 0 | Q17: 0 | R17: 0 | S17: 0 | T17: 0
A18: 嘉義縣政府 | B18: 0 | C18: 0 | D18: 0 | E18: 0 | F18: 0 | G18: 0 | H18: 0 | I18: =F18-H18 -> 0 | J18: =G18-I18 -> 0 | K18: 0 | L18: 0 | M18: 0 | N18: 0 | O18: 0 | P18: 0 | Q18: 0 | R18: 0 | S18: 0 | T18: 0
A19: 屏東縣政府 | B19: 1 | C19: 1 | D19: =C19/B19 -> 1 | E19: 1 | F19: 0 | G19: 1 | H19: =G19/B19 -> 1 | I19: 1 | J19: =G19-I19 -> 0 | K19: =I19/G19 -> 1 | L19: 0 | M19: 0 | N19: 1 | O19: =(E19+G19-N19)/B19 -> 1 | P19: 1 | Q19: 0 | R19: 0 | S19: 0 | T19: 0
A20: 臺東縣政府 | B20: 0 | C20: 0 | D20: 0 | E20: 0 | F20: 0 | G20: 0 | H20: 0 | I20: =F20-H20 -> 0 | J20: =G20-I20 -> 0 | K20: 0 | L20: 0 | M20: 0 | N20: 0 | O20: 0 | P20: 0 | Q20: 0 | R20: 0 | S20: 0 | T20: 0
A21: 花蓮縣政府 | B21: 0 | C21: 0 | D21: 0 | E21: 0 | F21: 0 | G21: 0 | H21: 0 | I21: =F21-H21 -> 0 | J21: =G21-I21 -> 0 | K21: 0 | L21: 0 | M21: 0 | N21: 0 | O21: 0 | P21: 0 | Q21: 0 | R21: 0 | S21: 0 | T21: 0
A22: 澎湖縣政府 | B22: 0 | C22: 0 | D22: 0 | E22: 0 | F22: 0 | G22: 0 | H22: 0 | I22: =F22-H22 -> 0 | J22: =G22-I22 -> 0 | K22: 0 | L22: 0 | M22: 0 | N22: 0 | O22: 0 | P22: 0 | Q22: 0 | R22: 0 | S22: 0 | T22: 0
A23: 基隆市政府 | B23: 1 | C23: 1 | D23: =C23/B23 -> 1 | E23: 1 | F23: 0 | G23: 0 | H23: =G23/B23 -> 0 | I23: 0 | J23: 0 | K23: 0 | L23: 0 | M23: 0 | N23: 0 | O23: =(E23+G23-N23)/B23 -> 1 | P23: 0 | Q23: 0 | R23: 0 | S23: 0 | T23: 0
A24: 新竹市政府 | B24: 0 | C24: 0 | D24: 0 | E24: 0 | F24: 0 | G24: 0 | H24: 0 | I24: =F24-H24 -> 0 | J24: =G24-I24 -> 0 | K24: 0 | L24: 0 | M24: 0 | N24: 0 | O24: 0 | P24: 0 | Q24: 0 | R24: 0 | S24: 0 | T24: 0
A25: 嘉義市政府 | B25: 0 | C25: 0 | D25: 0 | E25: 0 | F25: 0 | G25: 0 | H25: 0 | I25: =F25-H25 -> 0 | J25: =G25-I25 -> 0 | K25: 0 | L25: 0 | M25: 0 | N25: 0 | O25: 0 | P25: 0 | Q25: 0 | R25: 0 | S25: 0 | T25: 0
A26: 金門縣政府 | B26: 0 | C26: 0 | D26: 0 | E26: 0 | F26: 0 | G26: 0 | H26: 0 | I26: =F26-H26 -> 0 | J26: =G26-I26 -> 0 | K26: 0 | L26: 0 | M26: 0 | N26: 0 | O26: 0 | P26: 0 | Q26: 0 | R26: 0 | S26: 0 | T26: 0
A27: 連江縣政府 | B27: 0 | C27: 0 | D27: 0 | E27: 0 | F27: 0 | G27: 0 | H27: 0 | I27: =F27-H27 -> 0 | J27: =G27-I27 -> 0 | K27: 0 | L27: 0 | M27: 0 | N27: 0 | O27: 0 | P27: 0 | Q27: 0 | R27: 0 | S27: 0 | T27: 0
A28: 合計 | B28: =SUM(B5:B27) -> 13 | C28: =SUM(C5:C27) -> 13 | D28: =C28/B28 -> 1 | E28: =SUM(E5:E27) -> 9 | F28: =SUM(F5:F27) -> 0 | G28: =SUM(G5:G27) -> 12 | H28: =G28/B28 -> 0.92307692 | I28: =SUM(I5:I27) -> 12 | J28: =G28-I28 -> 0 | K28: =I28/G28 -> 1 | L28: 0 | M28: 0 | N28: =SUM(N5:N27) -> 9 | O28: =(E28+G28-N28)/B28 -> 0.92307692 | P28: =SUM(P5:P27) -> 12 | Q28: =SUM(Q5:Q27) -> 0 | R28: =SUM(R5:R27) -> 0 | S28: =SUM(S5:S27) -> 0 | T28: =SUM(T5:T27) -> 3

Sheet 6專營
A1: 中央主管機關：經濟部 專營、百貨兒童遊戲場設施調查表
A2: 縣市別 | B2: 備查情形 | E2: 稽查情形 | P2: 取得研習證書家數 | Q2: 新設遊戲場兒少參與設計規劃會議或活動 | T2: 提供身心障礙兒童使用之遊戲設施
B3: 總家數(A) | C3: 備查家數(B) | D3: 完成備查比率%(C=B/A%) | E3: 113年 | G3: 114年 | N3: 113-114年 | Q3: 場次 | R3: 兒童人數 | T3: 家數
E4: 稽查家數(D1) | F4: 不合格(E) | G4: 稽查家數(D2) | H4: 稽查率(F=D2/A) | I4: 合格(I) | J4: 不合格(J=D2-I) | K4: 合格率%(K=I/D2) | L4: 113年不合格改善完成數(L) | M4: 改善率(M=L/E) | N4: 重複稽查家數(G) | O4: 稽查涵蓋率%(H=(D1+D2-G)/A) | R4: 一般 | S4: 身心障礙
A5: 全國性 | B5: 0 | C5: 0 | D5: 0 | E5: 0 | F5: 0 | G5: 0 | H5: 0 | I5: 0 | J5: =G5-I5 -> 0 | K5: 0 | L5: 0 | M5: 0 | N5: 0 | O5: 0 | P5: 0 | Q5: 0 | R5: 0 | S5: 0 | T5: 0
A6: 新北市政府 | B6: 9 | C6: 7 | D6: =C6/B6 -> 0.77777778 | E6: 12 | F6: 0 | G6: 9 | H6: =G6/B6 -> 1 | I6: 7 | J6: =G6-I6 -> 2 | K6: =I6/G6 -> 0.77777778 | L6: 0 | M6: 0 | N6: 8 | O6: 1 | P6: 9 | Q6: 0 | R6: 0 | S6: 0 | T6: 0
A7: 臺北市政府 | B7: =[2]查復情形!B7 -> 6 | C7: =[2]查復情形!C7 -> 6 | D7: =C7/B7 -> 1 | E7: 4 | F7: 0 | G7: 6 | H7: =G7/B7 -> 1 | I7: 5 | J7: =G7-I7 -> 1 | K7: =I7/G7 -> 0.83333333 | L7: 0 | M7: 0 | N7: 4 | O7: =(E7+G7-N7)/B7 -> 1 | P7: 6 | Q7: 0 | R7: 0 | S7: 0 | T7: 0
A8: 桃園市政府 | B8: =[2]查復情形!B8 -> 4 | C8: =[2]查復情形!C8 -> 4 | D8: =C8/B8 -> 1 | E8: 7 | F8: 0 | G8: 4 | H8: =G8/B8 -> 1 | I8: 4 | J8: =G8-I8 -> 0 | K8: =I8/G8 -> 1 | L8: 0 | M8: 0 | N8: 4 | O8: 1 | P8: 4 | Q8: 0 | R8: 0 | S8: 0 | T8: 0
A9: 臺中市政府 | B9: =[2]查復情形!B9 -> 4 | C9: =[2]查復情形!C9 -> 4 | D9: =C9/B9 -> 1 | E9: 2 | F9: 0 | G9: 4 | H9: =G9/B9 -> 1 | I9: 4 | J9: =G9-I9 -> 0 | K9: =I9/G9 -> 1 | L9: 0 | M9: 0 | N9: 2 | O9: =(E9+G9-N9)/B9 -> 1 | P9: 4 | Q9: 0 | R9: 0 | S9: 0 | T9: 0
A10: 臺南市政府 | B10: =[2]查復情形!B10 -> 2 | C10: =[2]查復情形!C10 -> 2 | D10: =C10/B10 -> 1 | E10: 3 | F10: 0 | G10: 2 | H10: =G10/B10 -> 1 | I10: 2 | J10: =G10-I10 -> 0 | K10: =I10/G10 -> 1 | L10: 0 | M10: 0 | N10: 2 | O10: 1 | P10: 2 | Q10: 0 | R10: 0 | S10: 0 | T10: 0
A11: 高雄市政府 | B11: =[2]查復情形!B11 -> 6 | C11: =[2]查復情形!C11 -> 6 | D11: =C11/B11 -> 1 | E11: 7 | F11: 0 | G11: 6 | H11: =G11/B11 -> 1 | I11: 6 | J11: =G11-I11 -> 0 | K11: =I11/G11 -> 1 | L11: 0 | M11: 0 | N11: 6 | O11: 1 | P11: 6 | Q11: 0 | R11: 0 | S11: 0 | T11: 0
A12: 宜蘭縣政府 | B12: =[2]查復情形!B12 -> 1 | C12: =[2]查復情形!C12 -> 1 | D12: =C12/B12 -> 1 | E12: 1 | F12: 1 | G12: 1 | H12: =G12/B12 -> 1 | I12: 1 | J12: =G12-I12 -> 0 | K12: =I12/G12 -> 1 | L12: 1 | M12: =L12/F12 -> 1 | N12: 1 | O12: =(E12+G12-N12)/B12 -> 1 | P12: 1 | Q12: 0 | R12: 0 | S12: 0 | T12: 1
A13: 新竹縣政府 | B13: =[2]查復情形!B13 -> 3 | C13: =[2]查復情形!C13 -> 3 | D13: =C13/B13 -> 1 | E13: 2 | F13: 2 | G13: 3 | H13: =G13/B13 -> 1 | I13: 1 | J13: =G13-I13 -> 2 | K13: =I13/G13 -> 0.33333333 | L13: 0 | M13: =L13/F13 -> 0 | N13: 2 | O13: =(E13+G13-N13)/B13 -> 1 | P13: 1 | Q13: 0 | R13: 0 | S13: 0 | T13: 0
A14: 苗栗縣政府 | B14: =[2]查復情形!B14 -> 0 | C14: =[2]查復情形!C14 -> 0 | D14: 0 | E14: 0 | F14: 0 | G14: 0 | H14: 0 | I14: 0 | J14: =G14-I14 -> 0 | K14: 0 | L14: 0 | M14: 0 | N14: 0 | O14: 0 | P14: 0 | Q14: 0 | R14: 0 | S14: 0 | T14: 0
A15: 彰化縣政府 | B15: =[2]查復情形!B15 -> 2 | C15: =[2]查復情形!C15 -> 2 | D15: =C15/B15 -> 1 | E15: 2 | F15: 0 | G15: 2 | H15: =G15/B15 -> 1 | I15: 2 | J15: =G15-I15 -> 0 | K15: =I15/G15 -> 1 | L15: 0 | M15: 0 | N15: 2 | O15: =(E15+G15-N15)/B15 -> 1 | P15: 1 | Q15: 0 | R15: 0 | S15: 0 | T15: 0
A16: 南投縣政府 | B16: =[2]查復情形!B16 -> 0 | C16: =[2]查復情形!C16 -> 0 | D16: 0 | E16: 0 | F16: 0 | G16: 0 | H16: 0 | I16: 0 | J16: =G16-I16 -> 0 | K16: 0 | L16: 0 | M16: 0 | N16: 0 | O16: 0 | P16: 0 | Q16: 0 | R16: 0 | S16: 0 | T16: 0
A17: 雲林縣政府 | B17: =[2]查復情形!B17 -> 0 | C17: =[2]查復情形!C17 -> 0 | D17: 0 | E17: 0 | F17: 0 | G17: 0 | H17: 0 | I17: 0 | J17: =G17-I17 -> 0 | K17: 0 | L17: 0 | M17: 0 | N17: 0 | O17: 0 | P17: 0 | Q17: 0 | R17: 0 | S17: 0 | T17: 0
A18: 嘉義縣政府 | B18: =[2]查復情形!B18 -> 3 | C18: =[2]查復情形!C18 -> 3 | D18: =C18/B18 -> 1 | E18: 3 | F18: 0 | G18: 3 | H18: =G18/B18 -> 1 | I18: 3 | J18: =G18-I18 -> 0 | K18: =I18/G18 -> 1 | L18: 0 | M18: 0 | N18: 3 | O18: =(E18+G18-N18)/B18 -> 1 | P18: 3 | Q18: 0 | R18: 0 | S18: 0 | T18: 0
A19: 屏東縣政府 | B19: =[2]查復情形!B19 -> 1 | C19: =[2]查復情形!C19 -> 1 | D19: =C19/B19 -> 1 | E19: 1 | F19: 0 | G19: 1 | H19: =G19/B19 -> 1 | I19: 1 | J19: =G19-I19 -> 0 | K19: =I19/G19 -> 1 | L19: 0 | M19: 0 | N19: 1 | O19: =(E19+G19-N19)/B19 -> 1 | P19: 1 | Q19: 0 | R19: 0 | S19: 0 | T19: 0
A20: 臺東縣政府 | B20: =[2]查復情形!B20 -> 0 | C20: =[2]查復情形!C20 -> 0 | D20: 0 | E20: 0 | F20: 0 | G20: 0 | H20: 0 | I20: 0 | J20: =G20-I20 -> 0 | K20: 0 | L20: 0 | M20: 0 | N20: 0 | O20: 0 | P20: 0 | Q20: 0 | R20: 0 | S20: 0 | T20: 0
A21: 花蓮縣政府 | B21: 1 | C21: 1 | D21: 0 | E21: 0 | F21: 0 | G21: 0 | H21: 0 | I21: 0 | J21: =G21-I21 -> 0 | K21: 0 | L21: 0 | M21: 0 | N21: 0 | O21: 0 | P21: 1 | Q21: 0 | R21: 0 | S21: 0 | T21: 0
A22: 澎湖縣政府 | B22: =[2]查復情形!B22 -> 0 | C22: =[2]查復情形!C22 -> 0 | D22: 0 | E22: 0 | F22: 0 | G22: 0 | H22: 0 | I22: 0 | J22: =G22-I22 -> 0 | K22: 0 | L22: 0 | M22: 0 | N22: 0 | O22: 0 | P22: 0 | Q22: 0 | R22: 0 | S22: 0 | T22: 0
A23: 基隆市政府 | B23: =[2]查復情形!B23 -> 0 | C23: =[2]查復情形!C23 -> 0 | D23: 0 | E23: 1 | F23: 0 | G23: 0 | H23: 0 | I23: 0 | J23: =G23-I23 -> 0 | K23: 0 | L23: 0 | M23: 0 | N23: 0 | O23: 0 | P23: 0 | Q23: 0 | R23: 0 | S23: 0 | T23: 0
A24: 新竹市政府 | B24: =[2]查復情形!B24 -> 3 | C24: =[2]查復情形!C24 -> 3 | D24: =C24/B24 -> 1 | E24: 3 | F24: 0 | G24: 3 | H24: =G24/B24 -> 1 | I24: 3 | J24: =G24-I24 -> 0 | K24: =I24/G24 -> 1 | L24: 0 | M24: 0 | N24: 3 | O24: =(E24+G24-N24)/B24 -> 1 | P24: 3 | Q24: 0 | R24: 0 | S24: 0 | T24: 0
A25: 嘉義市政府 | B25: =[2]查復情形!B25 -> 1 | C25: =[2]查復情形!C25 -> 1 | D25: =C25/B25 -> 1 | E25: 1 | F25: 0 | G25: 1 | H25: =G25/B25 -> 1 | I25: 1 | J25: =G25-I25 -> 0 | K25: =I25/G25 -> 1 | L25: 0 | M25: 0 | N25: 2 | O25: =(E25+G25-N25)/B25 -> 0 | P25: 1 | Q25: 1 | R25: 0 | S25: 0 | T25: 0
A26: 金門縣政府 | B26: =[2]查復情形!B26 -> 0 | C26: =[2]查復情形!C26 -> 0 | D26: 0 | E26: 0 | F26: 0 | G26: 0 | H26: 0 | I26: 0 | J26: =G26-I26 -> 0 | K26: 0 | L26: 0 | M26: 0 | N26: 0 | O26: 0 | P26: 0 | Q26: 0 | R26: 0 | S26: 0 | T26: 0
A27: 連江縣政府 | B27: =[2]查復情形!B27 -> 0 | C27: =[2]查復情形!C27 -> 0 | D27: 0 | E27: 0 | F27: 0 | G27: 0 | H27: 0 | I27: 0 | J27: =G27-I27 -> 0 | K27: 0 | L27: 0 | M27: 0 | N27: 0 | O27: 0 | P27: 0 | Q27: 0 | R27: 0 | S27: 0 | T27: 0
A28: 合計 | B28: =SUM(B5:B27) -> 46 | C28: =SUM(C5:C27) -> 44 | D28: =C28/B28 -> 0.95652174 | E28: =SUM(E5:E27) -> 49 | F28: =SUM(F5:F27) -> 3 | G28: =SUM(G5:G27) -> 45 | H28: =G28/B28 -> 0.97826087 | I28: =SUM(I5:I27) -> 40 | J28: =G28-I28 -> 5 | K28: =I28/G28 -> 0.88888889 | L28: =SUM(L5:L27) -> 1 | M28: =L28/F28 -> 0.33333333 | N28: =SUM(N5:N27) -> 40 | O28: 1 | P28: =SUM(P5:P27) -> 43 | Q28: =SUM(Q5:Q27) -> 1 | R28: =SUM(R5:R27) -> 0 | S28: =SUM(S5:S27) -> 0 | T28: =SUM(T5:T27) -> 1
A29: 備註：新北市、桃園市、台南市、高雄市113年專營、百貨兒童遊戲場數大於114年，稽查涵蓋率大於100%，以100%計。

Sheet 7水利
A1: 中央主管機關：經濟部 水庫、水利附設兒童遊戲場設施調查表
A2: 縣市別 | B2: 備查情形 | E2: 稽查情形 | P2: 取得研習證書家數 | Q2: 新設遊戲場兒少參與設計規劃會議或活動 | T2: 提供身心障礙兒童使用之遊戲設施
B3: 總家數(A) | C3: 備查家數(B) | D3: 完成備查比率%(C=B/A%) | E3: 113年 | G3: 114年 | N3: 113-114年 | Q3: 場次 | R3: 兒童人數 | T3: 家數
E4: 稽查家數(D1) | F4: 不合格(E) | G4: 稽查家數(D2) | H4: 稽查率(F=D2/A) | I4: 合格(I) | J4: 不合格(J=D2-I) | K4: 合格率%(K=I/D2) | L4: 113年不合格改善完成數(L) | M4: 改善率(M=L/E) | N4: 重複稽查家數(G) | O4: 稽查涵蓋率%(H=(D1+D2-G)/A) | R4: 一般 | S4: 身心障礙
A5: 全國性 | B5: 2 | C5: 2 | D5: =C5/B5 -> 1 | E5: 0 | F5: 0 | G5: 1 | H5: =G5/B5 -> 0.5 | I5: 1 | J5: =G5-I5 -> 0 | K5: 0 | L5: 0 | M5: 0 | N5: 1 | O5: =(E5+G5-N5)/B5 -> 0 | P5: 2 | Q5: 0 | R5: 0 | S5: 0 | T5: 0
A6: 新北市政府 | B6: 22 | C6: 22 | D6: =C6/B6 -> 1 | E6: 16 | F6: 0 | G6: 21 | H6: =G6/B6 -> 0.95454545 | I6: 21 | J6: =G6-I6 -> 0 | K6: 0 | L6: 0 | M6: 0 | N6: 16 | O6: =(E6+G6-N6)/B6 -> 0.95454545 | P6: 22 | Q6: 0 | R6: 0 | S6: 0 | T6: 3
A7: 臺北市政府 | B7: 20 | C7: 20 | D7: =C7/B7 -> 1 | E7: 26 | F7: 11 | G7: 20 | H7: =G7/B7 -> 1 | I7: 14 | J7: =G7-I7 -> 6 | K7: 0 | L7: 6 | M7: =L7/F7 -> 0.54545455 | N7: 20 | O7: 1 | P7: 20 | Q7: 0 | R7: 0 | S7: 0 | T7: 3
A8: 桃園市政府 | B8: 1 | C8: 1 | D8: =C8/B8 -> 1 | E8: 1 | F8: 0 | G8: 1 | H8: =G8/B8 -> 1 | I8: 1 | J8: =G8-I8 -> 0 | K8: 0 | L8: 1 | M8: 1 | N8: 1 | O8: =(E8+G8-N8)/B8 -> 1 | P8: 1 | Q8: 0 | R8: 0 | S8: 0 | T8: 0
A9: 臺中市政府 | B9: 0 | C9: 0 | D9: 0 | E9: 0 | F9: 0 | G9: 0 | H9: 0 | I9: =F9-H9 -> 0 | J9: =G9-I9 -> 0 | K9: 0 | L9: 0 | M9: 0 | N9: 0 | O9: 0 | P9: 0 | Q9: 0 | R9: 0 | S9: 0 | T9: 0
A10: 臺南市政府 | B10: 0 | C10: 0 | D10: 0 | E10: 0 | F10: 0 | G10: 0 | H10: 0 | I10: =F10-H10 -> 0 | J10: =G10-I10 -> 0 | K10: 0 | L10: 0 | M10: 0 | N10: 0 | O10: 0 | P10: 0 | Q10: 0 | R10: 0 | S10: 0 | T10: 0
A11: 高雄市政府 | B11: 0 | C11: 0 | D11: 0 | E11: 0 | F11: 0 | G11: 0 | H11: 0 | I11: =F11-H11 -> 0 | J11: =G11-I11 -> 0 | K11: 0 | L11: 0 | M11: 0 | N11: 0 | O11: 0 | P11: 0 | Q11: 0 | R11: 0 | S11: 0 | T11: 0
A12: 宜蘭縣政府 | B12: 0 | C12: 0 | D12: 0 | E12: 0 | F12: 0 | G12: 0 | H12: 0 | I12: =F12-H12 -> 0 | J12: =G12-I12 -> 0 | K12: 0 | L12: 0 | M12: 0 | N12: 0 | O12: 0 | P12: 0 | Q12: 0 | R12: 0 | S12: 0 | T12: 0
A13: 新竹縣政府 | B13: 0 | C13: 0 | D13: 0 | E13: 0 | F13: 0 | G13: 0 | H13: 0 | I13: =F13-H13 -> 0 | J13: =G13-I13 -> 0 | K13: 0 | L13: 0 | M13: 0 | N13: 0 | O13: 0 | P13: 0 | Q13: 0 | R13: 0 | S13: 0 | T13: 0
A14: 苗栗縣政府 | B14: 0 | C14: 0 | D14: 0 | E14: 0 | F14: 0 | G14: 0 | H14: 0 | I14: =F14-H14 -> 0 | J14: =G14-I14 -> 0 | K14: 0 | L14: 0 | M14: 0 | N14: 0 | O14: 0 | P14: 0 | Q14: 0 | R14: 0 | S14: 0 | T14: 0
A15: 彰化縣政府 | B15: 1 | C15: 1 | D15: =C15/B15 -> 1 | E15: 1 | F15: 0 | G15: 1 | H15: =G15/B15 -> 1 | I15: 1 | J15: =G15-I15 -> 0 | K15: 0 | L15: 0 | M15: 0 | N15: 1 | O15: =(E15+G15-N15)/B15 -> 1 | P15: 1 | Q15: 0 | R15: 0 | S15: 0 | T15: 0
A16: 南投縣政府 | B16: 0 | C16: 0 | D16: 0 | E16: 0 | F16: 0 | G16: 0 | H16: 0 | I16: =F16-H16 -> 0 | J16: =G16-I16 -> 0 | K16: 0 | L16: 0 | M16: 0 | N16: 0 | O16: 0 | P16: 0 | Q16: 0 | R16: 0 | S16: 0 | T16: 0
A17: 雲林縣政府 | B17: 1 | C17: 1 | D17: =C17/B17 -> 1 | E17: 1 | F17: 0 | G17: 1 | H17: =G17/B17 -> 1 | I17: 1 | J17: 0 | K17: =I17/G17 -> 1 | L17: 0 | M17: 0 | N17: 1 | O17: =(E17+G17-N17)/B17 -> 1 | P17: 1 | Q17: 0 | R17: 0 | S17: 0 | T17: 0
A18: 嘉義縣政府 | B18: 0 | C18: 0 | D18: 0 | E18: 0 | F18: 0 | G18: 0 | H18: 0 | I18: =F18-H18 -> 0 | J18: =G18-I18 -> 0 | K18: 0 | L18: 0 | M18: 0 | N18: 0 | O18: 0 | P18: 0 | Q18: 0 | R18: 0 | S18: 0 | T18: 0
A19: 屏東縣政府 | B19: 0 | C19: 0 | D19: 0 | E19: 0 | F19: 0 | G19: 0 | H19: 0 | I19: =F19-H19 -> 0 | J19: =G19-I19 -> 0 | K19: 0 | L19: 0 | M19: 0 | N19: 0 | O19: 0 | P19: 0 | Q19: 0 | R19: 0 | S19: 0 | T19: 0
A20: 臺東縣政府 | B20: 0 | C20: 0 | D20: 0 | E20: 0 | F20: 0 | G20: 0 | H20: 0 | I20: 0 | J20: =G20-I20 -> 0 | K20: 0 | L20: 0 | M20: 0 | N20: 0 | O20: 0 | P20: 0 | Q20: 0 | R20: 0 | S20: 0 | T20: 0
A21: 花蓮縣政府 | B21: 0 | C21: 0 | D21: 0 | E21: 0 | F21: 0 | G21: 0 | H21: 0 | I21: 0 | J21: =G21-I21 -> 0 | K21: 0 | L21: 0 | M21: 0 | N21: 0 | O21: 0 | P21: 0 | Q21: 0 | R21: 0 | S21: 0 | T21: 0
A22: 澎湖縣政府 | B22: 0 | C22: 0 | D22: 0 | E22: 0 | F22: 0 | G22: 0 | H22: 0 | I22: 0 | J22: =G22-I22 -> 0 | K22: 0 | L22: 0 | M22: 0 | N22: 0 | O22: 0 | P22: 0 | Q22: 0 | R22: 0 | S22: 0 | T22: 0
A23: 基隆市政府 | B23: 0 | C23: 0 | D23: 0 | E23: 0 | F23: 0 | G23: 0 | H23: 0 | I23: 0 | J23: =G23-I23 -> 0 | K23: 0 | L23: 0 | M23: 0 | N23: 0 | O23: 0 | P23: 0 | Q23: 0 | R23: 0 | S23: 0 | T23: 0
A24: 新竹市政府 | B24: 0 | C24: 0 | D24: 0 | E24: 0 | F24: 0 | G24: 0 | H24: 0 | I24: 0 | J24: =G24-I24 -> 0 | K24: 0 | L24: 0 | M24: 0 | N24: 0 | O24: 0 | P24: 0 | Q24: 0 | R24: 0 | S24: 0 | T24: 0
A25: 嘉義市政府 | B25: 0 | C25: 0 | D25: 0 | E25: 0 | F25: 0 | G25: 0 | H25: 0 | I25: 0 | J25: =G25-I25 -> 0 | K25: 0 | L25: 0 | M25: 0 | N25: 0 | O25: 0 | P25: 0 | Q25: 0 | R25: 0 | S25: 0 | T25: 0
A26: 金門縣政府 | B26: 0 | C26: 0 | D26: 0 | E26: 0 | F26: 0 | G26: 0 | H26: 0 | I26: =F26-H26 -> 0 | J26: =G26-I26 -> 0 | K26: 0 | L26: 0 | M26: 0 | N26: 0 | O26: 0 | P26: 0 | Q26: 0 | R26: 0 | S26: 0 | T26: 0
A27: 連江縣政府 | B27: 0 | C27: 0 | D27: 0 | E27: 0 | F27: 0 | G27: 0 | H27: 0 | I27: =F27-H27 -> 0 | J27: =G27-I27 -> 0 | K27: 0 | L27: 0 | M27: 0 | N27: 0 | O27: 0 | P27: 0 | Q27: 0 | R27: 0 | S27: 0 | T27: 0
A28: 合計 | B28: =SUM(B5:B27) -> 47 | C28: =SUM(C5:C27) -> 47 | D28: =C28/B28 -> 1 | E28: =SUM(E5:E27) -> 45 | F28: =SUM(F5:F27) -> 11 | G28: =SUM(G5:G27) -> 45 | H28: =G28/B28 -> 0.95744681 | I28: =SUM(I5:I27) -> 39 | J28: =G28-I28 -> 6 | K28: =I28/G28 -> 0.86666667 | L28: =SUM(L5:L27) -> 7 | M28: =L28/F28 -> 0.63636364 | N28: =SUM(N5:N27) -> 40 | O28: 1 | P28: =SUM(P5:P27) -> 47 | Q28: =SUM(Q5:Q27) -> 0 | R28: =SUM(R5:R27) -> 0 | S28: =SUM(S5:S27) -> 0 | T28: =SUM(T5:T27) -> 6
A29: 備註：臺北市政府113年附設水庫、水利兒童遊戲場數大於114年，稽查涵蓋率大於100%，以100%計。

Sheet 8樂園
A1: 中央主管機關：交通部 樂園、飯店附設兒童遊戲場設施調查表
A2: 縣市別 | B2: 備查情形 | E2: 稽查情形 | P2: 取得研習證書家數 | Q2: 新設遊戲場兒少參與設計規劃會議或活動 | T2: 提供身心障礙兒童使用之遊戲設施
B3: 總家數(A) | C3: 備查家數(B) | D3: 完成備查比率%(C=B/A%) | E3: 113年 | G3: 114年 | N3: 113-114年 | Q3: 場次 | R3: 兒童人數 | T3: 家數
E4: 稽查家數(D1) | F4: 不合格(E) | G4: 稽查家數(D2) | H4: 稽查率(F=D2/A) | I4: 合格(I) | J4: 不合格(J=D2-I) | K4: 合格率%(K=I/D2) | L4: 113年不合格改善完成數(L) | M4: 改善率(M=L/E) | N4: 重複稽查家數(G) | O4: 稽查涵蓋率%(H=(D1+D2-G)/A) | R4: 一般 | S4: 身心障礙
A5: 全國性 | B5: 17 | C5: 17 | D5: =C5/B5 -> 1 | E5: 10 | F5: 0 | G5: 10 | H5: =G5/B5 -> 0.58823529 | I5: 10 | J5: =G5-I5 -> 0 | K5: =I5/G5 -> 1 | L5: 0 | M5: 0 | N5: 3 | O5: =(E5+G5-N5)/B5 -> 1 | P5: 17 | Q5: 0 | R5: 0 | S5: 0 | T5: 0
A6: 新北市政府 | B6: 6 | C6: 6 | D6: =C6/B6 -> 1 | E6: 6 | F6: 0 | G6: 6 | H6: =G6/B6 -> 1 | I6: 6 | J6: =G6-I6 -> 0 | K6: =I6/G6 -> 1 | L6: 0 | M6: 0 | N6: 6 | O6: =(E6+G6-N6)/B6 -> 1 | P6: 5 | Q6: 0 | R6: 0 | S6: 0 | T6: 0
A7: 臺北市政府 | B7: 2 | C7: 2 | D7: =C7/B7 -> 1 | E7: 2 | F7: 0 | G7: 2 | H7: =G7/B7 -> 1 | I7: 2 | J7: =G7-I7 -> 0 | K7: =I7/G7 -> 1 | L7: 0 | M7: 0 | N7: 1 | O7: 1 | P7: 2 | Q7: 0 | R7: 0 | S7: 0 | T7: 0
A8: 桃園市政府 | B8: 3 | C8: 3 | D8: =C8/B8 -> 1 | E8: 2 | F8: 0 | G8: 3 | H8: =G8/B8 -> 1 | I8: 3 | J8: =G8-I8 -> 0 | K8: =I8/G8 -> 1 | L8: 0 | M8: 0 | N8: 2 | O8: =(E8+G8-N8)/B8 -> 1 | P8: 3 | Q8: 0 | R8: 0 | S8: 0 | T8: 0
A9: 臺中市政府 | B9: 5 | C9: 5 | D9: =C9/B9 -> 1 | E9: 2 | F9: 0 | G9: 5 | H9: =G9/B9 -> 1 | I9: 5 | J9: =G9-I9 -> 0 | K9: =I9/G9 -> 1 | L9: 0 | M9: 0 | N9: 4 | O9: =(E9+G9-N9)/B9 -> 0.6 | P9: 5 | Q9: 0 | R9: 0 | S9: 0 | T9: 0
A10: 臺南市政府 | B10: 8 | C10: 8 | D10: =C10/B10 -> 1 | E10: 7 | F10: 1 | G10: 8 | H10: =G10/B10 -> 1 | I10: 8 | J10: =G10-I10 -> 0 | K10: =I10/G10 -> 1 | L10: 1 | M10: 1 | N10: 7 | O10: =(E10+G10-N10)/B10 -> 1 | P10: 8 | Q10: 0 | R10: 0 | S10: 0 | T10: 0
A11: 高雄市政府 | B11: 3 | C11: 3 | D11: =C11/B11 -> 1 | E11: 3 | F11: 0 | G11: 3 | H11: =G11/B11 -> 1 | I11: 3 | J11: =G11-I11 -> 0 | K11: =I11/G11 -> 1 | L11: 0 | M11: 0 | N11: 3 | O11: =(E11+G11-N11)/B11 -> 1 | P11: 3 | Q11: 0 | R11: 0 | S11: 0 | T11: 0
A12: 宜蘭縣政府 | B12: 4 | C12: 4 | D12: =C12/B12 -> 1 | E12: 4 | F12: 0 | G12: 4 | H12: =G12/B12 -> 1 | I12: 4 | J12: =G12-I12 -> 0 | K12: =I12/G12 -> 1 | L12: 0 | M12: 0 | N12: 3 | O12: 1 | P12: 4 | Q12: 0 | R12: 0 | S12: 0 | T12: 0
A13: 新竹縣政府 | B13: 1 | C13: 1 | D13: =C13/B13 -> 1 | E13: 0 | F13: 0 | G13: 0 | H13: =G13/B13 -> 0 | I13: 0 | J13: =G13-I13 -> 0 | K13: 0 | L13: 0 | M13: 0 | N13: 0 | O13: =(E13+G13-N13)/B13 -> 0 | P13: 1 | Q13: 0 | R13: 0 | S13: 0 | T13: 0
A14: 苗栗縣政府 | B14: 1 | C14: 1 | D14: =C14/B14 -> 1 | E14: 1 | F14: 0 | G14: 1 | H14: =G14/B14 -> 1 | I14: 1 | J14: =G14-I14 -> 0 | K14: =I14/G14 -> 1 | L14: 0 | M14: 0 | N14: 1 | O14: =(E14+G14-N14)/B14 -> 1 | P14: 1 | Q14: 0 | R14: 0 | S14: 0 | T14: 0
A15: 彰化縣政府 | B15: 1 | C15: 1 | D15: =C15/B15 -> 1 | E15: 1 | F15: 0 | G15: 1 | H15: =G15/B15 -> 1 | I15: 1 | J15: =G15-I15 -> 0 | K15: =I15/G15 -> 1 | L15: 0 | M15: 0 | N15: 1 | O15: =(E15+G15-N15)/B15 -> 1 | P15: 1 | Q15: 0 | R15: 0 | S15: 0 | T15: 0
A16: 南投縣政府 | B16: 2 | C16: 2 | D16: =C16/B16 -> 1 | E16: 1 | F16: 0 | G16: 1 | H16: =G16/B16 -> 0.5 | I16: 1 | J16: =G16-I16 -> 0 | K16: =I16/G16 -> 1 | L16: 0 | M16: 0 | N16: 1 | O16: =(E16+G16-N16)/B16 -> 0.5 | P16: 0 | Q16: 0 | R16: 0 | S16: 0 | T16: 0
A17: 雲林縣政府 | B17: 2 | C17: 2 | D17: =C17/B17 -> 1 | E17: 2 | F17: 0 | G17: 2 | H17: =G17/B17 -> 1 | I17: 2 | J17: =G17-I17 -> 0 | K17: =I17/G17 -> 1 | L17: 0 | M17: 0 | N17: 2 | O17: =(E17+G17-N17)/B17 -> 1 | P17: 2 | Q17: 0 | R17: 0 | S17: 0 | T17: 0
A18: 嘉義縣政府 | B18: 0 | C18: 0 | D18: 0 | E18: 0 | F18: 0 | G18: 0 | H18: 0 | I18: 0 | J18: =G18-I18 -> 0 | K18: 0 | L18: 0 | M18: 0 | N18: 0 | O18: 0 | P18: 0 | Q18: 0 | R18: 0 | S18: 0 | T18: 0
A19: 屏東縣政府 | B19: 7 | C19: 7 | D19: =C19/B19 -> 1 | E19: 6 | F19: 0 | G19: 7 | H19: =G19/B19 -> 1 | I19: 7 | J19: =G19-I19 -> 0 | K19: =I19/G19 -> 1 | L19: 0 | M19: 0 | N19: 6 | O19: =(E19+G19-N19)/B19 -> 1 | P19: 6 | Q19: 0 | R19: 0 | S19: 0 | T19: 0
A20: 臺東縣政府 | B20: 0 | C20: 0 | D20: 0 | E20: 0 | F20: 0 | G20: 0 | H20: 0 | I20: 0 | J20: =G20-I20 -> 0 | K20: 0 | L20: 0 | M20: 0 | N20: 0 | O20: 0 | P20: 0 | Q20: 0 | R20: 0 | S20: 0 | T20: 0
A21: 花蓮縣政府 | B21: 1 | C21: 1 | D21: 0 | E21: 1 | F21: 0 | G21: 1 | H21: =G21/B21 -> 1 | I21: 1 | J21: =G21-I21 -> 0 | K21: 0 | L21: 0 | M21: 0 | N21: 1 | O21: =(E21+G21-N21)/B21 -> 1 | P21: 1 | Q21: 0 | R21: 0 | S21: 0 | T21: 0
A22: 澎湖縣政府 | B22: 0 | C22: 0 | D22: 0 | E22: 0 | F22: 0 | G22: 0 | H22: 0 | I22: 0 | J22: =G22-I22 -> 0 | K22: 0 | L22: 0 | M22: 0 | N22: 0 | O22: 0 | P22: 0 | Q22: 0 | R22: 0 | S22: 0 | T22: 0
A23: 基隆市政府 | B23: 0 | C23: 0 | D23: 0 | E23: 0 | F23: 0 | G23: 0 | H23: 0 | I23: 0 | J23: =G23-I23 -> 0 | K23: 0 | L23: 0 | M23: 0 | N23: 0 | O23: 0 | P23: 0 | Q23: 0 | R23: 0 | S23: 0 | T23: 0
A24: 新竹市政府 | B24: 2 | C24: 2 | D24: =C24/B24 -> 1 | E24: 2 | F24: 2 | G24: 2 | H24: =G24/B24 -> 1 | I24: 1 | J24: =G24-I24 -> 1 | K24: =I24/G24 -> 0.5 | L24: 1 | M24: =L24/F24 -> 0.5 | N24: 2 | O24: =(E24+G24-N24)/B24 -> 1 | P24: 2 | Q24: 0 | R24: 0 | S24: 0 | T24: 0
A25: 嘉義市政府 | B25: 3 | C25: 3 | D25: =C25/B25 -> 1 | E25: 3 | F25: 0 | G25: 3 | H25: =G25/B25 -> 1 | I25: 3 | J25: =G25-I25 -> 0 | K25: =I25/G25 -> 1 | L25: 0 | M25: 0 | N25: 3 | O25: =(E25+G25-N25)/B25 -> 1 | P25: 3 | Q25: 0 | R25: 0 | S25: 0 | T25: 0
A26: 金門縣政府 | B26: 0 | C26: 0 | D26: 0 | E26: 0 | F26: 0 | G26: 0 | H26: 0 | I26: 0 | J26: =G26-I26 -> 0 | K26: 0 | L26: 0 | M26: 0 | N26: 0 | O26: 0 | P26: 0 | Q26: 0 | R26: 0 | S26: 0 | T26: 0
A27: 連江縣政府 | B27: 0 | C27: 0 | D27: 0 | E27: 0 | F27: 0 | G27: 0 | H27: 0 | I27: 0 | J27: =G27-I27 -> 0 | K27: 0 | L27: 0 | M27: 0 | N27: 0 | O27: 0 | P27: 0 | Q27: 0 | R27: 0 | S27: 0 | T27: 0
A28: 合計 | B28: =SUM(B5:B27) -> 68 | C28: =SUM(C5:C27) -> 68 | D28: =C28/B28 -> 1 | E28: =SUM(E5:E27) -> 53 | F28: =SUM(F5:F27) -> 3 | G28: =SUM(G5:G27) -> 59 | H28: =G28/B28 -> 0.86764706 | I28: =SUM(I5:I27) -> 58 | J28: =G28-I28 -> 1 | K28: =I28/G28 -> 0.98305085 | L28: =SUM(L5:L27) -> 2 | M28: =L28/F28 -> 0.66666667 | N28: =SUM(N5:N27) -> 46 | O28: =(E28+G28-N28)/B28 -> 0.97058824 | P28: =SUM(P5:P27) -> 64 | Q28: 0 | R28: 0 | S28: 0 | T28: 0

Sheet 9餐飲
A1: 中央主管機關：衛福部 餐飲業附設兒童遊戲場設施調查表
A2: 縣市別 | B2: 備查情形 | E2: 稽查情形 | P2: 取得研習證書家數 | Q2: 新設遊戲場兒少參與設計規劃會議或活動 | T2: 提供身心障礙兒童使用之遊戲設施
B3: 總家數(A) | C3: 備查家數(B) | D3: 完成備查比率%(C=B/A%) | E3: 113年 | G3: 114年 | N3: 113-114年 | Q3: 場次 | R3: 兒童人數 | T3: 家數
E4: 稽查家數(D1) | F4: 不合格(E) | G4: 稽查家數(D2) | H4: 稽查率(F=D2/A) | I4: 合格(I) | J4: 不合格(J=D2-I) | K4: 合格率%(K=I/D2) | L4: 113年不合格改善完成數(L) | M4: 改善率(M=L/E) | N4: 重複稽查家數(G) | O4: 稽查涵蓋率%(H=(D1+D2-G)/A) | R4: 一般 | S4: 身心障礙
A5: 全國性 | B5: 0 | C5: 0 | D5: 0 | E5: 0 | F5: 0 | G5: 0 | H5: 0 | I5: 0 | J5: =G5-I5 -> 0 | K5: 0 | L5: 0 | M5: 0 | N5: 0 | O5: 0 | P5: 0 | Q5: 0 | R5: 0 | S5: 0 | T5: 0
A6: 新北市政府 | B6: 3 | C6: 3 | D6: =C6/B6 -> 1 | E6: 4 | F6: 0 | G6: 3 | H6: =G6/B6 -> 1 | I6: 3 | J6: =G6-I6 -> 0 | K6: 0 | L6: 0 | M6: 0 | N6: 3 | O6: 1 | P6: 3 | Q6: 0 | R6: 0 | S6: 0 | T6: 0
A7: 臺北市政府 | B7: 2 | C7: 2 | D7: =C7/B7 -> 1 | E7: 3 | F7: 1 | G7: 2 | H7: =G7/B7 -> 1 | I7: 2 | J7: =G7-I7 -> 0 | K7: =I7/G7 -> 1 | L7: 1 | M7: =L7/F7 -> 1 | N7: 2 | O7: 1 | P7: 2 | Q7: 0 | R7: 0 | S7: 0 | T7: 0
A8: 桃園市政府 | B8: 1 | C8: 1 | D8: =C8/B8 -> 1 | E8: 1 | F8: 0 | G8: 1 | H8: =G8/B8 -> 1 | I8: 1 | J8: =G8-I8 -> 0 | K8: 0 | L8: 0 | M8: 0 | N8: 1 | O8: =(E8+G8-N8)/B8 -> 1 | P8: 1 | Q8: 0 | R8: 0 | S8: 0 | T8: 0
A9: 臺中市政府 | B9: 4 | C9: 4 | D9: =C9/B9 -> 1 | E9: 4 | F9: 0 | G9: 4 | H9: =G9/B9 -> 1 | I9: 4 | J9: =G9-I9 -> 0 | K9: =I9/G9 -> 1 | L9: 0 | M9: 0 | N9: 4 | O9: =(E9+G9-N9)/B9 -> 1 | P9: 4 | Q9: 0 | R9: 0 | S9: 0 | T9: 0
A10: 臺南市政府 | B10: 0 | C10: 0 | D10: 0 | E10: 0 | F10: 0 | G10: 0 | H10: 0 | I10: 0 | J10: =G10-I10 -> 0 | K10: 0 | L10: 0 | M10: 0 | N10: 0 | O10: 0 | P10: 0 | Q10: 0 | R10: 0 | S10: 0 | T10: 0
A11: 高雄市政府 | B11: 0 | C11: 0 | D11: 0 | E11: 0 | F11: 0 | G11: 0 | H11: 0 | I11: 0 | J11: =G11-I11 -> 0 | K11: 0 | L11: 0 | M11: 0 | N11: 0 | O11: 0 | P11: 0 | Q11: 0 | R11: 0 | S11: 0 | T11: 0
